{"text_format":"1","workbook":"xlsx","n_sheets":8,"sheets":["Výstup","Databaze","Ventil","Výpočet","Výpočet Kv","Qn","Sortiment","Logic"],"not_rendered":{"charts":0,"images":14,"macros":1,"external_links":0,"defined_names":33,"comments":1,"pivot_tables":0},"unopened":[],"bounds":{"document_bytes":16777216,"sheet_cells":100000,"rows_first":2000,"rows_last":500,"rows_between":2000,"halvings":0,"cell_chars":16384,"cell_head_chars":4096},"cells_cut":0,"cells_raw":0,"read":"whole","date_system":"1900"}

{"sheet":"Výstup","index":0,"n_rows":79,"n_cols":28,"rows_kept":79,"cut":false,"hidden":false,"merged":[[20,16,21,16],[9,18,10,21],[9,22,10,22],[7,1,7,9],[60,1,61,1],[60,16,61,16],[40,1,41,1],[40,16,41,16],[9,1,9,4],[20,1,21,1]]}
[]
[]
[null,null,null,null,null,null,null,null,null,null,null,null,null,null,null,null,null,null,null,null,null,null,null,null,null,null,null,{"$f":"ventil","v":1}]
[null,null,null,null,null,null,null,null,null,null,null,null,null,null,null,null,null,null,null,null,null,null,null,null,null,null,null,{"$f":"Logic!R3","v":"Chybný teplotní spád !!!"}]
[null,null,null,null,null,null,null,null,null,null,null,null,null,null,null,null,null,null,null,null,null,null,null,null,null,null,null,{"$f":"Logic!U3","v":"Chybně zadané hodnoty !!!"}]
[null,null,null,null,null,null,null,null,null,null,null,null,null,null,null,null,null,null,null,null,null,null,null,null,null,null,null,{"$f":"Logic!$U$3","v":"Chybně zadané hodnoty !!!"}]
[]
[null,{"$f":"Logic!$B$3","v":"RADIK LINE VKM8-L"}]
[]
[null,{"$f":"Logic!M3","v":"Výběr modelu:"},null,null,null,null,null,{"$f":"Logic!S3","v":"Detailní výběr"},null,null,null,null,null,null,null,null,null,null,{"$f":"IF(W10=0,0,Logic!$AB$3)","v":0},null,null,null,{"$f":"MAX(Databaze!A:A)","v":0}]
[null,{"$f":"Logic!B3","v":"RADIK LINE VKM8-L"},null,null,null,null,null,null,null,null,{"$f":"Logic!N3&\" \"&Logic!K3","v":"Tepelný výkon od"},null,{"$f":"Logic!$F$101","v":"W"},{"$f":"Logic!L3","v":"do"},null,{"$f":"Logic!$F$101","v":"W"}]
[null,null,null,null,null,null,null,null,null,null,{"$f":"Logic!I3&\" \"&Logic!K3","v":"Výška od"},{"$f":"Logic!B68","v":"vše"},"mm",{"$f":"N11","v":"do"},{"$f":"Logic!B79","v":"vše"},"mm"]
[null,null,{"$f":"Logic!T3","v":"Zadání hodnot"},null,null,null,null,null,null,null,{"$f":"Logic!J3&\" \"&Logic!K3","v":"Délka od"},{"$f":"Logic!B90","v":"vše"},"mm",{"$f":"N11","v":"do"},{"$f":"Logic!B111","v":"vše"},"mm"]
[null,{"$f":"Logic!O3","v":"Teplota:"},null,null,null,null,null,null,null,null,{"$f":"IF(AND(L12=Logic!$G$3,Výstup!O12=Logic!$G$3),0,IF(O12=Logic!$G$3,Logic!$U$3,IF(L12>O12,Logic!$U$3,0)))","v":0},{"$f":"IF(AND(L13=Logic!$G$3,Výstup!O13=Logic!$G$3),0,IF(O13=Logic!$G$3,Logic!$U$3,IF(L13>O13,Logic!$U$3,0)))","v":0}]
[null,"t 1","t 2","t i"," D T",null," D p"]
[null,75,65,20,{"$f":"(B16+C16)/2-D16","v":50},null,10,{"$f":"ztrata_MJ","v":"kPa"}]
[null,{"$f":"Logic!H3","v":"Tepelné výkony podle EN 442"},null,null,null,null,{"$f":"IF(OR('Výpočet Kv'!G10<1,'Výpočet Kv'!G10>20),Logic!$U$3,0)","v":0}]
[null,{"$f":"IF(OR(B16<7,C16<6,B16>110,C16>110,B16<=C16,E16<=0,D16<4,D16>40.5),Logic!R3,0)","v":0}]
[null,null,{"$f":"IF(AND($L$12=Logic!$G$3,$O$12=Logic!$G$3),1,IF(AND(C62>=$L$12,C62<=$O$12),1,0))","v":1},{"$f":"IF(AND($L$12=Logic!$G$3,$O$12=Logic!$G$3),1,IF(AND(D62>=$L$12,D62<=$O$12),1,0))","v":1},{"$f":"IF(AND($L$12=Logic!$G$3,$O$12=Logic!$G$3),1,IF(AND(E62>=$L$12,E62<=$O$12),1,0))","v":1},{"$f":"IF(AND($L$12=Logic!$G$3,$O$12=Logic!$G$3),1,IF(AND(F62>=$L$12,F62<=$O$12),1,0))","v":1},{"$f":"IF(AND($L$12=Logic!$G$3,$O$12=Logic!$G$3),1,IF(AND(G62>=$L$12,G62<=$O$12),1,0))","v":1},{"$f":"IF(AND($L$12=Logic!$G$3,$O$12=Logic!$G$3),1,IF(AND(H62>=$L$12,H62<=$O$12),1,0))","v":1},{"$f":"IF(AND($L$12=Logic!$G$3,$O$12=Logic!$G$3),1,IF(AND(I62>=$L$12,I62<=$O$12),1,0))","v":1},{"$f":"IF(AND($L$12=Logic!$G$3,$O$12=Logic!$G$3),1,IF(AND(J62>=$L$12,J62<=$O$12),1,0))","v":1},{"$f":"IF(AND($L$12=Logic!$G$3,$O$12=Logic!$G$3),1,IF(AND(K62>=$L$12,K62<=$O$12),1,0))","v":1},{"$f":"IF(AND($L$12=Logic!$G$3,$O$12=Logic!$G$3),1,IF(AND(L62>=$L$12,L62<=$O$12),1,0))","v":1},{"$f":"IF(AND($L$12=Logic!$G$3,$O$12=Logic!$G$3),1,IF(AND(M62>=$L$12,M62<=$O$12),1,0))","v":1},{"$f":"IF(AND($L$12=Logic!$G$3,$O$12=Logic!$G$3),1,IF(AND(N62>=$L$12,N62<=$O$12),1,0))","v":1},{"$f":"IF(AND($L$12=Logic!$G$3,$O$12=Logic!$G$3),1,IF(AND(O62>=$L$12,O62<=$O$12),1,0))","v":1},{"$f":"IF(AND($L$12=Logic!$G$3,$O$12=Logic!$G$3),1,IF(AND(P62>=$L$12,P62<=$O$12),1,0))","v":1}]
[null,null,{"$f":"F20","v":0},{"$f":"F20","v":0},{"$f":"F20","v":0},{"$f":"IF(Výpočet!W18=0,0,Logic!$P$3&\" \"&Výpočet!W18)","v":0},{"$f":"F20","v":0},{"$f":"F20","v":0},{"$f":"F20","v":0},{"$f":"M20","v":"Typ 11"},{"$f":"M20","v":"Typ 11"},{"$f":"M20","v":"Typ 11"},{"$f":"IF(OR(Logic!$C$3=\"A0\",Logic!$C$3=\"B0\",Logic!$C$3=\"K0\",Logic!$C$3=\"P0\",Výpočet!AD18=0,Logic!$C$3=\"V0\",Logic!$C$3=\"U0\"),0,Logic!$P$3&\" \"&Výpočet!AD18)","v":"Typ 11"},{"$f":"M20","v":"Typ 11"},{"$f":"M20","v":"Typ 11"},{"$f":"M20","v":"Typ 11"}]
[null,{"$f":"Logic!$J$3&\" [mm]\"","v":"Délka [mm]"},{"$f":"IF(C20=0,0,Logic!$I$3&\" [mm]\")","v":0},null,null,null,null,null,null,{"$f":"IF(J20=0,0,Logic!$I$3&\" [mm]\")","v":"Výška [mm]"},null,null,null,null,null,null,{"$f":"IF(OR(Logic!$C$3=\"V0\",Logic!$C$3=\"U0\"),Logic!$I$3,Logic!$J$3)&\" [mm]\"","v":"Délka [mm]"}]
[null,null,{"$f":"Výpočet!T19","v":200},{"$f":"Výpočet!U19","v":300},{"$f":"Výpočet!V19","v":400},{"$f":"Výpočet!W19","v":500},{"$f":"Výpočet!X19","v":600},{"$f":"Výpočet!Y19","v":700},{"$f":"Výpočet!Z19","v":900},{"$f":"Výpočet!AA19","v":200},{"$f":"Výpočet!AB19","v":300},{"$f":"Výpočet!AC19","v":400},{"$f":"Výpočet!AD19","v":500},{"$f":"Výpočet!AE19","v":600},{"$f":"Výpočet!AF19","v":700},{"$f":"Výpočet!AG19","v":900}]
[null,{"$f":"Výpočet!S20","v":400},{"$f":"IF(OR(C$19=0,$R23=0),0,ROUND(Výpočet!C20*Výpočet!AK20*Logic!$G$101,0))","v":0},{"$f":"IF(OR(D$19=0,$R23=0),0,ROUND(Výpočet!D20*Výpočet!AL20*Logic!$G$101,0))","v":0},{"$f":"IF(OR(E$19=0,$R23=0),0,ROUND(Výpočet!E20*Výpočet!AM20*Logic!$G$101,0))","v":0},{"$f":"IF(OR(F$19=0,$R23=0),0,ROUND(Výpočet!F20*Výpočet!AN20*Logic!$G$101,0))","v":0},{"$f":"IF(OR(G$19=0,$R23=0),0,ROUND(Výpočet!G20*Výpočet!AO20*Logic!$G$101,0))","v":0},{"$f":"IF(OR(H$19=0,$R23=0),0,ROUND(Výpočet!H20*Výpočet!AP20*Logic!$G$101,0))","v":0},{"$f":"IF(OR(I$19=0,$R23=0),0,ROUND(Výpočet!I20*Výpočet!AQ20*Logic!$G$101,0))","v":0},{"$f":"IF(OR(J$19=0,$R23=0),0,ROUND(Výpočet!J20*Výpočet!AR20*Logic!$G$101,0))","v":0},{"$f":"IF(OR(K$19=0,$R23=0),0,ROUND(Výpočet!K20*Výpočet!AS20*Logic!$G$101,0))","v":0},{"$f":"IF(OR(L$19=0,$R23=0),0,ROUND(Výpočet!L20*Výpočet!AT20*Logic!$G$101,0))","v":0},{"$f":"IF(OR(M$19=0,$R23=0),0,ROUND(Výpočet!M20*Výpočet!AU20*Logic!$G$101,0))","v":0},{"$f":"IF(OR(N$19=0,$R23=0),0,ROUND(Výpočet!N20*Výpočet!AV20*Logic!$G$101,0))","v":0},{"$f":"IF(OR(O$19=0,$R23=0),0,ROUND(Výpočet!O20*Výpočet!AW20*Logic!$G$101,0))","v":0},{"$f":"IF(OR(P$19=0,$R23=0),0,ROUND(Výpočet!P20*Výpočet!AX20*Logic!$G$101,0))","v":0},{"$f":"Výpočet!AH20","v":400},{"$f":"IF(AND($L$13=Logic!$G$3,$O$13=Logic!$G$3),1,IF(Q23=$L$13,1,0))","v":1}]
[null,{"$f":"Výpočet!S21","v":500},{"$f":"IF(OR(C$19=0,$R24=0),0,ROUND(Výpočet!C21*Výpočet!AK21*Logic!$G$101,0))","v":0},{"$f":"IF(OR(D$19=0,$R24=0),0,ROUND(Výpočet!D21*Výpočet!AL21*Logic!$G$101,0))","v":0},{"$f":"IF(OR(E$19=0,$R24=0),0,ROUND(Výpočet!E21*Výpočet!AM21*Logic!$G$101,0))","v":0},{"$f":"IF(OR(F$19=0,$R24=0),0,ROUND(Výpočet!F21*Výpočet!AN21*Logic!$G$101,0))","v":0},{"$f":"IF(OR(G$19=0,$R24=0),0,ROUND(Výpočet!G21*Výpočet!AO21*Logic!$G$101,0))","v":0},{"$f":"IF(OR(H$19=0,$R24=0),0,ROUND(Výpočet!H21*Výpočet!AP21*Logic!$G$101,0))","v":0},{"$f":"IF(OR(I$19=0,$R24=0),0,ROUND(Výpočet!I21*Výpočet!AQ21*Logic!$G$101,0))","v":0},{"$f":"IF(OR(J$19=0,$R24=0),0,ROUND(Výpočet!J21*Výpočet!AR21*Logic!$G$101,0))","v":0},{"$f":"IF(OR(K$19=0,$R24=0),0,ROUND(Výpočet!K21*Výpočet!AS21*Logic!$G$101,0))","v":265},{"$f":"IF(OR(L$19=0,$R24=0),0,ROUND(Výpočet!L21*Výpočet!AT21*Logic!$G$101,0))","v":329},{"$f":"IF(OR(M$19=0,$R24=0),0,ROUND(Výpočet!M21*Výpočet!AU21*Logic!$G$101,0))","v":390},{"$f":"IF(OR(N$19=0,$R24=0),0,ROUND(Výpočet!N21*Výpočet!AV21*Logic!$G$101,0))","v":449},{"$f":"IF(OR(O$19=0,$R24=0),0,ROUND(Výpočet!O21*Výpočet!AW21*Logic!$G$101,0))","v":506},{"$f":"IF(OR(P$19=0,$R24=0),0,ROUND(Výpočet!P21*Výpočet!AX21*Logic!$G$101,0))","v":616},{"$f":"Výpočet!AH21","v":500},{"$f":"IF(AND($L$13=Logic!$G$3,$O$13=Logic!$G$3),1,IF(AND(Q24>=$L$13,Q24<=$O$13),1,0))","v":1}]
[null,{"$f":"Výpočet!S22","v":600},{"$f":"IF(OR(C$19=0,$R25=0),0,ROUND(Výpočet!C22*Výpočet!AK22*Logic!$G$101,0))","v":0},{"$f":"IF(OR(D$19=0,$R25=0),0,ROUND(Výpočet!D22*Výpočet!AL22*Logic!$G$101,0))","v":0},{"$f":"IF(OR(E$19=0,$R25=0),0,ROUND(Výpočet!E22*Výpočet!AM22*Logic!$G$101,0))","v":0},{"$f":"IF(OR(F$19=0,$R25=0),0,ROUND(Výpočet!F22*Výpočet!AN22*Logic!$G$101,0))","v":0},{"$f":"IF(OR(G$19=0,$R25=0),0,ROUND(Výpočet!G22*Výpočet!AO22*Logic!$G$101,0))","v":0},{"$f":"IF(OR(H$19=0,$R25=0),0,ROUND(Výpočet!H22*Výpočet!AP22*Logic!$G$101,0))","v":0},{"$f":"IF(OR(I$19=0,$R25=0),0,ROUND(Výpočet!I22*Výpočet!AQ22*Logic!$G$101,0))","v":0},{"$f":"IF(OR(J$19=0,$R25=0),0,ROUND(Výpočet!J22*Výpočet!AR22*Logic!$G$101,0))","v":0},{"$f":"IF(OR(K$19=0,$R25=0),0,ROUND(Výpočet!K22*Výpočet!AS22*Logic!$G$101,0))","v":318},{"$f":"IF(OR(L$19=0,$R25=0),0,ROUND(Výpočet!L22*Výpočet!AT22*Logic!$G$101,0))","v":395},{"$f":"IF(OR(M$19=0,$R25=0),0,ROUND(Výpočet!M22*Výpočet!AU22*Logic!$G$101,0))","v":468},{"$f":"IF(OR(N$19=0,$R25=0),0,ROUND(Výpočet!N22*Výpočet!AV22*Logic!$G$101,0))","v":538},{"$f":"IF(OR(O$19=0,$R25=0),0,ROUND(Výpočet!O22*Výpočet!AW22*Logic!$G$101,0))","v":607},{"$f":"IF(OR(P$19=0,$R25=0),0,ROUND(Výpočet!P22*Výpočet!AX22*Logic!$G$101,0))","v":739},{"$f":"Výpočet!AH22","v":600},{"$f":"IF(AND($L$13=Logic!$G$3,$O$13=Logic!$G$3),1,IF(AND(Q25>=$L$13,Q25<=$O$13),1,0))","v":1}]
[null,{"$f":"Výpočet!S23","v":700},{"$f":"IF(OR(C$19=0,$R26=0),0,ROUND(Výpočet!C23*Výpočet!AK23*Logic!$G$101,0))","v":0},{"$f":"IF(OR(D$19=0,$R26=0),0,ROUND(Výpočet!D23*Výpočet!AL23*Logic!$G$101,0))","v":0},{"$f":"IF(OR(E$19=0,$R26=0),0,ROUND(Výpočet!E23*Výpočet!AM23*Logic!$G$101,0))","v":0},{"$f":"IF(OR(F$19=0,$R26=0),0,ROUND(Výpočet!F23*Výpočet!AN23*Logic!$G$101,0))","v":0},{"$f":"IF(OR(G$19=0,$R26=0),0,ROUND(Výpočet!G23*Výpočet!AO23*Logic!$G$101,0))","v":0},{"$f":"IF(OR(H$19=0,$R26=0),0,ROUND(Výpočet!H23*Výpočet!AP23*Logic!$G$101,0))","v":0},{"$f":"IF(OR(I$19=0,$R26=0),0,ROUND(Výpočet!I23*Výpočet!AQ23*Logic!$G$101,0))","v":0},{"$f":"IF(OR(J$19=0,$R26=0),0,ROUND(Výpočet!J23*Výpočet!AR23*Logic!$G$101,0))","v":0},{"$f":"IF(OR(K$19=0,$R26=0),0,ROUND(Výpočet!K23*Výpočet!AS23*Logic!$G$101,0))","v":371},{"$f":"IF(OR(L$19=0,$R26=0),0,ROUND(Výpočet!L23*Výpočet!AT23*Logic!$G$101,0))","v":461},{"$f":"IF(OR(M$19=0,$R26=0),0,ROUND(Výpočet!M23*Výpočet!AU23*Logic!$G$101,0))","v":546},{"$f":"IF(OR(N$19=0,$R26=0),0,ROUND(Výpočet!N23*Výpočet!AV23*Logic!$G$101,0))","v":628},{"$f":"IF(OR(O$19=0,$R26=0),0,ROUND(Výpočet!O23*Výpočet!AW23*Logic!$G$101,0))","v":708},{"$f":"IF(OR(P$19=0,$R26=0),0,ROUND(Výpočet!P23*Výpočet!AX23*Logic!$G$101,0))","v":862},{"$f":"Výpočet!AH23","v":700},{"$f":"IF(AND($L$13=Logic!$G$3,$O$13=Logic!$G$3),1,IF(AND(Q26>=$L$13,Q26<=$O$13),1,0))","v":1}]
[null,{"$f":"Výpočet!S24","v":800},{"$f":"IF(OR(C$19=0,$R27=0),0,ROUND(Výpočet!C24*Výpočet!AK24*Logic!$G$101,0))","v":0},{"$f":"IF(OR(D$19=0,$R27=0),0,ROUND(Výpočet!D24*Výpočet!AL24*Logic!$G$101,0))","v":0},{"$f":"IF(OR(E$19=0,$R27=0),0,ROUND(Výpočet!E24*Výpočet!AM24*Logic!$G$101,0))","v":0},{"$f":"IF(OR(F$19=0,$R27=0),0,ROUND(Výpočet!F24*Výpočet!AN24*Logic!$G$101,0))","v":0},{"$f":"IF(OR(G$19=0,$R27=0),0,ROUND(Výpočet!G24*Výpočet!AO24*Logic!$G$101,0))","v":0},{"$f":"IF(OR(H$19=0,$R27=0),0,ROUND(Výpočet!H24*Výpočet!AP24*Logic!$G$101,0))","v":0},{"$f":"IF(OR(I$19=0,$R27=0),0,ROUND(Výpočet!I24*Výpočet!AQ24*Logic!$G$101,0))","v":0},{"$f":"IF(OR(J$19=0,$R27=0),0,ROUND(Výpočet!J24*Výpočet!AR24*Logic!$G$101,0))","v":0},{"$f":"IF(OR(K$19=0,$R27=0),0,ROUND(Výpočet!K24*Výpočet!AS24*Logic!$G$101,0))","v":424},{"$f":"IF(OR(L$19=0,$R27=0),0,ROUND(Výpočet!L24*Výpočet!AT24*Logic!$G$101,0))","v":526},{"$f":"IF(OR(M$19=0,$R27=0),0,ROUND(Výpočet!M24*Výpočet!AU24*Logic!$G$101,0))","v":624},{"$f":"IF(OR(N$19=0,$R27=0),0,ROUND(Výpočet!N24*Výpočet!AV24*Logic!$G$101,0))","v":718},{"$f":"IF(OR(O$19=0,$R27=0),0,ROUND(Výpočet!O24*Výpočet!AW24*Logic!$G$101,0))","v":809},{"$f":"IF(OR(P$19=0,$R27=0),0,ROUND(Výpočet!P24*Výpočet!AX24*Logic!$G$101,0))","v":985},{"$f":"Výpočet!AH24","v":800},{"$f":"IF(AND($L$13=Logic!$G$3,$O$13=Logic!$G$3),1,IF(AND(Q27>=$L$13,Q27<=$O$13),1,0))","v":1}]
[null,{"$f":"Výpočet!S25","v":900},{"$f":"IF(OR(C$19=0,$R28=0),0,ROUND(Výpočet!C25*Výpočet!AK25*Logic!$G$101,0))","v":0},{"$f":"IF(OR(D$19=0,$R28=0),0,ROUND(Výpočet!D25*Výpočet!AL25*Logic!$G$101,0))","v":0},{"$f":"IF(OR(E$19=0,$R28=0),0,ROUND(Výpočet!E25*Výpočet!AM25*Logic!$G$101,0))","v":0},{"$f":"IF(OR(F$19=0,$R28=0),0,ROUND(Výpočet!F25*Výpočet!AN25*Logic!$G$101,0))","v":0},{"$f":"IF(OR(G$19=0,$R28=0),0,ROUND(Výpočet!G25*Výpočet!AO25*Logic!$G$101,0))","v":0},{"$f":"IF(OR(H$19=0,$R28=0),0,ROUND(Výpočet!H25*Výpočet!AP25*Logic!$G$101,0))","v":0},{"$f":"IF(OR(I$19=0,$R28=0),0,ROUND(Výpočet!I25*Výpočet!AQ25*Logic!$G$101,0))","v":0},{"$f":"IF(OR(J$19=0,$R28=0),0,ROUND(Výpočet!J25*Výpočet!AR25*Logic!$G$101,0))","v":0},{"$f":"IF(OR(K$19=0,$R28=0),0,ROUND(Výpočet!K25*Výpočet!AS25*Logic!$G$101,0))","v":477},{"$f":"IF(OR(L$19=0,$R28=0),0,ROUND(Výpočet!L25*Výpočet!AT25*Logic!$G$101,0))","v":592},{"$f":"IF(OR(M$19=0,$R28=0),0,ROUND(Výpočet!M25*Výpočet!AU25*Logic!$G$101,0))","v":702},{"$f":"IF(OR(N$19=0,$R28=0),0,ROUND(Výpočet!N25*Výpočet!AV25*Logic!$G$101,0))","v":807},{"$f":"IF(OR(O$19=0,$R28=0),0,ROUND(Výpočet!O25*Výpočet!AW25*Logic!$G$101,0))","v":910},{"$f":"IF(OR(P$19=0,$R28=0),0,ROUND(Výpočet!P25*Výpočet!AX25*Logic!$G$101,0))","v":1108},{"$f":"Výpočet!AH25","v":900},{"$f":"IF(AND($L$13=Logic!$G$3,$O$13=Logic!$G$3),1,IF(AND(Q28>=$L$13,Q28<=$O$13),1,0))","v":1}]
[null,{"$f":"Výpočet!S26","v":1000},{"$f":"IF(OR(C$19=0,$R29=0),0,ROUND(Výpočet!C26*Výpočet!AK26*Logic!$G$101,0))","v":0},{"$f":"IF(OR(D$19=0,$R29=0),0,ROUND(Výpočet!D26*Výpočet!AL26*Logic!$G$101,0))","v":0},{"$f":"IF(OR(E$19=0,$R29=0),0,ROUND(Výpočet!E26*Výpočet!AM26*Logic!$G$101,0))","v":0},{"$f":"IF(OR(F$19=0,$R29=0),0,ROUND(Výpočet!F26*Výpočet!AN26*Logic!$G$101,0))","v":0},{"$f":"IF(OR(G$19=0,$R29=0),0,ROUND(Výpočet!G26*Výpočet!AO26*Logic!$G$101,0))","v":0},{"$f":"IF(OR(H$19=0,$R29=0),0,ROUND(Výpočet!H26*Výpočet!AP26*Logic!$G$101,0))","v":0},{"$f":"IF(OR(I$19=0,$R29=0),0,ROUND(Výpočet!I26*Výpočet!AQ26*Logic!$G$101,0))","v":0},{"$f":"IF(OR(J$19=0,$R29=0),0,ROUND(Výpočet!J26*Výpočet!AR26*Logic!$G$101,0))","v":0},{"$f":"IF(OR(K$19=0,$R29=0),0,ROUND(Výpočet!K26*Výpočet!AS26*Logic!$G$101,0))","v":530},{"$f":"IF(OR(L$19=0,$R29=0),0,ROUND(Výpočet!L26*Výpočet!AT26*Logic!$G$101,0))","v":658},{"$f":"IF(OR(M$19=0,$R29=0),0,ROUND(Výpočet!M26*Výpočet!AU26*Logic!$G$101,0))","v":780},{"$f":"IF(OR(N$19=0,$R29=0),0,ROUND(Výpočet!N26*Výpočet!AV26*Logic!$G$101,0))","v":897},{"$f":"IF(OR(O$19=0,$R29=0),0,ROUND(Výpočet!O26*Výpočet!AW26*Logic!$G$101,0))","v":1011},{"$f":"IF(OR(P$19=0,$R29=0),0,ROUND(Výpočet!P26*Výpočet!AX26*Logic!$G$101,0))","v":1231},{"$f":"Výpočet!AH26","v":1000},{"$f":"IF(AND($L$13=Logic!$G$3,$O$13=Logic!$G$3),1,IF(AND(Q29>=$L$13,Q29<=$O$13),1,0))","v":1}]
[null,{"$f":"Výpočet!S27","v":1100},{"$f":"IF(OR(C$19=0,$R30=0),0,ROUND(Výpočet!C27*Výpočet!AK27*Logic!$G$101,0))","v":0},{"$f":"IF(OR(D$19=0,$R30=0),0,ROUND(Výpočet!D27*Výpočet!AL27*Logic!$G$101,0))","v":0},{"$f":"IF(OR(E$19=0,$R30=0),0,ROUND(Výpočet!E27*Výpočet!AM27*Logic!$G$101,0))","v":0},{"$f":"IF(OR(F$19=0,$R30=0),0,ROUND(Výpočet!F27*Výpočet!AN27*Logic!$G$101,0))","v":0},{"$f":"IF(OR(G$19=0,$R30=0),0,ROUND(Výpočet!G27*Výpočet!AO27*Logic!$G$101,0))","v":0},{"$f":"IF(OR(H$19=0,$R30=0),0,ROUND(Výpočet!H27*Výpočet!AP27*Logic!$G$101,0))","v":0},{"$f":"IF(OR(I$19=0,$R30=0),0,ROUND(Výpočet!I27*Výpočet!AQ27*Logic!$G$101,0))","v":0},{"$f":"IF(OR(J$19=0,$R30=0),0,ROUND(Výpočet!J27*Výpočet!AR27*Logic!$G$101,0))","v":0},{"$f":"IF(OR(K$19=0,$R30=0),0,ROUND(Výpočet!K27*Výpočet!AS27*Logic!$G$101,0))","v":583},{"$f":"IF(OR(L$19=0,$R30=0),0,ROUND(Výpočet!L27*Výpočet!AT27*Logic!$G$101,0))","v":724},{"$f":"IF(OR(M$19=0,$R30=0),0,ROUND(Výpočet!M27*Výpočet!AU27*Logic!$G$101,0))","v":858},{"$f":"IF(OR(N$19=0,$R30=0),0,ROUND(Výpočet!N27*Výpočet!AV27*Logic!$G$101,0))","v":987},{"$f":"IF(OR(O$19=0,$R30=0),0,ROUND(Výpočet!O27*Výpočet!AW27*Logic!$G$101,0))","v":1112},{"$f":"IF(OR(P$19=0,$R30=0),0,ROUND(Výpočet!P27*Výpočet!AX27*Logic!$G$101,0))","v":1354},{"$f":"Výpočet!AH27","v":1100},{"$f":"IF(AND($L$13=Logic!$G$3,$O$13=Logic!$G$3),1,IF(AND(Q30>=$L$13,Q30<=$O$13),1,0))","v":1}]
[null,{"$f":"Výpočet!S28","v":1200},{"$f":"IF(OR(C$19=0,$R31=0),0,ROUND(Výpočet!C28*Výpočet!AK28*Logic!$G$101,0))","v":0},{"$f":"IF(OR(D$19=0,$R31=0),0,ROUND(Výpočet!D28*Výpočet!AL28*Logic!$G$101,0))","v":0},{"$f":"IF(OR(E$19=0,$R31=0),0,ROUND(Výpočet!E28*Výpočet!AM28*Logic!$G$101,0))","v":0},{"$f":"IF(OR(F$19=0,$R31=0),0,ROUND(Výpočet!F28*Výpočet!AN28*Logic!$G$101,0))","v":0},{"$f":"IF(OR(G$19=0,$R31=0),0,ROUND(Výpočet!G28*Výpočet!AO28*Logic!$G$101,0))","v":0},{"$f":"IF(OR(H$19=0,$R31=0),0,ROUND(Výpočet!H28*Výpočet!AP28*Logic!$G$101,0))","v":0},{"$f":"IF(OR(I$19=0,$R31=0),0,ROUND(Výpočet!I28*Výpočet!AQ28*Logic!$G$101,0))","v":0},{"$f":"IF(OR(J$19=0,$R31=0),0,ROUND(Výpočet!J28*Výpočet!AR28*Logic!$G$101,0))","v":0},{"$f":"IF(OR(K$19=0,$R31=0),0,ROUND(Výpočet!K28*Výpočet!AS28*Logic!$G$101,0))","v":636},{"$f":"IF(OR(L$19=0,$R31=0),0,ROUND(Výpočet!L28*Výpočet!AT28*Logic!$G$101,0))","v":790},{"$f":"IF(OR(M$19=0,$R31=0),0,ROUND(Výpočet!M28*Výpočet!AU28*Logic!$G$101,0))","v":936},{"$f":"IF(OR(N$19=0,$R31=0),0,ROUND(Výpočet!N28*Výpočet!AV28*Logic!$G$101,0))","v":1076},{"$f":"IF(OR(O$19=0,$R31=0),0,ROUND(Výpočet!O28*Výpočet!AW28*Logic!$G$101,0))","v":1213},{"$f":"IF(OR(P$19=0,$R31=0),0,ROUND(Výpočet!P28*Výpočet!AX28*Logic!$G$101,0))","v":1477},{"$f":"Výpočet!AH28","v":1200},{"$f":"IF(AND($L$13=Logic!$G$3,$O$13=Logic!$G$3),1,IF(AND(Q31>=$L$13,Q31<=$O$13),1,0))","v":1}]
[null,{"$f":"Výpočet!S29","v":1400},{"$f":"IF(OR(C$19=0,$R32=0),0,ROUND(Výpočet!C29*Výpočet!AK29*Logic!$G$101,0))","v":0},{"$f":"IF(OR(D$19=0,$R32=0),0,ROUND(Výpočet!D29*Výpočet!AL29*Logic!$G$101,0))","v":0},{"$f":"IF(OR(E$19=0,$R32=0),0,ROUND(Výpočet!E29*Výpočet!AM29*Logic!$G$101,0))","v":0},{"$f":"IF(OR(F$19=0,$R32=0),0,ROUND(Výpočet!F29*Výpočet!AN29*Logic!$G$101,0))","v":0},{"$f":"IF(OR(G$19=0,$R32=0),0,ROUND(Výpočet!G29*Výpočet!AO29*Logic!$G$101,0))","v":0},{"$f":"IF(OR(H$19=0,$R32=0),0,ROUND(Výpočet!H29*Výpočet!AP29*Logic!$G$101,0))","v":0},{"$f":"IF(OR(I$19=0,$R32=0),0,ROUND(Výpočet!I29*Výpočet!AQ29*Logic!$G$101,0))","v":0},{"$f":"IF(OR(J$19=0,$R32=0),0,ROUND(Výpočet!J29*Výpočet!AR29*Logic!$G$101,0))","v":0},{"$f":"IF(OR(K$19=0,$R32=0),0,ROUND(Výpočet!K29*Výpočet!AS29*Logic!$G$101,0))","v":742},{"$f":"IF(OR(L$19=0,$R32=0),0,ROUND(Výpočet!L29*Výpočet!AT29*Logic!$G$101,0))","v":921},{"$f":"IF(OR(M$19=0,$R32=0),0,ROUND(Výpočet!M29*Výpočet!AU29*Logic!$G$101,0))","v":1092},{"$f":"IF(OR(N$19=0,$R32=0),0,ROUND(Výpočet!N29*Výpočet!AV29*Logic!$G$101,0))","v":1256},{"$f":"IF(OR(O$19=0,$R32=0),0,ROUND(Výpočet!O29*Výpočet!AW29*Logic!$G$101,0))","v":1415},{"$f":"IF(OR(P$19=0,$R32=0),0,ROUND(Výpočet!P29*Výpočet!AX29*Logic!$G$101,0))","v":1723},{"$f":"Výpočet!AH29","v":1400},{"$f":"IF(AND($L$13=Logic!$G$3,$O$13=Logic!$G$3),1,IF(AND(Q32>=$L$13,Q32<=$O$13),1,0))","v":1}]
[null,{"$f":"Výpočet!S30","v":1600},{"$f":"IF(OR(C$19=0,$R33=0),0,ROUND(Výpočet!C30*Výpočet!AK30*Logic!$G$101,0))","v":0},{"$f":"IF(OR(D$19=0,$R33=0),0,ROUND(Výpočet!D30*Výpočet!AL30*Logic!$G$101,0))","v":0},{"$f":"IF(OR(E$19=0,$R33=0),0,ROUND(Výpočet!E30*Výpočet!AM30*Logic!$G$101,0))","v":0},{"$f":"IF(OR(F$19=0,$R33=0),0,ROUND(Výpočet!F30*Výpočet!AN30*Logic!$G$101,0))","v":0},{"$f":"IF(OR(G$19=0,$R33=0),0,ROUND(Výpočet!G30*Výpočet!AO30*Logic!$G$101,0))","v":0},{"$f":"IF(OR(H$19=0,$R33=0),0,ROUND(Výpočet!H30*Výpočet!AP30*Logic!$G$101,0))","v":0},{"$f":"IF(OR(I$19=0,$R33=0),0,ROUND(Výpočet!I30*Výpočet!AQ30*Logic!$G$101,0))","v":0},{"$f":"IF(OR(J$19=0,$R33=0),0,ROUND(Výpočet!J30*Výpočet!AR30*Logic!$G$101,0))","v":0},{"$f":"IF(OR(K$19=0,$R33=0),0,ROUND(Výpočet!K30*Výpočet!AS30*Logic!$G$101,0))","v":848},{"$f":"IF(OR(L$19=0,$R33=0),0,ROUND(Výpočet!L30*Výpočet!AT30*Logic!$G$101,0))","v":1053},{"$f":"IF(OR(M$19=0,$R33=0),0,ROUND(Výpočet!M30*Výpočet!AU30*Logic!$G$101,0))","v":1248},{"$f":"IF(OR(N$19=0,$R33=0),0,ROUND(Výpočet!N30*Výpočet!AV30*Logic!$G$101,0))","v":1435},{"$f":"IF(OR(O$19=0,$R33=0),0,ROUND(Výpočet!O30*Výpočet!AW30*Logic!$G$101,0))","v":1618},{"$f":"IF(OR(P$19=0,$R33=0),0,ROUND(Výpočet!P30*Výpočet!AX30*Logic!$G$101,0))","v":1970},{"$f":"Výpočet!AH30","v":1600},{"$f":"IF(AND($L$13=Logic!$G$3,$O$13=Logic!$G$3),1,IF(AND(Q33>=$L$13,Q33<=$O$13),1,0))","v":1}]
[null,{"$f":"Výpočet!S31","v":1800},{"$f":"IF(OR(C$19=0,$R34=0),0,ROUND(Výpočet!C31*Výpočet!AK31*Logic!$G$101,0))","v":0},{"$f":"IF(OR(D$19=0,$R34=0),0,ROUND(Výpočet!D31*Výpočet!AL31*Logic!$G$101,0))","v":0},{"$f":"IF(OR(E$19=0,$R34=0),0,ROUND(Výpočet!E31*Výpočet!AM31*Logic!$G$101,0))","v":0},{"$f":"IF(OR(F$19=0,$R34=0),0,ROUND(Výpočet!F31*Výpočet!AN31*Logic!$G$101,0))","v":0},{"$f":"IF(OR(G$19=0,$R34=0),0,ROUND(Výpočet!G31*Výpočet!AO31*Logic!$G$101,0))","v":0},{"$f":"IF(OR(H$19=0,$R34=0),0,ROUND(Výpočet!H31*Výpočet!AP31*Logic!$G$101,0))","v":0},{"$f":"IF(OR(I$19=0,$R34=0),0,ROUND(Výpočet!I31*Výpočet!AQ31*Logic!$G$101,0))","v":0},{"$f":"IF(OR(J$19=0,$R34=0),0,ROUND(Výpočet!J31*Výpočet!AR31*Logic!$G$101,0))","v":0},{"$f":"IF(OR(K$19=0,$R34=0),0,ROUND(Výpočet!K31*Výpočet!AS31*Logic!$G$101,0))","v":954},{"$f":"IF(OR(L$19=0,$R34=0),0,ROUND(Výpočet!L31*Výpočet!AT31*Logic!$G$101,0))","v":1184},{"$f":"IF(OR(M$19=0,$R34=0),0,ROUND(Výpočet!M31*Výpočet!AU31*Logic!$G$101,0))","v":1404},{"$f":"IF(OR(N$19=0,$R34=0),0,ROUND(Výpočet!N31*Výpočet!AV31*Logic!$G$101,0))","v":1615},{"$f":"IF(OR(O$19=0,$R34=0),0,ROUND(Výpočet!O31*Výpočet!AW31*Logic!$G$101,0))","v":1820},{"$f":"IF(OR(P$19=0,$R34=0),0,ROUND(Výpočet!P31*Výpočet!AX31*Logic!$G$101,0))","v":0},{"$f":"Výpočet!AH31","v":1800},{"$f":"IF(AND($L$13=Logic!$G$3,$O$13=Logic!$G$3),1,IF(AND(Q34>=$L$13,Q34<=$O$13),1,0))","v":1}]
[null,{"$f":"Výpočet!S32","v":2000},{"$f":"IF(OR(C$19=0,$R35=0),0,ROUND(Výpočet!C32*Výpočet!AK32*Logic!$G$101,0))","v":0},{"$f":"IF(OR(D$19=0,$R35=0),0,ROUND(Výpočet!D32*Výpočet!AL32*Logic!$G$101,0))","v":0},{"$f":"IF(OR(E$19=0,$R35=0),0,ROUND(Výpočet!E32*Výpočet!AM32*Logic!$G$101,0))","v":0},{"$f":"IF(OR(F$19=0,$R35=0),0,ROUND(Výpočet!F32*Výpočet!AN32*Logic!$G$101,0))","v":0},{"$f":"IF(OR(G$19=0,$R35=0),0,ROUND(Výpočet!G32*Výpočet!AO32*Logic!$G$101,0))","v":0},{"$f":"IF(OR(H$19=0,$R35=0),0,ROUND(Výpočet!H32*Výpočet!AP32*Logic!$G$101,0))","v":0},{"$f":"IF(OR(I$19=0,$R35=0),0,ROUND(Výpočet!I32*Výpočet!AQ32*Logic!$G$101,0))","v":0},{"$f":"IF(OR(J$19=0,$R35=0),0,ROUND(Výpočet!J32*Výpočet!AR32*Logic!$G$101,0))","v":0},{"$f":"IF(OR(K$19=0,$R35=0),0,ROUND(Výpočet!K32*Výpočet!AS32*Logic!$G$101,0))","v":1060},{"$f":"IF(OR(L$19=0,$R35=0),0,ROUND(Výpočet!L32*Výpočet!AT32*Logic!$G$101,0))","v":1316},{"$f":"IF(OR(M$19=0,$R35=0),0,ROUND(Výpočet!M32*Výpočet!AU32*Logic!$G$101,0))","v":1560},{"$f":"IF(OR(N$19=0,$R35=0),0,ROUND(Výpočet!N32*Výpočet!AV32*Logic!$G$101,0))","v":1794},{"$f":"IF(OR(O$19=0,$R35=0),0,ROUND(Výpočet!O32*Výpočet!AW32*Logic!$G$101,0))","v":2022},{"$f":"IF(OR(P$19=0,$R35=0),0,ROUND(Výpočet!P32*Výpočet!AX32*Logic!$G$101,0))","v":0},{"$f":"Výpočet!AH32","v":2000},{"$f":"IF(AND($L$13=Logic!$G$3,$O$13=Logic!$G$3),1,IF(AND(Q35>=$L$13,Q35<=$O$13),1,0))","v":1}]
[null,{"$f":"Výpočet!S33","v":2300},{"$f":"IF(OR(C$19=0,$R36=0),0,ROUND(Výpočet!C33*Výpočet!AK33*Logic!$G$101,0))","v":0},{"$f":"IF(OR(D$19=0,$R36=0),0,ROUND(Výpočet!D33*Výpočet!AL33*Logic!$G$101,0))","v":0},{"$f":"IF(OR(E$19=0,$R36=0),0,ROUND(Výpočet!E33*Výpočet!AM33*Logic!$G$101,0))","v":0},{"$f":"IF(OR(F$19=0,$R36=0),0,ROUND(Výpočet!F33*Výpočet!AN33*Logic!$G$101,0))","v":0},{"$f":"IF(OR(G$19=0,$R36=0),0,ROUND(Výpočet!G33*Výpočet!AO33*Logic!$G$101,0))","v":0},{"$f":"IF(OR(H$19=0,$R36=0),0,ROUND(Výpočet!H33*Výpočet!AP33*Logic!$G$101,0))","v":0},{"$f":"IF(OR(I$19=0,$R36=0),0,ROUND(Výpočet!I33*Výpočet!AQ33*Logic!$G$101,0))","v":0},{"$f":"IF(OR(J$19=0,$R36=0),0,ROUND(Výpočet!J33*Výpočet!AR33*Logic!$G$101,0))","v":0},{"$f":"IF(OR(K$19=0,$R36=0),0,ROUND(Výpočet!K33*Výpočet!AS33*Logic!$G$101,0))","v":0},{"$f":"IF(OR(L$19=0,$R36=0),0,ROUND(Výpočet!L33*Výpočet!AT33*Logic!$G$101,0))","v":0},{"$f":"IF(OR(M$19=0,$R36=0),0,ROUND(Výpočet!M33*Výpočet!AU33*Logic!$G$101,0))","v":0},{"$f":"IF(OR(N$19=0,$R36=0),0,ROUND(Výpočet!N33*Výpočet!AV33*Logic!$G$101,0))","v":0},{"$f":"IF(OR(O$19=0,$R36=0),0,ROUND(Výpočet!O33*Výpočet!AW33*Logic!$G$101,0))","v":0},{"$f":"IF(OR(P$19=0,$R36=0),0,ROUND(Výpočet!P33*Výpočet!AX33*Logic!$G$101,0))","v":0},{"$f":"Výpočet!AH33","v":2300},{"$f":"IF(AND($L$13=Logic!$G$3,$O$13=Logic!$G$3),1,IF(AND(Q36>=$L$13,Q36<=$O$13),1,0))","v":1}]
[null,{"$f":"Výpočet!S34","v":2600},{"$f":"IF(OR(C$19=0,$R37=0),0,ROUND(Výpočet!C34*Výpočet!AK34*Logic!$G$101,0))","v":0},{"$f":"IF(OR(D$19=0,$R37=0),0,ROUND(Výpočet!D34*Výpočet!AL34*Logic!$G$101,0))","v":0},{"$f":"IF(OR(E$19=0,$R37=0),0,ROUND(Výpočet!E34*Výpočet!AM34*Logic!$G$101,0))","v":0},{"$f":"IF(OR(F$19=0,$R37=0),0,ROUND(Výpočet!F34*Výpočet!AN34*Logic!$G$101,0))","v":0},{"$f":"IF(OR(G$19=0,$R37=0),0,ROUND(Výpočet!G34*Výpočet!AO34*Logic!$G$101,0))","v":0},{"$f":"IF(OR(H$19=0,$R37=0),0,ROUND(Výpočet!H34*Výpočet!AP34*Logic!$G$101,0))","v":0},{"$f":"IF(OR(I$19=0,$R37=0),0,ROUND(Výpočet!I34*Výpočet!AQ34*Logic!$G$101,0))","v":0},{"$f":"IF(OR(J$19=0,$R37=0),0,ROUND(Výpočet!J34*Výpočet!AR34*Logic!$G$101,0))","v":0},{"$f":"IF(OR(K$19=0,$R37=0),0,ROUND(Výpočet!K34*Výpočet!AS34*Logic!$G$101,0))","v":0},{"$f":"IF(OR(L$19=0,$R37=0),0,ROUND(Výpočet!L34*Výpočet!AT34*Logic!$G$101,0))","v":0},{"$f":"IF(OR(M$19=0,$R37=0),0,ROUND(Výpočet!M34*Výpočet!AU34*Logic!$G$101,0))","v":0},{"$f":"IF(OR(N$19=0,$R37=0),0,ROUND(Výpočet!N34*Výpočet!AV34*Logic!$G$101,0))","v":0},{"$f":"IF(OR(O$19=0,$R37=0),0,ROUND(Výpočet!O34*Výpočet!AW34*Logic!$G$101,0))","v":0},{"$f":"IF(OR(P$19=0,$R37=0),0,ROUND(Výpočet!P34*Výpočet!AX34*Logic!$G$101,0))","v":0},{"$f":"Výpočet!AH34","v":2600},{"$f":"IF(AND($L$13=Logic!$G$3,$O$13=Logic!$G$3),1,IF(AND(Q37>=$L$13,Q37<=$O$13),1,0))","v":1}]
[null,{"$f":"Výpočet!S35","v":3000},{"$f":"IF(OR(C$19=0,$R38=0),0,ROUND(Výpočet!C35*Výpočet!AK35*Logic!$G$101,0))","v":0},{"$f":"IF(OR(D$19=0,$R38=0),0,ROUND(Výpočet!D35*Výpočet!AL35*Logic!$G$101,0))","v":0},{"$f":"IF(OR(E$19=0,$R38=0),0,ROUND(Výpočet!E35*Výpočet!AM35*Logic!$G$101,0))","v":0},{"$f":"IF(OR(F$19=0,$R38=0),0,ROUND(Výpočet!F35*Výpočet!AN35*Logic!$G$101,0))","v":0},{"$f":"IF(OR(G$19=0,$R38=0),0,ROUND(Výpočet!G35*Výpočet!AO35*Logic!$G$101,0))","v":0},{"$f":"IF(OR(H$19=0,$R38=0),0,ROUND(Výpočet!H35*Výpočet!AP35*Logic!$G$101,0))","v":0},{"$f":"IF(OR(I$19=0,$R38=0),0,ROUND(Výpočet!I35*Výpočet!AQ35*Logic!$G$101,0))","v":0},{"$f":"IF(OR(J$19=0,$R38=0),0,ROUND(Výpočet!J35*Výpočet!AR35*Logic!$G$101,0))","v":0},{"$f":"IF(OR(K$19=0,$R38=0),0,ROUND(Výpočet!K35*Výpočet!AS35*Logic!$G$101,0))","v":0},{"$f":"IF(OR(L$19=0,$R38=0),0,ROUND(Výpočet!L35*Výpočet!AT35*Logic!$G$101,0))","v":0},{"$f":"IF(OR(M$19=0,$R38=0),0,ROUND(Výpočet!M35*Výpočet!AU35*Logic!$G$101,0))","v":0},{"$f":"IF(OR(N$19=0,$R38=0),0,ROUND(Výpočet!N35*Výpočet!AV35*Logic!$G$101,0))","v":0},{"$f":"IF(OR(O$19=0,$R38=0),0,ROUND(Výpočet!O35*Výpočet!AW35*Logic!$G$101,0))","v":0},{"$f":"IF(OR(P$19=0,$R38=0),0,ROUND(Výpočet!P35*Výpočet!AX35*Logic!$G$101,0))","v":0},{"$f":"Výpočet!AH35","v":3000},{"$f":"IF(AND($L$13=Logic!$G$3,$O$13=Logic!$G$3),1,IF(AND(Q38>=$L$13,Q38<=$O$13),1,0))","v":1}]
[]
[null,null,{"$f":"F40","v":"Typ 20"},{"$f":"F40","v":"Typ 20"},{"$f":"F40","v":"Typ 20"},{"$f":"IF(Výpočet!W36=0,0,IF(OR(Logic!$C$3=\"K0\",Logic!$C$3=\"P0\",Logic!$C$3=\"A0\",Logic!$C$3=\"B0\"),Logic!$P$3&\" \"&Výpočet!W36&\"S\",Logic!$P$3&\" \"&Výpočet!W36))","v":"Typ 20"},{"$f":"F40","v":"Typ 20"},{"$f":"F40","v":"Typ 20"},{"$f":"F40","v":"Typ 20"},{"$f":"M40","v":"Typ 21"},{"$f":"M40","v":"Typ 21"},{"$f":"M40","v":"Typ 21"},{"$f":"IF(OR(Logic!$C$3=\"A0\",Logic!$C$3=\"B0\",Logic!$C$3=\"K0\",Logic!$C$3=\"P0\",Výpočet!AD36=0,Logic!$C$3=\"V0\",Logic!$C$3=\"U0\"),0,Logic!$P$3&\" \"&Výpočet!AD36)","v":"Typ 21"},{"$f":"M40","v":"Typ 21"},{"$f":"M40","v":"Typ 21"},{"$f":"M40","v":"Typ 21"}]
[null,{"$f":"Logic!$J$3&\" [mm]\"","v":"Délka [mm]"},{"$f":"IF(C40=0,0,Logic!$I$3&\" [mm]\")","v":"Výška [mm]"},null,null,null,null,null,null,{"$f":"IF(J40=0,0,Logic!$I$3&\" [mm]\")","v":"Výška [mm]"},null,null,null,null,null,null,{"$f":"IF(OR(Logic!$C$3=\"V0\",Logic!$C$3=\"U0\"),Logic!$I$3,Logic!$J$3)&\" [mm]\"","v":"Délka [mm]"}]
[null,null,{"$f":"Výpočet!T37","v":200},{"$f":"Výpočet!U37","v":300},{"$f":"Výpočet!V37","v":400},{"$f":"Výpočet!W37","v":500},{"$f":"Výpočet!X37","v":600},{"$f":"Výpočet!Y37","v":700},{"$f":"Výpočet!Z37","v":900},{"$f":"Výpočet!AA37","v":200},{"$f":"Výpočet!AB37","v":300},{"$f":"Výpočet!AC37","v":400},{"$f":"Výpočet!AD37","v":500},{"$f":"Výpočet!AE37","v":600},{"$f":"Výpočet!AF37","v":700},{"$f":"Výpočet!AG37","v":900}]
[null,{"$f":"Výpočet!S38","v":400},{"$f":"IF(OR(C$19=0,$R43=0),0,ROUND(Výpočet!C38*Výpočet!AK38*Logic!$G$101,0))","v":0},{"$f":"IF(OR(D$19=0,$R43=0),0,ROUND(Výpočet!D38*Výpočet!AL38*Logic!$G$101,0))","v":0},{"$f":"IF(OR(E$19=0,$R43=0),0,ROUND(Výpočet!E38*Výpočet!AM38*Logic!$G$101,0))","v":0},{"$f":"IF(OR(F$19=0,$R43=0),0,ROUND(Výpočet!F38*Výpočet!AN38*Logic!$G$101,0))","v":0},{"$f":"IF(OR(G$19=0,$R43=0),0,ROUND(Výpočet!G38*Výpočet!AO38*Logic!$G$101,0))","v":0},{"$f":"IF(OR(H$19=0,$R43=0),0,ROUND(Výpočet!H38*Výpočet!AP38*Logic!$G$101,0))","v":0},{"$f":"IF(OR(I$19=0,$R43=0),0,ROUND(Výpočet!I38*Výpočet!AQ38*Logic!$G$101,0))","v":0},{"$f":"IF(OR(J$19=0,$R43=0),0,ROUND(Výpočet!J38*Výpočet!AR38*Logic!$G$101,0))","v":0},{"$f":"IF(OR(K$19=0,$R43=0),0,ROUND(Výpočet!K38*Výpočet!AS38*Logic!$G$101,0))","v":0},{"$f":"IF(OR(L$19=0,$R43=0),0,ROUND(Výpočet!L38*Výpočet!AT38*Logic!$G$101,0))","v":0},{"$f":"IF(OR(M$19=0,$R43=0),0,ROUND(Výpočet!M38*Výpočet!AU38*Logic!$G$101,0))","v":0},{"$f":"IF(OR(N$19=0,$R43=0),0,ROUND(Výpočet!N38*Výpočet!AV38*Logic!$G$101,0))","v":0},{"$f":"IF(OR(O$19=0,$R43=0),0,ROUND(Výpočet!O38*Výpočet!AW38*Logic!$G$101,0))","v":0},{"$f":"IF(OR(P$19=0,$R43=0),0,ROUND(Výpočet!P38*Výpočet!AX38*Logic!$G$101,0))","v":0},{"$f":"Výpočet!AH38","v":400},{"$f":"R23","v":1}]
[null,{"$f":"Výpočet!S39","v":500},{"$f":"IF(OR(C$19=0,$R44=0),0,ROUND(Výpočet!C39*Výpočet!AK39*Logic!$G$101,0))","v":0},{"$f":"IF(OR(D$19=0,$R44=0),0,ROUND(Výpočet!D39*Výpočet!AL39*Logic!$G$101,0))","v":0},{"$f":"IF(OR(E$19=0,$R44=0),0,ROUND(Výpočet!E39*Výpočet!AM39*Logic!$G$101,0))","v":0},{"$f":"IF(OR(F$19=0,$R44=0),0,ROUND(Výpočet!F39*Výpočet!AN39*Logic!$G$101,0))","v":424},{"$f":"IF(OR(G$19=0,$R44=0),0,ROUND(Výpočet!G39*Výpočet!AO39*Logic!$G$101,0))","v":485},{"$f":"IF(OR(H$19=0,$R44=0),0,ROUND(Výpočet!H39*Výpočet!AP39*Logic!$G$101,0))","v":543},{"$f":"IF(OR(I$19=0,$R44=0),0,ROUND(Výpočet!I39*Výpočet!AQ39*Logic!$G$101,0))","v":0},{"$f":"IF(OR(J$19=0,$R44=0),0,ROUND(Výpočet!J39*Výpočet!AR39*Logic!$G$101,0))","v":0},{"$f":"IF(OR(K$19=0,$R44=0),0,ROUND(Výpočet!K39*Výpočet!AS39*Logic!$G$101,0))","v":360},{"$f":"IF(OR(L$19=0,$R44=0),0,ROUND(Výpočet!L39*Výpočet!AT39*Logic!$G$101,0))","v":452},{"$f":"IF(OR(M$19=0,$R44=0),0,ROUND(Výpočet!M39*Výpočet!AU39*Logic!$G$101,0))","v":536},{"$f":"IF(OR(N$19=0,$R44=0),0,ROUND(Výpočet!N39*Výpočet!AV39*Logic!$G$101,0))","v":613},{"$f":"IF(OR(O$19=0,$R44=0),0,ROUND(Výpočet!O39*Výpočet!AW39*Logic!$G$101,0))","v":684},{"$f":"IF(OR(P$19=0,$R44=0),0,ROUND(Výpočet!P39*Výpočet!AX39*Logic!$G$101,0))","v":809},{"$f":"Výpočet!AH39","v":500},1]
[null,{"$f":"Výpočet!S40","v":600},{"$f":"IF(OR(C$19=0,$R45=0),0,ROUND(Výpočet!C40*Výpočet!AK40*Logic!$G$101,0))","v":0},{"$f":"IF(OR(D$19=0,$R45=0),0,ROUND(Výpočet!D40*Výpočet!AL40*Logic!$G$101,0))","v":0},{"$f":"IF(OR(E$19=0,$R45=0),0,ROUND(Výpočet!E40*Výpočet!AM40*Logic!$G$101,0))","v":0},{"$f":"IF(OR(F$19=0,$R45=0),0,ROUND(Výpočet!F40*Výpočet!AN40*Logic!$G$101,0))","v":509},{"$f":"IF(OR(G$19=0,$R45=0),0,ROUND(Výpočet!G40*Výpočet!AO40*Logic!$G$101,0))","v":581},{"$f":"IF(OR(H$19=0,$R45=0),0,ROUND(Výpočet!H40*Výpočet!AP40*Logic!$G$101,0))","v":651},{"$f":"IF(OR(I$19=0,$R45=0),0,ROUND(Výpočet!I40*Výpočet!AQ40*Logic!$G$101,0))","v":0},{"$f":"IF(OR(J$19=0,$R45=0),0,ROUND(Výpočet!J40*Výpočet!AR40*Logic!$G$101,0))","v":0},{"$f":"IF(OR(K$19=0,$R45=0),0,ROUND(Výpočet!K40*Výpočet!AS40*Logic!$G$101,0))","v":432},{"$f":"IF(OR(L$19=0,$R45=0),0,ROUND(Výpočet!L40*Výpočet!AT40*Logic!$G$101,0))","v":542},{"$f":"IF(OR(M$19=0,$R45=0),0,ROUND(Výpočet!M40*Výpočet!AU40*Logic!$G$101,0))","v":643},{"$f":"IF(OR(N$19=0,$R45=0),0,ROUND(Výpočet!N40*Výpočet!AV40*Logic!$G$101,0))","v":736},{"$f":"IF(OR(O$19=0,$R45=0),0,ROUND(Výpočet!O40*Výpočet!AW40*Logic!$G$101,0))","v":820},{"$f":"IF(OR(P$19=0,$R45=0),0,ROUND(Výpočet!P40*Výpočet!AX40*Logic!$G$101,0))","v":970},{"$f":"Výpočet!AH40","v":600},1]
[null,{"$f":"Výpočet!S41","v":700},{"$f":"IF(OR(C$19=0,$R46=0),0,ROUND(Výpočet!C41*Výpočet!AK41*Logic!$G$101,0))","v":0},{"$f":"IF(OR(D$19=0,$R46=0),0,ROUND(Výpočet!D41*Výpočet!AL41*Logic!$G$101,0))","v":0},{"$f":"IF(OR(E$19=0,$R46=0),0,ROUND(Výpočet!E41*Výpočet!AM41*Logic!$G$101,0))","v":0},{"$f":"IF(OR(F$19=0,$R46=0),0,ROUND(Výpočet!F41*Výpočet!AN41*Logic!$G$101,0))","v":594},{"$f":"IF(OR(G$19=0,$R46=0),0,ROUND(Výpočet!G41*Výpočet!AO41*Logic!$G$101,0))","v":678},{"$f":"IF(OR(H$19=0,$R46=0),0,ROUND(Výpočet!H41*Výpočet!AP41*Logic!$G$101,0))","v":760},{"$f":"IF(OR(I$19=0,$R46=0),0,ROUND(Výpočet!I41*Výpočet!AQ41*Logic!$G$101,0))","v":0},{"$f":"IF(OR(J$19=0,$R46=0),0,ROUND(Výpočet!J41*Výpočet!AR41*Logic!$G$101,0))","v":0},{"$f":"IF(OR(K$19=0,$R46=0),0,ROUND(Výpočet!K41*Výpočet!AS41*Logic!$G$101,0))","v":504},{"$f":"IF(OR(L$19=0,$R46=0),0,ROUND(Výpočet!L41*Výpočet!AT41*Logic!$G$101,0))","v":633},{"$f":"IF(OR(M$19=0,$R46=0),0,ROUND(Výpočet!M41*Výpočet!AU41*Logic!$G$101,0))","v":750},{"$f":"IF(OR(N$19=0,$R46=0),0,ROUND(Výpočet!N41*Výpočet!AV41*Logic!$G$101,0))","v":858},{"$f":"IF(OR(O$19=0,$R46=0),0,ROUND(Výpočet!O41*Výpočet!AW41*Logic!$G$101,0))","v":957},{"$f":"IF(OR(P$19=0,$R46=0),0,ROUND(Výpočet!P41*Výpočet!AX41*Logic!$G$101,0))","v":1132},{"$f":"Výpočet!AH41","v":700},1]
[null,{"$f":"Výpočet!S42","v":800},{"$f":"IF(OR(C$19=0,$R47=0),0,ROUND(Výpočet!C42*Výpočet!AK42*Logic!$G$101,0))","v":0},{"$f":"IF(OR(D$19=0,$R47=0),0,ROUND(Výpočet!D42*Výpočet!AL42*Logic!$G$101,0))","v":0},{"$f":"IF(OR(E$19=0,$R47=0),0,ROUND(Výpočet!E42*Výpočet!AM42*Logic!$G$101,0))","v":0},{"$f":"IF(OR(F$19=0,$R47=0),0,ROUND(Výpočet!F42*Výpočet!AN42*Logic!$G$101,0))","v":678},{"$f":"IF(OR(G$19=0,$R47=0),0,ROUND(Výpočet!G42*Výpočet!AO42*Logic!$G$101,0))","v":775},{"$f":"IF(OR(H$19=0,$R47=0),0,ROUND(Výpočet!H42*Výpočet!AP42*Logic!$G$101,0))","v":868},{"$f":"IF(OR(I$19=0,$R47=0),0,ROUND(Výpočet!I42*Výpočet!AQ42*Logic!$G$101,0))","v":0},{"$f":"IF(OR(J$19=0,$R47=0),0,ROUND(Výpočet!J42*Výpočet!AR42*Logic!$G$101,0))","v":0},{"$f":"IF(OR(K$19=0,$R47=0),0,ROUND(Výpočet!K42*Výpočet!AS42*Logic!$G$101,0))","v":576},{"$f":"IF(OR(L$19=0,$R47=0),0,ROUND(Výpočet!L42*Výpočet!AT42*Logic!$G$101,0))","v":723},{"$f":"IF(OR(M$19=0,$R47=0),0,ROUND(Výpočet!M42*Výpočet!AU42*Logic!$G$101,0))","v":858},{"$f":"IF(OR(N$19=0,$R47=0),0,ROUND(Výpočet!N42*Výpočet!AV42*Logic!$G$101,0))","v":981},{"$f":"IF(OR(O$19=0,$R47=0),0,ROUND(Výpočet!O42*Výpočet!AW42*Logic!$G$101,0))","v":1094},{"$f":"IF(OR(P$19=0,$R47=0),0,ROUND(Výpočet!P42*Výpočet!AX42*Logic!$G$101,0))","v":1294},{"$f":"Výpočet!AH42","v":800},1]
[null,{"$f":"Výpočet!S43","v":900},{"$f":"IF(OR(C$19=0,$R48=0),0,ROUND(Výpočet!C43*Výpočet!AK43*Logic!$G$101,0))","v":0},{"$f":"IF(OR(D$19=0,$R48=0),0,ROUND(Výpočet!D43*Výpočet!AL43*Logic!$G$101,0))","v":0},{"$f":"IF(OR(E$19=0,$R48=0),0,ROUND(Výpočet!E43*Výpočet!AM43*Logic!$G$101,0))","v":0},{"$f":"IF(OR(F$19=0,$R48=0),0,ROUND(Výpočet!F43*Výpočet!AN43*Logic!$G$101,0))","v":763},{"$f":"IF(OR(G$19=0,$R48=0),0,ROUND(Výpočet!G43*Výpočet!AO43*Logic!$G$101,0))","v":872},{"$f":"IF(OR(H$19=0,$R48=0),0,ROUND(Výpočet!H43*Výpočet!AP43*Logic!$G$101,0))","v":977},{"$f":"IF(OR(I$19=0,$R48=0),0,ROUND(Výpočet!I43*Výpočet!AQ43*Logic!$G$101,0))","v":0},{"$f":"IF(OR(J$19=0,$R48=0),0,ROUND(Výpočet!J43*Výpočet!AR43*Logic!$G$101,0))","v":0},{"$f":"IF(OR(K$19=0,$R48=0),0,ROUND(Výpočet!K43*Výpočet!AS43*Logic!$G$101,0))","v":648},{"$f":"IF(OR(L$19=0,$R48=0),0,ROUND(Výpočet!L43*Výpočet!AT43*Logic!$G$101,0))","v":814},{"$f":"IF(OR(M$19=0,$R48=0),0,ROUND(Výpočet!M43*Výpočet!AU43*Logic!$G$101,0))","v":965},{"$f":"IF(OR(N$19=0,$R48=0),0,ROUND(Výpočet!N43*Výpočet!AV43*Logic!$G$101,0))","v":1103},{"$f":"IF(OR(O$19=0,$R48=0),0,ROUND(Výpočet!O43*Výpočet!AW43*Logic!$G$101,0))","v":1230},{"$f":"IF(OR(P$19=0,$R48=0),0,ROUND(Výpočet!P43*Výpočet!AX43*Logic!$G$101,0))","v":1455},{"$f":"Výpočet!AH43","v":900},1]
[null,{"$f":"Výpočet!S44","v":1000},{"$f":"IF(OR(C$19=0,$R49=0),0,ROUND(Výpočet!C44*Výpočet!AK44*Logic!$G$101,0))","v":0},{"$f":"IF(OR(D$19=0,$R49=0),0,ROUND(Výpočet!D44*Výpočet!AL44*Logic!$G$101,0))","v":0},{"$f":"IF(OR(E$19=0,$R49=0),0,ROUND(Výpočet!E44*Výpočet!AM44*Logic!$G$101,0))","v":0},{"$f":"IF(OR(F$19=0,$R49=0),0,ROUND(Výpočet!F44*Výpočet!AN44*Logic!$G$101,0))","v":848},{"$f":"IF(OR(G$19=0,$R49=0),0,ROUND(Výpočet!G44*Výpočet!AO44*Logic!$G$101,0))","v":969},{"$f":"IF(OR(H$19=0,$R49=0),0,ROUND(Výpočet!H44*Výpočet!AP44*Logic!$G$101,0))","v":1085},{"$f":"IF(OR(I$19=0,$R49=0),0,ROUND(Výpočet!I44*Výpočet!AQ44*Logic!$G$101,0))","v":0},{"$f":"IF(OR(J$19=0,$R49=0),0,ROUND(Výpočet!J44*Výpočet!AR44*Logic!$G$101,0))","v":0},{"$f":"IF(OR(K$19=0,$R49=0),0,ROUND(Výpočet!K44*Výpočet!AS44*Logic!$G$101,0))","v":720},{"$f":"IF(OR(L$19=0,$R49=0),0,ROUND(Výpočet!L44*Výpočet!AT44*Logic!$G$101,0))","v":904},{"$f":"IF(OR(M$19=0,$R49=0),0,ROUND(Výpočet!M44*Výpočet!AU44*Logic!$G$101,0))","v":1072},{"$f":"IF(OR(N$19=0,$R49=0),0,ROUND(Výpočet!N44*Výpočet!AV44*Logic!$G$101,0))","v":1226},{"$f":"IF(OR(O$19=0,$R49=0),0,ROUND(Výpočet!O44*Výpočet!AW44*Logic!$G$101,0))","v":1367},{"$f":"IF(OR(P$19=0,$R49=0),0,ROUND(Výpočet!P44*Výpočet!AX44*Logic!$G$101,0))","v":1617},{"$f":"Výpočet!AH44","v":1000},1]
[null,{"$f":"Výpočet!S45","v":1100},{"$f":"IF(OR(C$19=0,$R50=0),0,ROUND(Výpočet!C45*Výpočet!AK45*Logic!$G$101,0))","v":0},{"$f":"IF(OR(D$19=0,$R50=0),0,ROUND(Výpočet!D45*Výpočet!AL45*Logic!$G$101,0))","v":0},{"$f":"IF(OR(E$19=0,$R50=0),0,ROUND(Výpočet!E45*Výpočet!AM45*Logic!$G$101,0))","v":0},{"$f":"IF(OR(F$19=0,$R50=0),0,ROUND(Výpočet!F45*Výpočet!AN45*Logic!$G$101,0))","v":933},{"$f":"IF(OR(G$19=0,$R50=0),0,ROUND(Výpočet!G45*Výpočet!AO45*Logic!$G$101,0))","v":1066},{"$f":"IF(OR(H$19=0,$R50=0),0,ROUND(Výpočet!H45*Výpočet!AP45*Logic!$G$101,0))","v":1194},{"$f":"IF(OR(I$19=0,$R50=0),0,ROUND(Výpočet!I45*Výpočet!AQ45*Logic!$G$101,0))","v":0},{"$f":"IF(OR(J$19=0,$R50=0),0,ROUND(Výpočet!J45*Výpočet!AR45*Logic!$G$101,0))","v":0},{"$f":"IF(OR(K$19=0,$R50=0),0,ROUND(Výpočet!K45*Výpočet!AS45*Logic!$G$101,0))","v":792},{"$f":"IF(OR(L$19=0,$R50=0),0,ROUND(Výpočet!L45*Výpočet!AT45*Logic!$G$101,0))","v":994},{"$f":"IF(OR(M$19=0,$R50=0),0,ROUND(Výpočet!M45*Výpočet!AU45*Logic!$G$101,0))","v":1179},{"$f":"IF(OR(N$19=0,$R50=0),0,ROUND(Výpočet!N45*Výpočet!AV45*Logic!$G$101,0))","v":1349},{"$f":"IF(OR(O$19=0,$R50=0),0,ROUND(Výpočet!O45*Výpočet!AW45*Logic!$G$101,0))","v":1504},{"$f":"IF(OR(P$19=0,$R50=0),0,ROUND(Výpočet!P45*Výpočet!AX45*Logic!$G$101,0))","v":1779},{"$f":"Výpočet!AH45","v":1100},1]
[null,{"$f":"Výpočet!S46","v":1200},{"$f":"IF(OR(C$19=0,$R51=0),0,ROUND(Výpočet!C46*Výpočet!AK46*Logic!$G$101,0))","v":0},{"$f":"IF(OR(D$19=0,$R51=0),0,ROUND(Výpočet!D46*Výpočet!AL46*Logic!$G$101,0))","v":0},{"$f":"IF(OR(E$19=0,$R51=0),0,ROUND(Výpočet!E46*Výpočet!AM46*Logic!$G$101,0))","v":0},{"$f":"IF(OR(F$19=0,$R51=0),0,ROUND(Výpočet!F46*Výpočet!AN46*Logic!$G$101,0))","v":1018},{"$f":"IF(OR(G$19=0,$R51=0),0,ROUND(Výpočet!G46*Výpočet!AO46*Logic!$G$101,0))","v":1163},{"$f":"IF(OR(H$19=0,$R51=0),0,ROUND(Výpočet!H46*Výpočet!AP46*Logic!$G$101,0))","v":1302},{"$f":"IF(OR(I$19=0,$R51=0),0,ROUND(Výpočet!I46*Výpočet!AQ46*Logic!$G$101,0))","v":0},{"$f":"IF(OR(J$19=0,$R51=0),0,ROUND(Výpočet!J46*Výpočet!AR46*Logic!$G$101,0))","v":0},{"$f":"IF(OR(K$19=0,$R51=0),0,ROUND(Výpočet!K46*Výpočet!AS46*Logic!$G$101,0))","v":864},{"$f":"IF(OR(L$19=0,$R51=0),0,ROUND(Výpočet!L46*Výpočet!AT46*Logic!$G$101,0))","v":1085},{"$f":"IF(OR(M$19=0,$R51=0),0,ROUND(Výpočet!M46*Výpočet!AU46*Logic!$G$101,0))","v":1286},{"$f":"IF(OR(N$19=0,$R51=0),0,ROUND(Výpočet!N46*Výpočet!AV46*Logic!$G$101,0))","v":1471},{"$f":"IF(OR(O$19=0,$R51=0),0,ROUND(Výpočet!O46*Výpočet!AW46*Logic!$G$101,0))","v":1640},{"$f":"IF(OR(P$19=0,$R51=0),0,ROUND(Výpočet!P46*Výpočet!AX46*Logic!$G$101,0))","v":1940},{"$f":"Výpočet!AH46","v":1200},1]
[null,{"$f":"Výpočet!S47","v":1400},{"$f":"IF(OR(C$19=0,$R52=0),0,ROUND(Výpočet!C47*Výpočet!AK47*Logic!$G$101,0))","v":0},{"$f":"IF(OR(D$19=0,$R52=0),0,ROUND(Výpočet!D47*Výpočet!AL47*Logic!$G$101,0))","v":0},{"$f":"IF(OR(E$19=0,$R52=0),0,ROUND(Výpočet!E47*Výpočet!AM47*Logic!$G$101,0))","v":0},{"$f":"IF(OR(F$19=0,$R52=0),0,ROUND(Výpočet!F47*Výpočet!AN47*Logic!$G$101,0))","v":1187},{"$f":"IF(OR(G$19=0,$R52=0),0,ROUND(Výpočet!G47*Výpočet!AO47*Logic!$G$101,0))","v":1357},{"$f":"IF(OR(H$19=0,$R52=0),0,ROUND(Výpočet!H47*Výpočet!AP47*Logic!$G$101,0))","v":1519},{"$f":"IF(OR(I$19=0,$R52=0),0,ROUND(Výpočet!I47*Výpočet!AQ47*Logic!$G$101,0))","v":0},{"$f":"IF(OR(J$19=0,$R52=0),0,ROUND(Výpočet!J47*Výpočet!AR47*Logic!$G$101,0))","v":0},{"$f":"IF(OR(K$19=0,$R52=0),0,ROUND(Výpočet!K47*Výpočet!AS47*Logic!$G$101,0))","v":1008},{"$f":"IF(OR(L$19=0,$R52=0),0,ROUND(Výpočet!L47*Výpočet!AT47*Logic!$G$101,0))","v":1266},{"$f":"IF(OR(M$19=0,$R52=0),0,ROUND(Výpočet!M47*Výpočet!AU47*Logic!$G$101,0))","v":1501},{"$f":"IF(OR(N$19=0,$R52=0),0,ROUND(Výpočet!N47*Výpočet!AV47*Logic!$G$101,0))","v":1716},{"$f":"IF(OR(O$19=0,$R52=0),0,ROUND(Výpočet!O47*Výpočet!AW47*Logic!$G$101,0))","v":1914},{"$f":"IF(OR(P$19=0,$R52=0),0,ROUND(Výpočet!P47*Výpočet!AX47*Logic!$G$101,0))","v":2264},{"$f":"Výpočet!AH47","v":1400},1]
[null,{"$f":"Výpočet!S48","v":1600},{"$f":"IF(OR(C$19=0,$R53=0),0,ROUND(Výpočet!C48*Výpočet!AK48*Logic!$G$101,0))","v":0},{"$f":"IF(OR(D$19=0,$R53=0),0,ROUND(Výpočet!D48*Výpočet!AL48*Logic!$G$101,0))","v":0},{"$f":"IF(OR(E$19=0,$R53=0),0,ROUND(Výpočet!E48*Výpočet!AM48*Logic!$G$101,0))","v":0},{"$f":"IF(OR(F$19=0,$R53=0),0,ROUND(Výpočet!F48*Výpočet!AN48*Logic!$G$101,0))","v":1357},{"$f":"IF(OR(G$19=0,$R53=0),0,ROUND(Výpočet!G48*Výpočet!AO48*Logic!$G$101,0))","v":1550},{"$f":"IF(OR(H$19=0,$R53=0),0,ROUND(Výpočet!H48*Výpočet!AP48*Logic!$G$101,0))","v":1736},{"$f":"IF(OR(I$19=0,$R53=0),0,ROUND(Výpočet!I48*Výpočet!AQ48*Logic!$G$101,0))","v":0},{"$f":"IF(OR(J$19=0,$R53=0),0,ROUND(Výpočet!J48*Výpočet!AR48*Logic!$G$101,0))","v":0},{"$f":"IF(OR(K$19=0,$R53=0),0,ROUND(Výpočet!K48*Výpočet!AS48*Logic!$G$101,0))","v":1152},{"$f":"IF(OR(L$19=0,$R53=0),0,ROUND(Výpočet!L48*Výpočet!AT48*Logic!$G$101,0))","v":1446},{"$f":"IF(OR(M$19=0,$R53=0),0,ROUND(Výpočet!M48*Výpočet!AU48*Logic!$G$101,0))","v":1715},{"$f":"IF(OR(N$19=0,$R53=0),0,ROUND(Výpočet!N48*Výpočet!AV48*Logic!$G$101,0))","v":1962},{"$f":"IF(OR(O$19=0,$R53=0),0,ROUND(Výpočet!O48*Výpočet!AW48*Logic!$G$101,0))","v":2187},{"$f":"IF(OR(P$19=0,$R53=0),0,ROUND(Výpočet!P48*Výpočet!AX48*Logic!$G$101,0))","v":2587},{"$f":"Výpočet!AH48","v":1600},1]
[null,{"$f":"Výpočet!S49","v":1800},{"$f":"IF(OR(C$19=0,$R54=0),0,ROUND(Výpočet!C49*Výpočet!AK49*Logic!$G$101,0))","v":0},{"$f":"IF(OR(D$19=0,$R54=0),0,ROUND(Výpočet!D49*Výpočet!AL49*Logic!$G$101,0))","v":0},{"$f":"IF(OR(E$19=0,$R54=0),0,ROUND(Výpočet!E49*Výpočet!AM49*Logic!$G$101,0))","v":0},{"$f":"IF(OR(F$19=0,$R54=0),0,ROUND(Výpočet!F49*Výpočet!AN49*Logic!$G$101,0))","v":1526},{"$f":"IF(OR(G$19=0,$R54=0),0,ROUND(Výpočet!G49*Výpočet!AO49*Logic!$G$101,0))","v":1744},{"$f":"IF(OR(H$19=0,$R54=0),0,ROUND(Výpočet!H49*Výpočet!AP49*Logic!$G$101,0))","v":1953},{"$f":"IF(OR(I$19=0,$R54=0),0,ROUND(Výpočet!I49*Výpočet!AQ49*Logic!$G$101,0))","v":0},{"$f":"IF(OR(J$19=0,$R54=0),0,ROUND(Výpočet!J49*Výpočet!AR49*Logic!$G$101,0))","v":0},{"$f":"IF(OR(K$19=0,$R54=0),0,ROUND(Výpočet!K49*Výpočet!AS49*Logic!$G$101,0))","v":1296},{"$f":"IF(OR(L$19=0,$R54=0),0,ROUND(Výpočet!L49*Výpočet!AT49*Logic!$G$101,0))","v":1627},{"$f":"IF(OR(M$19=0,$R54=0),0,ROUND(Výpočet!M49*Výpočet!AU49*Logic!$G$101,0))","v":1930},{"$f":"IF(OR(N$19=0,$R54=0),0,ROUND(Výpočet!N49*Výpočet!AV49*Logic!$G$101,0))","v":2207},{"$f":"IF(OR(O$19=0,$R54=0),0,ROUND(Výpočet!O49*Výpočet!AW49*Logic!$G$101,0))","v":2461},{"$f":"IF(OR(P$19=0,$R54=0),0,ROUND(Výpočet!P49*Výpočet!AX49*Logic!$G$101,0))","v":0},{"$f":"Výpočet!AH49","v":1800},1]
[null,{"$f":"Výpočet!S50","v":2000},{"$f":"IF(OR(C$19=0,$R55=0),0,ROUND(Výpočet!C50*Výpočet!AK50*Logic!$G$101,0))","v":0},{"$f":"IF(OR(D$19=0,$R55=0),0,ROUND(Výpočet!D50*Výpočet!AL50*Logic!$G$101,0))","v":0},{"$f":"IF(OR(E$19=0,$R55=0),0,ROUND(Výpočet!E50*Výpočet!AM50*Logic!$G$101,0))","v":0},{"$f":"IF(OR(F$19=0,$R55=0),0,ROUND(Výpočet!F50*Výpočet!AN50*Logic!$G$101,0))","v":1696},{"$f":"IF(OR(G$19=0,$R55=0),0,ROUND(Výpočet!G50*Výpočet!AO50*Logic!$G$101,0))","v":1938},{"$f":"IF(OR(H$19=0,$R55=0),0,ROUND(Výpočet!H50*Výpočet!AP50*Logic!$G$101,0))","v":2170},{"$f":"IF(OR(I$19=0,$R55=0),0,ROUND(Výpočet!I50*Výpočet!AQ50*Logic!$G$101,0))","v":0},{"$f":"IF(OR(J$19=0,$R55=0),0,ROUND(Výpočet!J50*Výpočet!AR50*Logic!$G$101,0))","v":0},{"$f":"IF(OR(K$19=0,$R55=0),0,ROUND(Výpočet!K50*Výpočet!AS50*Logic!$G$101,0))","v":1440},{"$f":"IF(OR(L$19=0,$R55=0),0,ROUND(Výpočet!L50*Výpočet!AT50*Logic!$G$101,0))","v":1808},{"$f":"IF(OR(M$19=0,$R55=0),0,ROUND(Výpočet!M50*Výpočet!AU50*Logic!$G$101,0))","v":2144},{"$f":"IF(OR(N$19=0,$R55=0),0,ROUND(Výpočet!N50*Výpočet!AV50*Logic!$G$101,0))","v":2452},{"$f":"IF(OR(O$19=0,$R55=0),0,ROUND(Výpočet!O50*Výpočet!AW50*Logic!$G$101,0))","v":2734},{"$f":"IF(OR(P$19=0,$R55=0),0,ROUND(Výpočet!P50*Výpočet!AX50*Logic!$G$101,0))","v":0},{"$f":"Výpočet!AH50","v":2000},1]
[null,{"$f":"Výpočet!S51","v":2300},{"$f":"IF(OR(C$19=0,$R56=0),0,ROUND(Výpočet!C51*Výpočet!AK51*Logic!$G$101,0))","v":0},{"$f":"IF(OR(D$19=0,$R56=0),0,ROUND(Výpočet!D51*Výpočet!AL51*Logic!$G$101,0))","v":0},{"$f":"IF(OR(E$19=0,$R56=0),0,ROUND(Výpočet!E51*Výpočet!AM51*Logic!$G$101,0))","v":0},{"$f":"IF(OR(F$19=0,$R56=0),0,ROUND(Výpočet!F51*Výpočet!AN51*Logic!$G$101,0))","v":0},{"$f":"IF(OR(G$19=0,$R56=0),0,ROUND(Výpočet!G51*Výpočet!AO51*Logic!$G$101,0))","v":0},{"$f":"IF(OR(H$19=0,$R56=0),0,ROUND(Výpočet!H51*Výpočet!AP51*Logic!$G$101,0))","v":0},{"$f":"IF(OR(I$19=0,$R56=0),0,ROUND(Výpočet!I51*Výpočet!AQ51*Logic!$G$101,0))","v":0},{"$f":"IF(OR(J$19=0,$R56=0),0,ROUND(Výpočet!J51*Výpočet!AR51*Logic!$G$101,0))","v":0},{"$f":"IF(OR(K$19=0,$R56=0),0,ROUND(Výpočet!K51*Výpočet!AS51*Logic!$G$101,0))","v":0},{"$f":"IF(OR(L$19=0,$R56=0),0,ROUND(Výpočet!L51*Výpočet!AT51*Logic!$G$101,0))","v":0},{"$f":"IF(OR(M$19=0,$R56=0),0,ROUND(Výpočet!M51*Výpočet!AU51*Logic!$G$101,0))","v":0},{"$f":"IF(OR(N$19=0,$R56=0),0,ROUND(Výpočet!N51*Výpočet!AV51*Logic!$G$101,0))","v":0},{"$f":"IF(OR(O$19=0,$R56=0),0,ROUND(Výpočet!O51*Výpočet!AW51*Logic!$G$101,0))","v":0},{"$f":"IF(OR(P$19=0,$R56=0),0,ROUND(Výpočet!P51*Výpočet!AX51*Logic!$G$101,0))","v":0},{"$f":"Výpočet!AH51","v":2300},1]
[null,{"$f":"Výpočet!S52","v":2600},{"$f":"IF(OR(C$19=0,$R57=0),0,ROUND(Výpočet!C52*Výpočet!AK52*Logic!$G$101,0))","v":0},{"$f":"IF(OR(D$19=0,$R57=0),0,ROUND(Výpočet!D52*Výpočet!AL52*Logic!$G$101,0))","v":0},{"$f":"IF(OR(E$19=0,$R57=0),0,ROUND(Výpočet!E52*Výpočet!AM52*Logic!$G$101,0))","v":0},{"$f":"IF(OR(F$19=0,$R57=0),0,ROUND(Výpočet!F52*Výpočet!AN52*Logic!$G$101,0))","v":0},{"$f":"IF(OR(G$19=0,$R57=0),0,ROUND(Výpočet!G52*Výpočet!AO52*Logic!$G$101,0))","v":0},{"$f":"IF(OR(H$19=0,$R57=0),0,ROUND(Výpočet!H52*Výpočet!AP52*Logic!$G$101,0))","v":0},{"$f":"IF(OR(I$19=0,$R57=0),0,ROUND(Výpočet!I52*Výpočet!AQ52*Logic!$G$101,0))","v":0},{"$f":"IF(OR(J$19=0,$R57=0),0,ROUND(Výpočet!J52*Výpočet!AR52*Logic!$G$101,0))","v":0},{"$f":"IF(OR(K$19=0,$R57=0),0,ROUND(Výpočet!K52*Výpočet!AS52*Logic!$G$101,0))","v":0},{"$f":"IF(OR(L$19=0,$R57=0),0,ROUND(Výpočet!L52*Výpočet!AT52*Logic!$G$101,0))","v":0},{"$f":"IF(OR(M$19=0,$R57=0),0,ROUND(Výpočet!M52*Výpočet!AU52*Logic!$G$101,0))","v":0},{"$f":"IF(OR(N$19=0,$R57=0),0,ROUND(Výpočet!N52*Výpočet!AV52*Logic!$G$101,0))","v":0},{"$f":"IF(OR(O$19=0,$R57=0),0,ROUND(Výpočet!O52*Výpočet!AW52*Logic!$G$101,0))","v":0},{"$f":"IF(OR(P$19=0,$R57=0),0,ROUND(Výpočet!P52*Výpočet!AX52*Logic!$G$101,0))","v":0},{"$f":"Výpočet!AH52","v":2600},1]
[null,{"$f":"Výpočet!S53","v":3000},{"$f":"IF(OR(C$19=0,$R58=0),0,ROUND(Výpočet!C53*Výpočet!AK53*Logic!$G$101,0))","v":0},{"$f":"IF(OR(D$19=0,$R58=0),0,ROUND(Výpočet!D53*Výpočet!AL53*Logic!$G$101,0))","v":0},{"$f":"IF(OR(E$19=0,$R58=0),0,ROUND(Výpočet!E53*Výpočet!AM53*Logic!$G$101,0))","v":0},{"$f":"IF(OR(F$19=0,$R58=0),0,ROUND(Výpočet!F53*Výpočet!AN53*Logic!$G$101,0))","v":0},{"$f":"IF(OR(G$19=0,$R58=0),0,ROUND(Výpočet!G53*Výpočet!AO53*Logic!$G$101,0))","v":0},{"$f":"IF(OR(H$19=0,$R58=0),0,ROUND(Výpočet!H53*Výpočet!AP53*Logic!$G$101,0))","v":0},{"$f":"IF(OR(I$19=0,$R58=0),0,ROUND(Výpočet!I53*Výpočet!AQ53*Logic!$G$101,0))","v":0},{"$f":"IF(OR(J$19=0,$R58=0),0,ROUND(Výpočet!J53*Výpočet!AR53*Logic!$G$101,0))","v":0},{"$f":"IF(OR(K$19=0,$R58=0),0,ROUND(Výpočet!K53*Výpočet!AS53*Logic!$G$101,0))","v":0},{"$f":"IF(OR(L$19=0,$R58=0),0,ROUND(Výpočet!L53*Výpočet!AT53*Logic!$G$101,0))","v":0},{"$f":"IF(OR(M$19=0,$R58=0),0,ROUND(Výpočet!M53*Výpočet!AU53*Logic!$G$101,0))","v":0},{"$f":"IF(OR(N$19=0,$R58=0),0,ROUND(Výpočet!N53*Výpočet!AV53*Logic!$G$101,0))","v":0},{"$f":"IF(OR(O$19=0,$R58=0),0,ROUND(Výpočet!O53*Výpočet!AW53*Logic!$G$101,0))","v":0},{"$f":"IF(OR(P$19=0,$R58=0),0,ROUND(Výpočet!P53*Výpočet!AX53*Logic!$G$101,0))","v":0},{"$f":"Výpočet!AH53","v":3000},1]
[]
[null,null,{"$f":"F60","v":"Typ 22"},{"$f":"F60","v":"Typ 22"},{"$f":"F60","v":"Typ 22"},{"$f":"IF(Výpočet!W54=0,0,IF(OR(Logic!$C$3=\"V0\",Logic!$C$3=\"U0\"),0,Logic!$P$3&\" \"&Výpočet!W54))","v":"Typ 22"},{"$f":"F60","v":"Typ 22"},{"$f":"F60","v":"Typ 22"},{"$f":"F60","v":"Typ 22"},{"$f":"M60","v":"Typ 33"},{"$f":"M60","v":"Typ 33"},{"$f":"M60","v":"Typ 33"},{"$f":"IF(OR(Logic!$C$3=\"A0\",Logic!$C$3=\"B0\",Logic!$C$3=\"K0\",Logic!$C$3=\"P0\",Logic!$C$3=\"V0\",Logic!$C$3=\"U0\",Výpočet!AD54=0),0,Logic!$P$3&\" \"&Výpočet!AD54)","v":"Typ 33"},{"$f":"M60","v":"Typ 33"},{"$f":"M60","v":"Typ 33"},{"$f":"M60","v":"Typ 33"}]
[null,{"$f":"Logic!$J$3&\" [mm]\"","v":"Délka [mm]"},{"$f":"IF(C60=0,0,Logic!$I$3&\" [mm]\")","v":"Výška [mm]"},null,null,null,null,null,null,{"$f":"IF(J60=0,0,Logic!$I$3&\" [mm]\")","v":"Výška [mm]"},null,null,null,null,null,null,{"$f":"IF(OR(Logic!$C$3=\"V0\",Logic!$C$3=\"U0\"),Logic!$I$3,Logic!$J$3)&\" [mm]\"","v":"Délka [mm]"}]
[null,null,{"$f":"Výpočet!T55","v":200},{"$f":"Výpočet!U55","v":300},{"$f":"Výpočet!V55","v":400},{"$f":"Výpočet!W55","v":500},{"$f":"Výpočet!X55","v":600},{"$f":"Výpočet!Y55","v":700},{"$f":"Výpočet!Z55","v":900},{"$f":"Výpočet!AA55","v":200},{"$f":"Výpočet!AB55","v":300},{"$f":"Výpočet!AC55","v":400},{"$f":"Výpočet!AD55","v":500},{"$f":"Výpočet!AE55","v":600},{"$f":"Výpočet!AF55","v":700},{"$f":"Výpočet!AG55","v":900}]
[null,{"$f":"Výpočet!S56","v":400},{"$f":"IF(OR(C$19=0,$R63=0),0,ROUND(Výpočet!C56*Výpočet!AK56*Logic!$G$101,0))","v":0},{"$f":"IF(OR(D$19=0,$R63=0),0,ROUND(Výpočet!D56*Výpočet!AL56*Logic!$G$101,0))","v":0},{"$f":"IF(OR(E$19=0,$R63=0),0,ROUND(Výpočet!E56*Výpočet!AM56*Logic!$G$101,0))","v":0},{"$f":"IF(OR(F$19=0,$R63=0),0,ROUND(Výpočet!F56*Výpočet!AN56*Logic!$G$101,0))","v":0},{"$f":"IF(OR(G$19=0,$R63=0),0,ROUND(Výpočet!G56*Výpočet!AO56*Logic!$G$101,0))","v":0},{"$f":"IF(OR(H$19=0,$R63=0),0,ROUND(Výpočet!H56*Výpočet!AP56*Logic!$G$101,0))","v":0},{"$f":"IF(OR(I$19=0,$R63=0),0,ROUND(Výpočet!I56*Výpočet!AQ56*Logic!$G$101,0))","v":0},{"$f":"IF(OR(J$19=0,$R63=0),0,ROUND(Výpočet!J56*Výpočet!AR56*Logic!$G$101,0))","v":0},{"$f":"IF(OR(K$19=0,$R63=0),0,ROUND(Výpočet!K56*Výpočet!AS56*Logic!$G$101,0))","v":0},{"$f":"IF(OR(L$19=0,$R63=0),0,ROUND(Výpočet!L56*Výpočet!AT56*Logic!$G$101,0))","v":0},{"$f":"IF(OR(M$19=0,$R63=0),0,ROUND(Výpočet!M56*Výpočet!AU56*Logic!$G$101,0))","v":0},{"$f":"IF(OR(N$19=0,$R63=0),0,ROUND(Výpočet!N56*Výpočet!AV56*Logic!$G$101,0))","v":0},{"$f":"IF(OR(O$19=0,$R63=0),0,ROUND(Výpočet!O56*Výpočet!AW56*Logic!$G$101,0))","v":0},{"$f":"IF(OR(P$19=0,$R63=0),0,ROUND(Výpočet!P56*Výpočet!AX56*Logic!$G$101,0))","v":0},{"$f":"Výpočet!AH56","v":400},{"$f":"R43","v":1}]
[null,{"$f":"Výpočet!S57","v":500},{"$f":"IF(OR(C$19=0,$R64=0),0,ROUND(Výpočet!C57*Výpočet!AK57*Logic!$G$101,0))","v":0},{"$f":"IF(OR(D$19=0,$R64=0),0,ROUND(Výpočet!D57*Výpočet!AL57*Logic!$G$101,0))","v":457},{"$f":"IF(OR(E$19=0,$R64=0),0,ROUND(Výpočet!E57*Výpočet!AM57*Logic!$G$101,0))","v":583},{"$f":"IF(OR(F$19=0,$R64=0),0,ROUND(Výpočet!F57*Výpočet!AN57*Logic!$G$101,0))","v":700},{"$f":"IF(OR(G$19=0,$R64=0),0,ROUND(Výpočet!G57*Výpočet!AO57*Logic!$G$101,0))","v":811},{"$f":"IF(OR(H$19=0,$R64=0),0,ROUND(Výpočet!H57*Výpočet!AP57*Logic!$G$101,0))","v":915},{"$f":"IF(OR(I$19=0,$R64=0),0,ROUND(Výpočet!I57*Výpočet!AQ57*Logic!$G$101,0))","v":1108},{"$f":"IF(OR(J$19=0,$R64=0),0,ROUND(Výpočet!J57*Výpočet!AR57*Logic!$G$101,0))","v":0},{"$f":"IF(OR(K$19=0,$R64=0),0,ROUND(Výpočet!K57*Výpočet!AS57*Logic!$G$101,0))","v":0},{"$f":"IF(OR(L$19=0,$R64=0),0,ROUND(Výpočet!L57*Výpočet!AT57*Logic!$G$101,0))","v":0},{"$f":"IF(OR(M$19=0,$R64=0),0,ROUND(Výpočet!M57*Výpočet!AU57*Logic!$G$101,0))","v":1011},{"$f":"IF(OR(N$19=0,$R64=0),0,ROUND(Výpočet!N57*Výpočet!AV57*Logic!$G$101,0))","v":1171},{"$f":"IF(OR(O$19=0,$R64=0),0,ROUND(Výpočet!O57*Výpočet!AW57*Logic!$G$101,0))","v":1324},{"$f":"IF(OR(P$19=0,$R64=0),0,ROUND(Výpočet!P57*Výpočet!AX57*Logic!$G$101,0))","v":1616},{"$f":"Výpočet!AH57","v":500},1]
[null,{"$f":"Výpočet!S58","v":600},{"$f":"IF(OR(C$19=0,$R65=0),0,ROUND(Výpočet!C58*Výpočet!AK58*Logic!$G$101,0))","v":0},{"$f":"IF(OR(D$19=0,$R65=0),0,ROUND(Výpočet!D58*Výpočet!AL58*Logic!$G$101,0))","v":548},{"$f":"IF(OR(E$19=0,$R65=0),0,ROUND(Výpočet!E58*Výpočet!AM58*Logic!$G$101,0))","v":699},{"$f":"IF(OR(F$19=0,$R65=0),0,ROUND(Výpočet!F58*Výpočet!AN58*Logic!$G$101,0))","v":840},{"$f":"IF(OR(G$19=0,$R65=0),0,ROUND(Výpočet!G58*Výpočet!AO58*Logic!$G$101,0))","v":973},{"$f":"IF(OR(H$19=0,$R65=0),0,ROUND(Výpočet!H58*Výpočet!AP58*Logic!$G$101,0))","v":1098},{"$f":"IF(OR(I$19=0,$R65=0),0,ROUND(Výpočet!I58*Výpočet!AQ58*Logic!$G$101,0))","v":1329},{"$f":"IF(OR(J$19=0,$R65=0),0,ROUND(Výpočet!J58*Výpočet!AR58*Logic!$G$101,0))","v":0},{"$f":"IF(OR(K$19=0,$R65=0),0,ROUND(Výpočet!K58*Výpočet!AS58*Logic!$G$101,0))","v":0},{"$f":"IF(OR(L$19=0,$R65=0),0,ROUND(Výpočet!L58*Výpočet!AT58*Logic!$G$101,0))","v":0},{"$f":"IF(OR(M$19=0,$R65=0),0,ROUND(Výpočet!M58*Výpočet!AU58*Logic!$G$101,0))","v":1213},{"$f":"IF(OR(N$19=0,$R65=0),0,ROUND(Výpočet!N58*Výpočet!AV58*Logic!$G$101,0))","v":1405},{"$f":"IF(OR(O$19=0,$R65=0),0,ROUND(Výpočet!O58*Výpočet!AW58*Logic!$G$101,0))","v":1589},{"$f":"IF(OR(P$19=0,$R65=0),0,ROUND(Výpočet!P58*Výpočet!AX58*Logic!$G$101,0))","v":1939},{"$f":"Výpočet!AH58","v":600},1]
[null,{"$f":"Výpočet!S59","v":700},{"$f":"IF(OR(C$19=0,$R66=0),0,ROUND(Výpočet!C59*Výpočet!AK59*Logic!$G$101,0))","v":0},{"$f":"IF(OR(D$19=0,$R66=0),0,ROUND(Výpočet!D59*Výpočet!AL59*Logic!$G$101,0))","v":640},{"$f":"IF(OR(E$19=0,$R66=0),0,ROUND(Výpočet!E59*Výpočet!AM59*Logic!$G$101,0))","v":816},{"$f":"IF(OR(F$19=0,$R66=0),0,ROUND(Výpočet!F59*Výpočet!AN59*Logic!$G$101,0))","v":980},{"$f":"IF(OR(G$19=0,$R66=0),0,ROUND(Výpočet!G59*Výpočet!AO59*Logic!$G$101,0))","v":1135},{"$f":"IF(OR(H$19=0,$R66=0),0,ROUND(Výpočet!H59*Výpočet!AP59*Logic!$G$101,0))","v":1281},{"$f":"IF(OR(I$19=0,$R66=0),0,ROUND(Výpočet!I59*Výpočet!AQ59*Logic!$G$101,0))","v":1551},{"$f":"IF(OR(J$19=0,$R66=0),0,ROUND(Výpočet!J59*Výpočet!AR59*Logic!$G$101,0))","v":0},{"$f":"IF(OR(K$19=0,$R66=0),0,ROUND(Výpočet!K59*Výpočet!AS59*Logic!$G$101,0))","v":0},{"$f":"IF(OR(L$19=0,$R66=0),0,ROUND(Výpočet!L59*Výpočet!AT59*Logic!$G$101,0))","v":0},{"$f":"IF(OR(M$19=0,$R66=0),0,ROUND(Výpočet!M59*Výpočet!AU59*Logic!$G$101,0))","v":1415},{"$f":"IF(OR(N$19=0,$R66=0),0,ROUND(Výpočet!N59*Výpočet!AV59*Logic!$G$101,0))","v":1639},{"$f":"IF(OR(O$19=0,$R66=0),0,ROUND(Výpočet!O59*Výpočet!AW59*Logic!$G$101,0))","v":1854},{"$f":"IF(OR(P$19=0,$R66=0),0,ROUND(Výpočet!P59*Výpočet!AX59*Logic!$G$101,0))","v":2262},{"$f":"Výpočet!AH59","v":700},1]
[null,{"$f":"Výpočet!S60","v":800},{"$f":"IF(OR(C$19=0,$R67=0),0,ROUND(Výpočet!C60*Výpočet!AK60*Logic!$G$101,0))","v":0},{"$f":"IF(OR(D$19=0,$R67=0),0,ROUND(Výpočet!D60*Výpočet!AL60*Logic!$G$101,0))","v":731},{"$f":"IF(OR(E$19=0,$R67=0),0,ROUND(Výpočet!E60*Výpočet!AM60*Logic!$G$101,0))","v":932},{"$f":"IF(OR(F$19=0,$R67=0),0,ROUND(Výpočet!F60*Výpočet!AN60*Logic!$G$101,0))","v":1120},{"$f":"IF(OR(G$19=0,$R67=0),0,ROUND(Výpočet!G60*Výpočet!AO60*Logic!$G$101,0))","v":1297},{"$f":"IF(OR(H$19=0,$R67=0),0,ROUND(Výpočet!H60*Výpočet!AP60*Logic!$G$101,0))","v":1464},{"$f":"IF(OR(I$19=0,$R67=0),0,ROUND(Výpočet!I60*Výpočet!AQ60*Logic!$G$101,0))","v":1772},{"$f":"IF(OR(J$19=0,$R67=0),0,ROUND(Výpočet!J60*Výpočet!AR60*Logic!$G$101,0))","v":0},{"$f":"IF(OR(K$19=0,$R67=0),0,ROUND(Výpočet!K60*Výpočet!AS60*Logic!$G$101,0))","v":1070},{"$f":"IF(OR(L$19=0,$R67=0),0,ROUND(Výpočet!L60*Výpočet!AT60*Logic!$G$101,0))","v":1351},{"$f":"IF(OR(M$19=0,$R67=0),0,ROUND(Výpočet!M60*Výpočet!AU60*Logic!$G$101,0))","v":1618},{"$f":"IF(OR(N$19=0,$R67=0),0,ROUND(Výpočet!N60*Výpočet!AV60*Logic!$G$101,0))","v":1873},{"$f":"IF(OR(O$19=0,$R67=0),0,ROUND(Výpočet!O60*Výpočet!AW60*Logic!$G$101,0))","v":2118},{"$f":"IF(OR(P$19=0,$R67=0),0,ROUND(Výpočet!P60*Výpočet!AX60*Logic!$G$101,0))","v":2585},{"$f":"Výpočet!AH60","v":800},1]
[null,{"$f":"Výpočet!S61","v":900},{"$f":"IF(OR(C$19=0,$R68=0),0,ROUND(Výpočet!C61*Výpočet!AK61*Logic!$G$101,0))","v":0},{"$f":"IF(OR(D$19=0,$R68=0),0,ROUND(Výpočet!D61*Výpočet!AL61*Logic!$G$101,0))","v":823},{"$f":"IF(OR(E$19=0,$R68=0),0,ROUND(Výpočet!E61*Výpočet!AM61*Logic!$G$101,0))","v":1049},{"$f":"IF(OR(F$19=0,$R68=0),0,ROUND(Výpočet!F61*Výpočet!AN61*Logic!$G$101,0))","v":1260},{"$f":"IF(OR(G$19=0,$R68=0),0,ROUND(Výpočet!G61*Výpočet!AO61*Logic!$G$101,0))","v":1459},{"$f":"IF(OR(H$19=0,$R68=0),0,ROUND(Výpočet!H61*Výpočet!AP61*Logic!$G$101,0))","v":1647},{"$f":"IF(OR(I$19=0,$R68=0),0,ROUND(Výpočet!I61*Výpočet!AQ61*Logic!$G$101,0))","v":1994},{"$f":"IF(OR(J$19=0,$R68=0),0,ROUND(Výpočet!J61*Výpočet!AR61*Logic!$G$101,0))","v":0},{"$f":"IF(OR(K$19=0,$R68=0),0,ROUND(Výpočet!K61*Výpočet!AS61*Logic!$G$101,0))","v":1203},{"$f":"IF(OR(L$19=0,$R68=0),0,ROUND(Výpočet!L61*Výpočet!AT61*Logic!$G$101,0))","v":1520},{"$f":"IF(OR(M$19=0,$R68=0),0,ROUND(Výpočet!M61*Výpočet!AU61*Logic!$G$101,0))","v":1820},{"$f":"IF(OR(N$19=0,$R68=0),0,ROUND(Výpočet!N61*Výpočet!AV61*Logic!$G$101,0))","v":2107},{"$f":"IF(OR(O$19=0,$R68=0),0,ROUND(Výpočet!O61*Výpočet!AW61*Logic!$G$101,0))","v":2383},{"$f":"IF(OR(P$19=0,$R68=0),0,ROUND(Výpočet!P61*Výpočet!AX61*Logic!$G$101,0))","v":2908},{"$f":"Výpočet!AH61","v":900},1]
[null,{"$f":"Výpočet!S62","v":1000},{"$f":"IF(OR(C$19=0,$R69=0),0,ROUND(Výpočet!C62*Výpočet!AK62*Logic!$G$101,0))","v":0},{"$f":"IF(OR(D$19=0,$R69=0),0,ROUND(Výpočet!D62*Výpočet!AL62*Logic!$G$101,0))","v":914},{"$f":"IF(OR(E$19=0,$R69=0),0,ROUND(Výpočet!E62*Výpočet!AM62*Logic!$G$101,0))","v":1165},{"$f":"IF(OR(F$19=0,$R69=0),0,ROUND(Výpočet!F62*Výpočet!AN62*Logic!$G$101,0))","v":1400},{"$f":"IF(OR(G$19=0,$R69=0),0,ROUND(Výpočet!G62*Výpočet!AO62*Logic!$G$101,0))","v":1621},{"$f":"IF(OR(H$19=0,$R69=0),0,ROUND(Výpočet!H62*Výpočet!AP62*Logic!$G$101,0))","v":1830},{"$f":"IF(OR(I$19=0,$R69=0),0,ROUND(Výpočet!I62*Výpočet!AQ62*Logic!$G$101,0))","v":2215},{"$f":"IF(OR(J$19=0,$R69=0),0,ROUND(Výpočet!J62*Výpočet!AR62*Logic!$G$101,0))","v":0},{"$f":"IF(OR(K$19=0,$R69=0),0,ROUND(Výpočet!K62*Výpočet!AS62*Logic!$G$101,0))","v":1337},{"$f":"IF(OR(L$19=0,$R69=0),0,ROUND(Výpočet!L62*Výpočet!AT62*Logic!$G$101,0))","v":1689},{"$f":"IF(OR(M$19=0,$R69=0),0,ROUND(Výpočet!M62*Výpočet!AU62*Logic!$G$101,0))","v":2022},{"$f":"IF(OR(N$19=0,$R69=0),0,ROUND(Výpočet!N62*Výpočet!AV62*Logic!$G$101,0))","v":2341},{"$f":"IF(OR(O$19=0,$R69=0),0,ROUND(Výpočet!O62*Výpočet!AW62*Logic!$G$101,0))","v":2648},{"$f":"IF(OR(P$19=0,$R69=0),0,ROUND(Výpočet!P62*Výpočet!AX62*Logic!$G$101,0))","v":3231},{"$f":"Výpočet!AH62","v":1000},1]
[null,{"$f":"Výpočet!S63","v":1100},{"$f":"IF(OR(C$19=0,$R70=0),0,ROUND(Výpočet!C63*Výpočet!AK63*Logic!$G$101,0))","v":0},{"$f":"IF(OR(D$19=0,$R70=0),0,ROUND(Výpočet!D63*Výpočet!AL63*Logic!$G$101,0))","v":1005},{"$f":"IF(OR(E$19=0,$R70=0),0,ROUND(Výpočet!E63*Výpočet!AM63*Logic!$G$101,0))","v":1282},{"$f":"IF(OR(F$19=0,$R70=0),0,ROUND(Výpočet!F63*Výpočet!AN63*Logic!$G$101,0))","v":1540},{"$f":"IF(OR(G$19=0,$R70=0),0,ROUND(Výpočet!G63*Výpočet!AO63*Logic!$G$101,0))","v":1783},{"$f":"IF(OR(H$19=0,$R70=0),0,ROUND(Výpočet!H63*Výpočet!AP63*Logic!$G$101,0))","v":2013},{"$f":"IF(OR(I$19=0,$R70=0),0,ROUND(Výpočet!I63*Výpočet!AQ63*Logic!$G$101,0))","v":2437},{"$f":"IF(OR(J$19=0,$R70=0),0,ROUND(Výpočet!J63*Výpočet!AR63*Logic!$G$101,0))","v":0},{"$f":"IF(OR(K$19=0,$R70=0),0,ROUND(Výpočet!K63*Výpočet!AS63*Logic!$G$101,0))","v":1471},{"$f":"IF(OR(L$19=0,$R70=0),0,ROUND(Výpočet!L63*Výpočet!AT63*Logic!$G$101,0))","v":1858},{"$f":"IF(OR(M$19=0,$R70=0),0,ROUND(Výpočet!M63*Výpočet!AU63*Logic!$G$101,0))","v":2224},{"$f":"IF(OR(N$19=0,$R70=0),0,ROUND(Výpočet!N63*Výpočet!AV63*Logic!$G$101,0))","v":2575},{"$f":"IF(OR(O$19=0,$R70=0),0,ROUND(Výpočet!O63*Výpočet!AW63*Logic!$G$101,0))","v":2913},{"$f":"IF(OR(P$19=0,$R70=0),0,ROUND(Výpočet!P63*Výpočet!AX63*Logic!$G$101,0))","v":3554},{"$f":"Výpočet!AH63","v":1100},1]
[null,{"$f":"Výpočet!S64","v":1200},{"$f":"IF(OR(C$19=0,$R71=0),0,ROUND(Výpočet!C64*Výpočet!AK64*Logic!$G$101,0))","v":0},{"$f":"IF(OR(D$19=0,$R71=0),0,ROUND(Výpočet!D64*Výpočet!AL64*Logic!$G$101,0))","v":1097},{"$f":"IF(OR(E$19=0,$R71=0),0,ROUND(Výpočet!E64*Výpočet!AM64*Logic!$G$101,0))","v":1398},{"$f":"IF(OR(F$19=0,$R71=0),0,ROUND(Výpočet!F64*Výpočet!AN64*Logic!$G$101,0))","v":1680},{"$f":"IF(OR(G$19=0,$R71=0),0,ROUND(Výpočet!G64*Výpočet!AO64*Logic!$G$101,0))","v":1945},{"$f":"IF(OR(H$19=0,$R71=0),0,ROUND(Výpočet!H64*Výpočet!AP64*Logic!$G$101,0))","v":2196},{"$f":"IF(OR(I$19=0,$R71=0),0,ROUND(Výpočet!I64*Výpočet!AQ64*Logic!$G$101,0))","v":2658},{"$f":"IF(OR(J$19=0,$R71=0),0,ROUND(Výpočet!J64*Výpočet!AR64*Logic!$G$101,0))","v":0},{"$f":"IF(OR(K$19=0,$R71=0),0,ROUND(Výpočet!K64*Výpočet!AS64*Logic!$G$101,0))","v":1604},{"$f":"IF(OR(L$19=0,$R71=0),0,ROUND(Výpočet!L64*Výpočet!AT64*Logic!$G$101,0))","v":2027},{"$f":"IF(OR(M$19=0,$R71=0),0,ROUND(Výpočet!M64*Výpočet!AU64*Logic!$G$101,0))","v":2426},{"$f":"IF(OR(N$19=0,$R71=0),0,ROUND(Výpočet!N64*Výpočet!AV64*Logic!$G$101,0))","v":2809},{"$f":"IF(OR(O$19=0,$R71=0),0,ROUND(Výpočet!O64*Výpočet!AW64*Logic!$G$101,0))","v":3178},{"$f":"IF(OR(P$19=0,$R71=0),0,ROUND(Výpočet!P64*Výpočet!AX64*Logic!$G$101,0))","v":3877},{"$f":"Výpočet!AH64","v":1200},1]
[null,{"$f":"Výpočet!S65","v":1400},{"$f":"IF(OR(C$19=0,$R72=0),0,ROUND(Výpočet!C65*Výpočet!AK65*Logic!$G$101,0))","v":0},{"$f":"IF(OR(D$19=0,$R72=0),0,ROUND(Výpočet!D65*Výpočet!AL65*Logic!$G$101,0))","v":1280},{"$f":"IF(OR(E$19=0,$R72=0),0,ROUND(Výpočet!E65*Výpočet!AM65*Logic!$G$101,0))","v":1631},{"$f":"IF(OR(F$19=0,$R72=0),0,ROUND(Výpočet!F65*Výpočet!AN65*Logic!$G$101,0))","v":1960},{"$f":"IF(OR(G$19=0,$R72=0),0,ROUND(Výpočet!G65*Výpočet!AO65*Logic!$G$101,0))","v":2269},{"$f":"IF(OR(H$19=0,$R72=0),0,ROUND(Výpočet!H65*Výpočet!AP65*Logic!$G$101,0))","v":2562},{"$f":"IF(OR(I$19=0,$R72=0),0,ROUND(Výpočet!I65*Výpočet!AQ65*Logic!$G$101,0))","v":3101},{"$f":"IF(OR(J$19=0,$R72=0),0,ROUND(Výpočet!J65*Výpočet!AR65*Logic!$G$101,0))","v":0},{"$f":"IF(OR(K$19=0,$R72=0),0,ROUND(Výpočet!K65*Výpočet!AS65*Logic!$G$101,0))","v":1872},{"$f":"IF(OR(L$19=0,$R72=0),0,ROUND(Výpočet!L65*Výpočet!AT65*Logic!$G$101,0))","v":2365},{"$f":"IF(OR(M$19=0,$R72=0),0,ROUND(Výpočet!M65*Výpočet!AU65*Logic!$G$101,0))","v":2831},{"$f":"IF(OR(N$19=0,$R72=0),0,ROUND(Výpočet!N65*Výpočet!AV65*Logic!$G$101,0))","v":3277},{"$f":"IF(OR(O$19=0,$R72=0),0,ROUND(Výpočet!O65*Výpočet!AW65*Logic!$G$101,0))","v":3707},{"$f":"IF(OR(P$19=0,$R72=0),0,ROUND(Výpočet!P65*Výpočet!AX65*Logic!$G$101,0))","v":4523},{"$f":"Výpočet!AH65","v":1400},1]
[null,{"$f":"Výpočet!S66","v":1600},{"$f":"IF(OR(C$19=0,$R73=0),0,ROUND(Výpočet!C66*Výpočet!AK66*Logic!$G$101,0))","v":0},{"$f":"IF(OR(D$19=0,$R73=0),0,ROUND(Výpočet!D66*Výpočet!AL66*Logic!$G$101,0))","v":1462},{"$f":"IF(OR(E$19=0,$R73=0),0,ROUND(Výpočet!E66*Výpočet!AM66*Logic!$G$101,0))","v":1864},{"$f":"IF(OR(F$19=0,$R73=0),0,ROUND(Výpočet!F66*Výpočet!AN66*Logic!$G$101,0))","v":2240},{"$f":"IF(OR(G$19=0,$R73=0),0,ROUND(Výpočet!G66*Výpočet!AO66*Logic!$G$101,0))","v":2594},{"$f":"IF(OR(H$19=0,$R73=0),0,ROUND(Výpočet!H66*Výpočet!AP66*Logic!$G$101,0))","v":2928},{"$f":"IF(OR(I$19=0,$R73=0),0,ROUND(Výpočet!I66*Výpočet!AQ66*Logic!$G$101,0))","v":3544},{"$f":"IF(OR(J$19=0,$R73=0),0,ROUND(Výpočet!J66*Výpočet!AR66*Logic!$G$101,0))","v":0},{"$f":"IF(OR(K$19=0,$R73=0),0,ROUND(Výpočet!K66*Výpočet!AS66*Logic!$G$101,0))","v":2139},{"$f":"IF(OR(L$19=0,$R73=0),0,ROUND(Výpočet!L66*Výpočet!AT66*Logic!$G$101,0))","v":2702},{"$f":"IF(OR(M$19=0,$R73=0),0,ROUND(Výpočet!M66*Výpočet!AU66*Logic!$G$101,0))","v":3235},{"$f":"IF(OR(N$19=0,$R73=0),0,ROUND(Výpočet!N66*Výpočet!AV66*Logic!$G$101,0))","v":3746},{"$f":"IF(OR(O$19=0,$R73=0),0,ROUND(Výpočet!O66*Výpočet!AW66*Logic!$G$101,0))","v":4237},{"$f":"IF(OR(P$19=0,$R73=0),0,ROUND(Výpočet!P66*Výpočet!AX66*Logic!$G$101,0))","v":5170},{"$f":"Výpočet!AH66","v":1600},1]
[null,{"$f":"Výpočet!S67","v":1800},{"$f":"IF(OR(C$19=0,$R74=0),0,ROUND(Výpočet!C67*Výpočet!AK67*Logic!$G$101,0))","v":0},{"$f":"IF(OR(D$19=0,$R74=0),0,ROUND(Výpočet!D67*Výpočet!AL67*Logic!$G$101,0))","v":1645},{"$f":"IF(OR(E$19=0,$R74=0),0,ROUND(Výpočet!E67*Výpočet!AM67*Logic!$G$101,0))","v":2097},{"$f":"IF(OR(F$19=0,$R74=0),0,ROUND(Výpočet!F67*Výpočet!AN67*Logic!$G$101,0))","v":2520},{"$f":"IF(OR(G$19=0,$R74=0),0,ROUND(Výpočet!G67*Výpočet!AO67*Logic!$G$101,0))","v":2918},{"$f":"IF(OR(H$19=0,$R74=0),0,ROUND(Výpočet!H67*Výpočet!AP67*Logic!$G$101,0))","v":3294},{"$f":"IF(OR(I$19=0,$R74=0),0,ROUND(Výpočet!I67*Výpočet!AQ67*Logic!$G$101,0))","v":0},{"$f":"IF(OR(J$19=0,$R74=0),0,ROUND(Výpočet!J67*Výpočet!AR67*Logic!$G$101,0))","v":0},{"$f":"IF(OR(K$19=0,$R74=0),0,ROUND(Výpočet!K67*Výpočet!AS67*Logic!$G$101,0))","v":2407},{"$f":"IF(OR(L$19=0,$R74=0),0,ROUND(Výpočet!L67*Výpočet!AT67*Logic!$G$101,0))","v":3040},{"$f":"IF(OR(M$19=0,$R74=0),0,ROUND(Výpočet!M67*Výpočet!AU67*Logic!$G$101,0))","v":3640},{"$f":"IF(OR(N$19=0,$R74=0),0,ROUND(Výpočet!N67*Výpočet!AV67*Logic!$G$101,0))","v":4214},{"$f":"IF(OR(O$19=0,$R74=0),0,ROUND(Výpočet!O67*Výpočet!AW67*Logic!$G$101,0))","v":4766},{"$f":"IF(OR(P$19=0,$R74=0),0,ROUND(Výpočet!P67*Výpočet!AX67*Logic!$G$101,0))","v":0},{"$f":"Výpočet!AH67","v":1800},1]
[null,{"$f":"Výpočet!S68","v":2000},{"$f":"IF(OR(C$19=0,$R75=0),0,ROUND(Výpočet!C68*Výpočet!AK68*Logic!$G$101,0))","v":0},{"$f":"IF(OR(D$19=0,$R75=0),0,ROUND(Výpočet!D68*Výpočet!AL68*Logic!$G$101,0))","v":1828},{"$f":"IF(OR(E$19=0,$R75=0),0,ROUND(Výpočet!E68*Výpočet!AM68*Logic!$G$101,0))","v":2330},{"$f":"IF(OR(F$19=0,$R75=0),0,ROUND(Výpočet!F68*Výpočet!AN68*Logic!$G$101,0))","v":2800},{"$f":"IF(OR(G$19=0,$R75=0),0,ROUND(Výpočet!G68*Výpočet!AO68*Logic!$G$101,0))","v":3242},{"$f":"IF(OR(H$19=0,$R75=0),0,ROUND(Výpočet!H68*Výpočet!AP68*Logic!$G$101,0))","v":3660},{"$f":"IF(OR(I$19=0,$R75=0),0,ROUND(Výpočet!I68*Výpočet!AQ68*Logic!$G$101,0))","v":0},{"$f":"IF(OR(J$19=0,$R75=0),0,ROUND(Výpočet!J68*Výpočet!AR68*Logic!$G$101,0))","v":0},{"$f":"IF(OR(K$19=0,$R75=0),0,ROUND(Výpočet!K68*Výpočet!AS68*Logic!$G$101,0))","v":2674},{"$f":"IF(OR(L$19=0,$R75=0),0,ROUND(Výpočet!L68*Výpočet!AT68*Logic!$G$101,0))","v":3378},{"$f":"IF(OR(M$19=0,$R75=0),0,ROUND(Výpočet!M68*Výpočet!AU68*Logic!$G$101,0))","v":4044},{"$f":"IF(OR(N$19=0,$R75=0),0,ROUND(Výpočet!N68*Výpočet!AV68*Logic!$G$101,0))","v":4682},{"$f":"IF(OR(O$19=0,$R75=0),0,ROUND(Výpočet!O68*Výpočet!AW68*Logic!$G$101,0))","v":5296},{"$f":"IF(OR(P$19=0,$R75=0),0,ROUND(Výpočet!P68*Výpočet!AX68*Logic!$G$101,0))","v":0},{"$f":"Výpočet!AH68","v":2000},1]
[null,{"$f":"Výpočet!S69","v":2300},{"$f":"IF(OR(C$19=0,$R76=0),0,ROUND(Výpočet!C69*Výpočet!AK69*Logic!$G$101,0))","v":0},{"$f":"IF(OR(D$19=0,$R76=0),0,ROUND(Výpočet!D69*Výpočet!AL69*Logic!$G$101,0))","v":0},{"$f":"IF(OR(E$19=0,$R76=0),0,ROUND(Výpočet!E69*Výpočet!AM69*Logic!$G$101,0))","v":0},{"$f":"IF(OR(F$19=0,$R76=0),0,ROUND(Výpočet!F69*Výpočet!AN69*Logic!$G$101,0))","v":0},{"$f":"IF(OR(G$19=0,$R76=0),0,ROUND(Výpočet!G69*Výpočet!AO69*Logic!$G$101,0))","v":0},{"$f":"IF(OR(H$19=0,$R76=0),0,ROUND(Výpočet!H69*Výpočet!AP69*Logic!$G$101,0))","v":0},{"$f":"IF(OR(I$19=0,$R76=0),0,ROUND(Výpočet!I69*Výpočet!AQ69*Logic!$G$101,0))","v":0},{"$f":"IF(OR(J$19=0,$R76=0),0,ROUND(Výpočet!J69*Výpočet!AR69*Logic!$G$101,0))","v":0},{"$f":"IF(OR(K$19=0,$R76=0),0,ROUND(Výpočet!K69*Výpočet!AS69*Logic!$G$101,0))","v":0},{"$f":"IF(OR(L$19=0,$R76=0),0,ROUND(Výpočet!L69*Výpočet!AT69*Logic!$G$101,0))","v":0},{"$f":"IF(OR(M$19=0,$R76=0),0,ROUND(Výpočet!M69*Výpočet!AU69*Logic!$G$101,0))","v":0},{"$f":"IF(OR(N$19=0,$R76=0),0,ROUND(Výpočet!N69*Výpočet!AV69*Logic!$G$101,0))","v":0},{"$f":"IF(OR(O$19=0,$R76=0),0,ROUND(Výpočet!O69*Výpočet!AW69*Logic!$G$101,0))","v":0},{"$f":"IF(OR(P$19=0,$R76=0),0,ROUND(Výpočet!P69*Výpočet!AX69*Logic!$G$101,0))","v":0},{"$f":"Výpočet!AH69","v":2300},1]
[null,{"$f":"Výpočet!S70","v":2600},{"$f":"IF(OR(C$19=0,$R77=0),0,ROUND(Výpočet!C70*Výpočet!AK70*Logic!$G$101,0))","v":0},{"$f":"IF(OR(D$19=0,$R77=0),0,ROUND(Výpočet!D70*Výpočet!AL70*Logic!$G$101,0))","v":0},{"$f":"IF(OR(E$19=0,$R77=0),0,ROUND(Výpočet!E70*Výpočet!AM70*Logic!$G$101,0))","v":0},{"$f":"IF(OR(F$19=0,$R77=0),0,ROUND(Výpočet!F70*Výpočet!AN70*Logic!$G$101,0))","v":0},{"$f":"IF(OR(G$19=0,$R77=0),0,ROUND(Výpočet!G70*Výpočet!AO70*Logic!$G$101,0))","v":0},{"$f":"IF(OR(H$19=0,$R77=0),0,ROUND(Výpočet!H70*Výpočet!AP70*Logic!$G$101,0))","v":0},{"$f":"IF(OR(I$19=0,$R77=0),0,ROUND(Výpočet!I70*Výpočet!AQ70*Logic!$G$101,0))","v":0},{"$f":"IF(OR(J$19=0,$R77=0),0,ROUND(Výpočet!J70*Výpočet!AR70*Logic!$G$101,0))","v":0},{"$f":"IF(OR(K$19=0,$R77=0),0,ROUND(Výpočet!K70*Výpočet!AS70*Logic!$G$101,0))","v":0},{"$f":"IF(OR(L$19=0,$R77=0),0,ROUND(Výpočet!L70*Výpočet!AT70*Logic!$G$101,0))","v":0},{"$f":"IF(OR(M$19=0,$R77=0),0,ROUND(Výpočet!M70*Výpočet!AU70*Logic!$G$101,0))","v":0},{"$f":"IF(OR(N$19=0,$R77=0),0,ROUND(Výpočet!N70*Výpočet!AV70*Logic!$G$101,0))","v":0},{"$f":"IF(OR(O$19=0,$R77=0),0,ROUND(Výpočet!O70*Výpočet!AW70*Logic!$G$101,0))","v":0},{"$f":"IF(OR(P$19=0,$R77=0),0,ROUND(Výpočet!P70*Výpočet!AX70*Logic!$G$101,0))","v":0},{"$f":"Výpočet!AH70","v":2600},1]
[null,{"$f":"Výpočet!S71","v":3000},{"$f":"IF(OR(C$19=0,$R78=0),0,ROUND(Výpočet!C71*Výpočet!AK71*Logic!$G$101,0))","v":0},{"$f":"IF(OR(D$19=0,$R78=0),0,ROUND(Výpočet!D71*Výpočet!AL71*Logic!$G$101,0))","v":0},{"$f":"IF(OR(E$19=0,$R78=0),0,ROUND(Výpočet!E71*Výpočet!AM71*Logic!$G$101,0))","v":0},{"$f":"IF(OR(F$19=0,$R78=0),0,ROUND(Výpočet!F71*Výpočet!AN71*Logic!$G$101,0))","v":0},{"$f":"IF(OR(G$19=0,$R78=0),0,ROUND(Výpočet!G71*Výpočet!AO71*Logic!$G$101,0))","v":0},{"$f":"IF(OR(H$19=0,$R78=0),0,ROUND(Výpočet!H71*Výpočet!AP71*Logic!$G$101,0))","v":0},{"$f":"IF(OR(I$19=0,$R78=0),0,ROUND(Výpočet!I71*Výpočet!AQ71*Logic!$G$101,0))","v":0},{"$f":"IF(OR(J$19=0,$R78=0),0,ROUND(Výpočet!J71*Výpočet!AR71*Logic!$G$101,0))","v":0},{"$f":"IF(OR(K$19=0,$R78=0),0,ROUND(Výpočet!K71*Výpočet!AS71*Logic!$G$101,0))","v":0},{"$f":"IF(OR(L$19=0,$R78=0),0,ROUND(Výpočet!L71*Výpočet!AT71*Logic!$G$101,0))","v":0},{"$f":"IF(OR(M$19=0,$R78=0),0,ROUND(Výpočet!M71*Výpočet!AU71*Logic!$G$101,0))","v":0},{"$f":"IF(OR(N$19=0,$R78=0),0,ROUND(Výpočet!N71*Výpočet!AV71*Logic!$G$101,0))","v":0},{"$f":"IF(OR(O$19=0,$R78=0),0,ROUND(Výpočet!O71*Výpočet!AW71*Logic!$G$101,0))","v":0},{"$f":"IF(OR(P$19=0,$R78=0),0,ROUND(Výpočet!P71*Výpočet!AX71*Logic!$G$101,0))","v":0},{"$f":"Výpočet!AH71","v":3000},1]
[null,{"$f":"Logic!M24","v":"Technické změny vyhrazeny."},null,null,null,null,null,null,null,null,null,null,null,null,null,null,{"$f":"Logic!H31","v":"CZ ODT 5.01-01/16 M"}]

{"sheet":"Databaze","index":1,"n_rows":6,"n_cols":11,"rows_kept":6,"cut":false,"hidden":true,"merged":[]}
[{"$f":"Logic!Q69","v":"Identifikace:"}]
[]
[]
[]
[]
[{"$f":"Logic!F69","v":"Číslo"},{"$f":"Logic!G69","v":"Model"},{"$f":"Logic!H69","v":"Objednací číslo"},{"$f":"Logic!I69","v":"Typ"},{"$f":"Logic!J69","v":"Výška [mm]"},{"$f":"Logic!K69","v":"Délka [mm]"},"t1 / t2 / ti",{"$f":"Logic!O69","v":"Tepelný výkon"},{"$f":"tlakova_ztrata","v":"Tlaková ztráta"},{"$f":"ventil_popis","v":"Ventil stupeň"},{"$f":"Logic!P69","v":"Poznámka"}]

{"sheet":"Ventil","index":2,"n_rows":79,"n_cols":18,"rows_kept":79,"cut":false,"hidden":true,"merged":[[20,1,21,1],[20,16,21,16],[40,1,41,1],[40,16,41,16],[60,1,61,1],[60,16,61,16]]}
[]
[]
[]
[]
[null,null,null,null,null,null,null,null,null,{"$f":"IF(OR(model=\"V0\",model=\"U0\"),Logic!J3&\" \"&Logic!K3,Logic!I3&\" \"&Logic!K3)","v":"Výška od"},{"$f":"Logic!B68","v":"vše"},"mm",{"$f":"Výstup!N12","v":"do"},{"$f":"Logic!B79","v":"vše"},"mm"]
[null,null,null,null,null,null,null,null,null,{"$f":"IF(OR(model=\"V0\",model=\"U0\"),Logic!I3&\" \"&Logic!K3,Logic!J3&\" \"&Logic!K3)","v":"Délka od"},{"$f":"Logic!B90","v":"vše"},"mm",{"$f":"Výstup!N13","v":"do"},{"$f":"Logic!B111","v":"vše"},"mm"]
[]
[]
[]
[]
[null,{"$f":"Logic!$AG$3&\" - \"&Logic!$B$3","v":"Stupeň nastavení ventilu - RADIK LINE VKM8-L"}]
[]
[null,null,"t 1","t 2","t i"," D T"," D p"]
[null,null,{"$f":"Výstup!B16","v":75},{"$f":"Výstup!C16","v":65},{"$f":"Výstup!D16","v":20},{"$f":"Výstup!E16","v":50},{"$f":"Výstup!G16&\" \"&Logic!E106","v":"10 kPa"}]
[]
[null,null,{"$f":"Logic!$AG$3","v":"Stupeň nastavení ventilu"}]
[null,null,1,2,3,4,5,6,7,8]
[]
[null,null,{"$f":"Výstup!C19","v":1},{"$f":"Výstup!D19","v":1},{"$f":"Výstup!E19","v":1},{"$f":"Výstup!F19","v":1},{"$f":"Výstup!G19","v":1},{"$f":"Výstup!H19","v":1},{"$f":"Výstup!I19","v":1},{"$f":"Výstup!J19","v":1},{"$f":"Výstup!K19","v":1},{"$f":"Výstup!L19","v":1},{"$f":"Výstup!M19","v":1},{"$f":"Výstup!N19","v":1},{"$f":"Výstup!O19","v":1},{"$f":"Výstup!P19","v":1}]
[null,null,{"$f":"F20","v":0},{"$f":"F20","v":0},{"$f":"F20","v":0},{"$f":"IF(Výpočet!W18=0,0,Logic!$P$3&\" \"&Výpočet!W18)","v":0},{"$f":"F20","v":0},{"$f":"F20","v":0},{"$f":"F20","v":0},{"$f":"M20","v":"Typ 11"},{"$f":"M20","v":"Typ 11"},{"$f":"M20","v":"Typ 11"},{"$f":"IF(OR(Logic!$C$3=\"A0\",Logic!$C$3=\"B0\",Logic!$C$3=\"K0\",Logic!$C$3=\"P0\",Výpočet!AD18=0,Logic!$C$3=\"V0\",Logic!$C$3=\"U0\"),0,Logic!$P$3&\" \"&Výpočet!AD18)","v":"Typ 11"},{"$f":"M20","v":"Typ 11"},{"$f":"M20","v":"Typ 11"},{"$f":"M20","v":"Typ 11"}]
[null,{"$f":"IF(OR(Logic!$C$3=\"V0\",Logic!$C$3=\"U0\"),Logic!$I$3,Logic!$J$3)&\" [mm]\"","v":"Délka [mm]"},{"$f":"IF(C20=0,0,IF(OR(Logic!$C$3=\"V0\",Logic!$C$3=\"U0\"),Logic!$J$3,Logic!$I$3) &\" [mm]\")","v":0},null,null,null,null,null,null,{"$f":"IF(J20=0,0,IF(OR(Logic!$C$3=\"V0\",Logic!$C$3=\"U0\"),Logic!$J$3,Logic!$I$3) &\" [mm]\")","v":"Výška [mm]"},null,null,null,null,null,null,{"$f":"IF(OR(Logic!$C$3=\"V0\",Logic!$C$3=\"U0\"),Logic!$I$3,Logic!$J$3)&\" [mm]\"","v":"Délka [mm]"}]
[null,null,{"$f":"Výpočet!T19","v":200},{"$f":"Výpočet!U19","v":300},{"$f":"Výpočet!V19","v":400},{"$f":"Výpočet!W19","v":500},{"$f":"Výpočet!X19","v":600},{"$f":"Výpočet!Y19","v":700},{"$f":"Výpočet!Z19","v":900},{"$f":"Výpočet!AA19","v":200},{"$f":"Výpočet!AB19","v":300},{"$f":"Výpočet!AC19","v":400},{"$f":"Výpočet!AD19","v":500},{"$f":"Výpočet!AE19","v":600},{"$f":"Výpočet!AF19","v":700},{"$f":"Výpočet!AG19","v":900}]
[null,{"$f":"IF(OR(Logic!$C$3=\"K0\",Logic!$C$3=\"P0\"),Výpočet!S20+4,Výpočet!S20)","v":400},{"$f":"IF(OR(C$19=0,$R23=0),0,'Výpočet Kv'!C19*Výpočet!AK20*ventil)","v":0},{"$f":"IF(OR(D$19=0,$R23=0),0,'Výpočet Kv'!D19*Výpočet!AL20*ventil)","v":0},{"$f":"IF(OR(E$19=0,$R23=0),0,'Výpočet Kv'!E19*Výpočet!AM20*ventil)","v":0},{"$f":"IF(OR(F$19=0,$R23=0),0,'Výpočet Kv'!F19*Výpočet!AN20*ventil)","v":0},{"$f":"IF(OR(G$19=0,$R23=0),0,'Výpočet Kv'!G19*Výpočet!AO20*ventil)","v":0},{"$f":"IF(OR(H$19=0,$R23=0),0,'Výpočet Kv'!H19*Výpočet!AP20*ventil)","v":0},{"$f":"IF(OR(I$19=0,$R23=0),0,'Výpočet Kv'!I19*Výpočet!AQ20*ventil)","v":0},{"$f":"IF(OR(J$19=0,$R23=0),0,'Výpočet Kv'!J19*Výpočet!AR20*ventil)","v":0},{"$f":"IF(OR(K$19=0,$R23=0),0,'Výpočet Kv'!K19*Výpočet!AS20*ventil)","v":0},{"$f":"IF(OR(L$19=0,$R23=0),0,'Výpočet Kv'!L19*Výpočet!AT20*ventil)","v":0},{"$f":"IF(OR(M$19=0,$R23=0),0,'Výpočet Kv'!M19*Výpočet!AU20*ventil)","v":0},{"$f":"IF(OR(N$19=0,$R23=0),0,'Výpočet Kv'!N19*Výpočet!AV20*ventil)","v":0},{"$f":"IF(OR(O$19=0,$R23=0),0,'Výpočet Kv'!O19*Výpočet!AW20*ventil)","v":0},{"$f":"IF(OR(P$19=0,$R23=0),0,'Výpočet Kv'!P19*Výpočet!AX20*ventil)","v":0},{"$f":"B23","v":400},{"$f":"Výstup!R23","v":1}]
[null,{"$f":"IF(OR(Logic!$C$3=\"K0\",Logic!$C$3=\"P0\"),Výpočet!S21+4,Výpočet!S21)","v":500},{"$f":"IF(OR(C$19=0,$R24=0),0,'Výpočet Kv'!C20*Výpočet!AK21*ventil)","v":0},{"$f":"IF(OR(D$19=0,$R24=0),0,'Výpočet Kv'!D20*Výpočet!AL21*ventil)","v":0},{"$f":"IF(OR(E$19=0,$R24=0),0,'Výpočet Kv'!E20*Výpočet!AM21*ventil)","v":0},{"$f":"IF(OR(F$19=0,$R24=0),0,'Výpočet Kv'!F20*Výpočet!AN21*ventil)","v":0},{"$f":"IF(OR(G$19=0,$R24=0),0,'Výpočet Kv'!G20*Výpočet!AO21*ventil)","v":0},{"$f":"IF(OR(H$19=0,$R24=0),0,'Výpočet Kv'!H20*Výpočet!AP21*ventil)","v":0},{"$f":"IF(OR(I$19=0,$R24=0),0,'Výpočet Kv'!I20*Výpočet!AQ21*ventil)","v":0},{"$f":"IF(OR(J$19=0,$R24=0),0,'Výpočet Kv'!J20*Výpočet!AR21*ventil)","v":0},{"$f":"IF(OR(K$19=0,$R24=0),0,'Výpočet Kv'!K20*Výpočet!AS21*ventil)","v":1},{"$f":"IF(OR(L$19=0,$R24=0),0,'Výpočet Kv'!L20*Výpočet!AT21*ventil)","v":1},{"$f":"IF(OR(M$19=0,$R24=0),0,'Výpočet Kv'!M20*Výpočet!AU21*ventil)","v":1},{"$f":"IF(OR(N$19=0,$R24=0),0,'Výpočet Kv'!N20*Výpočet!AV21*ventil)","v":1},{"$f":"IF(OR(O$19=0,$R24=0),0,'Výpočet Kv'!O20*Výpočet!AW21*ventil)","v":2},{"$f":"IF(OR(P$19=0,$R24=0),0,'Výpočet Kv'!P20*Výpočet!AX21*ventil)","v":2},500,{"$f":"Výstup!R24","v":1}]
[null,{"$f":"IF(OR(Logic!$C$3=\"K0\",Logic!$C$3=\"P0\"),Výpočet!S22+4,Výpočet!S22)","v":600},{"$f":"IF(OR(C$19=0,$R25=0),0,'Výpočet Kv'!C21*Výpočet!AK22*ventil)","v":0},{"$f":"IF(OR(D$19=0,$R25=0),0,'Výpočet Kv'!D21*Výpočet!AL22*ventil)","v":0},{"$f":"IF(OR(E$19=0,$R25=0),0,'Výpočet Kv'!E21*Výpočet!AM22*ventil)","v":0},{"$f":"IF(OR(F$19=0,$R25=0),0,'Výpočet Kv'!F21*Výpočet!AN22*ventil)","v":0},{"$f":"IF(OR(G$19=0,$R25=0),0,'Výpočet Kv'!G21*Výpočet!AO22*ventil)","v":0},{"$f":"IF(OR(H$19=0,$R25=0),0,'Výpočet Kv'!H21*Výpočet!AP22*ventil)","v":0},{"$f":"IF(OR(I$19=0,$R25=0),0,'Výpočet Kv'!I21*Výpočet!AQ22*ventil)","v":0},{"$f":"IF(OR(J$19=0,$R25=0),0,'Výpočet Kv'!J21*Výpočet!AR22*ventil)","v":0},{"$f":"IF(OR(K$19=0,$R25=0),0,'Výpočet Kv'!K21*Výpočet!AS22*ventil)","v":1},{"$f":"IF(OR(L$19=0,$R25=0),0,'Výpočet Kv'!L21*Výpočet!AT22*ventil)","v":1},{"$f":"IF(OR(M$19=0,$R25=0),0,'Výpočet Kv'!M21*Výpočet!AU22*ventil)","v":1},{"$f":"IF(OR(N$19=0,$R25=0),0,'Výpočet Kv'!N21*Výpočet!AV22*ventil)","v":2},{"$f":"IF(OR(O$19=0,$R25=0),0,'Výpočet Kv'!O21*Výpočet!AW22*ventil)","v":2},{"$f":"IF(OR(P$19=0,$R25=0),0,'Výpočet Kv'!P21*Výpočet!AX22*ventil)","v":2},600,{"$f":"Výstup!R25","v":1}]
[null,{"$f":"IF(OR(Logic!$C$3=\"K0\",Logic!$C$3=\"P0\"),Výpočet!S23+4,Výpočet!S23)","v":700},{"$f":"IF(OR(C$19=0,$R26=0),0,'Výpočet Kv'!C22*Výpočet!AK23*ventil)","v":0},{"$f":"IF(OR(D$19=0,$R26=0),0,'Výpočet Kv'!D22*Výpočet!AL23*ventil)","v":0},{"$f":"IF(OR(E$19=0,$R26=0),0,'Výpočet Kv'!E22*Výpočet!AM23*ventil)","v":0},{"$f":"IF(OR(F$19=0,$R26=0),0,'Výpočet Kv'!F22*Výpočet!AN23*ventil)","v":0},{"$f":"IF(OR(G$19=0,$R26=0),0,'Výpočet Kv'!G22*Výpočet!AO23*ventil)","v":0},{"$f":"IF(OR(H$19=0,$R26=0),0,'Výpočet Kv'!H22*Výpočet!AP23*ventil)","v":0},{"$f":"IF(OR(I$19=0,$R26=0),0,'Výpočet Kv'!I22*Výpočet!AQ23*ventil)","v":0},{"$f":"IF(OR(J$19=0,$R26=0),0,'Výpočet Kv'!J22*Výpočet!AR23*ventil)","v":0},{"$f":"IF(OR(K$19=0,$R26=0),0,'Výpočet Kv'!K22*Výpočet!AS23*ventil)","v":1},{"$f":"IF(OR(L$19=0,$R26=0),0,'Výpočet Kv'!L22*Výpočet!AT23*ventil)","v":1},{"$f":"IF(OR(M$19=0,$R26=0),0,'Výpočet Kv'!M22*Výpočet!AU23*ventil)","v":2},{"$f":"IF(OR(N$19=0,$R26=0),0,'Výpočet Kv'!N22*Výpočet!AV23*ventil)","v":2},{"$f":"IF(OR(O$19=0,$R26=0),0,'Výpočet Kv'!O22*Výpočet!AW23*ventil)","v":2},{"$f":"IF(OR(P$19=0,$R26=0),0,'Výpočet Kv'!P22*Výpočet!AX23*ventil)","v":3},700,{"$f":"Výstup!R26","v":1}]
[null,{"$f":"IF(OR(Logic!$C$3=\"K0\",Logic!$C$3=\"P0\"),Výpočet!S24+4,Výpočet!S24)","v":800},{"$f":"IF(OR(C$19=0,$R27=0),0,'Výpočet Kv'!C23*Výpočet!AK24*ventil)","v":0},{"$f":"IF(OR(D$19=0,$R27=0),0,'Výpočet Kv'!D23*Výpočet!AL24*ventil)","v":0},{"$f":"IF(OR(E$19=0,$R27=0),0,'Výpočet Kv'!E23*Výpočet!AM24*ventil)","v":0},{"$f":"IF(OR(F$19=0,$R27=0),0,'Výpočet Kv'!F23*Výpočet!AN24*ventil)","v":0},{"$f":"IF(OR(G$19=0,$R27=0),0,'Výpočet Kv'!G23*Výpočet!AO24*ventil)","v":0},{"$f":"IF(OR(H$19=0,$R27=0),0,'Výpočet Kv'!H23*Výpočet!AP24*ventil)","v":0},{"$f":"IF(OR(I$19=0,$R27=0),0,'Výpočet Kv'!I23*Výpočet!AQ24*ventil)","v":0},{"$f":"IF(OR(J$19=0,$R27=0),0,'Výpočet Kv'!J23*Výpočet!AR24*ventil)","v":0},{"$f":"IF(OR(K$19=0,$R27=0),0,'Výpočet Kv'!K23*Výpočet!AS24*ventil)","v":1},{"$f":"IF(OR(L$19=0,$R27=0),0,'Výpočet Kv'!L23*Výpočet!AT24*ventil)","v":2},{"$f":"IF(OR(M$19=0,$R27=0),0,'Výpočet Kv'!M23*Výpočet!AU24*ventil)","v":2},{"$f":"IF(OR(N$19=0,$R27=0),0,'Výpočet Kv'!N23*Výpočet!AV24*ventil)","v":2},{"$f":"IF(OR(O$19=0,$R27=0),0,'Výpočet Kv'!O23*Výpočet!AW24*ventil)","v":3},{"$f":"IF(OR(P$19=0,$R27=0),0,'Výpočet Kv'!P23*Výpočet!AX24*ventil)","v":3},800,{"$f":"Výstup!R27","v":1}]
[null,{"$f":"IF(OR(Logic!$C$3=\"K0\",Logic!$C$3=\"P0\"),Výpočet!S25+4,Výpočet!S25)","v":900},{"$f":"IF(OR(C$19=0,$R28=0),0,'Výpočet Kv'!C24*Výpočet!AK25*ventil)","v":0},{"$f":"IF(OR(D$19=0,$R28=0),0,'Výpočet Kv'!D24*Výpočet!AL25*ventil)","v":0},{"$f":"IF(OR(E$19=0,$R28=0),0,'Výpočet Kv'!E24*Výpočet!AM25*ventil)","v":0},{"$f":"IF(OR(F$19=0,$R28=0),0,'Výpočet Kv'!F24*Výpočet!AN25*ventil)","v":0},{"$f":"IF(OR(G$19=0,$R28=0),0,'Výpočet Kv'!G24*Výpočet!AO25*ventil)","v":0},{"$f":"IF(OR(H$19=0,$R28=0),0,'Výpočet Kv'!H24*Výpočet!AP25*ventil)","v":0},{"$f":"IF(OR(I$19=0,$R28=0),0,'Výpočet Kv'!I24*Výpočet!AQ25*ventil)","v":0},{"$f":"IF(OR(J$19=0,$R28=0),0,'Výpočet Kv'!J24*Výpočet!AR25*ventil)","v":0},{"$f":"IF(OR(K$19=0,$R28=0),0,'Výpočet Kv'!K24*Výpočet!AS25*ventil)","v":1},{"$f":"IF(OR(L$19=0,$R28=0),0,'Výpočet Kv'!L24*Výpočet!AT25*ventil)","v":2},{"$f":"IF(OR(M$19=0,$R28=0),0,'Výpočet Kv'!M24*Výpočet!AU25*ventil)","v":2},{"$f":"IF(OR(N$19=0,$R28=0),0,'Výpočet Kv'!N24*Výpočet!AV25*ventil)","v":2},{"$f":"IF(OR(O$19=0,$R28=0),0,'Výpočet Kv'!O24*Výpočet!AW25*ventil)","v":3},{"$f":"IF(OR(P$19=0,$R28=0),0,'Výpočet Kv'!P24*Výpočet!AX25*ventil)","v":3},900,{"$f":"Výstup!R28","v":1}]
[null,{"$f":"IF(OR(Logic!$C$3=\"K0\",Logic!$C$3=\"P0\"),Výpočet!S26+4,Výpočet!S26)","v":1000},{"$f":"IF(OR(C$19=0,$R29=0),0,'Výpočet Kv'!C25*Výpočet!AK26*ventil)","v":0},{"$f":"IF(OR(D$19=0,$R29=0),0,'Výpočet Kv'!D25*Výpočet!AL26*ventil)","v":0},{"$f":"IF(OR(E$19=0,$R29=0),0,'Výpočet Kv'!E25*Výpočet!AM26*ventil)","v":0},{"$f":"IF(OR(F$19=0,$R29=0),0,'Výpočet Kv'!F25*Výpočet!AN26*ventil)","v":0},{"$f":"IF(OR(G$19=0,$R29=0),0,'Výpočet Kv'!G25*Výpočet!AO26*ventil)","v":0},{"$f":"IF(OR(H$19=0,$R29=0),0,'Výpočet Kv'!H25*Výpočet!AP26*ventil)","v":0},{"$f":"IF(OR(I$19=0,$R29=0),0,'Výpočet Kv'!I25*Výpočet!AQ26*ventil)","v":0},{"$f":"IF(OR(J$19=0,$R29=0),0,'Výpočet Kv'!J25*Výpočet!AR26*ventil)","v":0},{"$f":"IF(OR(K$19=0,$R29=0),0,'Výpočet Kv'!K25*Výpočet!AS26*ventil)","v":2},{"$f":"IF(OR(L$19=0,$R29=0),0,'Výpočet Kv'!L25*Výpočet!AT26*ventil)","v":2},{"$f":"IF(OR(M$19=0,$R29=0),0,'Výpočet Kv'!M25*Výpočet!AU26*ventil)","v":2},{"$f":"IF(OR(N$19=0,$R29=0),0,'Výpočet Kv'!N25*Výpočet!AV26*ventil)","v":3},{"$f":"IF(OR(O$19=0,$R29=0),0,'Výpočet Kv'!O25*Výpočet!AW26*ventil)","v":3},{"$f":"IF(OR(P$19=0,$R29=0),0,'Výpočet Kv'!P25*Výpočet!AX26*ventil)","v":4},1000,{"$f":"Výstup!R29","v":1}]
[null,{"$f":"IF(OR(Logic!$C$3=\"K0\",Logic!$C$3=\"P0\"),Výpočet!S27+4,Výpočet!S27)","v":1100},{"$f":"IF(OR(C$19=0,$R30=0),0,'Výpočet Kv'!C26*Výpočet!AK27*ventil)","v":0},{"$f":"IF(OR(D$19=0,$R30=0),0,'Výpočet Kv'!D26*Výpočet!AL27*ventil)","v":0},{"$f":"IF(OR(E$19=0,$R30=0),0,'Výpočet Kv'!E26*Výpočet!AM27*ventil)","v":0},{"$f":"IF(OR(F$19=0,$R30=0),0,'Výpočet Kv'!F26*Výpočet!AN27*ventil)","v":0},{"$f":"IF(OR(G$19=0,$R30=0),0,'Výpočet Kv'!G26*Výpočet!AO27*ventil)","v":0},{"$f":"IF(OR(H$19=0,$R30=0),0,'Výpočet Kv'!H26*Výpočet!AP27*ventil)","v":0},{"$f":"IF(OR(I$19=0,$R30=0),0,'Výpočet Kv'!I26*Výpočet!AQ27*ventil)","v":0},{"$f":"IF(OR(J$19=0,$R30=0),0,'Výpočet Kv'!J26*Výpočet!AR27*ventil)","v":0},{"$f":"IF(OR(K$19=0,$R30=0),0,'Výpočet Kv'!K26*Výpočet!AS27*ventil)","v":2},{"$f":"IF(OR(L$19=0,$R30=0),0,'Výpočet Kv'!L26*Výpočet!AT27*ventil)","v":2},{"$f":"IF(OR(M$19=0,$R30=0),0,'Výpočet Kv'!M26*Výpočet!AU27*ventil)","v":3},{"$f":"IF(OR(N$19=0,$R30=0),0,'Výpočet Kv'!N26*Výpočet!AV27*ventil)","v":3},{"$f":"IF(OR(O$19=0,$R30=0),0,'Výpočet Kv'!O26*Výpočet!AW27*ventil)","v":3},{"$f":"IF(OR(P$19=0,$R30=0),0,'Výpočet Kv'!P26*Výpočet!AX27*ventil)","v":4},1100,{"$f":"Výstup!R30","v":1}]
[null,{"$f":"IF(OR(Logic!$C$3=\"K0\",Logic!$C$3=\"P0\"),Výpočet!S28+4,Výpočet!S28)","v":1200},{"$f":"IF(OR(C$19=0,$R31=0),0,'Výpočet Kv'!C27*Výpočet!AK28*ventil)","v":0},{"$f":"IF(OR(D$19=0,$R31=0),0,'Výpočet Kv'!D27*Výpočet!AL28*ventil)","v":0},{"$f":"IF(OR(E$19=0,$R31=0),0,'Výpočet Kv'!E27*Výpočet!AM28*ventil)","v":0},{"$f":"IF(OR(F$19=0,$R31=0),0,'Výpočet Kv'!F27*Výpočet!AN28*ventil)","v":0},{"$f":"IF(OR(G$19=0,$R31=0),0,'Výpočet Kv'!G27*Výpočet!AO28*ventil)","v":0},{"$f":"IF(OR(H$19=0,$R31=0),0,'Výpočet Kv'!H27*Výpočet!AP28*ventil)","v":0},{"$f":"IF(OR(I$19=0,$R31=0),0,'Výpočet Kv'!I27*Výpočet!AQ28*ventil)","v":0},{"$f":"IF(OR(J$19=0,$R31=0),0,'Výpočet Kv'!J27*Výpočet!AR28*ventil)","v":0},{"$f":"IF(OR(K$19=0,$R31=0),0,'Výpočet Kv'!K27*Výpočet!AS28*ventil)","v":2},{"$f":"IF(OR(L$19=0,$R31=0),0,'Výpočet Kv'!L27*Výpočet!AT28*ventil)","v":2},{"$f":"IF(OR(M$19=0,$R31=0),0,'Výpočet Kv'!M27*Výpočet!AU28*ventil)","v":3},{"$f":"IF(OR(N$19=0,$R31=0),0,'Výpočet Kv'!N27*Výpočet!AV28*ventil)","v":3},{"$f":"IF(OR(O$19=0,$R31=0),0,'Výpočet Kv'!O27*Výpočet!AW28*ventil)","v":4},{"$f":"IF(OR(P$19=0,$R31=0),0,'Výpočet Kv'!P27*Výpočet!AX28*ventil)","v":5},1200,{"$f":"Výstup!R31","v":1}]
[null,{"$f":"IF(OR(Logic!$C$3=\"K0\",Logic!$C$3=\"P0\"),Výpočet!S29+4,Výpočet!S29)","v":1400},{"$f":"IF(OR(C$19=0,$R32=0),0,'Výpočet Kv'!C28*Výpočet!AK29*ventil)","v":0},{"$f":"IF(OR(D$19=0,$R32=0),0,'Výpočet Kv'!D28*Výpočet!AL29*ventil)","v":0},{"$f":"IF(OR(E$19=0,$R32=0),0,'Výpočet Kv'!E28*Výpočet!AM29*ventil)","v":0},{"$f":"IF(OR(F$19=0,$R32=0),0,'Výpočet Kv'!F28*Výpočet!AN29*ventil)","v":0},{"$f":"IF(OR(G$19=0,$R32=0),0,'Výpočet Kv'!G28*Výpočet!AO29*ventil)","v":0},{"$f":"IF(OR(H$19=0,$R32=0),0,'Výpočet Kv'!H28*Výpočet!AP29*ventil)","v":0},{"$f":"IF(OR(I$19=0,$R32=0),0,'Výpočet Kv'!I28*Výpočet!AQ29*ventil)","v":0},{"$f":"IF(OR(J$19=0,$R32=0),0,'Výpočet Kv'!J28*Výpočet!AR29*ventil)","v":0},{"$f":"IF(OR(K$19=0,$R32=0),0,'Výpočet Kv'!K28*Výpočet!AS29*ventil)","v":2},{"$f":"IF(OR(L$19=0,$R32=0),0,'Výpočet Kv'!L28*Výpočet!AT29*ventil)","v":3},{"$f":"IF(OR(M$19=0,$R32=0),0,'Výpočet Kv'!M28*Výpočet!AU29*ventil)","v":3},{"$f":"IF(OR(N$19=0,$R32=0),0,'Výpočet Kv'!N28*Výpočet!AV29*ventil)","v":4},{"$f":"IF(OR(O$19=0,$R32=0),0,'Výpočet Kv'!O28*Výpočet!AW29*ventil)","v":5},{"$f":"IF(OR(P$19=0,$R32=0),0,'Výpočet Kv'!P28*Výpočet!AX29*ventil)","v":6},1400,{"$f":"Výstup!R32","v":1}]
[null,{"$f":"IF(OR(Logic!$C$3=\"K0\",Logic!$C$3=\"P0\"),Výpočet!S30+4,Výpočet!S30)","v":1600},{"$f":"IF(OR(C$19=0,$R33=0),0,'Výpočet Kv'!C29*Výpočet!AK30*ventil)","v":0},{"$f":"IF(OR(D$19=0,$R33=0),0,'Výpočet Kv'!D29*Výpočet!AL30*ventil)","v":0},{"$f":"IF(OR(E$19=0,$R33=0),0,'Výpočet Kv'!E29*Výpočet!AM30*ventil)","v":0},{"$f":"IF(OR(F$19=0,$R33=0),0,'Výpočet Kv'!F29*Výpočet!AN30*ventil)","v":0},{"$f":"IF(OR(G$19=0,$R33=0),0,'Výpočet Kv'!G29*Výpočet!AO30*ventil)","v":0},{"$f":"IF(OR(H$19=0,$R33=0),0,'Výpočet Kv'!H29*Výpočet!AP30*ventil)","v":0},{"$f":"IF(OR(I$19=0,$R33=0),0,'Výpočet Kv'!I29*Výpočet!AQ30*ventil)","v":0},{"$f":"IF(OR(J$19=0,$R33=0),0,'Výpočet Kv'!J29*Výpočet!AR30*ventil)","v":0},{"$f":"IF(OR(K$19=0,$R33=0),0,'Výpočet Kv'!K29*Výpočet!AS30*ventil)","v":3},{"$f":"IF(OR(L$19=0,$R33=0),0,'Výpočet Kv'!L29*Výpočet!AT30*ventil)","v":3},{"$f":"IF(OR(M$19=0,$R33=0),0,'Výpočet Kv'!M29*Výpočet!AU30*ventil)","v":4},{"$f":"IF(OR(N$19=0,$R33=0),0,'Výpočet Kv'!N29*Výpočet!AV30*ventil)","v":5},{"$f":"IF(OR(O$19=0,$R33=0),0,'Výpočet Kv'!O29*Výpočet!AW30*ventil)","v":5},{"$f":"IF(OR(P$19=0,$R33=0),0,'Výpočet Kv'!P29*Výpočet!AX30*ventil)","v":6},1600,{"$f":"Výstup!R33","v":1}]
[null,{"$f":"IF(OR(Logic!$C$3=\"K0\",Logic!$C$3=\"P0\"),Výpočet!S31+4,Výpočet!S31)","v":1800},{"$f":"IF(OR(C$19=0,$R34=0),0,'Výpočet Kv'!C30*Výpočet!AK31*ventil)","v":0},{"$f":"IF(OR(D$19=0,$R34=0),0,'Výpočet Kv'!D30*Výpočet!AL31*ventil)","v":0},{"$f":"IF(OR(E$19=0,$R34=0),0,'Výpočet Kv'!E30*Výpočet!AM31*ventil)","v":0},{"$f":"IF(OR(F$19=0,$R34=0),0,'Výpočet Kv'!F30*Výpočet!AN31*ventil)","v":0},{"$f":"IF(OR(G$19=0,$R34=0),0,'Výpočet Kv'!G30*Výpočet!AO31*ventil)","v":0},{"$f":"IF(OR(H$19=0,$R34=0),0,'Výpočet Kv'!H30*Výpočet!AP31*ventil)","v":0},{"$f":"IF(OR(I$19=0,$R34=0),0,'Výpočet Kv'!I30*Výpočet!AQ31*ventil)","v":0},{"$f":"IF(OR(J$19=0,$R34=0),0,'Výpočet Kv'!J30*Výpočet!AR31*ventil)","v":0},{"$f":"IF(OR(K$19=0,$R34=0),0,'Výpočet Kv'!K30*Výpočet!AS31*ventil)","v":3},{"$f":"IF(OR(L$19=0,$R34=0),0,'Výpočet Kv'!L30*Výpočet!AT31*ventil)","v":4},{"$f":"IF(OR(M$19=0,$R34=0),0,'Výpočet Kv'!M30*Výpočet!AU31*ventil)","v":5},{"$f":"IF(OR(N$19=0,$R34=0),0,'Výpočet Kv'!N30*Výpočet!AV31*ventil)","v":5},{"$f":"IF(OR(O$19=0,$R34=0),0,'Výpočet Kv'!O30*Výpočet!AW31*ventil)","v":6},{"$f":"IF(OR(P$19=0,$R34=0),0,'Výpočet Kv'!P30*Výpočet!AX31*ventil)","v":0},1800,{"$f":"Výstup!R34","v":1}]
[null,{"$f":"IF(OR(Logic!$C$3=\"K0\",Logic!$C$3=\"P0\"),Výpočet!S32+4,Výpočet!S32)","v":2000},{"$f":"IF(OR(C$19=0,$R35=0),0,'Výpočet Kv'!C31*Výpočet!AK32*ventil)","v":0},{"$f":"IF(OR(D$19=0,$R35=0),0,'Výpočet Kv'!D31*Výpočet!AL32*ventil)","v":0},{"$f":"IF(OR(E$19=0,$R35=0),0,'Výpočet Kv'!E31*Výpočet!AM32*ventil)","v":0},{"$f":"IF(OR(F$19=0,$R35=0),0,'Výpočet Kv'!F31*Výpočet!AN32*ventil)","v":0},{"$f":"IF(OR(G$19=0,$R35=0),0,'Výpočet Kv'!G31*Výpočet!AO32*ventil)","v":0},{"$f":"IF(OR(H$19=0,$R35=0),0,'Výpočet Kv'!H31*Výpočet!AP32*ventil)","v":0},{"$f":"IF(OR(I$19=0,$R35=0),0,'Výpočet Kv'!I31*Výpočet!AQ32*ventil)","v":0},{"$f":"IF(OR(J$19=0,$R35=0),0,'Výpočet Kv'!J31*Výpočet!AR32*ventil)","v":0},{"$f":"IF(OR(K$19=0,$R35=0),0,'Výpočet Kv'!K31*Výpočet!AS32*ventil)","v":3},{"$f":"IF(OR(L$19=0,$R35=0),0,'Výpočet Kv'!L31*Výpočet!AT32*ventil)","v":4},{"$f":"IF(OR(M$19=0,$R35=0),0,'Výpočet Kv'!M31*Výpočet!AU32*ventil)","v":5},{"$f":"IF(OR(N$19=0,$R35=0),0,'Výpočet Kv'!N31*Výpočet!AV32*ventil)","v":6},{"$f":"IF(OR(O$19=0,$R35=0),0,'Výpočet Kv'!O31*Výpočet!AW32*ventil)","v":6},{"$f":"IF(OR(P$19=0,$R35=0),0,'Výpočet Kv'!P31*Výpočet!AX32*ventil)","v":0},2000,{"$f":"Výstup!R35","v":1}]
[null,{"$f":"IF(OR(Logic!$C$3=\"K0\",Logic!$C$3=\"P0\"),Výpočet!S33+4,Výpočet!S33)","v":2300},{"$f":"IF(OR(C$19=0,$R36=0),0,'Výpočet Kv'!C32*Výpočet!AK33*ventil)","v":0},{"$f":"IF(OR(D$19=0,$R36=0),0,'Výpočet Kv'!D32*Výpočet!AL33*ventil)","v":0},{"$f":"IF(OR(E$19=0,$R36=0),0,'Výpočet Kv'!E32*Výpočet!AM33*ventil)","v":0},{"$f":"IF(OR(F$19=0,$R36=0),0,'Výpočet Kv'!F32*Výpočet!AN33*ventil)","v":0},{"$f":"IF(OR(G$19=0,$R36=0),0,'Výpočet Kv'!G32*Výpočet!AO33*ventil)","v":0},{"$f":"IF(OR(H$19=0,$R36=0),0,'Výpočet Kv'!H32*Výpočet!AP33*ventil)","v":0},{"$f":"IF(OR(I$19=0,$R36=0),0,'Výpočet Kv'!I32*Výpočet!AQ33*ventil)","v":0},{"$f":"IF(OR(J$19=0,$R36=0),0,'Výpočet Kv'!J32*Výpočet!AR33*ventil)","v":0},{"$f":"IF(OR(K$19=0,$R36=0),0,'Výpočet Kv'!K32*Výpočet!AS33*ventil)","v":0},{"$f":"IF(OR(L$19=0,$R36=0),0,'Výpočet Kv'!L32*Výpočet!AT33*ventil)","v":0},{"$f":"IF(OR(M$19=0,$R36=0),0,'Výpočet Kv'!M32*Výpočet!AU33*ventil)","v":0},{"$f":"IF(OR(N$19=0,$R36=0),0,'Výpočet Kv'!N32*Výpočet!AV33*ventil)","v":0},{"$f":"IF(OR(O$19=0,$R36=0),0,'Výpočet Kv'!O32*Výpočet!AW33*ventil)","v":0},{"$f":"IF(OR(P$19=0,$R36=0),0,'Výpočet Kv'!P32*Výpočet!AX33*ventil)","v":0},2300,{"$f":"Výstup!R36","v":1}]
[null,{"$f":"IF(OR(Logic!$C$3=\"K0\",Logic!$C$3=\"P0\"),Výpočet!S34+4,Výpočet!S34)","v":2600},{"$f":"IF(OR(C$19=0,$R37=0),0,'Výpočet Kv'!C33*Výpočet!AK34*ventil)","v":0},{"$f":"IF(OR(D$19=0,$R37=0),0,'Výpočet Kv'!D33*Výpočet!AL34*ventil)","v":0},{"$f":"IF(OR(E$19=0,$R37=0),0,'Výpočet Kv'!E33*Výpočet!AM34*ventil)","v":0},{"$f":"IF(OR(F$19=0,$R37=0),0,'Výpočet Kv'!F33*Výpočet!AN34*ventil)","v":0},{"$f":"IF(OR(G$19=0,$R37=0),0,'Výpočet Kv'!G33*Výpočet!AO34*ventil)","v":0},{"$f":"IF(OR(H$19=0,$R37=0),0,'Výpočet Kv'!H33*Výpočet!AP34*ventil)","v":0},{"$f":"IF(OR(I$19=0,$R37=0),0,'Výpočet Kv'!I33*Výpočet!AQ34*ventil)","v":0},{"$f":"IF(OR(J$19=0,$R37=0),0,'Výpočet Kv'!J33*Výpočet!AR34*ventil)","v":0},{"$f":"IF(OR(K$19=0,$R37=0),0,'Výpočet Kv'!K33*Výpočet!AS34*ventil)","v":0},{"$f":"IF(OR(L$19=0,$R37=0),0,'Výpočet Kv'!L33*Výpočet!AT34*ventil)","v":0},{"$f":"IF(OR(M$19=0,$R37=0),0,'Výpočet Kv'!M33*Výpočet!AU34*ventil)","v":0},{"$f":"IF(OR(N$19=0,$R37=0),0,'Výpočet Kv'!N33*Výpočet!AV34*ventil)","v":0},{"$f":"IF(OR(O$19=0,$R37=0),0,'Výpočet Kv'!O33*Výpočet!AW34*ventil)","v":0},{"$f":"IF(OR(P$19=0,$R37=0),0,'Výpočet Kv'!P33*Výpočet!AX34*ventil)","v":0},2600,{"$f":"Výstup!R37","v":1}]
[null,{"$f":"IF(OR(Logic!$C$3=\"K0\",Logic!$C$3=\"P0\"),Výpočet!S35+4,Výpočet!S35)","v":3000},{"$f":"IF(OR(C$19=0,$R38=0),0,'Výpočet Kv'!C34*Výpočet!AK35*ventil)","v":0},{"$f":"IF(OR(D$19=0,$R38=0),0,'Výpočet Kv'!D34*Výpočet!AL35*ventil)","v":0},{"$f":"IF(OR(E$19=0,$R38=0),0,'Výpočet Kv'!E34*Výpočet!AM35*ventil)","v":0},{"$f":"IF(OR(F$19=0,$R38=0),0,'Výpočet Kv'!F34*Výpočet!AN35*ventil)","v":0},{"$f":"IF(OR(G$19=0,$R38=0),0,'Výpočet Kv'!G34*Výpočet!AO35*ventil)","v":0},{"$f":"IF(OR(H$19=0,$R38=0),0,'Výpočet Kv'!H34*Výpočet!AP35*ventil)","v":0},{"$f":"IF(OR(I$19=0,$R38=0),0,'Výpočet Kv'!I34*Výpočet!AQ35*ventil)","v":0},{"$f":"IF(OR(J$19=0,$R38=0),0,'Výpočet Kv'!J34*Výpočet!AR35*ventil)","v":0},{"$f":"IF(OR(K$19=0,$R38=0),0,'Výpočet Kv'!K34*Výpočet!AS35*ventil)","v":0},{"$f":"IF(OR(L$19=0,$R38=0),0,'Výpočet Kv'!L34*Výpočet!AT35*ventil)","v":0},{"$f":"IF(OR(M$19=0,$R38=0),0,'Výpočet Kv'!M34*Výpočet!AU35*ventil)","v":0},{"$f":"IF(OR(N$19=0,$R38=0),0,'Výpočet Kv'!N34*Výpočet!AV35*ventil)","v":0},{"$f":"IF(OR(O$19=0,$R38=0),0,'Výpočet Kv'!O34*Výpočet!AW35*ventil)","v":0},{"$f":"IF(OR(P$19=0,$R38=0),0,'Výpočet Kv'!P34*Výpočet!AX35*ventil)","v":0},3000,{"$f":"Výstup!R38","v":1}]
[]
[null,null,{"$f":"F40","v":"Typ 20"},{"$f":"F40","v":"Typ 20"},{"$f":"F40","v":"Typ 20"},{"$f":"IF(Výpočet!W36=0,0,IF(OR(Logic!$C$3=\"K0\",Logic!$C$3=\"P0\",Logic!$C$3=\"A0\",Logic!$C$3=\"B0\"),Logic!$P$3&\" \"&Výpočet!W36&\"S\",Logic!$P$3&\" \"&Výpočet!W36))","v":"Typ 20"},{"$f":"F40","v":"Typ 20"},{"$f":"F40","v":"Typ 20"},{"$f":"F40","v":"Typ 20"},{"$f":"M40","v":"Typ 21"},{"$f":"M40","v":"Typ 21"},{"$f":"M40","v":"Typ 21"},{"$f":"IF(OR(Logic!$C$3=\"A0\",Logic!$C$3=\"B0\",Logic!$C$3=\"K0\",Logic!$C$3=\"P0\",Výpočet!AD36=0,Logic!$C$3=\"V0\",Logic!$C$3=\"U0\"),0,Logic!$P$3&\" \"&Výpočet!AD36)","v":"Typ 21"},{"$f":"M40","v":"Typ 21"},{"$f":"M40","v":"Typ 21"},{"$f":"M40","v":"Typ 21"}]
[null,{"$f":"IF(OR(Logic!$C$3=\"V0\",Logic!$C$3=\"U0\"),Logic!$I$3,Logic!$J$3)&\" [mm]\"","v":"Délka [mm]"},{"$f":"IF(C40=0,0,IF(OR(Logic!$C$3=\"V0\",Logic!$C$3=\"U0\"),Logic!$J$3,Logic!$I$3) &\" [mm]\")","v":"Výška [mm]"},null,null,null,null,null,null,{"$f":"IF(J40=0,0,IF(OR(Logic!$C$3=\"V0\",Logic!$C$3=\"U0\"),Logic!$J$3,Logic!$I$3) &\" [mm]\")","v":"Výška [mm]"},null,null,null,null,null,null,{"$f":"IF(OR(Logic!$C$3=\"V0\",Logic!$C$3=\"U0\"),Logic!$I$3,Logic!$J$3)&\" [mm]\"","v":"Délka [mm]"}]
[null,null,{"$f":"Výpočet!T37","v":200},{"$f":"Výpočet!U37","v":300},{"$f":"Výpočet!V37","v":400},{"$f":"Výpočet!W37","v":500},{"$f":"Výpočet!X37","v":600},{"$f":"Výpočet!Y37","v":700},{"$f":"Výpočet!Z37","v":900},{"$f":"Výpočet!AA37","v":200},{"$f":"Výpočet!AB37","v":300},{"$f":"Výpočet!AC37","v":400},{"$f":"Výpočet!AD37","v":500},{"$f":"Výpočet!AE37","v":600},{"$f":"Výpočet!AF37","v":700},{"$f":"Výpočet!AG37","v":900}]
[null,{"$f":"IF(OR(Logic!$C$3=\"K0\",Logic!$C$3=\"P0\"),Výpočet!S38+4,Výpočet!S38)","v":400},{"$f":"IF(OR(C$19=0,$R43=0),0,'Výpočet Kv'!C39*Výpočet!AK38*ventil)","v":0},{"$f":"IF(OR(D$19=0,$R43=0),0,'Výpočet Kv'!D39*Výpočet!AL38*ventil)","v":0},{"$f":"IF(OR(E$19=0,$R43=0),0,'Výpočet Kv'!E39*Výpočet!AM38*ventil)","v":0},{"$f":"IF(OR(F$19=0,$R43=0),0,'Výpočet Kv'!F39*Výpočet!AN38*ventil)","v":0},{"$f":"IF(OR(G$19=0,$R43=0),0,'Výpočet Kv'!G39*Výpočet!AO38*ventil)","v":0},{"$f":"IF(OR(H$19=0,$R43=0),0,'Výpočet Kv'!H39*Výpočet!AP38*ventil)","v":0},{"$f":"IF(OR(I$19=0,$R43=0),0,'Výpočet Kv'!I39*Výpočet!AQ38*ventil)","v":0},{"$f":"IF(OR(J$19=0,$R43=0),0,'Výpočet Kv'!J39*Výpočet!AR38*ventil)","v":0},{"$f":"IF(OR(K$19=0,$R43=0),0,'Výpočet Kv'!K39*Výpočet!AS38*ventil)","v":0},{"$f":"IF(OR(L$19=0,$R43=0),0,'Výpočet Kv'!L39*Výpočet!AT38*ventil)","v":0},{"$f":"IF(OR(M$19=0,$R43=0),0,'Výpočet Kv'!M39*Výpočet!AU38*ventil)","v":0},{"$f":"IF(OR(N$19=0,$R43=0),0,'Výpočet Kv'!N39*Výpočet!AV38*ventil)","v":0},{"$f":"IF(OR(O$19=0,$R43=0),0,'Výpočet Kv'!O39*Výpočet!AW38*ventil)","v":0},{"$f":"IF(OR(P$19=0,$R43=0),0,'Výpočet Kv'!P39*Výpočet!AX38*ventil)","v":0},{"$f":"B43","v":400},{"$f":"Výstup!R43","v":1}]
[null,{"$f":"IF(OR(Logic!$C$3=\"K0\",Logic!$C$3=\"P0\"),Výpočet!S39+4,Výpočet!S39)","v":500},{"$f":"IF(OR(C$19=0,$R44=0),0,'Výpočet Kv'!C40*Výpočet!AK39*ventil)","v":0},{"$f":"IF(OR(D$19=0,$R44=0),0,'Výpočet Kv'!D40*Výpočet!AL39*ventil)","v":0},{"$f":"IF(OR(E$19=0,$R44=0),0,'Výpočet Kv'!E40*Výpočet!AM39*ventil)","v":0},{"$f":"IF(OR(F$19=0,$R44=0),0,'Výpočet Kv'!F40*Výpočet!AN39*ventil)","v":1},{"$f":"IF(OR(G$19=0,$R44=0),0,'Výpočet Kv'!G40*Výpočet!AO39*ventil)","v":2},{"$f":"IF(OR(H$19=0,$R44=0),0,'Výpočet Kv'!H40*Výpočet!AP39*ventil)","v":2},{"$f":"IF(OR(I$19=0,$R44=0),0,'Výpočet Kv'!I40*Výpočet!AQ39*ventil)","v":0},{"$f":"IF(OR(J$19=0,$R44=0),0,'Výpočet Kv'!J40*Výpočet!AR39*ventil)","v":0},{"$f":"IF(OR(K$19=0,$R44=0),0,'Výpočet Kv'!K40*Výpočet!AS39*ventil)","v":1},{"$f":"IF(OR(L$19=0,$R44=0),0,'Výpočet Kv'!L40*Výpočet!AT39*ventil)","v":1},{"$f":"IF(OR(M$19=0,$R44=0),0,'Výpočet Kv'!M40*Výpočet!AU39*ventil)","v":2},{"$f":"IF(OR(N$19=0,$R44=0),0,'Výpočet Kv'!N40*Výpočet!AV39*ventil)","v":2},{"$f":"IF(OR(O$19=0,$R44=0),0,'Výpočet Kv'!O40*Výpočet!AW39*ventil)","v":2},{"$f":"IF(OR(P$19=0,$R44=0),0,'Výpočet Kv'!P40*Výpočet!AX39*ventil)","v":3},500,{"$f":"Výstup!R44","v":1}]
[null,{"$f":"IF(OR(Logic!$C$3=\"K0\",Logic!$C$3=\"P0\"),Výpočet!S40+4,Výpočet!S40)","v":600},{"$f":"IF(OR(C$19=0,$R45=0),0,'Výpočet Kv'!C41*Výpočet!AK40*ventil)","v":0},{"$f":"IF(OR(D$19=0,$R45=0),0,'Výpočet Kv'!D41*Výpočet!AL40*ventil)","v":0},{"$f":"IF(OR(E$19=0,$R45=0),0,'Výpočet Kv'!E41*Výpočet!AM40*ventil)","v":0},{"$f":"IF(OR(F$19=0,$R45=0),0,'Výpočet Kv'!F41*Výpočet!AN40*ventil)","v":2},{"$f":"IF(OR(G$19=0,$R45=0),0,'Výpočet Kv'!G41*Výpočet!AO40*ventil)","v":2},{"$f":"IF(OR(H$19=0,$R45=0),0,'Výpočet Kv'!H41*Výpočet!AP40*ventil)","v":2},{"$f":"IF(OR(I$19=0,$R45=0),0,'Výpočet Kv'!I41*Výpočet!AQ40*ventil)","v":0},{"$f":"IF(OR(J$19=0,$R45=0),0,'Výpočet Kv'!J41*Výpočet!AR40*ventil)","v":0},{"$f":"IF(OR(K$19=0,$R45=0),0,'Výpočet Kv'!K41*Výpočet!AS40*ventil)","v":1},{"$f":"IF(OR(L$19=0,$R45=0),0,'Výpočet Kv'!L41*Výpočet!AT40*ventil)","v":2},{"$f":"IF(OR(M$19=0,$R45=0),0,'Výpočet Kv'!M41*Výpočet!AU40*ventil)","v":2},{"$f":"IF(OR(N$19=0,$R45=0),0,'Výpočet Kv'!N41*Výpočet!AV40*ventil)","v":2},{"$f":"IF(OR(O$19=0,$R45=0),0,'Výpočet Kv'!O41*Výpočet!AW40*ventil)","v":3},{"$f":"IF(OR(P$19=0,$R45=0),0,'Výpočet Kv'!P41*Výpočet!AX40*ventil)","v":3},600,{"$f":"Výstup!R45","v":1}]
[null,{"$f":"IF(OR(Logic!$C$3=\"K0\",Logic!$C$3=\"P0\"),Výpočet!S41+4,Výpočet!S41)","v":700},{"$f":"IF(OR(C$19=0,$R46=0),0,'Výpočet Kv'!C42*Výpočet!AK41*ventil)","v":0},{"$f":"IF(OR(D$19=0,$R46=0),0,'Výpočet Kv'!D42*Výpočet!AL41*ventil)","v":0},{"$f":"IF(OR(E$19=0,$R46=0),0,'Výpočet Kv'!E42*Výpočet!AM41*ventil)","v":0},{"$f":"IF(OR(F$19=0,$R46=0),0,'Výpočet Kv'!F42*Výpočet!AN41*ventil)","v":2},{"$f":"IF(OR(G$19=0,$R46=0),0,'Výpočet Kv'!G42*Výpočet!AO41*ventil)","v":2},{"$f":"IF(OR(H$19=0,$R46=0),0,'Výpočet Kv'!H42*Výpočet!AP41*ventil)","v":2},{"$f":"IF(OR(I$19=0,$R46=0),0,'Výpočet Kv'!I42*Výpočet!AQ41*ventil)","v":0},{"$f":"IF(OR(J$19=0,$R46=0),0,'Výpočet Kv'!J42*Výpočet!AR41*ventil)","v":0},{"$f":"IF(OR(K$19=0,$R46=0),0,'Výpočet Kv'!K42*Výpočet!AS41*ventil)","v":2},{"$f":"IF(OR(L$19=0,$R46=0),0,'Výpočet Kv'!L42*Výpočet!AT41*ventil)","v":2},{"$f":"IF(OR(M$19=0,$R46=0),0,'Výpočet Kv'!M42*Výpočet!AU41*ventil)","v":2},{"$f":"IF(OR(N$19=0,$R46=0),0,'Výpočet Kv'!N42*Výpočet!AV41*ventil)","v":3},{"$f":"IF(OR(O$19=0,$R46=0),0,'Výpočet Kv'!O42*Výpočet!AW41*ventil)","v":3},{"$f":"IF(OR(P$19=0,$R46=0),0,'Výpočet Kv'!P42*Výpočet!AX41*ventil)","v":3},700,{"$f":"Výstup!R46","v":1}]
[null,{"$f":"IF(OR(Logic!$C$3=\"K0\",Logic!$C$3=\"P0\"),Výpočet!S42+4,Výpočet!S42)","v":800},{"$f":"IF(OR(C$19=0,$R47=0),0,'Výpočet Kv'!C43*Výpočet!AK42*ventil)","v":0},{"$f":"IF(OR(D$19=0,$R47=0),0,'Výpočet Kv'!D43*Výpočet!AL42*ventil)","v":0},{"$f":"IF(OR(E$19=0,$R47=0),0,'Výpočet Kv'!E43*Výpočet!AM42*ventil)","v":0},{"$f":"IF(OR(F$19=0,$R47=0),0,'Výpočet Kv'!F43*Výpočet!AN42*ventil)","v":2},{"$f":"IF(OR(G$19=0,$R47=0),0,'Výpočet Kv'!G43*Výpočet!AO42*ventil)","v":2},{"$f":"IF(OR(H$19=0,$R47=0),0,'Výpočet Kv'!H43*Výpočet!AP42*ventil)","v":3},{"$f":"IF(OR(I$19=0,$R47=0),0,'Výpočet Kv'!I43*Výpočet!AQ42*ventil)","v":0},{"$f":"IF(OR(J$19=0,$R47=0),0,'Výpočet Kv'!J43*Výpočet!AR42*ventil)","v":0},{"$f":"IF(OR(K$19=0,$R47=0),0,'Výpočet Kv'!K43*Výpočet!AS42*ventil)","v":2},{"$f":"IF(OR(L$19=0,$R47=0),0,'Výpočet Kv'!L43*Výpočet!AT42*ventil)","v":2},{"$f":"IF(OR(M$19=0,$R47=0),0,'Výpočet Kv'!M43*Výpočet!AU42*ventil)","v":3},{"$f":"IF(OR(N$19=0,$R47=0),0,'Výpočet Kv'!N43*Výpočet!AV42*ventil)","v":3},{"$f":"IF(OR(O$19=0,$R47=0),0,'Výpočet Kv'!O43*Výpočet!AW42*ventil)","v":3},{"$f":"IF(OR(P$19=0,$R47=0),0,'Výpočet Kv'!P43*Výpočet!AX42*ventil)","v":4},800,{"$f":"Výstup!R47","v":1}]
[null,{"$f":"IF(OR(Logic!$C$3=\"K0\",Logic!$C$3=\"P0\"),Výpočet!S43+4,Výpočet!S43)","v":900},{"$f":"IF(OR(C$19=0,$R48=0),0,'Výpočet Kv'!C44*Výpočet!AK43*ventil)","v":0},{"$f":"IF(OR(D$19=0,$R48=0),0,'Výpočet Kv'!D44*Výpočet!AL43*ventil)","v":0},{"$f":"IF(OR(E$19=0,$R48=0),0,'Výpočet Kv'!E44*Výpočet!AM43*ventil)","v":0},{"$f":"IF(OR(F$19=0,$R48=0),0,'Výpočet Kv'!F44*Výpočet!AN43*ventil)","v":2},{"$f":"IF(OR(G$19=0,$R48=0),0,'Výpočet Kv'!G44*Výpočet!AO43*ventil)","v":3},{"$f":"IF(OR(H$19=0,$R48=0),0,'Výpočet Kv'!H44*Výpočet!AP43*ventil)","v":3},{"$f":"IF(OR(I$19=0,$R48=0),0,'Výpočet Kv'!I44*Výpočet!AQ43*ventil)","v":0},{"$f":"IF(OR(J$19=0,$R48=0),0,'Výpočet Kv'!J44*Výpočet!AR43*ventil)","v":0},{"$f":"IF(OR(K$19=0,$R48=0),0,'Výpočet Kv'!K44*Výpočet!AS43*ventil)","v":2},{"$f":"IF(OR(L$19=0,$R48=0),0,'Výpočet Kv'!L44*Výpočet!AT43*ventil)","v":3},{"$f":"IF(OR(M$19=0,$R48=0),0,'Výpočet Kv'!M44*Výpočet!AU43*ventil)","v":3},{"$f":"IF(OR(N$19=0,$R48=0),0,'Výpočet Kv'!N44*Výpočet!AV43*ventil)","v":3},{"$f":"IF(OR(O$19=0,$R48=0),0,'Výpočet Kv'!O44*Výpočet!AW43*ventil)","v":4},{"$f":"IF(OR(P$19=0,$R48=0),0,'Výpočet Kv'!P44*Výpočet!AX43*ventil)","v":5},900,{"$f":"Výstup!R48","v":1}]
[null,{"$f":"IF(OR(Logic!$C$3=\"K0\",Logic!$C$3=\"P0\"),Výpočet!S44+4,Výpočet!S44)","v":1000},{"$f":"IF(OR(C$19=0,$R49=0),0,'Výpočet Kv'!C45*Výpočet!AK44*ventil)","v":0},{"$f":"IF(OR(D$19=0,$R49=0),0,'Výpočet Kv'!D45*Výpočet!AL44*ventil)","v":0},{"$f":"IF(OR(E$19=0,$R49=0),0,'Výpočet Kv'!E45*Výpočet!AM44*ventil)","v":0},{"$f":"IF(OR(F$19=0,$R49=0),0,'Výpočet Kv'!F45*Výpočet!AN44*ventil)","v":3},{"$f":"IF(OR(G$19=0,$R49=0),0,'Výpočet Kv'!G45*Výpočet!AO44*ventil)","v":3},{"$f":"IF(OR(H$19=0,$R49=0),0,'Výpočet Kv'!H45*Výpočet!AP44*ventil)","v":3},{"$f":"IF(OR(I$19=0,$R49=0),0,'Výpočet Kv'!I45*Výpočet!AQ44*ventil)","v":0},{"$f":"IF(OR(J$19=0,$R49=0),0,'Výpočet Kv'!J45*Výpočet!AR44*ventil)","v":0},{"$f":"IF(OR(K$19=0,$R49=0),0,'Výpočet Kv'!K45*Výpočet!AS44*ventil)","v":2},{"$f":"IF(OR(L$19=0,$R49=0),0,'Výpočet Kv'!L45*Výpočet!AT44*ventil)","v":3},{"$f":"IF(OR(M$19=0,$R49=0),0,'Výpočet Kv'!M45*Výpočet!AU44*ventil)","v":3},{"$f":"IF(OR(N$19=0,$R49=0),0,'Výpočet Kv'!N45*Výpočet!AV44*ventil)","v":4},{"$f":"IF(OR(O$19=0,$R49=0),0,'Výpočet Kv'!O45*Výpočet!AW44*ventil)","v":4},{"$f":"IF(OR(P$19=0,$R49=0),0,'Výpočet Kv'!P45*Výpočet!AX44*ventil)","v":5},1000,{"$f":"Výstup!R49","v":1}]
[null,{"$f":"IF(OR(Logic!$C$3=\"K0\",Logic!$C$3=\"P0\"),Výpočet!S45+4,Výpočet!S45)","v":1100},{"$f":"IF(OR(C$19=0,$R50=0),0,'Výpočet Kv'!C46*Výpočet!AK45*ventil)","v":0},{"$f":"IF(OR(D$19=0,$R50=0),0,'Výpočet Kv'!D46*Výpočet!AL45*ventil)","v":0},{"$f":"IF(OR(E$19=0,$R50=0),0,'Výpočet Kv'!E46*Výpočet!AM45*ventil)","v":0},{"$f":"IF(OR(F$19=0,$R50=0),0,'Výpočet Kv'!F46*Výpočet!AN45*ventil)","v":3},{"$f":"IF(OR(G$19=0,$R50=0),0,'Výpočet Kv'!G46*Výpočet!AO45*ventil)","v":3},{"$f":"IF(OR(H$19=0,$R50=0),0,'Výpočet Kv'!H46*Výpočet!AP45*ventil)","v":4},{"$f":"IF(OR(I$19=0,$R50=0),0,'Výpočet Kv'!I46*Výpočet!AQ45*ventil)","v":0},{"$f":"IF(OR(J$19=0,$R50=0),0,'Výpočet Kv'!J46*Výpočet!AR45*ventil)","v":0},{"$f":"IF(OR(K$19=0,$R50=0),0,'Výpočet Kv'!K46*Výpočet!AS45*ventil)","v":2},{"$f":"IF(OR(L$19=0,$R50=0),0,'Výpočet Kv'!L46*Výpočet!AT45*ventil)","v":3},{"$f":"IF(OR(M$19=0,$R50=0),0,'Výpočet Kv'!M46*Výpočet!AU45*ventil)","v":4},{"$f":"IF(OR(N$19=0,$R50=0),0,'Výpočet Kv'!N46*Výpočet!AV45*ventil)","v":4},{"$f":"IF(OR(O$19=0,$R50=0),0,'Výpočet Kv'!O46*Výpočet!AW45*ventil)","v":5},{"$f":"IF(OR(P$19=0,$R50=0),0,'Výpočet Kv'!P46*Výpočet!AX45*ventil)","v":6},1100,{"$f":"Výstup!R50","v":1}]
[null,{"$f":"IF(OR(Logic!$C$3=\"K0\",Logic!$C$3=\"P0\"),Výpočet!S46+4,Výpočet!S46)","v":1200},{"$f":"IF(OR(C$19=0,$R51=0),0,'Výpočet Kv'!C47*Výpočet!AK46*ventil)","v":0},{"$f":"IF(OR(D$19=0,$R51=0),0,'Výpočet Kv'!D47*Výpočet!AL46*ventil)","v":0},{"$f":"IF(OR(E$19=0,$R51=0),0,'Výpočet Kv'!E47*Výpočet!AM46*ventil)","v":0},{"$f":"IF(OR(F$19=0,$R51=0),0,'Výpočet Kv'!F47*Výpočet!AN46*ventil)","v":3},{"$f":"IF(OR(G$19=0,$R51=0),0,'Výpočet Kv'!G47*Výpočet!AO46*ventil)","v":4},{"$f":"IF(OR(H$19=0,$R51=0),0,'Výpočet Kv'!H47*Výpočet!AP46*ventil)","v":4},{"$f":"IF(OR(I$19=0,$R51=0),0,'Výpočet Kv'!I47*Výpočet!AQ46*ventil)","v":0},{"$f":"IF(OR(J$19=0,$R51=0),0,'Výpočet Kv'!J47*Výpočet!AR46*ventil)","v":0},{"$f":"IF(OR(K$19=0,$R51=0),0,'Výpočet Kv'!K47*Výpočet!AS46*ventil)","v":3},{"$f":"IF(OR(L$19=0,$R51=0),0,'Výpočet Kv'!L47*Výpočet!AT46*ventil)","v":3},{"$f":"IF(OR(M$19=0,$R51=0),0,'Výpočet Kv'!M47*Výpočet!AU46*ventil)","v":4},{"$f":"IF(OR(N$19=0,$R51=0),0,'Výpočet Kv'!N47*Výpočet!AV46*ventil)","v":5},{"$f":"IF(OR(O$19=0,$R51=0),0,'Výpočet Kv'!O47*Výpočet!AW46*ventil)","v":5},{"$f":"IF(OR(P$19=0,$R51=0),0,'Výpočet Kv'!P47*Výpočet!AX46*ventil)","v":6},1200,{"$f":"Výstup!R51","v":1}]
[null,{"$f":"IF(OR(Logic!$C$3=\"K0\",Logic!$C$3=\"P0\"),Výpočet!S47+4,Výpočet!S47)","v":1400},{"$f":"IF(OR(C$19=0,$R52=0),0,'Výpočet Kv'!C48*Výpočet!AK47*ventil)","v":0},{"$f":"IF(OR(D$19=0,$R52=0),0,'Výpočet Kv'!D48*Výpočet!AL47*ventil)","v":0},{"$f":"IF(OR(E$19=0,$R52=0),0,'Výpočet Kv'!E48*Výpočet!AM47*ventil)","v":0},{"$f":"IF(OR(F$19=0,$R52=0),0,'Výpočet Kv'!F48*Výpočet!AN47*ventil)","v":4},{"$f":"IF(OR(G$19=0,$R52=0),0,'Výpočet Kv'!G48*Výpočet!AO47*ventil)","v":4},{"$f":"IF(OR(H$19=0,$R52=0),0,'Výpočet Kv'!H48*Výpočet!AP47*ventil)","v":5},{"$f":"IF(OR(I$19=0,$R52=0),0,'Výpočet Kv'!I48*Výpočet!AQ47*ventil)","v":0},{"$f":"IF(OR(J$19=0,$R52=0),0,'Výpočet Kv'!J48*Výpočet!AR47*ventil)","v":0},{"$f":"IF(OR(K$19=0,$R52=0),0,'Výpočet Kv'!K48*Výpočet!AS47*ventil)","v":3},{"$f":"IF(OR(L$19=0,$R52=0),0,'Výpočet Kv'!L48*Výpočet!AT47*ventil)","v":4},{"$f":"IF(OR(M$19=0,$R52=0),0,'Výpočet Kv'!M48*Výpočet!AU47*ventil)","v":5},{"$f":"IF(OR(N$19=0,$R52=0),0,'Výpočet Kv'!N48*Výpočet!AV47*ventil)","v":6},{"$f":"IF(OR(O$19=0,$R52=0),0,'Výpočet Kv'!O48*Výpočet!AW47*ventil)","v":6},{"$f":"IF(OR(P$19=0,$R52=0),0,'Výpočet Kv'!P48*Výpočet!AX47*ventil)","v":7},1400,{"$f":"Výstup!R52","v":1}]
[null,{"$f":"IF(OR(Logic!$C$3=\"K0\",Logic!$C$3=\"P0\"),Výpočet!S48+4,Výpočet!S48)","v":1600},{"$f":"IF(OR(C$19=0,$R53=0),0,'Výpočet Kv'!C49*Výpočet!AK48*ventil)","v":0},{"$f":"IF(OR(D$19=0,$R53=0),0,'Výpočet Kv'!D49*Výpočet!AL48*ventil)","v":0},{"$f":"IF(OR(E$19=0,$R53=0),0,'Výpočet Kv'!E49*Výpočet!AM48*ventil)","v":0},{"$f":"IF(OR(F$19=0,$R53=0),0,'Výpočet Kv'!F49*Výpočet!AN48*ventil)","v":4},{"$f":"IF(OR(G$19=0,$R53=0),0,'Výpočet Kv'!G49*Výpočet!AO48*ventil)","v":5},{"$f":"IF(OR(H$19=0,$R53=0),0,'Výpočet Kv'!H49*Výpočet!AP48*ventil)","v":6},{"$f":"IF(OR(I$19=0,$R53=0),0,'Výpočet Kv'!I49*Výpočet!AQ48*ventil)","v":0},{"$f":"IF(OR(J$19=0,$R53=0),0,'Výpočet Kv'!J49*Výpočet!AR48*ventil)","v":0},{"$f":"IF(OR(K$19=0,$R53=0),0,'Výpočet Kv'!K49*Výpočet!AS48*ventil)","v":4},{"$f":"IF(OR(L$19=0,$R53=0),0,'Výpočet Kv'!L49*Výpočet!AT48*ventil)","v":5},{"$f":"IF(OR(M$19=0,$R53=0),0,'Výpočet Kv'!M49*Výpočet!AU48*ventil)","v":6},{"$f":"IF(OR(N$19=0,$R53=0),0,'Výpočet Kv'!N49*Výpočet!AV48*ventil)","v":6},{"$f":"IF(OR(O$19=0,$R53=0),0,'Výpočet Kv'!O49*Výpočet!AW48*ventil)","v":7},{"$f":"IF(OR(P$19=0,$R53=0),0,'Výpočet Kv'!P49*Výpočet!AX48*ventil)","v":8},1600,{"$f":"Výstup!R53","v":1}]
[null,{"$f":"IF(OR(Logic!$C$3=\"K0\",Logic!$C$3=\"P0\"),Výpočet!S49+4,Výpočet!S49)","v":1800},{"$f":"IF(OR(C$19=0,$R54=0),0,'Výpočet Kv'!C50*Výpočet!AK49*ventil)","v":0},{"$f":"IF(OR(D$19=0,$R54=0),0,'Výpočet Kv'!D50*Výpočet!AL49*ventil)","v":0},{"$f":"IF(OR(E$19=0,$R54=0),0,'Výpočet Kv'!E50*Výpočet!AM49*ventil)","v":0},{"$f":"IF(OR(F$19=0,$R54=0),0,'Výpočet Kv'!F50*Výpočet!AN49*ventil)","v":5},{"$f":"IF(OR(G$19=0,$R54=0),0,'Výpočet Kv'!G50*Výpočet!AO49*ventil)","v":6},{"$f":"IF(OR(H$19=0,$R54=0),0,'Výpočet Kv'!H50*Výpočet!AP49*ventil)","v":6},{"$f":"IF(OR(I$19=0,$R54=0),0,'Výpočet Kv'!I50*Výpočet!AQ49*ventil)","v":0},{"$f":"IF(OR(J$19=0,$R54=0),0,'Výpočet Kv'!J50*Výpočet!AR49*ventil)","v":0},{"$f":"IF(OR(K$19=0,$R54=0),0,'Výpočet Kv'!K50*Výpočet!AS49*ventil)","v":4},{"$f":"IF(OR(L$19=0,$R54=0),0,'Výpočet Kv'!L50*Výpočet!AT49*ventil)","v":5},{"$f":"IF(OR(M$19=0,$R54=0),0,'Výpočet Kv'!M50*Výpočet!AU49*ventil)","v":6},{"$f":"IF(OR(N$19=0,$R54=0),0,'Výpočet Kv'!N50*Výpočet!AV49*ventil)","v":7},{"$f":"IF(OR(O$19=0,$R54=0),0,'Výpočet Kv'!O50*Výpočet!AW49*ventil)","v":8},{"$f":"IF(OR(P$19=0,$R54=0),0,'Výpočet Kv'!P50*Výpočet!AX49*ventil)","v":0},1800,{"$f":"Výstup!R54","v":1}]
[null,{"$f":"IF(OR(Logic!$C$3=\"K0\",Logic!$C$3=\"P0\"),Výpočet!S50+4,Výpočet!S50)","v":2000},{"$f":"IF(OR(C$19=0,$R55=0),0,'Výpočet Kv'!C51*Výpočet!AK50*ventil)","v":0},{"$f":"IF(OR(D$19=0,$R55=0),0,'Výpočet Kv'!D51*Výpočet!AL50*ventil)","v":0},{"$f":"IF(OR(E$19=0,$R55=0),0,'Výpočet Kv'!E51*Výpočet!AM50*ventil)","v":0},{"$f":"IF(OR(F$19=0,$R55=0),0,'Výpočet Kv'!F51*Výpočet!AN50*ventil)","v":5},{"$f":"IF(OR(G$19=0,$R55=0),0,'Výpočet Kv'!G51*Výpočet!AO50*ventil)","v":6},{"$f":"IF(OR(H$19=0,$R55=0),0,'Výpočet Kv'!H51*Výpočet!AP50*ventil)","v":7},{"$f":"IF(OR(I$19=0,$R55=0),0,'Výpočet Kv'!I51*Výpočet!AQ50*ventil)","v":0},{"$f":"IF(OR(J$19=0,$R55=0),0,'Výpočet Kv'!J51*Výpočet!AR50*ventil)","v":0},{"$f":"IF(OR(K$19=0,$R55=0),0,'Výpočet Kv'!K51*Výpočet!AS50*ventil)","v":5},{"$f":"IF(OR(L$19=0,$R55=0),0,'Výpočet Kv'!L51*Výpočet!AT50*ventil)","v":6},{"$f":"IF(OR(M$19=0,$R55=0),0,'Výpočet Kv'!M51*Výpočet!AU50*ventil)","v":7},{"$f":"IF(OR(N$19=0,$R55=0),0,'Výpočet Kv'!N51*Výpočet!AV50*ventil)","v":8},{"$f":"IF(OR(O$19=0,$R55=0),0,'Výpočet Kv'!O51*Výpočet!AW50*ventil)","v":8},{"$f":"IF(OR(P$19=0,$R55=0),0,'Výpočet Kv'!P51*Výpočet!AX50*ventil)","v":0},2000,{"$f":"Výstup!R55","v":1}]
[null,{"$f":"IF(OR(Logic!$C$3=\"K0\",Logic!$C$3=\"P0\"),Výpočet!S51+4,Výpočet!S51)","v":2300},{"$f":"IF(OR(C$19=0,$R56=0),0,'Výpočet Kv'!C52*Výpočet!AK51*ventil)","v":0},{"$f":"IF(OR(D$19=0,$R56=0),0,'Výpočet Kv'!D52*Výpočet!AL51*ventil)","v":0},{"$f":"IF(OR(E$19=0,$R56=0),0,'Výpočet Kv'!E52*Výpočet!AM51*ventil)","v":0},{"$f":"IF(OR(F$19=0,$R56=0),0,'Výpočet Kv'!F52*Výpočet!AN51*ventil)","v":0},{"$f":"IF(OR(G$19=0,$R56=0),0,'Výpočet Kv'!G52*Výpočet!AO51*ventil)","v":0},{"$f":"IF(OR(H$19=0,$R56=0),0,'Výpočet Kv'!H52*Výpočet!AP51*ventil)","v":0},{"$f":"IF(OR(I$19=0,$R56=0),0,'Výpočet Kv'!I52*Výpočet!AQ51*ventil)","v":0},{"$f":"IF(OR(J$19=0,$R56=0),0,'Výpočet Kv'!J52*Výpočet!AR51*ventil)","v":0},{"$f":"IF(OR(K$19=0,$R56=0),0,'Výpočet Kv'!K52*Výpočet!AS51*ventil)","v":0},{"$f":"IF(OR(L$19=0,$R56=0),0,'Výpočet Kv'!L52*Výpočet!AT51*ventil)","v":0},{"$f":"IF(OR(M$19=0,$R56=0),0,'Výpočet Kv'!M52*Výpočet!AU51*ventil)","v":0},{"$f":"IF(OR(N$19=0,$R56=0),0,'Výpočet Kv'!N52*Výpočet!AV51*ventil)","v":0},{"$f":"IF(OR(O$19=0,$R56=0),0,'Výpočet Kv'!O52*Výpočet!AW51*ventil)","v":0},{"$f":"IF(OR(P$19=0,$R56=0),0,'Výpočet Kv'!P52*Výpočet!AX51*ventil)","v":0},2300,{"$f":"Výstup!R56","v":1}]
[null,{"$f":"IF(OR(Logic!$C$3=\"K0\",Logic!$C$3=\"P0\"),Výpočet!S52+4,Výpočet!S52)","v":2600},{"$f":"IF(OR(C$19=0,$R57=0),0,'Výpočet Kv'!C53*Výpočet!AK52*ventil)","v":0},{"$f":"IF(OR(D$19=0,$R57=0),0,'Výpočet Kv'!D53*Výpočet!AL52*ventil)","v":0},{"$f":"IF(OR(E$19=0,$R57=0),0,'Výpočet Kv'!E53*Výpočet!AM52*ventil)","v":0},{"$f":"IF(OR(F$19=0,$R57=0),0,'Výpočet Kv'!F53*Výpočet!AN52*ventil)","v":0},{"$f":"IF(OR(G$19=0,$R57=0),0,'Výpočet Kv'!G53*Výpočet!AO52*ventil)","v":0},{"$f":"IF(OR(H$19=0,$R57=0),0,'Výpočet Kv'!H53*Výpočet!AP52*ventil)","v":0},{"$f":"IF(OR(I$19=0,$R57=0),0,'Výpočet Kv'!I53*Výpočet!AQ52*ventil)","v":0},{"$f":"IF(OR(J$19=0,$R57=0),0,'Výpočet Kv'!J53*Výpočet!AR52*ventil)","v":0},{"$f":"IF(OR(K$19=0,$R57=0),0,'Výpočet Kv'!K53*Výpočet!AS52*ventil)","v":0},{"$f":"IF(OR(L$19=0,$R57=0),0,'Výpočet Kv'!L53*Výpočet!AT52*ventil)","v":0},{"$f":"IF(OR(M$19=0,$R57=0),0,'Výpočet Kv'!M53*Výpočet!AU52*ventil)","v":0},{"$f":"IF(OR(N$19=0,$R57=0),0,'Výpočet Kv'!N53*Výpočet!AV52*ventil)","v":0},{"$f":"IF(OR(O$19=0,$R57=0),0,'Výpočet Kv'!O53*Výpočet!AW52*ventil)","v":0},{"$f":"IF(OR(P$19=0,$R57=0),0,'Výpočet Kv'!P53*Výpočet!AX52*ventil)","v":0},2600,{"$f":"Výstup!R57","v":1}]
[null,{"$f":"IF(OR(Logic!$C$3=\"K0\",Logic!$C$3=\"P0\"),Výpočet!S53+4,Výpočet!S53)","v":3000},{"$f":"IF(OR(C$19=0,$R58=0),0,'Výpočet Kv'!C54*Výpočet!AK53*ventil)","v":0},{"$f":"IF(OR(D$19=0,$R58=0),0,'Výpočet Kv'!D54*Výpočet!AL53*ventil)","v":0},{"$f":"IF(OR(E$19=0,$R58=0),0,'Výpočet Kv'!E54*Výpočet!AM53*ventil)","v":0},{"$f":"IF(OR(F$19=0,$R58=0),0,'Výpočet Kv'!F54*Výpočet!AN53*ventil)","v":0},{"$f":"IF(OR(G$19=0,$R58=0),0,'Výpočet Kv'!G54*Výpočet!AO53*ventil)","v":0},{"$f":"IF(OR(H$19=0,$R58=0),0,'Výpočet Kv'!H54*Výpočet!AP53*ventil)","v":0},{"$f":"IF(OR(I$19=0,$R58=0),0,'Výpočet Kv'!I54*Výpočet!AQ53*ventil)","v":0},{"$f":"IF(OR(J$19=0,$R58=0),0,'Výpočet Kv'!J54*Výpočet!AR53*ventil)","v":0},{"$f":"IF(OR(K$19=0,$R58=0),0,'Výpočet Kv'!K54*Výpočet!AS53*ventil)","v":0},{"$f":"IF(OR(L$19=0,$R58=0),0,'Výpočet Kv'!L54*Výpočet!AT53*ventil)","v":0},{"$f":"IF(OR(M$19=0,$R58=0),0,'Výpočet Kv'!M54*Výpočet!AU53*ventil)","v":0},{"$f":"IF(OR(N$19=0,$R58=0),0,'Výpočet Kv'!N54*Výpočet!AV53*ventil)","v":0},{"$f":"IF(OR(O$19=0,$R58=0),0,'Výpočet Kv'!O54*Výpočet!AW53*ventil)","v":0},{"$f":"IF(OR(P$19=0,$R58=0),0,'Výpočet Kv'!P54*Výpočet!AX53*ventil)","v":0},3000,{"$f":"Výstup!R58","v":1}]
[]
[null,null,{"$f":"F60","v":"Typ 22"},{"$f":"F60","v":"Typ 22"},{"$f":"F60","v":"Typ 22"},{"$f":"IF(Výpočet!W54=0,0,IF(OR(Logic!$C$3=\"V0\",Logic!$C$3=\"U0\"),0,Logic!$P$3&\" \"&Výpočet!W54))","v":"Typ 22"},{"$f":"F60","v":"Typ 22"},{"$f":"F60","v":"Typ 22"},{"$f":"F60","v":"Typ 22"},{"$f":"M60","v":"Typ 33"},{"$f":"M60","v":"Typ 33"},{"$f":"M60","v":"Typ 33"},{"$f":"IF(OR(Logic!$C$3=\"A0\",Logic!$C$3=\"B0\",Logic!$C$3=\"K0\",Logic!$C$3=\"P0\",Logic!$C$3=\"V0\",Logic!$C$3=\"U0\",Výpočet!AD54=0),0,Logic!$P$3&\" \"&Výpočet!AD54)","v":"Typ 33"},{"$f":"M60","v":"Typ 33"},{"$f":"M60","v":"Typ 33"},{"$f":"M60","v":"Typ 33"}]
[null,{"$f":"IF(OR(Logic!$C$3=\"V0\",Logic!$C$3=\"U0\"),Logic!$I$3,Logic!$J$3)&\" [mm]\"","v":"Délka [mm]"},{"$f":"IF(C60=0,0,IF(OR(Logic!$C$3=\"V0\",Logic!$C$3=\"U0\"),Logic!$J$3,Logic!$I$3) &\" [mm]\")","v":"Výška [mm]"},null,null,null,null,null,null,{"$f":"IF(J60=0,0,IF(OR(Logic!$C$3=\"V0\",Logic!$C$3=\"U0\"),Logic!$J$3,Logic!$I$3) &\" [mm]\")","v":"Výška [mm]"},null,null,null,null,null,null,{"$f":"IF(OR(Logic!$C$3=\"V0\",Logic!$C$3=\"U0\"),Logic!$I$3,Logic!$J$3)&\" [mm]\"","v":"Délka [mm]"}]
[null,null,{"$f":"Výpočet!T55","v":200},{"$f":"Výpočet!U55","v":300},{"$f":"Výpočet!V55","v":400},{"$f":"Výpočet!W55","v":500},{"$f":"Výpočet!X55","v":600},{"$f":"Výpočet!Y55","v":700},{"$f":"Výpočet!Z55","v":900},{"$f":"Výpočet!AA55","v":200},{"$f":"Výpočet!AB55","v":300},{"$f":"Výpočet!AC55","v":400},{"$f":"Výpočet!AD55","v":500},{"$f":"Výpočet!AE55","v":600},{"$f":"Výpočet!AF55","v":700},{"$f":"Výpočet!AG55","v":900}]
[null,{"$f":"IF(OR(Logic!$C$3=\"K0\",Logic!$C$3=\"P0\"),Výpočet!S56+4,Výpočet!S56)","v":400},{"$f":"IF(OR(C$19=0,$R63=0),0,'Výpočet Kv'!C59*Výpočet!AK56*ventil)","v":0},{"$f":"IF(OR(D$19=0,$R63=0),0,'Výpočet Kv'!D59*Výpočet!AL56*ventil)","v":0},{"$f":"IF(OR(E$19=0,$R63=0),0,'Výpočet Kv'!E59*Výpočet!AM56*ventil)","v":0},{"$f":"IF(OR(F$19=0,$R63=0),0,'Výpočet Kv'!F59*Výpočet!AN56*ventil)","v":0},{"$f":"IF(OR(G$19=0,$R63=0),0,'Výpočet Kv'!G59*Výpočet!AO56*ventil)","v":0},{"$f":"IF(OR(H$19=0,$R63=0),0,'Výpočet Kv'!H59*Výpočet!AP56*ventil)","v":0},{"$f":"IF(OR(I$19=0,$R63=0),0,'Výpočet Kv'!I59*Výpočet!AQ56*ventil)","v":0},{"$f":"IF(OR(J$19=0,$R63=0),0,'Výpočet Kv'!J59*Výpočet!AR56*ventil)","v":0},{"$f":"IF(OR(K$19=0,$R63=0),0,'Výpočet Kv'!K59*Výpočet!AS56*ventil)","v":0},{"$f":"IF(OR(L$19=0,$R63=0),0,'Výpočet Kv'!L59*Výpočet!AT56*ventil)","v":0},{"$f":"IF(OR(M$19=0,$R63=0),0,'Výpočet Kv'!M59*Výpočet!AU56*ventil)","v":0},{"$f":"IF(OR(N$19=0,$R63=0),0,'Výpočet Kv'!N59*Výpočet!AV56*ventil)","v":0},{"$f":"IF(OR(O$19=0,$R63=0),0,'Výpočet Kv'!O59*Výpočet!AW56*ventil)","v":0},{"$f":"IF(OR(P$19=0,$R63=0),0,'Výpočet Kv'!P59*Výpočet!AX56*ventil)","v":0},{"$f":"B63","v":400},{"$f":"Výstup!R63","v":1}]
[null,{"$f":"IF(OR(Logic!$C$3=\"K0\",Logic!$C$3=\"P0\"),Výpočet!S57+4,Výpočet!S57)","v":500},{"$f":"IF(OR(C$19=0,$R64=0),0,'Výpočet Kv'!C60*Výpočet!AK57*ventil)","v":0},{"$f":"IF(OR(D$19=0,$R64=0),0,'Výpočet Kv'!D60*Výpočet!AL57*ventil)","v":1},{"$f":"IF(OR(E$19=0,$R64=0),0,'Výpočet Kv'!E60*Výpočet!AM57*ventil)","v":2},{"$f":"IF(OR(F$19=0,$R64=0),0,'Výpočet Kv'!F60*Výpočet!AN57*ventil)","v":2},{"$f":"IF(OR(G$19=0,$R64=0),0,'Výpočet Kv'!G60*Výpočet!AO57*ventil)","v":3},{"$f":"IF(OR(H$19=0,$R64=0),0,'Výpočet Kv'!H60*Výpočet!AP57*ventil)","v":3},{"$f":"IF(OR(I$19=0,$R64=0),0,'Výpočet Kv'!I60*Výpočet!AQ57*ventil)","v":3},{"$f":"IF(OR(J$19=0,$R64=0),0,'Výpočet Kv'!J60*Výpočet!AR57*ventil)","v":0},{"$f":"IF(OR(K$19=0,$R64=0),0,'Výpočet Kv'!K60*Výpočet!AS57*ventil)","v":0},{"$f":"IF(OR(L$19=0,$R64=0),0,'Výpočet Kv'!L60*Výpočet!AT57*ventil)","v":0},{"$f":"IF(OR(M$19=0,$R64=0),0,'Výpočet Kv'!M60*Výpočet!AU57*ventil)","v":3},{"$f":"IF(OR(N$19=0,$R64=0),0,'Výpočet Kv'!N60*Výpočet!AV57*ventil)","v":4},{"$f":"IF(OR(O$19=0,$R64=0),0,'Výpočet Kv'!O60*Výpočet!AW57*ventil)","v":4},{"$f":"IF(OR(P$19=0,$R64=0),0,'Výpočet Kv'!P60*Výpočet!AX57*ventil)","v":5},500,{"$f":"Výstup!R64","v":1}]
[null,{"$f":"IF(OR(Logic!$C$3=\"K0\",Logic!$C$3=\"P0\"),Výpočet!S58+4,Výpočet!S58)","v":600},{"$f":"IF(OR(C$19=0,$R65=0),0,'Výpočet Kv'!C61*Výpočet!AK58*ventil)","v":0},{"$f":"IF(OR(D$19=0,$R65=0),0,'Výpočet Kv'!D61*Výpočet!AL58*ventil)","v":2},{"$f":"IF(OR(E$19=0,$R65=0),0,'Výpočet Kv'!E61*Výpočet!AM58*ventil)","v":2},{"$f":"IF(OR(F$19=0,$R65=0),0,'Výpočet Kv'!F61*Výpočet!AN58*ventil)","v":3},{"$f":"IF(OR(G$19=0,$R65=0),0,'Výpočet Kv'!G61*Výpočet!AO58*ventil)","v":3},{"$f":"IF(OR(H$19=0,$R65=0),0,'Výpočet Kv'!H61*Výpočet!AP58*ventil)","v":3},{"$f":"IF(OR(I$19=0,$R65=0),0,'Výpočet Kv'!I61*Výpočet!AQ58*ventil)","v":4},{"$f":"IF(OR(J$19=0,$R65=0),0,'Výpočet Kv'!J61*Výpočet!AR58*ventil)","v":0},{"$f":"IF(OR(K$19=0,$R65=0),0,'Výpočet Kv'!K61*Výpočet!AS58*ventil)","v":0},{"$f":"IF(OR(L$19=0,$R65=0),0,'Výpočet Kv'!L61*Výpočet!AT58*ventil)","v":0},{"$f":"IF(OR(M$19=0,$R65=0),0,'Výpočet Kv'!M61*Výpočet!AU58*ventil)","v":4},{"$f":"IF(OR(N$19=0,$R65=0),0,'Výpočet Kv'!N61*Výpočet!AV58*ventil)","v":5},{"$f":"IF(OR(O$19=0,$R65=0),0,'Výpočet Kv'!O61*Výpočet!AW58*ventil)","v":5},{"$f":"IF(OR(P$19=0,$R65=0),0,'Výpočet Kv'!P61*Výpočet!AX58*ventil)","v":6},600,{"$f":"Výstup!R65","v":1}]
[null,{"$f":"IF(OR(Logic!$C$3=\"K0\",Logic!$C$3=\"P0\"),Výpočet!S59+4,Výpočet!S59)","v":700},{"$f":"IF(OR(C$19=0,$R66=0),0,'Výpočet Kv'!C62*Výpočet!AK59*ventil)","v":0},{"$f":"IF(OR(D$19=0,$R66=0),0,'Výpočet Kv'!D62*Výpočet!AL59*ventil)","v":2},{"$f":"IF(OR(E$19=0,$R66=0),0,'Výpočet Kv'!E62*Výpočet!AM59*ventil)","v":3},{"$f":"IF(OR(F$19=0,$R66=0),0,'Výpočet Kv'!F62*Výpočet!AN59*ventil)","v":3},{"$f":"IF(OR(G$19=0,$R66=0),0,'Výpočet Kv'!G62*Výpočet!AO59*ventil)","v":4},{"$f":"IF(OR(H$19=0,$R66=0),0,'Výpočet Kv'!H62*Výpočet!AP59*ventil)","v":4},{"$f":"IF(OR(I$19=0,$R66=0),0,'Výpočet Kv'!I62*Výpočet!AQ59*ventil)","v":5},{"$f":"IF(OR(J$19=0,$R66=0),0,'Výpočet Kv'!J62*Výpočet!AR59*ventil)","v":0},{"$f":"IF(OR(K$19=0,$R66=0),0,'Výpočet Kv'!K62*Výpočet!AS59*ventil)","v":0},{"$f":"IF(OR(L$19=0,$R66=0),0,'Výpočet Kv'!L62*Výpočet!AT59*ventil)","v":0},{"$f":"IF(OR(M$19=0,$R66=0),0,'Výpočet Kv'!M62*Výpočet!AU59*ventil)","v":5},{"$f":"IF(OR(N$19=0,$R66=0),0,'Výpočet Kv'!N62*Výpočet!AV59*ventil)","v":5},{"$f":"IF(OR(O$19=0,$R66=0),0,'Výpočet Kv'!O62*Výpočet!AW59*ventil)","v":6},{"$f":"IF(OR(P$19=0,$R66=0),0,'Výpočet Kv'!P62*Výpočet!AX59*ventil)","v":7},700,{"$f":"Výstup!R66","v":1}]
[null,{"$f":"IF(OR(Logic!$C$3=\"K0\",Logic!$C$3=\"P0\"),Výpočet!S60+4,Výpočet!S60)","v":800},{"$f":"IF(OR(C$19=0,$R67=0),0,'Výpočet Kv'!C63*Výpočet!AK60*ventil)","v":0},{"$f":"IF(OR(D$19=0,$R67=0),0,'Výpočet Kv'!D63*Výpočet!AL60*ventil)","v":2},{"$f":"IF(OR(E$19=0,$R67=0),0,'Výpočet Kv'!E63*Výpočet!AM60*ventil)","v":3},{"$f":"IF(OR(F$19=0,$R67=0),0,'Výpočet Kv'!F63*Výpočet!AN60*ventil)","v":3},{"$f":"IF(OR(G$19=0,$R67=0),0,'Výpočet Kv'!G63*Výpočet!AO60*ventil)","v":4},{"$f":"IF(OR(H$19=0,$R67=0),0,'Výpočet Kv'!H63*Výpočet!AP60*ventil)","v":5},{"$f":"IF(OR(I$19=0,$R67=0),0,'Výpočet Kv'!I63*Výpočet!AQ60*ventil)","v":6},{"$f":"IF(OR(J$19=0,$R67=0),0,'Výpočet Kv'!J63*Výpočet!AR60*ventil)","v":0},{"$f":"IF(OR(K$19=0,$R67=0),0,'Výpočet Kv'!K63*Výpočet!AS60*ventil)","v":3},{"$f":"IF(OR(L$19=0,$R67=0),0,'Výpočet Kv'!L63*Výpočet!AT60*ventil)","v":4},{"$f":"IF(OR(M$19=0,$R67=0),0,'Výpočet Kv'!M63*Výpočet!AU60*ventil)","v":5},{"$f":"IF(OR(N$19=0,$R67=0),0,'Výpočet Kv'!N63*Výpočet!AV60*ventil)","v":6},{"$f":"IF(OR(O$19=0,$R67=0),0,'Výpočet Kv'!O63*Výpočet!AW60*ventil)","v":7},{"$f":"IF(OR(P$19=0,$R67=0),0,'Výpočet Kv'!P63*Výpočet!AX60*ventil)","v":8},800,{"$f":"Výstup!R67","v":1}]
[null,{"$f":"IF(OR(Logic!$C$3=\"K0\",Logic!$C$3=\"P0\"),Výpočet!S61+4,Výpočet!S61)","v":900},{"$f":"IF(OR(C$19=0,$R68=0),0,'Výpočet Kv'!C64*Výpočet!AK61*ventil)","v":0},{"$f":"IF(OR(D$19=0,$R68=0),0,'Výpočet Kv'!D64*Výpočet!AL61*ventil)","v":3},{"$f":"IF(OR(E$19=0,$R68=0),0,'Výpočet Kv'!E64*Výpočet!AM61*ventil)","v":3},{"$f":"IF(OR(F$19=0,$R68=0),0,'Výpočet Kv'!F64*Výpočet!AN61*ventil)","v":4},{"$f":"IF(OR(G$19=0,$R68=0),0,'Výpočet Kv'!G64*Výpočet!AO61*ventil)","v":5},{"$f":"IF(OR(H$19=0,$R68=0),0,'Výpočet Kv'!H64*Výpočet!AP61*ventil)","v":5},{"$f":"IF(OR(I$19=0,$R68=0),0,'Výpočet Kv'!I64*Výpočet!AQ61*ventil)","v":6},{"$f":"IF(OR(J$19=0,$R68=0),0,'Výpočet Kv'!J64*Výpočet!AR61*ventil)","v":0},{"$f":"IF(OR(K$19=0,$R68=0),0,'Výpočet Kv'!K64*Výpočet!AS61*ventil)","v":4},{"$f":"IF(OR(L$19=0,$R68=0),0,'Výpočet Kv'!L64*Výpočet!AT61*ventil)","v":5},{"$f":"IF(OR(M$19=0,$R68=0),0,'Výpočet Kv'!M64*Výpočet!AU61*ventil)","v":6},{"$f":"IF(OR(N$19=0,$R68=0),0,'Výpočet Kv'!N64*Výpočet!AV61*ventil)","v":7},{"$f":"IF(OR(O$19=0,$R68=0),0,'Výpočet Kv'!O64*Výpočet!AW61*ventil)","v":7},{"$f":"IF(OR(P$19=0,$R68=0),0,'Výpočet Kv'!P64*Výpočet!AX61*ventil)","v":8},900,{"$f":"Výstup!R68","v":1}]
[null,{"$f":"IF(OR(Logic!$C$3=\"K0\",Logic!$C$3=\"P0\"),Výpočet!S62+4,Výpočet!S62)","v":1000},{"$f":"IF(OR(C$19=0,$R69=0),0,'Výpočet Kv'!C65*Výpočet!AK62*ventil)","v":0},{"$f":"IF(OR(D$19=0,$R69=0),0,'Výpočet Kv'!D65*Výpočet!AL62*ventil)","v":3},{"$f":"IF(OR(E$19=0,$R69=0),0,'Výpočet Kv'!E65*Výpočet!AM62*ventil)","v":4},{"$f":"IF(OR(F$19=0,$R69=0),0,'Výpočet Kv'!F65*Výpočet!AN62*ventil)","v":5},{"$f":"IF(OR(G$19=0,$R69=0),0,'Výpočet Kv'!G65*Výpočet!AO62*ventil)","v":5},{"$f":"IF(OR(H$19=0,$R69=0),0,'Výpočet Kv'!H65*Výpočet!AP62*ventil)","v":6},{"$f":"IF(OR(I$19=0,$R69=0),0,'Výpočet Kv'!I65*Výpočet!AQ62*ventil)","v":7},{"$f":"IF(OR(J$19=0,$R69=0),0,'Výpočet Kv'!J65*Výpočet!AR62*ventil)","v":0},{"$f":"IF(OR(K$19=0,$R69=0),0,'Výpočet Kv'!K65*Výpočet!AS62*ventil)","v":4},{"$f":"IF(OR(L$19=0,$R69=0),0,'Výpočet Kv'!L65*Výpočet!AT62*ventil)","v":5},{"$f":"IF(OR(M$19=0,$R69=0),0,'Výpočet Kv'!M65*Výpočet!AU62*ventil)","v":6},{"$f":"IF(OR(N$19=0,$R69=0),0,'Výpočet Kv'!N65*Výpočet!AV62*ventil)","v":7},{"$f":"IF(OR(O$19=0,$R69=0),0,'Výpočet Kv'!O65*Výpočet!AW62*ventil)","v":8},{"$f":"IF(OR(P$19=0,$R69=0),0,'Výpočet Kv'!P65*Výpočet!AX62*ventil)","v":8},1000,{"$f":"Výstup!R69","v":1}]
[null,{"$f":"IF(OR(Logic!$C$3=\"K0\",Logic!$C$3=\"P0\"),Výpočet!S63+4,Výpočet!S63)","v":1100},{"$f":"IF(OR(C$19=0,$R70=0),0,'Výpočet Kv'!C66*Výpočet!AK63*ventil)","v":0},{"$f":"IF(OR(D$19=0,$R70=0),0,'Výpočet Kv'!D66*Výpočet!AL63*ventil)","v":3},{"$f":"IF(OR(E$19=0,$R70=0),0,'Výpočet Kv'!E66*Výpočet!AM63*ventil)","v":4},{"$f":"IF(OR(F$19=0,$R70=0),0,'Výpočet Kv'!F66*Výpočet!AN63*ventil)","v":5},{"$f":"IF(OR(G$19=0,$R70=0),0,'Výpočet Kv'!G66*Výpočet!AO63*ventil)","v":6},{"$f":"IF(OR(H$19=0,$R70=0),0,'Výpočet Kv'!H66*Výpočet!AP63*ventil)","v":6},{"$f":"IF(OR(I$19=0,$R70=0),0,'Výpočet Kv'!I66*Výpočet!AQ63*ventil)","v":8},{"$f":"IF(OR(J$19=0,$R70=0),0,'Výpočet Kv'!J66*Výpočet!AR63*ventil)","v":0},{"$f":"IF(OR(K$19=0,$R70=0),0,'Výpočet Kv'!K66*Výpočet!AS63*ventil)","v":5},{"$f":"IF(OR(L$19=0,$R70=0),0,'Výpočet Kv'!L66*Výpočet!AT63*ventil)","v":6},{"$f":"IF(OR(M$19=0,$R70=0),0,'Výpočet Kv'!M66*Výpočet!AU63*ventil)","v":7},{"$f":"IF(OR(N$19=0,$R70=0),0,'Výpočet Kv'!N66*Výpočet!AV63*ventil)","v":8},{"$f":"IF(OR(O$19=0,$R70=0),0,'Výpočet Kv'!O66*Výpočet!AW63*ventil)","v":8},{"$f":"IF(OR(P$19=0,$R70=0),0,'Výpočet Kv'!P66*Výpočet!AX63*ventil)","v":8},1100,{"$f":"Výstup!R70","v":1}]
[null,{"$f":"IF(OR(Logic!$C$3=\"K0\",Logic!$C$3=\"P0\"),Výpočet!S64+4,Výpočet!S64)","v":1200},{"$f":"IF(OR(C$19=0,$R71=0),0,'Výpočet Kv'!C67*Výpočet!AK64*ventil)","v":0},{"$f":"IF(OR(D$19=0,$R71=0),0,'Výpočet Kv'!D67*Výpočet!AL64*ventil)","v":3},{"$f":"IF(OR(E$19=0,$R71=0),0,'Výpočet Kv'!E67*Výpočet!AM64*ventil)","v":5},{"$f":"IF(OR(F$19=0,$R71=0),0,'Výpočet Kv'!F67*Výpočet!AN64*ventil)","v":5},{"$f":"IF(OR(G$19=0,$R71=0),0,'Výpočet Kv'!G67*Výpočet!AO64*ventil)","v":6},{"$f":"IF(OR(H$19=0,$R71=0),0,'Výpočet Kv'!H67*Výpočet!AP64*ventil)","v":7},{"$f":"IF(OR(I$19=0,$R71=0),0,'Výpočet Kv'!I67*Výpočet!AQ64*ventil)","v":8},{"$f":"IF(OR(J$19=0,$R71=0),0,'Výpočet Kv'!J67*Výpočet!AR64*ventil)","v":0},{"$f":"IF(OR(K$19=0,$R71=0),0,'Výpočet Kv'!K67*Výpočet!AS64*ventil)","v":5},{"$f":"IF(OR(L$19=0,$R71=0),0,'Výpočet Kv'!L67*Výpočet!AT64*ventil)","v":6},{"$f":"IF(OR(M$19=0,$R71=0),0,'Výpočet Kv'!M67*Výpočet!AU64*ventil)","v":8},{"$f":"IF(OR(N$19=0,$R71=0),0,'Výpočet Kv'!N67*Výpočet!AV64*ventil)","v":8},{"$f":"IF(OR(O$19=0,$R71=0),0,'Výpočet Kv'!O67*Výpočet!AW64*ventil)","v":8},{"$f":"IF(OR(P$19=0,$R71=0),0,'Výpočet Kv'!P67*Výpočet!AX64*ventil)","v":8},1200,{"$f":"Výstup!R71","v":1}]
[null,{"$f":"IF(OR(Logic!$C$3=\"K0\",Logic!$C$3=\"P0\"),Výpočet!S65+4,Výpočet!S65)","v":1400},{"$f":"IF(OR(C$19=0,$R72=0),0,'Výpočet Kv'!C68*Výpočet!AK65*ventil)","v":0},{"$f":"IF(OR(D$19=0,$R72=0),0,'Výpočet Kv'!D68*Výpočet!AL65*ventil)","v":4},{"$f":"IF(OR(E$19=0,$R72=0),0,'Výpočet Kv'!E68*Výpočet!AM65*ventil)","v":5},{"$f":"IF(OR(F$19=0,$R72=0),0,'Výpočet Kv'!F68*Výpočet!AN65*ventil)","v":6},{"$f":"IF(OR(G$19=0,$R72=0),0,'Výpočet Kv'!G68*Výpočet!AO65*ventil)","v":7},{"$f":"IF(OR(H$19=0,$R72=0),0,'Výpočet Kv'!H68*Výpočet!AP65*ventil)","v":8},{"$f":"IF(OR(I$19=0,$R72=0),0,'Výpočet Kv'!I68*Výpočet!AQ65*ventil)","v":8},{"$f":"IF(OR(J$19=0,$R72=0),0,'Výpočet Kv'!J68*Výpočet!AR65*ventil)","v":0},{"$f":"IF(OR(K$19=0,$R72=0),0,'Výpočet Kv'!K68*Výpočet!AS65*ventil)","v":6},{"$f":"IF(OR(L$19=0,$R72=0),0,'Výpočet Kv'!L68*Výpočet!AT65*ventil)","v":7},{"$f":"IF(OR(M$19=0,$R72=0),0,'Výpočet Kv'!M68*Výpočet!AU65*ventil)","v":8},{"$f":"IF(OR(N$19=0,$R72=0),0,'Výpočet Kv'!N68*Výpočet!AV65*ventil)","v":8},{"$f":"IF(OR(O$19=0,$R72=0),0,'Výpočet Kv'!O68*Výpočet!AW65*ventil)","v":8},{"$f":"IF(OR(P$19=0,$R72=0),0,'Výpočet Kv'!P68*Výpočet!AX65*ventil)","v":8},1400,{"$f":"Výstup!R72","v":1}]
[null,{"$f":"IF(OR(Logic!$C$3=\"K0\",Logic!$C$3=\"P0\"),Výpočet!S66+4,Výpočet!S66)","v":1600},{"$f":"IF(OR(C$19=0,$R73=0),0,'Výpočet Kv'!C69*Výpočet!AK66*ventil)","v":0},{"$f":"IF(OR(D$19=0,$R73=0),0,'Výpočet Kv'!D69*Výpočet!AL66*ventil)","v":5},{"$f":"IF(OR(E$19=0,$R73=0),0,'Výpočet Kv'!E69*Výpočet!AM66*ventil)","v":6},{"$f":"IF(OR(F$19=0,$R73=0),0,'Výpočet Kv'!F69*Výpočet!AN66*ventil)","v":7},{"$f":"IF(OR(G$19=0,$R73=0),0,'Výpočet Kv'!G69*Výpočet!AO66*ventil)","v":8},{"$f":"IF(OR(H$19=0,$R73=0),0,'Výpočet Kv'!H69*Výpočet!AP66*ventil)","v":8},{"$f":"IF(OR(I$19=0,$R73=0),0,'Výpočet Kv'!I69*Výpočet!AQ66*ventil)","v":8},{"$f":"IF(OR(J$19=0,$R73=0),0,'Výpočet Kv'!J69*Výpočet!AR66*ventil)","v":0},{"$f":"IF(OR(K$19=0,$R73=0),0,'Výpočet Kv'!K69*Výpočet!AS66*ventil)","v":7},{"$f":"IF(OR(L$19=0,$R73=0),0,'Výpočet Kv'!L69*Výpočet!AT66*ventil)","v":8},{"$f":"IF(OR(M$19=0,$R73=0),0,'Výpočet Kv'!M69*Výpočet!AU66*ventil)","v":8},{"$f":"IF(OR(N$19=0,$R73=0),0,'Výpočet Kv'!N69*Výpočet!AV66*ventil)","v":8},{"$f":"IF(OR(O$19=0,$R73=0),0,'Výpočet Kv'!O69*Výpočet!AW66*ventil)","v":8},{"$f":"IF(OR(P$19=0,$R73=0),0,'Výpočet Kv'!P69*Výpočet!AX66*ventil)","v":8},1600,{"$f":"Výstup!R73","v":1}]
[null,{"$f":"IF(OR(Logic!$C$3=\"K0\",Logic!$C$3=\"P0\"),Výpočet!S67+4,Výpočet!S67)","v":1800},{"$f":"IF(OR(C$19=0,$R74=0),0,'Výpočet Kv'!C70*Výpočet!AK67*ventil)","v":0},{"$f":"IF(OR(D$19=0,$R74=0),0,'Výpočet Kv'!D70*Výpočet!AL67*ventil)","v":5},{"$f":"IF(OR(E$19=0,$R74=0),0,'Výpočet Kv'!E70*Výpočet!AM67*ventil)","v":7},{"$f":"IF(OR(F$19=0,$R74=0),0,'Výpočet Kv'!F70*Výpočet!AN67*ventil)","v":8},{"$f":"IF(OR(G$19=0,$R74=0),0,'Výpočet Kv'!G70*Výpočet!AO67*ventil)","v":8},{"$f":"IF(OR(H$19=0,$R74=0),0,'Výpočet Kv'!H70*Výpočet!AP67*ventil)","v":8},{"$f":"IF(OR(I$19=0,$R74=0),0,'Výpočet Kv'!I70*Výpočet!AQ67*ventil)","v":0},{"$f":"IF(OR(J$19=0,$R74=0),0,'Výpočet Kv'!J70*Výpočet!AR67*ventil)","v":0},{"$f":"IF(OR(K$19=0,$R74=0),0,'Výpočet Kv'!K70*Výpočet!AS67*ventil)","v":8},{"$f":"IF(OR(L$19=0,$R74=0),0,'Výpočet Kv'!L70*Výpočet!AT67*ventil)","v":8},{"$f":"IF(OR(M$19=0,$R74=0),0,'Výpočet Kv'!M70*Výpočet!AU67*ventil)","v":8},{"$f":"IF(OR(N$19=0,$R74=0),0,'Výpočet Kv'!N70*Výpočet!AV67*ventil)","v":8},{"$f":"IF(OR(O$19=0,$R74=0),0,'Výpočet Kv'!O70*Výpočet!AW67*ventil)","v":8},{"$f":"IF(OR(P$19=0,$R74=0),0,'Výpočet Kv'!P70*Výpočet!AX67*ventil)","v":0},1800,{"$f":"Výstup!R74","v":1}]
[null,{"$f":"IF(OR(Logic!$C$3=\"K0\",Logic!$C$3=\"P0\"),Výpočet!S68+4,Výpočet!S68)","v":2000},{"$f":"IF(OR(C$19=0,$R75=0),0,'Výpočet Kv'!C71*Výpočet!AK68*ventil)","v":0},{"$f":"IF(OR(D$19=0,$R75=0),0,'Výpočet Kv'!D71*Výpočet!AL68*ventil)","v":6},{"$f":"IF(OR(E$19=0,$R75=0),0,'Výpočet Kv'!E71*Výpočet!AM68*ventil)","v":7},{"$f":"IF(OR(F$19=0,$R75=0),0,'Výpočet Kv'!F71*Výpočet!AN68*ventil)","v":8},{"$f":"IF(OR(G$19=0,$R75=0),0,'Výpočet Kv'!G71*Výpočet!AO68*ventil)","v":8},{"$f":"IF(OR(H$19=0,$R75=0),0,'Výpočet Kv'!H71*Výpočet!AP68*ventil)","v":8},{"$f":"IF(OR(I$19=0,$R75=0),0,'Výpočet Kv'!I71*Výpočet!AQ68*ventil)","v":0},{"$f":"IF(OR(J$19=0,$R75=0),0,'Výpočet Kv'!J71*Výpočet!AR68*ventil)","v":0},{"$f":"IF(OR(K$19=0,$R75=0),0,'Výpočet Kv'!K71*Výpočet!AS68*ventil)","v":8},{"$f":"IF(OR(L$19=0,$R75=0),0,'Výpočet Kv'!L71*Výpočet!AT68*ventil)","v":8},{"$f":"IF(OR(M$19=0,$R75=0),0,'Výpočet Kv'!M71*Výpočet!AU68*ventil)","v":8},{"$f":"IF(OR(N$19=0,$R75=0),0,'Výpočet Kv'!N71*Výpočet!AV68*ventil)","v":8},{"$f":"IF(OR(O$19=0,$R75=0),0,'Výpočet Kv'!O71*Výpočet!AW68*ventil)","v":8},{"$f":"IF(OR(P$19=0,$R75=0),0,'Výpočet Kv'!P71*Výpočet!AX68*ventil)","v":0},2000,{"$f":"Výstup!R75","v":1}]
[null,{"$f":"IF(OR(Logic!$C$3=\"K0\",Logic!$C$3=\"P0\"),Výpočet!S69+4,Výpočet!S69)","v":2300},{"$f":"IF(OR(C$19=0,$R76=0),0,'Výpočet Kv'!C72*Výpočet!AK69*ventil)","v":0},{"$f":"IF(OR(D$19=0,$R76=0),0,'Výpočet Kv'!D72*Výpočet!AL69*ventil)","v":0},{"$f":"IF(OR(E$19=0,$R76=0),0,'Výpočet Kv'!E72*Výpočet!AM69*ventil)","v":0},{"$f":"IF(OR(F$19=0,$R76=0),0,'Výpočet Kv'!F72*Výpočet!AN69*ventil)","v":0},{"$f":"IF(OR(G$19=0,$R76=0),0,'Výpočet Kv'!G72*Výpočet!AO69*ventil)","v":0},{"$f":"IF(OR(H$19=0,$R76=0),0,'Výpočet Kv'!H72*Výpočet!AP69*ventil)","v":0},{"$f":"IF(OR(I$19=0,$R76=0),0,'Výpočet Kv'!I72*Výpočet!AQ69*ventil)","v":0},{"$f":"IF(OR(J$19=0,$R76=0),0,'Výpočet Kv'!J72*Výpočet!AR69*ventil)","v":0},{"$f":"IF(OR(K$19=0,$R76=0),0,'Výpočet Kv'!K72*Výpočet!AS69*ventil)","v":0},{"$f":"IF(OR(L$19=0,$R76=0),0,'Výpočet Kv'!L72*Výpočet!AT69*ventil)","v":0},{"$f":"IF(OR(M$19=0,$R76=0),0,'Výpočet Kv'!M72*Výpočet!AU69*ventil)","v":0},{"$f":"IF(OR(N$19=0,$R76=0),0,'Výpočet Kv'!N72*Výpočet!AV69*ventil)","v":0},{"$f":"IF(OR(O$19=0,$R76=0),0,'Výpočet Kv'!O72*Výpočet!AW69*ventil)","v":0},{"$f":"IF(OR(P$19=0,$R76=0),0,'Výpočet Kv'!P72*Výpočet!AX69*ventil)","v":0},2300,{"$f":"Výstup!R76","v":1}]
[null,{"$f":"IF(OR(Logic!$C$3=\"K0\",Logic!$C$3=\"P0\"),Výpočet!S70+4,Výpočet!S70)","v":2600},{"$f":"IF(OR(C$19=0,$R77=0),0,'Výpočet Kv'!C73*Výpočet!AK70*ventil)","v":0},{"$f":"IF(OR(D$19=0,$R77=0),0,'Výpočet Kv'!D73*Výpočet!AL70*ventil)","v":0},{"$f":"IF(OR(E$19=0,$R77=0),0,'Výpočet Kv'!E73*Výpočet!AM70*ventil)","v":0},{"$f":"IF(OR(F$19=0,$R77=0),0,'Výpočet Kv'!F73*Výpočet!AN70*ventil)","v":0},{"$f":"IF(OR(G$19=0,$R77=0),0,'Výpočet Kv'!G73*Výpočet!AO70*ventil)","v":0},{"$f":"IF(OR(H$19=0,$R77=0),0,'Výpočet Kv'!H73*Výpočet!AP70*ventil)","v":0},{"$f":"IF(OR(I$19=0,$R77=0),0,'Výpočet Kv'!I73*Výpočet!AQ70*ventil)","v":0},{"$f":"IF(OR(J$19=0,$R77=0),0,'Výpočet Kv'!J73*Výpočet!AR70*ventil)","v":0},{"$f":"IF(OR(K$19=0,$R77=0),0,'Výpočet Kv'!K73*Výpočet!AS70*ventil)","v":0},{"$f":"IF(OR(L$19=0,$R77=0),0,'Výpočet Kv'!L73*Výpočet!AT70*ventil)","v":0},{"$f":"IF(OR(M$19=0,$R77=0),0,'Výpočet Kv'!M73*Výpočet!AU70*ventil)","v":0},{"$f":"IF(OR(N$19=0,$R77=0),0,'Výpočet Kv'!N73*Výpočet!AV70*ventil)","v":0},{"$f":"IF(OR(O$19=0,$R77=0),0,'Výpočet Kv'!O73*Výpočet!AW70*ventil)","v":0},{"$f":"IF(OR(P$19=0,$R77=0),0,'Výpočet Kv'!P73*Výpočet!AX70*ventil)","v":0},2600,{"$f":"Výstup!R77","v":1}]
[null,{"$f":"IF(OR(Logic!$C$3=\"K0\",Logic!$C$3=\"P0\"),Výpočet!S71+4,Výpočet!S71)","v":3000},{"$f":"IF(OR(C$19=0,$R78=0),0,'Výpočet Kv'!C74*Výpočet!AK71*ventil)","v":0},{"$f":"IF(OR(D$19=0,$R78=0),0,'Výpočet Kv'!D74*Výpočet!AL71*ventil)","v":0},{"$f":"IF(OR(E$19=0,$R78=0),0,'Výpočet Kv'!E74*Výpočet!AM71*ventil)","v":0},{"$f":"IF(OR(F$19=0,$R78=0),0,'Výpočet Kv'!F74*Výpočet!AN71*ventil)","v":0},{"$f":"IF(OR(G$19=0,$R78=0),0,'Výpočet Kv'!G74*Výpočet!AO71*ventil)","v":0},{"$f":"IF(OR(H$19=0,$R78=0),0,'Výpočet Kv'!H74*Výpočet!AP71*ventil)","v":0},{"$f":"IF(OR(I$19=0,$R78=0),0,'Výpočet Kv'!I74*Výpočet!AQ71*ventil)","v":0},{"$f":"IF(OR(J$19=0,$R78=0),0,'Výpočet Kv'!J74*Výpočet!AR71*ventil)","v":0},{"$f":"IF(OR(K$19=0,$R78=0),0,'Výpočet Kv'!K74*Výpočet!AS71*ventil)","v":0},{"$f":"IF(OR(L$19=0,$R78=0),0,'Výpočet Kv'!L74*Výpočet!AT71*ventil)","v":0},{"$f":"IF(OR(M$19=0,$R78=0),0,'Výpočet Kv'!M74*Výpočet!AU71*ventil)","v":0},{"$f":"IF(OR(N$19=0,$R78=0),0,'Výpočet Kv'!N74*Výpočet!AV71*ventil)","v":0},{"$f":"IF(OR(O$19=0,$R78=0),0,'Výpočet Kv'!O74*Výpočet!AW71*ventil)","v":0},{"$f":"IF(OR(P$19=0,$R78=0),0,'Výpočet Kv'!P74*Výpočet!AX71*ventil)","v":0},3000,{"$f":"Výstup!R78","v":1}]
[null,null,null,null,null,null,null,null,null,null,null,null,null,null,null,null,{"$f":"Výstup!Q79","v":"CZ ODT 5.01-01/16 M"}]

{"sheet":"Výpočet","index":3,"n_rows":164,"n_cols":51,"rows_kept":164,"cut":false,"hidden":true,"merged":[]}
[]
[]
[null,null,null,null,null,null,null,null,null,null,null,null,null,null,null,null,null,null,null,{"$f":"Qn!$C$2","v":"T0L00"},{"$f":"Logic!B3","v":"RADIK LINE VKM8-L"}]
[null,null,null,null,null,null,null,null,null,null,null,null,null,null,null,null,null,null,null,null,null,{"$f":"Qn!F3","v":"Typ"},{"$f":"Qn!G3","v":0},null,null,null,null,null,{"$f":"Qn!M3","v":"Typ"},{"$f":"Qn!N3","v":11}]
[null,null,null,null,null,null,null,null,null,null,null,null,null,null,null,null,null,null,null,{"$f":"Qn!D4","v":200},{"$f":"Qn!E4","v":300},{"$f":"Qn!F4","v":400},{"$f":"Qn!G4","v":500},{"$f":"Qn!H4","v":600},{"$f":"Qn!I4","v":700},{"$f":"Qn!J4","v":900},{"$f":"Qn!K4","v":200},{"$f":"Qn!L4","v":300},{"$f":"Qn!M4","v":400},{"$f":"Qn!N4","v":500},{"$f":"Qn!O4","v":600},{"$f":"Qn!P4","v":700},{"$f":"Qn!Q4","v":900}]
[null,null,null,null,null,null,null,null,null,null,null,null,null,null,null,null,null,null,"n =",{"$f":"Qn!D5","v":0},{"$f":"Qn!E5","v":0},{"$f":"Qn!F5","v":0},{"$f":"Qn!G5","v":0},{"$f":"Qn!H5","v":0},{"$f":"Qn!I5","v":0},{"$f":"Qn!J5","v":0},{"$f":"Qn!K5","v":0},{"$f":"Qn!L5","v":1.2617},{"$f":"Qn!M5","v":1.2698},{"$f":"Qn!N5","v":1.2778},{"$f":"Qn!O5","v":1.2859},{"$f":"Qn!P5","v":1.2988999999999999},{"$f":"Qn!Q5","v":1.3249}]
[null,null,null,null,null,null,null,null,null,null,null,null,null,null,null,null,null,null,"Qn =",{"$f":"Qn!D6","v":0},{"$f":"Qn!E6","v":0},{"$f":"Qn!F6","v":0},{"$f":"Qn!G6","v":0},{"$f":"Qn!H6","v":0},{"$f":"Qn!I6","v":0},{"$f":"Qn!J6","v":0},{"$f":"Qn!K6","v":0},{"$f":"Qn!L6","v":530},{"$f":"Qn!M6","v":658},{"$f":"Qn!N6","v":780},{"$f":"Qn!O6","v":897},{"$f":"Qn!P6","v":1011},{"$f":"Qn!Q6","v":1231}]
[null,{"$f":"Logic!B3","v":"RADIK LINE VKM8-L"},null,null,null,null,null,null,null,null,null,null,null,null,null,null,null,null,null,null,null,{"$f":"Qn!F7","v":"Typ"},{"$f":"Qn!G7","v":20},null,null,null,null,null,{"$f":"Qn!M7","v":"Typ"},{"$f":"Qn!N7","v":21}]
[null,"Heat outputs according to EN 442",null,null,null,null,null,null,null,null,null,null,null,null,null,null,null,null,null,{"$f":"Qn!D8","v":200},{"$f":"Qn!E8","v":300},{"$f":"Qn!F8","v":400},{"$f":"Qn!G8","v":500},{"$f":"Qn!H8","v":600},{"$f":"Qn!I8","v":700},{"$f":"Qn!J8","v":900},{"$f":"Qn!K8","v":200},{"$f":"Qn!L8","v":300},{"$f":"Qn!M8","v":400},{"$f":"Qn!N8","v":500},{"$f":"Qn!O8","v":600},{"$f":"Qn!P8","v":700},{"$f":"Qn!Q8","v":900}]
[null,null,null,null,null,null,null,null,null,null,null,null,null,null,null,null,null,null,"n =",{"$f":"Qn!D9","v":0},{"$f":"Qn!E9","v":0},{"$f":"Qn!F9","v":0},{"$f":"Qn!G9","v":1.2895000000000001},{"$f":"Qn!H9","v":1.2924},{"$f":"Qn!I9","v":1.2988},{"$f":"Qn!J9","v":0},{"$f":"Qn!K9","v":0},{"$f":"Qn!L9","v":1.3019000000000001},{"$f":"Qn!M9","v":1.3144},{"$f":"Qn!N9","v":1.3268},{"$f":"Qn!O9","v":1.3392999999999999},{"$f":"Qn!P9","v":1.3446},{"$f":"Qn!Q9","v":1.3552999999999999}]
[null,null,null,null,null,null,null,null,null,null,null,null,null,null,null,null,null,null,"Qn =",{"$f":"Qn!D10","v":0},{"$f":"Qn!E10","v":0},{"$f":"Qn!F10","v":0},{"$f":"Qn!G10","v":848},{"$f":"Qn!H10","v":969},{"$f":"Qn!I10","v":1085},{"$f":"Qn!J10","v":0},{"$f":"Qn!K10","v":0},{"$f":"Qn!L10","v":720},{"$f":"Qn!M10","v":904},{"$f":"Qn!N10","v":1072},{"$f":"Qn!O10","v":1226},{"$f":"Qn!P10","v":1367},{"$f":"Qn!Q10","v":1617}]
[null,null,null,null,null,"Temperature :",null,null,null,null,null,null,null,null,null,null,null,null,null,null,null,{"$f":"Qn!F11","v":"Typ"},{"$f":"Qn!G11","v":22},null,null,null,null,null,{"$f":"Qn!M11","v":"Typ"},{"$f":"Qn!N11","v":33}]
[null,null,null,null,null,"t 1","t 2","t r"," D t",null,null,null,null,null,null,null,null,null,null,{"$f":"Qn!D12","v":200},{"$f":"Qn!E12","v":300},{"$f":"Qn!F12","v":400},{"$f":"Qn!G12","v":500},{"$f":"Qn!H12","v":600},{"$f":"Qn!I12","v":700},{"$f":"Qn!J12","v":900},{"$f":"Qn!K12","v":200},{"$f":"Qn!L12","v":300},{"$f":"Qn!M12","v":400},{"$f":"Qn!N12","v":500},{"$f":"Qn!O12","v":600},{"$f":"Qn!P12","v":700},{"$f":"Qn!Q12","v":900}]
[null,null,null,null,null,{"$f":"Výstup!B16","v":75},{"$f":"Výstup!C16","v":65},{"$f":"Výstup!D16","v":20},{"$f":"(F14+G14)/2-H14","v":50},null,null,null,null,null,null,null,null,null,"n =",{"$f":"Qn!D13","v":0},{"$f":"Qn!E13","v":1.2863},{"$f":"Qn!F13","v":1.2989999999999999},{"$f":"Qn!G13","v":1.3117000000000001},{"$f":"Qn!H13","v":1.3244},{"$f":"Qn!I13","v":1.3327},{"$f":"Qn!J13","v":1.3492999999999999},{"$f":"Qn!K13","v":0},{"$f":"Qn!L13","v":1.3284},{"$f":"Qn!M13","v":1.3251999999999999},{"$f":"Qn!N13","v":1.3219000000000001},{"$f":"Qn!O13","v":1.3187},{"$f":"Qn!P13","v":1.3312999999999999},{"$f":"Qn!Q13","v":1.3565}]
[null,null,null,null,null,null,null,null,null,null,null,null,null,null,null,null,null,null,"Qn =",{"$f":"Qn!D14","v":0},{"$f":"Qn!E14","v":914},{"$f":"Qn!F14","v":1165},{"$f":"Qn!G14","v":1400},{"$f":"Qn!H14","v":1621},{"$f":"Qn!I14","v":1830},{"$f":"Qn!J14","v":2215},{"$f":"Qn!K14","v":0},{"$f":"Qn!L14","v":1337},{"$f":"Qn!M14","v":1689},{"$f":"Qn!N14","v":2022},{"$f":"Qn!O14","v":2341},{"$f":"Qn!P14","v":2648},{"$f":"Qn!Q14","v":3231},null,null,{"$f":"\"Výrobní sortiment \"&Logic!$B$3","v":"Výrobní sortiment RADIK LINE VKM8-L"}]
[]
[]
[null,"Height",null,null,{"$f":"V18","v":"Typ"},{"$f":"W18","v":0},null,null,null,null,null,{"$f":"AC18","v":"Typ"},{"$f":"AD18","v":11},null,null,null,"Height",null,"Height",null,null,{"$f":"V4","v":"Typ"},{"$f":"W4","v":0},null,null,null,null,null,{"$f":"AC4","v":"Typ"},{"$f":"AD4","v":11},null,null,null,"Height",null,"Height",null,null,"Type",10,null,null,null,null,null,"Type",11,null,null,null,"Height"]
[null,"Length",{"$f":"T19","v":200},{"$f":"U19","v":300},{"$f":"V19","v":400},{"$f":"W19","v":500},{"$f":"X19","v":600},{"$f":"Y19","v":700},{"$f":"Z19","v":900},{"$f":"AA19","v":200},{"$f":"AB19","v":300},{"$f":"AC19","v":400},{"$f":"AD19","v":500},{"$f":"AE19","v":600},{"$f":"AF19","v":700},{"$f":"AG19","v":900},"Length",null,"length",{"$f":"T5","v":200},{"$f":"U5","v":300},{"$f":"V5","v":400},{"$f":"W5","v":500},{"$f":"X5","v":600},{"$f":"Y5","v":700},{"$f":"Z5","v":900},{"$f":"AA5","v":200},{"$f":"AB5","v":300},{"$f":"AC5","v":400},{"$f":"AD5","v":500},{"$f":"AE5","v":600},{"$f":"AF5","v":700},{"$f":"AG5","v":900},"length",null,"length",{"$f":"T19","v":200},300,400,500,600,700,900,200,300,400,500,600,700,900,"length"]
[null,400,{"$f":"IF(OR(model=\"V0P00\",model=\"V0L00\"),T78,IF(($G$14-20)/($F$14-20)<0.7,ROUND((((($F$14-$G$14)/(LN(($F$14-$H$14)/($G$14-$H$14))))/const)^T$6)*T20,0),ROUND(((((($F$14+$G$14)/2)-$H$14)/50)^T$6)*T20,0)))","v":0},{"$f":"IF(OR(model=\"V0P00\",model=\"V0L00\"),U78,IF(($G$14-20)/($F$14-20)<0.7,ROUND((((($F$14-$G$14)/(LN(($F$14-$H$14)/($G$14-$H$14))))/const)^U$6)*U20,0),ROUND(((((($F$14+$G$14)/2)-$H$14)/50)^U$6)*U20,0)))","v":0},{"$f":"IF(OR(model=\"V0P00\",model=\"V0L00\"),V78,IF(($G$14-20)/($F$14-20)<0.7,ROUND((((($F$14-$G$14)/(LN(($F$14-$H$14)/($G$14-$H$14))))/const)^V$6)*V20,0),ROUND(((((($F$14+$G$14)/2)-$H$14)/50)^V$6)*V20,0)))","v":0},{"$f":"IF(OR(model=\"V0P00\",model=\"V0L00\"),W78,IF(($G$14-20)/($F$14-20)<0.7,ROUND((((($F$14-$G$14)/(LN(($F$14-$H$14)/($G$14-$H$14))))/const)^W$6)*W20,0),ROUND(((((($F$14+$G$14)/2)-$H$14)/50)^W$6)*W20,0)))","v":0},{"$f":"IF(OR(model=\"V0P00\",model=\"V0L00\"),X78,IF(($G$14-20)/($F$14-20)<0.7,ROUND((((($F$14-$G$14)/(LN(($F$14-$H$14)/($G$14-$H$14))))/const)^X$6)*X20,0),ROUND(((((($F$14+$G$14)/2)-$H$14)/50)^X$6)*X20,0)))","v":0},{"$f":"IF(OR(model=\"V0P00\",model=\"V0L00\"),Y78,IF(($G$14-20)/($F$14-20)<0.7,ROUND((((($F$14-$G$14)/(LN(($F$14-$H$14)/($G$14-$H$14))))/const)^Y$6)*Y20,0),ROUND(((((($F$14+$G$14)/2)-$H$14)/50)^Y$6)*Y20,0)))","v":0},{"$f":"IF(OR(model=\"V0P00\",model=\"V0L00\"),Z78,IF(($G$14-20)/($F$14-20)<0.7,ROUND((((($F$14-$G$14)/(LN(($F$14-$H$14)/($G$14-$H$14))))/const)^Z$6)*Z20,0),ROUND(((((($F$14+$G$14)/2)-$H$14)/50)^Z$6)*Z20,0)))","v":0},{"$f":"IF(OR(model=\"V0P00\",model=\"V0L00\"),AA78,IF(($G$14-20)/($F$14-20)<0.7,ROUND((((($F$14-$G$14)/(LN(($F$14-$H$14)/($G$14-$H$14))))/const)^AA$6)*AA20,0),ROUND(((((($F$14+$G$14)/2)-$H$14)/50)^AA$6)*AA20,0)))","v":0},{"$f":"IF(OR(model=\"V0P00\",model=\"V0L00\"),AB78,IF(($G$14-20)/($F$14-20)<0.7,ROUND((((($F$14-$G$14)/(LN(($F$14-$H$14)/($G$14-$H$14))))/const)^AB$6)*AB20,0),ROUND(((((($F$14+$G$14)/2)-$H$14)/50)^AB$6)*AB20,0)))","v":212},{"$f":"IF(OR(model=\"V0P00\",model=\"V0L00\"),AC78,IF(($G$14-20)/($F$14-20)<0.7,ROUND((((($F$14-$G$14)/(LN(($F$14-$H$14)/($G$14-$H$14))))/const)^AC$6)*AC20,0),ROUND(((((($F$14+$G$14)/2)-$H$14)/50)^AC$6)*AC20,0)))","v":263},{"$f":"IF(OR(model=\"V0P00\",model=\"V0L00\"),AD78,IF(($G$14-20)/($F$14-20)<0.7,ROUND((((($F$14-$G$14)/(LN(($F$14-$H$14)/($G$14-$H$14))))/const)^AD$6)*AD20,0),ROUND(((((($F$14+$G$14)/2)-$H$14)/50)^AD$6)*AD20,0)))","v":312},{"$f":"IF(OR(model=\"V0P00\",model=\"V0L00\"),AE78,IF(($G$14-20)/($F$14-20)<0.7,ROUND((((($F$14-$G$14)/(LN(($F$14-$H$14)/($G$14-$H$14))))/const)^AE$6)*AE20,0),ROUND(((((($F$14+$G$14)/2)-$H$14)/50)^AE$6)*AE20,0)))","v":359},{"$f":"IF(OR(model=\"V0P00\",model=\"V0L00\"),AF78,IF(($G$14-20)/($F$14-20)<0.7,ROUND((((($F$14-$G$14)/(LN(($F$14-$H$14)/($G$14-$H$14))))/const)^AF$6)*AF20,0),ROUND(((((($F$14+$G$14)/2)-$H$14)/50)^AF$6)*AF20,0)))","v":404},{"$f":"IF(OR(model=\"V0P00\",model=\"V0L00\"),AG78,IF(($G$14-20)/($F$14-20)<0.7,ROUND((((($F$14-$G$14)/(LN(($F$14-$H$14)/($G$14-$H$14))))/const)^AG$6)*AG20,0),ROUND(((((($F$14+$G$14)/2)-$H$14)/50)^AG$6)*AG20,0)))","v":492},400,null,{"$f":"IF(OR($T$3=\"5CH00\",$T$3=\"6CH00\"),B20+4,B20)","v":400},{"$f":"T$7*$S20/1000","v":0},0,0,0,0,0,0,0,212,263.2,312,358.8,404.4,492.4,{"$f":"IF(OR($T$3=\"5CH00\",$T$3=\"6CH00\"),Q20+4,Q20)","v":400},null,400,{"$f":"Sortiment!A8","v":0},{"$f":"Sortiment!A24","v":0},{"$f":"Sortiment!A40","v":0},{"$f":"Sortiment!A56","v":0},{"$f":"Sortiment!A72","v":0},{"$f":"Sortiment!A88","v":0},{"$f":"Sortiment!A104","v":0},{"$f":"Sortiment!A120","v":0},{"$f":"Sortiment!A136","v":0},{"$f":"Sortiment!A152","v":0},{"$f":"Sortiment!A168","v":0},{"$f":"Sortiment!A184","v":0},{"$f":"Sortiment!A200","v":0},{"$f":"Sortiment!A216","v":0},400]
[null,500,0,0,0,0,0,0,0,0,265,329,390,449,506,616,500,null,{"$f":"IF(OR($T$3=\"5CH00\",$T$3=\"6CH00\"),B21+4,B21)","v":500},0,0,0,0,0,0,0,0,265,329,390,448.5,505.5,615.5,{"$f":"IF(OR($T$3=\"5CH00\",$T$3=\"6CH00\"),Q21+4,Q21)","v":500},null,500,{"$f":"Sortiment!A9","v":0},{"$f":"Sortiment!A25","v":0},{"$f":"Sortiment!A41","v":0},{"$f":"Sortiment!A57","v":0},{"$f":"Sortiment!A73","v":0},{"$f":"Sortiment!A89","v":0},{"$f":"Sortiment!A105","v":0},{"$f":"Sortiment!A121","v":0},{"$f":"Sortiment!A137","v":1},{"$f":"Sortiment!A153","v":1},{"$f":"Sortiment!A169","v":1},{"$f":"Sortiment!A185","v":1},{"$f":"Sortiment!A201","v":1},{"$f":"Sortiment!A217","v":1},500]
[null,600,0,0,0,0,0,0,0,0,318,395,468,538,607,739,600,null,600,0,0,0,0,0,0,0,0,318,394.8,468,538.20000000000005,606.6,738.6,600,null,600,{"$f":"Sortiment!A10","v":0},{"$f":"Sortiment!A26","v":0},{"$f":"Sortiment!A42","v":0},{"$f":"Sortiment!A58","v":0},{"$f":"Sortiment!A74","v":0},{"$f":"Sortiment!A90","v":0},{"$f":"Sortiment!A106","v":0},{"$f":"Sortiment!A122","v":0},{"$f":"Sortiment!A138","v":1},{"$f":"Sortiment!A154","v":1},{"$f":"Sortiment!A170","v":1},{"$f":"Sortiment!A186","v":1},{"$f":"Sortiment!A202","v":1},{"$f":"Sortiment!A218","v":1},600]
[null,700,0,0,0,0,0,0,0,0,371,461,546,628,708,862,700,null,700,0,0,0,0,0,0,0,0,371,460.6,546,627.9,707.7,861.7,700,null,700,{"$f":"Sortiment!A11","v":0},{"$f":"Sortiment!A27","v":0},{"$f":"Sortiment!A43","v":0},{"$f":"Sortiment!A59","v":0},{"$f":"Sortiment!A75","v":0},{"$f":"Sortiment!A91","v":0},{"$f":"Sortiment!A107","v":0},{"$f":"Sortiment!A123","v":0},{"$f":"Sortiment!A139","v":1},{"$f":"Sortiment!A155","v":1},{"$f":"Sortiment!A171","v":1},{"$f":"Sortiment!A187","v":1},{"$f":"Sortiment!A203","v":1},{"$f":"Sortiment!A219","v":1},700]
[null,800,0,0,0,0,0,0,0,0,424,526,624,718,809,985,800,null,800,0,0,0,0,0,0,0,0,424,526.4,624,717.6,808.8,984.8,800,null,800,{"$f":"Sortiment!A12","v":0},{"$f":"Sortiment!A28","v":0},{"$f":"Sortiment!A44","v":0},{"$f":"Sortiment!A60","v":0},{"$f":"Sortiment!A76","v":0},{"$f":"Sortiment!A92","v":0},{"$f":"Sortiment!A108","v":0},{"$f":"Sortiment!A124","v":0},{"$f":"Sortiment!A140","v":1},{"$f":"Sortiment!A156","v":1},{"$f":"Sortiment!A172","v":1},{"$f":"Sortiment!A188","v":1},{"$f":"Sortiment!A204","v":1},{"$f":"Sortiment!A220","v":1},800]
[null,900,0,0,0,0,0,0,0,0,477,592,702,807,910,1108,900,null,900,0,0,{"$f":"V$7*$S25/1000","v":0},0,0,0,0,0,477,592.20000000000005,702,807.3,909.9,1107.9000000000001,900,null,900,{"$f":"Sortiment!A13","v":0},{"$f":"Sortiment!A29","v":0},{"$f":"Sortiment!A45","v":0},{"$f":"Sortiment!A61","v":0},{"$f":"Sortiment!A77","v":0},{"$f":"Sortiment!A93","v":0},{"$f":"Sortiment!A109","v":0},{"$f":"Sortiment!A125","v":0},{"$f":"Sortiment!A141","v":1},{"$f":"Sortiment!A157","v":1},{"$f":"Sortiment!A173","v":1},{"$f":"Sortiment!A189","v":1},{"$f":"Sortiment!A205","v":1},{"$f":"Sortiment!A221","v":1},900]
[null,1000,0,0,0,0,0,0,0,0,530,658,780,897,1011,1231,1000,null,1000,0,0,0,0,0,0,0,0,530,658,780,897,1011,1231,1000,null,1000,{"$f":"Sortiment!A14","v":0},{"$f":"Sortiment!A30","v":0},{"$f":"Sortiment!A46","v":0},{"$f":"Sortiment!A62","v":0},{"$f":"Sortiment!A78","v":0},{"$f":"Sortiment!A94","v":0},{"$f":"Sortiment!A110","v":0},{"$f":"Sortiment!A126","v":0},{"$f":"Sortiment!A142","v":1},{"$f":"Sortiment!A158","v":1},{"$f":"Sortiment!A174","v":1},{"$f":"Sortiment!A190","v":1},{"$f":"Sortiment!A206","v":1},{"$f":"Sortiment!A222","v":1},1000]
[null,1100,0,0,0,0,0,0,0,0,583,724,858,987,1112,1354,1100,null,1100,0,0,0,0,0,0,0,0,583,723.8,858,986.7,1112.0999999999999,1354.1,1100,null,1100,{"$f":"Sortiment!A15","v":0},{"$f":"Sortiment!A31","v":0},{"$f":"Sortiment!A47","v":0},{"$f":"Sortiment!A63","v":0},{"$f":"Sortiment!A79","v":0},{"$f":"Sortiment!A95","v":0},{"$f":"Sortiment!A111","v":0},{"$f":"Sortiment!A127","v":0},{"$f":"Sortiment!A143","v":1},{"$f":"Sortiment!A159","v":1},{"$f":"Sortiment!A175","v":1},{"$f":"Sortiment!A191","v":1},{"$f":"Sortiment!A207","v":1},{"$f":"Sortiment!A223","v":1},1100]
[null,1200,0,0,0,0,0,0,0,0,636,790,936,1076,1213,1477,1200,null,1200,0,0,0,0,0,0,0,0,636,789.6,936,1076.4000000000001,1213.2,1477.2,1200,null,1200,{"$f":"Sortiment!A16","v":0},{"$f":"Sortiment!A32","v":0},{"$f":"Sortiment!A48","v":0},{"$f":"Sortiment!A64","v":0},{"$f":"Sortiment!A80","v":0},{"$f":"Sortiment!A96","v":0},{"$f":"Sortiment!A112","v":0},{"$f":"Sortiment!A128","v":0},{"$f":"Sortiment!A144","v":1},{"$f":"Sortiment!A160","v":1},{"$f":"Sortiment!A176","v":1},{"$f":"Sortiment!A192","v":1},{"$f":"Sortiment!A208","v":1},{"$f":"Sortiment!A224","v":1},1200]
[null,1400,0,0,0,0,0,0,0,0,742,921,1092,1256,1415,1723,1400,null,1400,0,0,0,0,0,0,0,0,742,921.2,1092,1255.8,1415.4,1723.4,1400,null,1400,{"$f":"Sortiment!A17","v":0},{"$f":"Sortiment!A33","v":0},{"$f":"Sortiment!A49","v":0},{"$f":"Sortiment!A65","v":0},{"$f":"Sortiment!A81","v":0},{"$f":"Sortiment!A97","v":0},{"$f":"Sortiment!A113","v":0},{"$f":"Sortiment!A129","v":0},{"$f":"Sortiment!A145","v":1},{"$f":"Sortiment!A161","v":1},{"$f":"Sortiment!A177","v":1},{"$f":"Sortiment!A193","v":1},{"$f":"Sortiment!A209","v":1},{"$f":"Sortiment!A225","v":1},1400]
[null,1600,0,0,0,0,0,0,0,0,848,1053,1248,1435,1618,1970,1600,null,1600,{"$f":"T$7*$S30/1000","v":0},0,0,0,0,0,0,0,848,1052.8,1248,1435.2,1617.6,1969.6,1600,null,1600,{"$f":"Sortiment!A18","v":0},{"$f":"Sortiment!A34","v":0},{"$f":"Sortiment!A50","v":0},{"$f":"Sortiment!A66","v":0},{"$f":"Sortiment!A82","v":0},{"$f":"Sortiment!A98","v":0},{"$f":"Sortiment!A114","v":0},{"$f":"Sortiment!A130","v":0},{"$f":"Sortiment!A146","v":1},{"$f":"Sortiment!A162","v":1},{"$f":"Sortiment!A178","v":1},{"$f":"Sortiment!A194","v":1},{"$f":"Sortiment!A210","v":1},{"$f":"Sortiment!A226","v":1},1600]
[null,1800,0,0,0,0,0,0,0,0,954,1184,1404,1615,1820,2216,1800,null,1800,0,0,0,0,0,0,0,0,954,1184.4000000000001,1404,1614.6,1819.8,2215.8000000000002,1800,null,1800,{"$f":"Sortiment!A19","v":0},{"$f":"Sortiment!A35","v":0},{"$f":"Sortiment!A51","v":0},{"$f":"Sortiment!A67","v":0},{"$f":"Sortiment!A83","v":0},{"$f":"Sortiment!A99","v":0},{"$f":"Sortiment!A115","v":0},{"$f":"Sortiment!A131","v":0},{"$f":"Sortiment!A147","v":1},{"$f":"Sortiment!A163","v":1},{"$f":"Sortiment!A179","v":1},{"$f":"Sortiment!A195","v":1},{"$f":"Sortiment!A211","v":1},{"$f":"Sortiment!A227","v":0},1800]
[null,2000,0,0,0,0,0,0,0,0,1060,1316,1560,1794,2022,2462,2000,null,2000,0,0,0,0,0,0,0,0,1060,1316,1560,1794,2022,2462,2000,null,2000,{"$f":"Sortiment!A20","v":0},{"$f":"Sortiment!A36","v":0},{"$f":"Sortiment!A52","v":0},{"$f":"Sortiment!A68","v":0},{"$f":"Sortiment!A84","v":0},{"$f":"Sortiment!A100","v":0},{"$f":"Sortiment!A116","v":0},{"$f":"Sortiment!A132","v":0},{"$f":"Sortiment!A148","v":1},{"$f":"Sortiment!A164","v":1},{"$f":"Sortiment!A180","v":1},{"$f":"Sortiment!A196","v":1},{"$f":"Sortiment!A212","v":1},{"$f":"Sortiment!A228","v":0},2000]
[null,2300,0,0,0,0,0,0,0,0,1219,1513,1794,2063,2325,2831,2300,null,2300,0,0,0,0,0,0,0,0,1219,1513.4,1794,2063.1,2325.3000000000002,2831.3,2300,null,2300,{"$f":"Sortiment!A21","v":0},{"$f":"Sortiment!A37","v":0},{"$f":"Sortiment!A53","v":0},{"$f":"Sortiment!A69","v":0},{"$f":"Sortiment!A85","v":0},{"$f":"Sortiment!A101","v":0},{"$f":"Sortiment!A117","v":0},{"$f":"Sortiment!A133","v":0},{"$f":"Sortiment!A149","v":0},{"$f":"Sortiment!A165","v":0},{"$f":"Sortiment!A181","v":0},{"$f":"Sortiment!A197","v":0},{"$f":"Sortiment!A213","v":0},{"$f":"Sortiment!A229","v":0},2300]
[null,2600,0,0,0,0,0,0,0,0,1378,1711,2028,2332,2629,3201,2600,null,2600,0,0,0,0,0,0,0,0,1378,1710.8,2028,2332.1999999999998,2628.6,3200.6,2600,null,2600,{"$f":"Sortiment!A22","v":0},{"$f":"Sortiment!A38","v":0},{"$f":"Sortiment!A54","v":0},{"$f":"Sortiment!A70","v":0},{"$f":"Sortiment!A86","v":0},{"$f":"Sortiment!A102","v":0},{"$f":"Sortiment!A118","v":0},{"$f":"Sortiment!A134","v":0},{"$f":"Sortiment!A150","v":0},{"$f":"Sortiment!A166","v":0},{"$f":"Sortiment!A182","v":0},{"$f":"Sortiment!A198","v":0},{"$f":"Sortiment!A214","v":0},{"$f":"Sortiment!A230","v":0},2600]
[null,3000,0,0,0,0,0,0,0,0,1590,1974,2340,2691,3033,3693,3000,null,3000,0,0,0,0,0,0,0,0,1590,1974,2340,2691,3033,3693,3000,null,3000,{"$f":"Sortiment!A23","v":0},{"$f":"Sortiment!A39","v":0},{"$f":"Sortiment!A55","v":0},{"$f":"Sortiment!A71","v":0},{"$f":"Sortiment!A87","v":0},{"$f":"Sortiment!A103","v":0},{"$f":"Sortiment!A119","v":0},{"$f":"Sortiment!A135","v":0},{"$f":"Sortiment!A151","v":0},{"$f":"Sortiment!A167","v":0},{"$f":"Sortiment!A183","v":0},{"$f":"Sortiment!A199","v":0},{"$f":"Sortiment!A215","v":0},{"$f":"Sortiment!A231","v":0},3000]
[null,"Height",null,null,{"$f":"V36","v":"Typ"},{"$f":"W36","v":20},null,null,null,null,null,{"$f":"AC36","v":"Typ"},{"$f":"AD36","v":21},null,null,null,"Height",null,"Height",null,null,{"$f":"V8","v":"Typ"},{"$f":"W8","v":20},null,null,null,null,null,{"$f":"AC8","v":"Typ"},{"$f":"AD8","v":21},null,null,null,"Height",null,"Height",null,null,"Type",20,null,null,null,null,null,"Type",21,null,null,null,"Height"]
[null,"Length",{"$f":"T37","v":200},{"$f":"U37","v":300},{"$f":"V37","v":400},{"$f":"W37","v":500},{"$f":"X37","v":600},{"$f":"Y37","v":700},{"$f":"Z37","v":900},{"$f":"AA37","v":200},{"$f":"AB37","v":300},{"$f":"AC37","v":400},{"$f":"AD37","v":500},{"$f":"AE37","v":600},{"$f":"AF37","v":700},{"$f":"AG37","v":900},"Length",null,"length",{"$f":"T9","v":200},{"$f":"U9","v":300},{"$f":"V9","v":400},{"$f":"W9","v":500},{"$f":"X9","v":600},{"$f":"Y9","v":700},{"$f":"Z9","v":900},{"$f":"AA9","v":200},{"$f":"AB9","v":300},{"$f":"AC9","v":400},{"$f":"AD9","v":500},{"$f":"AE9","v":600},{"$f":"AF9","v":700},{"$f":"AG9","v":900},"length",null,"length",{"$f":"T37","v":200},300,400,500,600,700,900,200,300,400,500,600,700,900,"length"]
[null,400,{"$f":"IF(OR(model=\"V0P00\",model=\"V0L00\"),T96,IF(($G$14-20)/($F$14-20)<0.7,ROUND((((($F$14-$G$14)/(LN(($F$14-$H$14)/($G$14-$H$14))))/const)^T$10)*T38,0),ROUND(((((($F$14+$G$14)/2)-$H$14)/50)^T$10)*T38,0)))","v":0},{"$f":"IF(OR(model=\"V0P00\",model=\"V0L00\"),U96,IF(($G$14-20)/($F$14-20)<0.7,ROUND((((($F$14-$G$14)/(LN(($F$14-$H$14)/($G$14-$H$14))))/const)^U$10)*U38,0),ROUND(((((($F$14+$G$14)/2)-$H$14)/50)^U$10)*U38,0)))","v":0},{"$f":"IF(OR(model=\"V0P00\",model=\"V0L00\"),V96,IF(($G$14-20)/($F$14-20)<0.7,ROUND((((($F$14-$G$14)/(LN(($F$14-$H$14)/($G$14-$H$14))))/const)^V$10)*V38,0),ROUND(((((($F$14+$G$14)/2)-$H$14)/50)^V$10)*V38,0)))","v":0},{"$f":"IF(OR(model=\"V0P00\",model=\"V0L00\"),W96,IF(($G$14-20)/($F$14-20)<0.7,ROUND((((($F$14-$G$14)/(LN(($F$14-$H$14)/($G$14-$H$14))))/const)^W$10)*W38,0),ROUND(((((($F$14+$G$14)/2)-$H$14)/50)^W$10)*W38,0)))","v":339},{"$f":"IF(OR(model=\"V0P00\",model=\"V0L00\"),X96,IF(($G$14-20)/($F$14-20)<0.7,ROUND((((($F$14-$G$14)/(LN(($F$14-$H$14)/($G$14-$H$14))))/const)^X$10)*X38,0),ROUND(((((($F$14+$G$14)/2)-$H$14)/50)^X$10)*X38,0)))","v":388},{"$f":"IF(OR(model=\"V0P00\",model=\"V0L00\"),Y96,IF(($G$14-20)/($F$14-20)<0.7,ROUND((((($F$14-$G$14)/(LN(($F$14-$H$14)/($G$14-$H$14))))/const)^Y$10)*Y38,0),ROUND(((((($F$14+$G$14)/2)-$H$14)/50)^Y$10)*Y38,0)))","v":434},{"$f":"IF(OR(model=\"V0P00\",model=\"V0L00\"),Z96,IF(($G$14-20)/($F$14-20)<0.7,ROUND((((($F$14-$G$14)/(LN(($F$14-$H$14)/($G$14-$H$14))))/const)^Z$10)*Z38,0),ROUND(((((($F$14+$G$14)/2)-$H$14)/50)^Z$10)*Z38,0)))","v":0},{"$f":"IF(OR(model=\"V0P00\",model=\"V0L00\"),AA96,IF(($G$14-20)/($F$14-20)<0.7,ROUND((((($F$14-$G$14)/(LN(($F$14-$H$14)/($G$14-$H$14))))/const)^AA$10)*AA38,0),ROUND(((((($F$14+$G$14)/2)-$H$14)/50)^AA$10)*AA38,0)))","v":0},{"$f":"IF(OR(model=\"V0P00\",model=\"V0L00\"),AB96,IF(($G$14-20)/($F$14-20)<0.7,ROUND((((($F$14-$G$14)/(LN(($F$14-$H$14)/($G$14-$H$14))))/const)^AB$10)*AB38,0),ROUND(((((($F$14+$G$14)/2)-$H$14)/50)^AB$10)*AB38,0)))","v":288},{"$f":"IF(OR(model=\"V0P00\",model=\"V0L00\"),AC96,IF(($G$14-20)/($F$14-20)<0.7,ROUND((((($F$14-$G$14)/(LN(($F$14-$H$14)/($G$14-$H$14))))/const)^AC$10)*AC38,0),ROUND(((((($F$14+$G$14)/2)-$H$14)/50)^AC$10)*AC38,0)))","v":362},{"$f":"IF(OR(model=\"V0P00\",model=\"V0L00\"),AD96,IF(($G$14-20)/($F$14-20)<0.7,ROUND((((($F$14-$G$14)/(LN(($F$14-$H$14)/($G$14-$H$14))))/const)^AD$10)*AD38,0),ROUND(((((($F$14+$G$14)/2)-$H$14)/50)^AD$10)*AD38,0)))","v":429},{"$f":"IF(OR(model=\"V0P00\",model=\"V0L00\"),AE96,IF(($G$14-20)/($F$14-20)<0.7,ROUND((((($F$14-$G$14)/(LN(($F$14-$H$14)/($G$14-$H$14))))/const)^AE$10)*AE38,0),ROUND(((((($F$14+$G$14)/2)-$H$14)/50)^AE$10)*AE38,0)))","v":490},{"$f":"IF(OR(model=\"V0P00\",model=\"V0L00\"),AF96,IF(($G$14-20)/($F$14-20)<0.7,ROUND((((($F$14-$G$14)/(LN(($F$14-$H$14)/($G$14-$H$14))))/const)^AF$10)*AF38,0),ROUND(((((($F$14+$G$14)/2)-$H$14)/50)^AF$10)*AF38,0)))","v":547},{"$f":"IF(OR(model=\"V0P00\",model=\"V0L00\"),AG96,IF(($G$14-20)/($F$14-20)<0.7,ROUND((((($F$14-$G$14)/(LN(($F$14-$H$14)/($G$14-$H$14))))/const)^AG$10)*AG38,0),ROUND(((((($F$14+$G$14)/2)-$H$14)/50)^AG$10)*AG38,0)))","v":647},400,null,{"$f":"IF(OR($T$3=\"5CH00\",$T$3=\"6CH00\"),B38+4,B38)","v":400},{"$f":"T$11*$S38/1000","v":0},0,0,339.2,387.6,434,0,0,288,361.6,428.8,490.4,546.79999999999995,646.79999999999995,{"$f":"IF(OR($T$3=\"5CH00\",$T$3=\"6CH00\"),Q38+4,Q38)","v":400},null,400,{"$f":"Sortiment!A232","v":0},{"$f":"Sortiment!A248","v":0},{"$f":"Sortiment!A264","v":0},{"$f":"Sortiment!A280","v":0},{"$f":"Sortiment!A296","v":0},{"$f":"Sortiment!A312","v":0},{"$f":"Sortiment!A328","v":0},{"$f":"Sortiment!A344","v":0},{"$f":"Sortiment!A360","v":0},{"$f":"Sortiment!A376","v":0},{"$f":"Sortiment!A392","v":0},{"$f":"Sortiment!A408","v":0},{"$f":"Sortiment!A424","v":0},{"$f":"Sortiment!A440","v":0},400]
[null,500,0,0,0,424,485,543,0,0,360,452,536,613,684,809,500,null,{"$f":"IF(OR($T$3=\"5CH00\",$T$3=\"6CH00\"),B39+4,B39)","v":500},0,0,0,424,484.5,542.5,0,0,360,452,536,613,683.5,808.5,{"$f":"IF(OR($T$3=\"5CH00\",$T$3=\"6CH00\"),Q39+4,Q39)","v":500},null,500,{"$f":"Sortiment!A233","v":0},{"$f":"Sortiment!A249","v":0},{"$f":"Sortiment!A265","v":0},{"$f":"Sortiment!A281","v":1},{"$f":"Sortiment!A297","v":1},{"$f":"Sortiment!A313","v":1},{"$f":"Sortiment!A329","v":0},{"$f":"Sortiment!A345","v":0},{"$f":"Sortiment!A361","v":1},{"$f":"Sortiment!A377","v":1},{"$f":"Sortiment!A393","v":1},{"$f":"Sortiment!A409","v":1},{"$f":"Sortiment!A425","v":1},{"$f":"Sortiment!A441","v":1},500]
[null,600,0,0,0,509,581,651,0,0,432,542,643,736,820,970,600,null,600,0,0,0,508.8,581.4,651,0,0,432,542.4,643.20000000000005,735.6,820.2,970.2,600,null,600,{"$f":"Sortiment!A234","v":0},{"$f":"Sortiment!A250","v":0},{"$f":"Sortiment!A266","v":0},{"$f":"Sortiment!A282","v":1},{"$f":"Sortiment!A298","v":1},{"$f":"Sortiment!A314","v":1},{"$f":"Sortiment!A330","v":0},{"$f":"Sortiment!A346","v":0},{"$f":"Sortiment!A362","v":1},{"$f":"Sortiment!A378","v":1},{"$f":"Sortiment!A394","v":1},{"$f":"Sortiment!A410","v":1},{"$f":"Sortiment!A426","v":1},{"$f":"Sortiment!A442","v":1},600]
[null,700,0,0,0,594,678,760,0,0,504,633,750,858,957,1132,700,null,700,0,0,0,593.6,678.3,759.5,0,0,504,632.79999999999995,750.4,858.2,956.9,1131.9000000000001,700,null,700,{"$f":"Sortiment!A235","v":0},{"$f":"Sortiment!A251","v":0},{"$f":"Sortiment!A267","v":0},{"$f":"Sortiment!A283","v":1},{"$f":"Sortiment!A299","v":1},{"$f":"Sortiment!A315","v":1},{"$f":"Sortiment!A331","v":0},{"$f":"Sortiment!A347","v":0},{"$f":"Sortiment!A363","v":1},{"$f":"Sortiment!A379","v":1},{"$f":"Sortiment!A395","v":1},{"$f":"Sortiment!A411","v":1},{"$f":"Sortiment!A427","v":1},{"$f":"Sortiment!A443","v":1},700]
[null,800,0,0,0,678,775,868,0,0,576,723,858,981,1094,1294,800,null,800,0,0,0,678.4,775.2,868,0,0,576,723.2,857.6,980.8,1093.5999999999999,1293.5999999999999,800,null,800,{"$f":"Sortiment!A236","v":0},{"$f":"Sortiment!A252","v":0},{"$f":"Sortiment!A268","v":0},{"$f":"Sortiment!A284","v":1},{"$f":"Sortiment!A300","v":1},{"$f":"Sortiment!A316","v":1},{"$f":"Sortiment!A332","v":0},{"$f":"Sortiment!A348","v":0},{"$f":"Sortiment!A364","v":1},{"$f":"Sortiment!A380","v":1},{"$f":"Sortiment!A396","v":1},{"$f":"Sortiment!A412","v":1},{"$f":"Sortiment!A428","v":1},{"$f":"Sortiment!A444","v":1},800]
[null,900,0,0,0,763,872,977,0,0,648,814,965,1103,1230,1455,900,null,900,0,0,0,763.2,872.1,976.5,0,0,648,813.6,964.8,1103.4000000000001,1230.3,1455.3,900,null,900,{"$f":"Sortiment!A237","v":0},{"$f":"Sortiment!A253","v":0},{"$f":"Sortiment!A269","v":0},{"$f":"Sortiment!A285","v":1},{"$f":"Sortiment!A301","v":1},{"$f":"Sortiment!A317","v":1},{"$f":"Sortiment!A333","v":0},{"$f":"Sortiment!A349","v":0},{"$f":"Sortiment!A365","v":1},{"$f":"Sortiment!A381","v":1},{"$f":"Sortiment!A397","v":1},{"$f":"Sortiment!A413","v":1},{"$f":"Sortiment!A429","v":1},{"$f":"Sortiment!A445","v":1},900]
[null,1000,0,0,0,848,969,1085,0,0,720,904,1072,1226,1367,1617,1000,null,1000,0,0,0,848,969,1085,0,0,720,904,1072,1226,1367,1617,1000,null,1000,{"$f":"Sortiment!A238","v":0},{"$f":"Sortiment!A254","v":0},{"$f":"Sortiment!A270","v":0},{"$f":"Sortiment!A286","v":1},{"$f":"Sortiment!A302","v":1},{"$f":"Sortiment!A318","v":1},{"$f":"Sortiment!A334","v":0},{"$f":"Sortiment!A350","v":0},{"$f":"Sortiment!A366","v":1},{"$f":"Sortiment!A382","v":1},{"$f":"Sortiment!A398","v":1},{"$f":"Sortiment!A414","v":1},{"$f":"Sortiment!A430","v":1},{"$f":"Sortiment!A446","v":1},1000]
[null,1100,0,0,0,933,1066,1194,0,0,792,994,1179,1349,1504,1779,1100,null,1100,0,0,0,932.8,1065.9000000000001,1193.5,0,0,792,994.4,1179.2,1348.6,1503.7,1778.7,1100,null,1100,{"$f":"Sortiment!A239","v":0},{"$f":"Sortiment!A255","v":0},{"$f":"Sortiment!A271","v":0},{"$f":"Sortiment!A287","v":1},{"$f":"Sortiment!A303","v":1},{"$f":"Sortiment!A319","v":1},{"$f":"Sortiment!A335","v":0},{"$f":"Sortiment!A351","v":0},{"$f":"Sortiment!A367","v":1},{"$f":"Sortiment!A383","v":1},{"$f":"Sortiment!A399","v":1},{"$f":"Sortiment!A415","v":1},{"$f":"Sortiment!A431","v":1},{"$f":"Sortiment!A447","v":1},1100]
[null,1200,0,0,0,1018,1163,1302,0,0,864,1085,1286,1471,1640,1940,1200,null,1200,0,0,0,1017.6,1162.8,1302,0,0,864,1084.8,1286.4000000000001,1471.2,1640.4,1940.4,1200,null,1200,{"$f":"Sortiment!A240","v":0},{"$f":"Sortiment!A256","v":0},{"$f":"Sortiment!A272","v":0},{"$f":"Sortiment!A288","v":1},{"$f":"Sortiment!A304","v":1},{"$f":"Sortiment!A320","v":1},{"$f":"Sortiment!A336","v":0},{"$f":"Sortiment!A352","v":0},{"$f":"Sortiment!A368","v":1},{"$f":"Sortiment!A384","v":1},{"$f":"Sortiment!A400","v":1},{"$f":"Sortiment!A416","v":1},{"$f":"Sortiment!A432","v":1},{"$f":"Sortiment!A448","v":1},1200]
[null,1400,0,0,0,1187,1357,1519,0,0,1008,1266,1501,1716,1914,2264,1400,null,1400,0,0,0,1187.2,1356.6,1519,0,0,1008,1265.5999999999999,1500.8,1716.4,1913.8,2263.8000000000002,1400,null,1400,{"$f":"Sortiment!A241","v":0},{"$f":"Sortiment!A257","v":0},{"$f":"Sortiment!A273","v":0},{"$f":"Sortiment!A289","v":1},{"$f":"Sortiment!A305","v":1},{"$f":"Sortiment!A321","v":1},{"$f":"Sortiment!A337","v":0},{"$f":"Sortiment!A353","v":0},{"$f":"Sortiment!A369","v":1},{"$f":"Sortiment!A385","v":1},{"$f":"Sortiment!A401","v":1},{"$f":"Sortiment!A417","v":1},{"$f":"Sortiment!A433","v":1},{"$f":"Sortiment!A449","v":1},1400]
[null,1600,0,0,0,1357,1550,1736,0,0,1152,1446,1715,1962,2187,2587,1600,null,1600,{"$f":"T$11*$S48/1000","v":0},0,0,1356.8,1550.4,1736,0,0,1152,1446.4,1715.2,1961.6,2187.1999999999998,2587.1999999999998,1600,null,1600,{"$f":"Sortiment!A242","v":0},{"$f":"Sortiment!A258","v":0},{"$f":"Sortiment!A274","v":0},{"$f":"Sortiment!A290","v":1},{"$f":"Sortiment!A306","v":1},{"$f":"Sortiment!A322","v":1},{"$f":"Sortiment!A338","v":0},{"$f":"Sortiment!A354","v":0},{"$f":"Sortiment!A370","v":1},{"$f":"Sortiment!A386","v":1},{"$f":"Sortiment!A402","v":1},{"$f":"Sortiment!A418","v":1},{"$f":"Sortiment!A434","v":1},{"$f":"Sortiment!A450","v":1},1600]
[null,1800,0,0,0,1526,1744,1953,0,0,1296,1627,1930,2207,2461,2911,1800,null,1800,0,0,0,1526.4,1744.2,1953,0,0,1296,1627.2,1929.6,2206.8000000000002,2460.6,2910.6,1800,null,1800,{"$f":"Sortiment!A243","v":0},{"$f":"Sortiment!A259","v":0},{"$f":"Sortiment!A275","v":0},{"$f":"Sortiment!A291","v":1},{"$f":"Sortiment!A307","v":1},{"$f":"Sortiment!A323","v":1},{"$f":"Sortiment!A339","v":0},{"$f":"Sortiment!A355","v":0},{"$f":"Sortiment!A371","v":1},{"$f":"Sortiment!A387","v":1},{"$f":"Sortiment!A403","v":1},{"$f":"Sortiment!A419","v":1},{"$f":"Sortiment!A435","v":1},{"$f":"Sortiment!A451","v":0},1800]
[null,2000,0,0,0,1696,1938,2170,0,0,1440,1808,2144,2452,2734,3234,2000,null,2000,0,0,0,1696,1938,2170,0,0,1440,1808,2144,2452,2734,3234,2000,null,2000,{"$f":"Sortiment!A244","v":0},{"$f":"Sortiment!A260","v":0},{"$f":"Sortiment!A276","v":0},{"$f":"Sortiment!A292","v":1},{"$f":"Sortiment!A308","v":1},{"$f":"Sortiment!A324","v":1},{"$f":"Sortiment!A340","v":0},{"$f":"Sortiment!A356","v":0},{"$f":"Sortiment!A372","v":1},{"$f":"Sortiment!A388","v":1},{"$f":"Sortiment!A404","v":1},{"$f":"Sortiment!A420","v":1},{"$f":"Sortiment!A436","v":1},{"$f":"Sortiment!A452","v":0},2000]
[null,2300,0,0,0,1950,2229,2496,0,0,1656,2079,2466,2820,3144,3719,2300,null,2300,0,0,0,1950.4,2228.6999999999998,2495.5,0,0,1656,2079.1999999999998,2465.6,2819.8,3144.1,3719.1,2300,null,2300,{"$f":"Sortiment!A245","v":0},{"$f":"Sortiment!A261","v":0},{"$f":"Sortiment!A277","v":0},{"$f":"Sortiment!A293","v":0},{"$f":"Sortiment!A309","v":0},{"$f":"Sortiment!A325","v":0},{"$f":"Sortiment!A341","v":0},{"$f":"Sortiment!A357","v":0},{"$f":"Sortiment!A373","v":0},{"$f":"Sortiment!A389","v":0},{"$f":"Sortiment!A405","v":0},{"$f":"Sortiment!A421","v":0},{"$f":"Sortiment!A437","v":0},{"$f":"Sortiment!A453","v":0},2300]
[null,2600,0,0,0,2205,2519,2821,0,0,1872,2350,2787,3188,3554,4204,2600,null,2600,0,0,0,2204.8000000000002,2519.4,2821,0,0,1872,2350.4,2787.2,3187.6,3554.2,4204.2,2600,null,2600,{"$f":"Sortiment!A246","v":0},{"$f":"Sortiment!A262","v":0},{"$f":"Sortiment!A278","v":0},{"$f":"Sortiment!A294","v":0},{"$f":"Sortiment!A310","v":0},{"$f":"Sortiment!A326","v":0},{"$f":"Sortiment!A342","v":0},{"$f":"Sortiment!A358","v":0},{"$f":"Sortiment!A374","v":0},{"$f":"Sortiment!A390","v":0},{"$f":"Sortiment!A406","v":0},{"$f":"Sortiment!A422","v":0},{"$f":"Sortiment!A438","v":0},{"$f":"Sortiment!A454","v":0},2600]
[null,3000,0,0,0,2544,2907,3255,0,0,2160,2712,3216,3678,4101,4851,3000,null,3000,0,0,0,2544,2907,3255,0,0,2160,2712,3216,3678,4101,4851,3000,null,3000,{"$f":"Sortiment!A247","v":0},{"$f":"Sortiment!A263","v":0},{"$f":"Sortiment!A279","v":0},{"$f":"Sortiment!A295","v":0},{"$f":"Sortiment!A311","v":0},{"$f":"Sortiment!A327","v":0},{"$f":"Sortiment!A343","v":0},{"$f":"Sortiment!A359","v":0},{"$f":"Sortiment!A375","v":0},{"$f":"Sortiment!A391","v":0},{"$f":"Sortiment!A407","v":0},{"$f":"Sortiment!A423","v":0},{"$f":"Sortiment!A439","v":0},{"$f":"Sortiment!A455","v":0},3000]
[null,"Height",null,null,{"$f":"V54","v":"Typ"},{"$f":"W54","v":22},null,null,null,null,null,{"$f":"AC54","v":"Typ"},{"$f":"AD54","v":33},null,null,null,"Height",null,"Height",null,null,{"$f":"V12","v":"Typ"},{"$f":"W12","v":22},null,null,null,null,null,{"$f":"AC12","v":"Typ"},{"$f":"AD12","v":33},null,null,null,"Height",null,"Height",null,null,"Type",22,null,null,null,null,null,"Type",33,null,null,null,"Height"]
[null,"Length",{"$f":"T55","v":200},{"$f":"U55","v":300},400,500,600,700,900,{"$f":"AA55","v":200},{"$f":"AB55","v":300},{"$f":"AC55","v":400},{"$f":"AD55","v":500},{"$f":"AE55","v":600},{"$f":"AF55","v":700},{"$f":"AG55","v":900},"Length",null,"length",{"$f":"T13","v":200},{"$f":"U13","v":300},{"$f":"V13","v":400},{"$f":"W13","v":500},{"$f":"X13","v":600},{"$f":"Y13","v":700},{"$f":"Z13","v":900},{"$f":"AA13","v":200},{"$f":"AB13","v":300},{"$f":"AC13","v":400},{"$f":"AD13","v":500},{"$f":"AE13","v":600},{"$f":"AF13","v":700},{"$f":"AG13","v":900},"length",null,"length",{"$f":"T55","v":200},300,400,500,600,700,900,200,300,400,500,600,700,900,"length"]
[null,400,{"$f":"IF(OR(model=\"V0P00\",model=\"V0L00\"),T114,IF(($G$14-20)/($F$14-20)<0.7,ROUND((((($F$14-$G$14)/(LN(($F$14-$H$14)/($G$14-$H$14))))/const)^T$14)*T56,0),ROUND(((((($F$14+$G$14)/2)-$H$14)/50)^T$14)*T56,0)))","v":0},{"$f":"IF(OR(model=\"V0P00\",model=\"V0L00\"),U114,IF(($G$14-20)/($F$14-20)<0.7,ROUND((((($F$14-$G$14)/(LN(($F$14-$H$14)/($G$14-$H$14))))/const)^U$14)*U56,0),ROUND(((((($F$14+$G$14)/2)-$H$14)/50)^U$14)*U56,0)))","v":366},{"$f":"IF(OR(model=\"V0P00\",model=\"V0L00\"),V114,IF(($G$14-20)/($F$14-20)<0.7,ROUND((((($F$14-$G$14)/(LN(($F$14-$H$14)/($G$14-$H$14))))/const)^V$14)*V56,0),ROUND(((((($F$14+$G$14)/2)-$H$14)/50)^V$14)*V56,0)))","v":466},{"$f":"IF(OR(model=\"V0P00\",model=\"V0L00\"),W114,IF(($G$14-20)/($F$14-20)<0.7,ROUND((((($F$14-$G$14)/(LN(($F$14-$H$14)/($G$14-$H$14))))/const)^W$14)*W56,0),ROUND(((((($F$14+$G$14)/2)-$H$14)/50)^W$14)*W56,0)))","v":560},{"$f":"IF(OR(model=\"V0P00\",model=\"V0L00\"),X114,IF(($G$14-20)/($F$14-20)<0.7,ROUND((((($F$14-$G$14)/(LN(($F$14-$H$14)/($G$14-$H$14))))/const)^X$14)*X56,0),ROUND(((((($F$14+$G$14)/2)-$H$14)/50)^X$14)*X56,0)))","v":648},{"$f":"IF(OR(model=\"V0P00\",model=\"V0L00\"),Y114,IF(($G$14-20)/($F$14-20)<0.7,ROUND((((($F$14-$G$14)/(LN(($F$14-$H$14)/($G$14-$H$14))))/const)^Y$14)*Y56,0),ROUND(((((($F$14+$G$14)/2)-$H$14)/50)^Y$14)*Y56,0)))","v":732},{"$f":"IF(OR(model=\"V0P00\",model=\"V0L00\"),Z114,IF(($G$14-20)/($F$14-20)<0.7,ROUND((((($F$14-$G$14)/(LN(($F$14-$H$14)/($G$14-$H$14))))/const)^Z$14)*Z56,0),ROUND(((((($F$14+$G$14)/2)-$H$14)/50)^Z$14)*Z56,0)))","v":886},{"$f":"IF(OR(model=\"V0P00\",model=\"V0L00\"),AA114,IF(($G$14-20)/($F$14-20)<0.7,ROUND((((($F$14-$G$14)/(LN(($F$14-$H$14)/($G$14-$H$14))))/const)^AA$14)*AA56,0),ROUND(((((($F$14+$G$14)/2)-$H$14)/50)^AA$14)*AA56,0)))","v":0},{"$f":"IF(OR(model=\"V0P00\",model=\"V0L00\"),AB114,IF(($G$14-20)/($F$14-20)<0.7,ROUND((((($F$14-$G$14)/(LN(($F$14-$H$14)/($G$14-$H$14))))/const)^AB$14)*AB56,0),ROUND(((((($F$14+$G$14)/2)-$H$14)/50)^AB$14)*AB56,0)))","v":535},{"$f":"IF(OR(model=\"V0P00\",model=\"V0L00\"),AC114,IF(($G$14-20)/($F$14-20)<0.7,ROUND((((($F$14-$G$14)/(LN(($F$14-$H$14)/($G$14-$H$14))))/const)^AC$14)*AC56,0),ROUND(((((($F$14+$G$14)/2)-$H$14)/50)^AC$14)*AC56,0)))","v":676},{"$f":"IF(OR(model=\"V0P00\",model=\"V0L00\"),AD114,IF(($G$14-20)/($F$14-20)<0.7,ROUND((((($F$14-$G$14)/(LN(($F$14-$H$14)/($G$14-$H$14))))/const)^AD$14)*AD56,0),ROUND(((((($F$14+$G$14)/2)-$H$14)/50)^AD$14)*AD56,0)))","v":809},{"$f":"IF(OR(model=\"V0P00\",model=\"V0L00\"),AE114,IF(($G$14-20)/($F$14-20)<0.7,ROUND((((($F$14-$G$14)/(LN(($F$14-$H$14)/($G$14-$H$14))))/const)^AE$14)*AE56,0),ROUND(((((($F$14+$G$14)/2)-$H$14)/50)^AE$14)*AE56,0)))","v":936},{"$f":"IF(OR(model=\"V0P00\",model=\"V0L00\"),AF114,IF(($G$14-20)/($F$14-20)<0.7,ROUND((((($F$14-$G$14)/(LN(($F$14-$H$14)/($G$14-$H$14))))/const)^AF$14)*AF56,0),ROUND(((((($F$14+$G$14)/2)-$H$14)/50)^AF$14)*AF56,0)))","v":1059},{"$f":"IF(OR(model=\"V0P00\",model=\"V0L00\"),AG114,IF(($G$14-20)/($F$14-20)<0.7,ROUND((((($F$14-$G$14)/(LN(($F$14-$H$14)/($G$14-$H$14))))/const)^AG$14)*AG56,0),ROUND(((((($F$14+$G$14)/2)-$H$14)/50)^AG$14)*AG56,0)))","v":1292},400,null,{"$f":"IF(OR($T$3=\"5CH00\",$T$3=\"6CH00\"),B56+4,B56)","v":400},{"$f":"T$15*$S56/1000","v":0},365.6,466,560,648.4,732,886,0,534.79999999999995,675.6,808.8,936.4,1059.2,1292.4000000000001,{"$f":"IF(OR($T$3=\"5CH00\",$T$3=\"6CH00\"),Q56+4,Q56)","v":400},null,400,{"$f":"Sortiment!A456","v":0},{"$f":"Sortiment!A472","v":0},{"$f":"Sortiment!A488","v":0},{"$f":"Sortiment!A504","v":0},{"$f":"Sortiment!A520","v":0},{"$f":"Sortiment!A536","v":0},{"$f":"Sortiment!A552","v":0},{"$f":"Sortiment!A568","v":0},{"$f":"Sortiment!A584","v":0},{"$f":"Sortiment!A600","v":0},{"$f":"Sortiment!A616","v":0},{"$f":"Sortiment!A632","v":0},{"$f":"Sortiment!A648","v":0},{"$f":"Sortiment!A664","v":0},400]
[null,500,0,457,583,700,811,915,1108,0,669,845,1011,1171,1324,1616,500,null,{"$f":"IF(OR($T$3=\"5CH00\",$T$3=\"6CH00\"),B57+4,B57)","v":500},0,457,582.5,700,810.5,915,1107.5,0,668.5,844.5,1011,1170.5,1324,1615.5,{"$f":"IF(OR($T$3=\"5CH00\",$T$3=\"6CH00\"),Q57+4,Q57)","v":500},null,500,{"$f":"Sortiment!A457","v":0},{"$f":"Sortiment!A473","v":1},{"$f":"Sortiment!A489","v":1},{"$f":"Sortiment!A505","v":1},{"$f":"Sortiment!A521","v":1},{"$f":"Sortiment!A537","v":1},{"$f":"Sortiment!A553","v":1},{"$f":"Sortiment!A569","v":0},{"$f":"Sortiment!A585","v":0},{"$f":"Sortiment!A601","v":0},{"$f":"Sortiment!A617","v":1},{"$f":"Sortiment!A633","v":1},{"$f":"Sortiment!A649","v":1},{"$f":"Sortiment!A665","v":1},500]
[null,600,0,548,699,840,973,1098,1329,0,802,1013,1213,1405,1589,1939,600,null,600,0,548.4,699,840,972.6,1098,1329,0,802.2,1013.4,1213.2,1404.6,1588.8,1938.6,600,null,600,{"$f":"Sortiment!A458","v":0},{"$f":"Sortiment!A474","v":1},{"$f":"Sortiment!A490","v":1},{"$f":"Sortiment!A506","v":1},{"$f":"Sortiment!A522","v":1},{"$f":"Sortiment!A538","v":1},{"$f":"Sortiment!A554","v":1},{"$f":"Sortiment!A570","v":0},{"$f":"Sortiment!A586","v":0},{"$f":"Sortiment!A602","v":0},{"$f":"Sortiment!A618","v":1},{"$f":"Sortiment!A634","v":1},{"$f":"Sortiment!A650","v":1},{"$f":"Sortiment!A666","v":1},600]
[null,700,0,640,816,980,1135,1281,1551,0,936,1182,1415,1639,1854,2262,700,null,700,0,639.79999999999995,815.5,980,1134.7,1281,1550.5,0,935.9,1182.3,1415.4,1638.7,1853.6,2261.6999999999998,700,null,700,{"$f":"Sortiment!A459","v":0},{"$f":"Sortiment!A475","v":1},{"$f":"Sortiment!A491","v":1},{"$f":"Sortiment!A507","v":1},{"$f":"Sortiment!A523","v":1},{"$f":"Sortiment!A539","v":1},{"$f":"Sortiment!A555","v":1},{"$f":"Sortiment!A571","v":0},{"$f":"Sortiment!A587","v":0},{"$f":"Sortiment!A603","v":0},{"$f":"Sortiment!A619","v":1},{"$f":"Sortiment!A635","v":1},{"$f":"Sortiment!A651","v":1},{"$f":"Sortiment!A667","v":1},700]
[null,800,0,731,932,1120,1297,1464,1772,0,1070,1351,1618,1873,2118,2585,800,null,800,0,731.2,932,1120,1296.8,1464,1772,0,1069.5999999999999,1351.2,1617.6,1872.8,2118.4,2584.8000000000002,800,null,800,{"$f":"Sortiment!A460","v":0},{"$f":"Sortiment!A476","v":1},{"$f":"Sortiment!A492","v":1},{"$f":"Sortiment!A508","v":1},{"$f":"Sortiment!A524","v":1},{"$f":"Sortiment!A540","v":1},{"$f":"Sortiment!A556","v":1},{"$f":"Sortiment!A572","v":0},{"$f":"Sortiment!A588","v":1},{"$f":"Sortiment!A604","v":1},{"$f":"Sortiment!A620","v":1},{"$f":"Sortiment!A636","v":1},{"$f":"Sortiment!A652","v":1},{"$f":"Sortiment!A668","v":1},800]
[null,900,0,823,1049,1260,1459,1647,1994,0,1203,1520,1820,2107,2383,2908,900,null,900,0,822.6,1048.5,1260,1458.9,1647,1993.5,0,1203.3,1520.1,1819.8,2106.9,2383.1999999999998,2907.9,900,null,900,{"$f":"Sortiment!A461","v":0},{"$f":"Sortiment!A477","v":1},{"$f":"Sortiment!A493","v":1},{"$f":"Sortiment!A509","v":1},{"$f":"Sortiment!A525","v":1},{"$f":"Sortiment!A541","v":1},{"$f":"Sortiment!A557","v":1},{"$f":"Sortiment!A573","v":0},{"$f":"Sortiment!A589","v":1},{"$f":"Sortiment!A605","v":1},{"$f":"Sortiment!A621","v":1},{"$f":"Sortiment!A637","v":1},{"$f":"Sortiment!A653","v":1},{"$f":"Sortiment!A669","v":1},900]
[null,1000,0,914,1165,1400,1621,1830,2215,0,1337,1689,2022,2341,2648,3231,1000,null,1000,0,914,1165,1400,1621,1830,2215,0,1337,1689,2022,2341,2648,3231,1000,null,1000,{"$f":"Sortiment!A462","v":0},{"$f":"Sortiment!A478","v":1},{"$f":"Sortiment!A494","v":1},{"$f":"Sortiment!A510","v":1},{"$f":"Sortiment!A526","v":1},{"$f":"Sortiment!A542","v":1},{"$f":"Sortiment!A558","v":1},{"$f":"Sortiment!A574","v":0},{"$f":"Sortiment!A590","v":1},{"$f":"Sortiment!A606","v":1},{"$f":"Sortiment!A622","v":1},{"$f":"Sortiment!A638","v":1},{"$f":"Sortiment!A654","v":1},{"$f":"Sortiment!A670","v":1},1000]
[null,1100,0,1005,1282,1540,1783,2013,2437,0,1471,1858,2224,2575,2913,3554,1100,null,1100,0,1005.4,1281.5,1540,1783.1,2013,2436.5,0,1470.7,1857.9,2224.1999999999998,2575.1,2912.8,3554.1,1100,null,1100,{"$f":"Sortiment!A463","v":0},{"$f":"Sortiment!A479","v":1},{"$f":"Sortiment!A495","v":1},{"$f":"Sortiment!A511","v":1},{"$f":"Sortiment!A527","v":1},{"$f":"Sortiment!A543","v":1},{"$f":"Sortiment!A559","v":1},{"$f":"Sortiment!A575","v":0},{"$f":"Sortiment!A591","v":1},{"$f":"Sortiment!A607","v":1},{"$f":"Sortiment!A623","v":1},{"$f":"Sortiment!A639","v":1},{"$f":"Sortiment!A655","v":1},{"$f":"Sortiment!A671","v":1},1100]
[null,1200,0,1097,1398,1680,1945,2196,2658,0,1604,2027,2426,2809,3178,3877,1200,null,1200,0,1096.8,1398,1680,1945.2,2196,2658,0,1604.4,2026.8,2426.4,2809.2,3177.6,3877.2,1200,null,1200,{"$f":"Sortiment!A464","v":0},{"$f":"Sortiment!A480","v":1},{"$f":"Sortiment!A496","v":1},{"$f":"Sortiment!A512","v":1},{"$f":"Sortiment!A528","v":1},{"$f":"Sortiment!A544","v":1},{"$f":"Sortiment!A560","v":1},{"$f":"Sortiment!A576","v":0},{"$f":"Sortiment!A592","v":1},{"$f":"Sortiment!A608","v":1},{"$f":"Sortiment!A624","v":1},{"$f":"Sortiment!A640","v":1},{"$f":"Sortiment!A656","v":1},{"$f":"Sortiment!A672","v":1},1200]
[null,1400,0,1280,1631,1960,2269,2562,3101,0,1872,2365,2831,3277,3707,4523,1400,null,1400,0,1279.5999999999999,1631,1960,2269.4,2562,3101,0,1871.8,2364.6,2830.8,3277.4,3707.2,4523.3999999999996,1400,null,1400,{"$f":"Sortiment!A465","v":0},{"$f":"Sortiment!A481","v":1},{"$f":"Sortiment!A497","v":1},{"$f":"Sortiment!A513","v":1},{"$f":"Sortiment!A529","v":1},{"$f":"Sortiment!A545","v":1},{"$f":"Sortiment!A561","v":1},{"$f":"Sortiment!A577","v":0},{"$f":"Sortiment!A593","v":1},{"$f":"Sortiment!A609","v":1},{"$f":"Sortiment!A625","v":1},{"$f":"Sortiment!A641","v":1},{"$f":"Sortiment!A657","v":1},{"$f":"Sortiment!A673","v":1},1400]
[null,1600,0,1462,1864,2240,2594,2928,3544,0,2139,2702,3235,3746,4237,5170,1600,null,1600,{"$f":"T$15*$S66/1000","v":0},1462.4,1864,2240,2593.6,2928,3544,0,2139.1999999999998,2702.4,3235.2,3745.6,4236.8,5169.6000000000004,1600,null,1600,{"$f":"Sortiment!A466","v":0},{"$f":"Sortiment!A482","v":1},{"$f":"Sortiment!A498","v":1},{"$f":"Sortiment!A514","v":1},{"$f":"Sortiment!A530","v":1},{"$f":"Sortiment!A546","v":1},{"$f":"Sortiment!A562","v":1},{"$f":"Sortiment!A578","v":0},{"$f":"Sortiment!A594","v":1},{"$f":"Sortiment!A610","v":1},{"$f":"Sortiment!A626","v":1},{"$f":"Sortiment!A642","v":1},{"$f":"Sortiment!A658","v":1},{"$f":"Sortiment!A674","v":1},1600]
[null,1800,0,1645,2097,2520,2918,3294,3987,0,2407,3040,3640,4214,4766,5816,1800,null,1800,0,1645.2,2097,2520,2917.8,3294,3987,0,2406.6,3040.2,3639.6,4213.8,4766.3999999999996,5815.8,1800,null,1800,{"$f":"Sortiment!A467","v":0},{"$f":"Sortiment!A483","v":1},{"$f":"Sortiment!A499","v":1},{"$f":"Sortiment!A515","v":1},{"$f":"Sortiment!A531","v":1},{"$f":"Sortiment!A547","v":1},{"$f":"Sortiment!A563","v":0},{"$f":"Sortiment!A579","v":0},{"$f":"Sortiment!A595","v":1},{"$f":"Sortiment!A611","v":1},{"$f":"Sortiment!A627","v":1},{"$f":"Sortiment!A643","v":1},{"$f":"Sortiment!A659","v":1},{"$f":"Sortiment!A675","v":0},1800]
[null,2000,0,1828,2330,2800,3242,3660,4430,0,2674,3378,4044,4682,5296,6462,2000,null,2000,0,1828,2330,2800,3242,3660,4430,0,2674,3378,4044,4682,5296,6462,2000,null,2000,{"$f":"Sortiment!A468","v":0},{"$f":"Sortiment!A484","v":1},{"$f":"Sortiment!A500","v":1},{"$f":"Sortiment!A516","v":1},{"$f":"Sortiment!A532","v":1},{"$f":"Sortiment!A548","v":1},{"$f":"Sortiment!A564","v":0},{"$f":"Sortiment!A580","v":0},{"$f":"Sortiment!A596","v":1},{"$f":"Sortiment!A612","v":1},{"$f":"Sortiment!A628","v":1},{"$f":"Sortiment!A644","v":1},{"$f":"Sortiment!A660","v":1},{"$f":"Sortiment!A676","v":0},2000]
[null,2300,0,2102,2680,3220,3728,4209,5095,0,3075,3885,4651,5384,6090,7431,2300,null,2300,0,2102.1999999999998,2679.5,3220,3728.3,4209,5094.5,0,3075.1,3884.7,4650.6000000000004,5384.3,6090.4,7431.3,2300,null,2300,{"$f":"Sortiment!A469","v":0},{"$f":"Sortiment!A485","v":0},{"$f":"Sortiment!A501","v":0},{"$f":"Sortiment!A517","v":0},{"$f":"Sortiment!A533","v":0},{"$f":"Sortiment!A549","v":0},{"$f":"Sortiment!A565","v":0},{"$f":"Sortiment!A581","v":0},{"$f":"Sortiment!A597","v":0},{"$f":"Sortiment!A613","v":0},{"$f":"Sortiment!A629","v":0},{"$f":"Sortiment!A645","v":0},{"$f":"Sortiment!A661","v":0},{"$f":"Sortiment!A677","v":0},2300]
[null,2600,0,2376,3029,3640,4215,4758,5759,0,3476,4391,5257,6087,6885,8401,2600,null,2600,0,2376.4,3029,3640,4214.6000000000004,4758,5759,0,3476.2,4391.3999999999996,5257.2,6086.6,6884.8,8400.6,2600,null,2600,{"$f":"Sortiment!A470","v":0},{"$f":"Sortiment!A486","v":0},{"$f":"Sortiment!A502","v":0},{"$f":"Sortiment!A518","v":0},{"$f":"Sortiment!A534","v":0},{"$f":"Sortiment!A550","v":0},{"$f":"Sortiment!A566","v":0},{"$f":"Sortiment!A582","v":0},{"$f":"Sortiment!A598","v":0},{"$f":"Sortiment!A614","v":0},{"$f":"Sortiment!A630","v":0},{"$f":"Sortiment!A646","v":0},{"$f":"Sortiment!A662","v":0},{"$f":"Sortiment!A678","v":0},2600]
[null,3000,0,2742,3495,4200,4863,5490,6645,0,4011,5067,6066,7023,7944,9693,3000,null,3000,0,2742,3495,4200,4863,5490,6645,0,4011,5067,6066,7023,7944,9693,3000,null,3000,{"$f":"Sortiment!A471","v":0},{"$f":"Sortiment!A487","v":0},{"$f":"Sortiment!A503","v":0},{"$f":"Sortiment!A519","v":0},{"$f":"Sortiment!A535","v":0},{"$f":"Sortiment!A551","v":0},{"$f":"Sortiment!A567","v":0},{"$f":"Sortiment!A583","v":0},{"$f":"Sortiment!A599","v":0},{"$f":"Sortiment!A615","v":0},{"$f":"Sortiment!A631","v":0},{"$f":"Sortiment!A647","v":0},{"$f":"Sortiment!A663","v":0},{"$f":"Sortiment!A679","v":0},3000]
[]
[]
[]
[null,null,null,null,null,null,null,null,null,null,null,null,null,null,null,null,null,null,"VÝKONY HORIZONTÁLNÍ RADIK VERTIKAL"]
[null,null,null,null,null,null,null,null,null,null,null,null,null,null,null,null,null,null,"Height",{"$f":"T18","v":0},{"$f":"U18","v":0},"Typ",0,0,0,0,0,0,"Typ",11,0,0,0,"Height"]
[null,null,null,null,null,null,null,null,null,null,null,null,null,null,null,null,null,null,"Length",1400,1600,1800,2000,2200,2400,2600,1400,1600,1800,2000,2200,2400,2600,"Length"]
[null,null,null,null,null,null,null,null,null,null,null,null,null,null,null,null,null,null,400,null,{"$f":"U141","v":602},{"$f":"V141","v":661},717,null,null,null,null,null,null,null,null,null,null,400]
[null,null,null,null,null,null,null,null,null,null,null,null,null,null,null,null,null,null,500,null,null,null,null,null,null,null,null,null,null,null,null,null,null,500]
[null,null,null,null,null,null,null,null,null,null,null,null,null,null,null,null,null,null,600,null,{"$f":"U143","v":829},909,986,null,null,null,null,null,null,null,null,null,null,600]
[null,null,null,null,null,null,null,null,null,null,null,null,null,null,null,null,null,null,700,null,null,null,null,null,null,null,null,null,null,null,null,null,null,700]
[null,null,null,null,null,null,null,null,null,null,null,null,null,null,null,null,null,null,800,null,null,null,null,null,null,null,null,null,null,null,null,null,null,800]
[null,null,null,null,null,null,null,null,null,null,null,null,null,null,null,null,null,null,900,null,{"$f":"U144","v":1141},{"$f":"V144","v":1252},1358,null,null,null,null,null,null,null,null,null,null,900]
[null,null,null,null,null,null,null,null,null,null,null,null,null,null,null,null,null,null,1000,null,null,null,null,null,null,null,null,null,null,null,null,null,null,1000]
[null,null,null,null,null,null,null,null,null,null,null,null,null,null,null,null,null,null,1100,null,null,null,null,null,null,null,null,null,null,null,null,null,null,1100]
[null,null,null,null,null,null,null,null,null,null,null,null,null,null,null,null,null,null,1200,null,null,null,null,null,null,null,null,null,null,null,null,null,null,1200]
[null,null,null,null,null,null,null,null,null,null,null,null,null,null,null,null,null,null,1400,null,null,null,null,null,null,null,null,null,null,null,null,null,null,1400]
[null,null,null,null,null,null,null,null,null,null,null,null,null,null,null,null,null,null,1600,null,null,null,null,null,null,null,null,null,null,null,null,null,null,1600]
[null,null,null,null,null,null,null,null,null,null,null,null,null,null,null,null,null,null,1800,null,null,null,null,null,null,null,null,null,null,null,null,null,null,1800]
[null,null,null,null,null,null,null,null,null,null,null,null,null,null,null,null,null,null,2000,null,null,null,null,null,null,null,null,null,null,null,null,null,null,2000]
[null,null,null,null,null,null,null,null,null,null,null,null,null,null,null,null,null,null,2300,null,null,null,null,null,null,null,null,null,null,null,null,null,null,2300]
[null,null,null,null,null,null,null,null,null,null,null,null,null,null,null,null,null,null,2600,null,null,null,null,null,null,null,null,null,null,null,null,null,null,2600]
[null,null,null,null,null,null,null,null,null,null,null,null,null,null,null,null,null,null,3000,null,null,null,null,null,null,null,null,null,null,null,null,null,null,3000]
[null,null,null,null,null,null,null,null,null,null,null,null,null,null,null,null,null,null,"Height",{"$f":"T36","v":0},{"$f":"U36","v":0},"Typ",20,0,0,0,0,0,"Typ",21,0,0,0,"Height"]
[null,null,null,null,null,null,null,null,null,null,null,null,null,null,null,null,null,null,"Length",1400,1600,1800,2000,2200,2400,2600,1400,1600,1800,2000,2200,2400,2600,"Length"]
[null,null,null,null,null,null,null,null,null,null,null,null,null,null,null,null,null,null,400,null,{"$f":"Z141","v":847},{"$f":"AA141","v":927},{"$f":"AB141","v":1004},null,null,null,null,null,null,null,null,null,null,400]
[null,null,null,null,null,null,null,null,null,null,null,null,null,null,null,null,null,null,500,null,null,null,null,null,null,null,null,null,null,null,null,null,null,500]
[null,null,null,null,null,null,null,null,null,null,null,null,null,null,null,null,null,null,600,null,{"$f":"Z143","v":1185},{"$f":"AA143","v":1297},{"$f":"AB143","v":1404},null,null,null,null,null,null,null,null,null,null,600]
[null,null,null,null,null,null,null,null,null,null,null,null,null,null,null,null,null,null,700,null,null,null,null,null,null,null,null,null,null,null,null,null,null,700]
[null,null,null,null,null,null,null,null,null,null,null,null,null,null,null,null,null,null,800,null,null,null,null,null,null,null,null,null,null,null,null,null,null,800]
[null,null,null,null,null,null,null,null,null,null,null,null,null,null,null,null,null,null,900,null,{"$f":"Z144","v":1659},{"$f":"AA144","v":1815},{"$f":"AB144","v":1965},null,null,null,null,null,null,null,null,null,null,900]
[null,null,null,null,null,null,null,null,null,null,null,null,null,null,null,null,null,null,1000,null,null,null,null,null,null,null,null,null,null,null,null,null,null,1000]
[null,null,null,null,null,null,null,null,null,null,null,null,null,null,null,null,null,null,1100,null,null,null,null,null,null,null,null,null,null,null,null,null,null,1100]
[null,null,null,null,null,null,null,null,null,null,null,null,null,null,null,null,null,null,1200,null,null,null,null,null,null,null,null,null,null,null,null,null,null,1200]
[null,null,null,null,null,null,null,null,null,null,null,null,null,null,null,null,null,null,1400,null,null,null,null,null,null,null,null,null,null,null,null,null,null,1400]
[null,null,null,null,null,null,null,null,null,null,null,null,null,null,null,null,null,null,1600,null,null,null,null,null,null,null,null,null,null,null,null,null,null,1600]
[null,null,null,null,null,null,null,null,null,null,null,null,null,null,null,null,null,null,1800,null,null,null,null,null,null,null,null,null,null,null,null,null,null,1800]
[null,null,null,null,null,null,null,null,null,null,null,null,null,null,null,null,null,null,2000,null,null,null,null,null,null,null,null,null,null,null,null,null,null,2000]
[null,null,null,null,null,null,null,null,null,null,null,null,null,null,null,null,null,null,2300,null,null,null,null,null,null,null,null,null,null,null,null,null,null,2300]
[null,null,null,null,null,null,null,null,null,null,null,null,null,null,null,null,null,null,2600,null,null,null,null,null,null,null,null,null,null,null,null,null,null,2600]
[null,null,null,null,null,null,null,null,null,null,null,null,null,null,null,null,null,null,3000,null,null,null,null,null,null,null,null,null,null,null,null,null,null,3000]
[null,null,null,null,null,null,null,null,null,null,null,null,null,null,null,null,null,null,"Height",{"$f":"T54","v":0},{"$f":"U54","v":0},"Typ",22,0,0,0,0,0,"Typ",33,0,0,0,"Height"]
[null,null,null,null,null,null,null,null,null,null,null,null,null,null,null,null,null,null,"Length",1400,1600,1800,2000,2200,2400,2600,1400,1600,1800,2000,2200,2400,2600,"Length"]
[null,null,null,null,null,null,null,null,null,null,null,null,null,null,null,null,null,null,400,null,null,null,null,null,null,null,null,null,null,null,null,null,null,400]
[null,null,null,null,null,null,null,null,null,null,null,null,null,null,null,null,null,null,500,null,null,null,null,null,null,null,null,null,null,null,null,null,null,500]
[null,null,null,null,null,null,null,null,null,null,null,null,null,null,null,null,null,null,600,null,null,null,null,null,null,null,null,null,null,null,null,null,null,600]
[null,null,null,null,null,null,null,null,null,null,null,null,null,null,null,null,null,null,700,null,null,null,null,null,null,null,null,null,null,null,null,null,null,700]
[null,null,null,null,null,null,null,null,null,null,null,null,null,null,null,null,null,null,800,null,null,null,null,null,null,null,null,null,null,null,null,null,null,800]
[null,null,null,null,null,null,null,null,null,null,null,null,null,null,null,null,null,null,900,null,null,null,null,null,null,null,null,null,null,null,null,null,null,900]
[null,null,null,null,null,null,null,null,null,null,null,null,null,null,null,null,null,null,1000,null,null,null,null,null,null,null,null,null,null,null,null,null,null,1000]
[null,null,null,null,null,null,null,null,null,null,null,null,null,null,null,null,null,null,1100,null,null,null,null,null,null,null,null,null,null,null,null,null,null,1100]
[null,null,null,null,null,null,null,null,null,null,null,null,null,null,null,null,null,null,1200,null,null,null,null,null,null,null,null,null,null,null,null,null,null,1200]
[null,null,null,null,null,null,null,null,null,null,null,null,null,null,null,null,null,null,1400,null,null,null,null,null,null,null,null,null,null,null,null,null,null,1400]
[null,null,null,null,null,null,null,null,null,null,null,null,null,null,null,null,null,null,1600,null,null,null,null,null,null,null,null,null,null,null,null,null,null,1600]
[null,null,null,null,null,null,null,null,null,null,null,null,null,null,null,null,null,null,1800,null,null,null,null,null,null,null,null,null,null,null,null,null,null,1800]
[null,null,null,null,null,null,null,null,null,null,null,null,null,null,null,null,null,null,2000,null,null,null,null,null,null,null,null,null,null,null,null,null,null,2000]
[null,null,null,null,null,null,null,null,null,null,null,null,null,null,null,null,null,null,2300,null,null,null,null,null,null,null,null,null,null,null,null,null,null,2300]
[null,null,null,null,null,null,null,null,null,null,null,null,null,null,null,null,null,null,2600,null,null,null,null,null,null,null,null,null,null,null,null,null,null,2600]
[null,null,null,null,null,null,null,null,null,null,null,null,null,null,null,null,null,null,3000,null,null,null,null,null,null,null,null,null,null,null,null,null,null,3000]
[]
[]
[]
[]
[]
[null,null,null,null,null,null,null,null,null,null,null,null,null,null,null,null,null,null,"RADIK PLAN VERTIKAL - M,  RADIK LINE VERTIKAL - M"]
[null,null,null,null,null,null,null,null,null,null,null,null,null,null,null,null,null,null,"FINÁLNÍ VÝKONY"]
[null,null,null,null,null,null,null,null,null,null,null,null,null,null,null,null,null,null,"Qn","Typ 10",null,null,null,null,"Typ 20",null,null,null,null,"Qn"]
[null,null,null,null,null,null,null,null,null,null,null,null,null,null,null,null,null,null,"Délka L","Výška H [mm]",null,null,null,null,"Výška H [mm]",null,null,null,null,"Délka L"]
[null,null,null,null,null,null,null,null,null,null,null,null,null,null,null,null,null,null,"[mm]",1400,1600,1800,2000,2300,1400,1600,1800,2000,2300,"[mm]"]
[null,null,null,null,null,null,null,null,null,null,null,null,null,null,null,null,null,null,300,{"$f":"IF(($G$14-20)/($F$14-20)<0.7,ROUND((((($F$14-$G$14)/(LN(($F$14-$H$14)/($G$14-$H$14))))/const)^T$160)*T151,0),ROUND(((((($F$14+$G$14)/2)-$H$14)/50)^T$160)*T151,0))","v":432},480,527,571,635,602,667,730,791,878,300]
[null,null,null,null,null,null,null,null,null,null,null,null,null,null,null,null,null,null,400,{"$f":"IF(($G$14-20)/($F$14-20)<0.7,ROUND((((($F$14-$G$14)/(LN(($F$14-$H$14)/($G$14-$H$14))))/const)^T$160)*T152,0),ROUND(((((($F$14+$G$14)/2)-$H$14)/50)^T$160)*T152,0))","v":542},602,661,717,797,764,847,927,1004,1115,400]
[null,null,null,null,null,null,null,null,null,null,null,null,null,null,null,null,null,null,500,{"$f":"IF(($G$14-20)/($F$14-20)<0.7,ROUND((((($F$14-$G$14)/(LN(($F$14-$H$14)/($G$14-$H$14))))/const)^T$160)*T153,0),ROUND(((((($F$14+$G$14)/2)-$H$14)/50)^T$160)*T153,0))","v":646},718,788,854,950,920,1019,1115,1208,1341,500]
[null,null,null,null,null,null,null,null,null,null,null,null,null,null,null,null,null,null,600,{"$f":"IF(($G$14-20)/($F$14-20)<0.7,ROUND((((($F$14-$G$14)/(LN(($F$14-$H$14)/($G$14-$H$14))))/const)^T$160)*T154,0),ROUND(((((($F$14+$G$14)/2)-$H$14)/50)^T$160)*T154,0))","v":746},829,909,986,1097,1070,1185,1297,1404,1560,600]
[null,null,null,null,null,null,null,null,null,null,null,null,null,null,null,null,null,null,900,{"$f":"IF(($G$14-20)/($F$14-20)<0.7,ROUND((((($F$14-$G$14)/(LN(($F$14-$H$14)/($G$14-$H$14))))/const)^T$160)*T155,0),ROUND(((((($F$14+$G$14)/2)-$H$14)/50)^T$160)*T155,0))","v":1027},1141,1252,1358,1510,1497,1659,1815,1965,2182,900]
[]
[]
[null,null,null,null,null,null,null,null,null,null,null,null,null,null,null,null,null,null,"VSTUPNÍ HODNOTY"]
[null,null,null,null,null,null,null,null,null,null,null,null,null,null,null,null,null,null,"Qn","Typ 10",null,null,null,null,"Typ 20",null,null,null,null,"Qn"]
[null,null,null,null,null,null,null,null,null,null,null,null,null,null,null,null,null,null,"Délka L","Výška H [mm]",null,null,null,null,"Výška H [mm]",null,null,null,null,"Délka L"]
[null,null,null,null,null,null,null,null,null,null,null,null,null,null,null,null,null,null,"[mm]",1400,1600,1800,2000,2300,1400,1600,1800,2000,2300,"[mm]"]
[null,null,null,null,null,null,null,null,null,null,null,null,null,null,null,null,null,null,300,432,480,527,571,635,602,667,730,791,878,300]
[null,null,null,null,null,null,null,null,null,null,null,null,null,null,null,null,null,null,400,542,602,661,717,797,764,847,927,1004,1115,400]
[null,null,null,null,null,null,null,null,null,null,null,null,null,null,null,null,null,null,500,646,718,788,854,950,920,1019,1115,1208,1341,500]
[null,null,null,null,null,null,null,null,null,null,null,null,null,null,null,null,null,null,600,746,829,909,986,1097,1070,1185,1297,1404,1560,600]
[null,null,null,null,null,null,null,null,null,null,null,null,null,null,null,null,null,null,900,1027,1141,1252,1358,1510,1497,1659,1815,1965,2182,900]
[]
[null,null,null,null,null,null,null,null,null,null,null,null,null,null,null,null,null,null,"n","Typ 10",null,null,null,null,"Typ 20",null,null,null,null,"n"]
[null,null,null,null,null,null,null,null,null,null,null,null,null,null,null,null,null,null,"Délka L","Výška H [mm]",null,null,null,null,"Výška H [mm]",null,null,null,null,"Délka L"]
[null,null,null,null,null,null,null,null,null,null,null,null,null,null,null,null,null,null,"[mm]",1400,1600,1800,2000,2300,1400,1600,1800,2000,2300,"[mm]"]
[null,null,null,null,null,null,null,null,null,null,null,null,null,null,null,null,null,null,300,1.2582,1.2470000000000001,1.2359,1.2293000000000001,1.2194,1.3267,1.3222,1.3177000000000001,1.3117000000000001,1.3028,300]
[null,null,null,null,null,null,null,null,null,null,null,null,null,null,null,null,null,null,400,1.2624,1.2512000000000001,1.24,1.2334000000000001,1.2234,1.3205,1.3160000000000001,1.3115000000000001,1.3056000000000001,1.2967,400]
[null,null,null,null,null,null,null,null,null,null,null,null,null,null,null,null,null,null,500,1.2665,1.2553000000000001,1.2441,1.2374000000000001,1.2275,1.3142,1.3098000000000001,1.3052999999999999,1.2994000000000001,1.2905,500]
[null,null,null,null,null,null,null,null,null,null,null,null,null,null,null,null,null,null,600,1.2706999999999999,1.2595000000000001,1.2482,1.2415,1.2315,1.3080000000000001,1.3036000000000001,1.2990999999999999,1.2931999999999999,1.2844,600]
[null,null,null,null,null,null,null,null,null,null,null,null,null,null,null,null,null,null,900,1.2749999999999999,1.2637,1.2524,1.2457,1.2356,1.3141,1.3097000000000001,1.3051999999999999,1.2992999999999999,1.2904,900]

{"sheet":"Výpočet Kv","index":4,"n_rows":90,"n_cols":117,"rows_kept":90,"cut":false,"hidden":true,"merged":[[55,1,57,1],[56,2,56,8],[56,9,56,15],[15,1,17,1],[16,2,16,8],[16,9,16,15],[35,1,37,1],[36,2,36,8],[36,9,36,15]]}
[]
[]
[null,null,null,null,null,null,null,null,null,null,null,null,null,null,null,null,null,null,null,null,null,null,null,null,null,null,null,null,null,null,null,null,null,null,null,null,null,"OK"]
[null,null,null,null,null,null,null,null,null,null,null,null,null,null,null,null,null,null,null,null,null,null,null,null,null,null,null,null,null,null,null,"dolní mez",0.01,null,null,null,null,null,null,null,null,null,1,2,3,4,5,6,7,8,9,10,11,12,13,14,15,16,17,18,19,20,21,22,23,24,25,26,27,28,29,30,31,32,33,34,35,36,37,38,39,40,41,42,43,44,45,46,47,48,49,50,51,52,53,54,55,56,57,58,59,60,61,62,63,64,65,66,67,68,69,70,71,72,73,74,75]
[null,null,null,null,null,null,null,null,null,null,null,null,null,null,null,null,null,null,null,null,null,null,null,null,null,null,null,null,null,null,null,"horní mez",0.75,null,null,null,null,"Kv",0.47,null,null,null,0.01,0.02,0.03,0.04,0.05,0.06,7.0000000000000007E-2,0.08,0.09,0.1,0.11,0.12,0.13,0.14000000000000001,0.15,0.16,0.17,0.18,0.19,0.2,0.21,0.22,0.23,0.24,0.25,0.26,0.27,0.28000000000000003,0.28999999999999998,0.3,0.31,0.32,0.33,0.34,0.35,0.36,0.37,0.38,0.39,0.4,0.41,0.42,0.43,0.44,0.45,0.46,0.47,0.48,0.49,0.5,0.51,0.52,0.53,0.54,0.55000000000000004,0.56000000000000005,0.56999999999999995,0.57999999999999996,0.59,0.6,0.61,0.62,0.63,0.64,0.65,0.66,0.67,0.68,0.69,0.7,0.71,0.72,0.73,0.74,0.75]
[null,{"$f":"Výpočet!$U$3","v":"RADIK LINE VKM8-L"},null,null,null,null,null,null,null,null,null,null,null,null,null,null,null,null,null,null,null,null,null,null,null,null,null,null,null,null,null,"ró",{"$f":"1000-($C$10-4)*(0.097+0.0036*($C$10-4))","v":974.96540000000005},null,null,null,null,null,null,null,null,null,1,1,1,1,1,1,1,1,1,1,1,1,1,2,2,2,2,2,2,2,2,2,3,3,3,3,3,3,3,3,3,4,4,4,4,4,4,4,5,5,5,5,5,5,5,5,5,6,6,6,6,6,6,6,6,6,6,7,7,7,7,7,7,7,7,7,8,8,8,8,8,8,8,8,8]
[null,null,null,null,null,null,null,null,null,null,null,null,null,null,null,null,null,null,null,null,null,null,null,null,null,null,null,null,null,null,null,null,null,null,null,null,null,"pořadové číslo",{"$f":"RANK(AM5,AQ5:DM5,1)","v":47}]
[null,null,null,null,null,null,null,null,null,null,null,null,null,null,null,null,null,null,null,null,null,null,null,null,null,null,null,null,null,null,null,null,null,null,null,null,null,"nastavení",{"$f":"HLOOKUP(AM7,AQ4:DM6,3,FALSE)","v":5}]
[null,null,"t 1","t 2","t i"," D T"," D p"]
[null,null,{"$f":"Výstup!B16","v":75},{"$f":"Výstup!C16","v":65},{"$f":"Výstup!D16","v":20},{"$f":"(C10+D10)/2-E10","v":50},{"$f":"IF(Logic!$D$106=1,Výstup!G16,Výstup!G16/10)","v":10}]
[null,null,null,null,null,null,"kPa"]
[]
[null,null,null,null,null,null,null,null,null,null,null,null,null,null,null,null,null,null,null,null,null,null,null,null,null,null,null,null,null,null,null,null,null,null,null,null,null,null,null,null,null,null,null,null,null,null,null,null,null,null,null,null,null,null,null,null,null,null,null,null,null,null,null,null,null,null,null,null,null,null,"t 1","t 2","t i"," D T"]
[null,null,1,2,3,4,5,6,7,8,null,null,null,null,null,null,null,null,null,null,null,null,null,null,null,null,null,null,null,null,null,null,null,null,null,null,null,null,null,null,null,null,null,null,null,null,null,null,null,null,null,null,null,null,null,null,null,null,null,null,null,null,null,null,null,null,"Průtok kg/h",null,null,null,{"$f":"C10","v":75},{"$f":"D10","v":65},{"$f":"E10","v":20},{"$f":"F10","v":50}]
[]
[null,null,null,null,null,{"$f":"Výpočet!V18","v":"Typ"},{"$f":"Výpočet!W18","v":0},null,null,null,null,null,{"$f":"Výpočet!AC18","v":"Typ"},{"$f":"Výpočet!AD18","v":11},null,null,null,null,null,"Height",null,null,{"$f":"Výpočet!V18","v":"Typ"},{"$f":"Výpočet!W18","v":0},null,null,null,null,null,{"$f":"Výpočet!AC18","v":"Typ"},{"$f":"Výpočet!AD18","v":11},null,null,null,"Height",null,null,{"$f":"Výpočet!V36","v":"Typ"},{"$f":"Výpočet!W36","v":20},null,null,null,null,null,{"$f":"Výpočet!AC36","v":"Typ"},{"$f":"Výpočet!AD36","v":21},null,null,null,"Height",null,null,{"$f":"Výpočet!V54","v":"Typ"},{"$f":"Výpočet!W54","v":22},null,null,null,null,null,{"$f":"Výpočet!AC54","v":"Typ"},{"$f":"Výpočet!AD54","v":33},null,null,null,"Height",null,"Height",null,null,{"$f":"Výpočet!V18","v":"Typ"},{"$f":"Výpočet!W18","v":0},null,null,null,null,null,{"$f":"Výpočet!AC18","v":"Typ"},{"$f":"Výpočet!AD18","v":11},null,null,null,"Height"]
[null,null,null,null,null,null,null,null,null,null,null,null,null,null,null,null,null,null,null,"Length",{"$f":"Výpočet!T19","v":200},{"$f":"Výpočet!U19","v":300},{"$f":"Výpočet!V19","v":400},{"$f":"Výpočet!W19","v":500},{"$f":"Výpočet!X19","v":600},{"$f":"Výpočet!Y19","v":700},{"$f":"Výpočet!Z19","v":900},{"$f":"Výpočet!AA19","v":200},{"$f":"Výpočet!AB19","v":300},{"$f":"Výpočet!AC19","v":400},{"$f":"Výpočet!AD19","v":500},{"$f":"Výpočet!AE19","v":600},{"$f":"Výpočet!AF19","v":700},{"$f":"Výpočet!AG19","v":900},"Length",{"$f":"Výpočet!T37","v":200},{"$f":"Výpočet!U37","v":300},{"$f":"Výpočet!V37","v":400},{"$f":"Výpočet!W37","v":500},{"$f":"Výpočet!X37","v":600},{"$f":"Výpočet!Y37","v":700},{"$f":"Výpočet!Z37","v":900},{"$f":"Výpočet!AA37","v":200},{"$f":"Výpočet!AB37","v":300},{"$f":"Výpočet!AC37","v":400},{"$f":"Výpočet!AD37","v":500},{"$f":"Výpočet!AE37","v":600},{"$f":"Výpočet!AF37","v":700},{"$f":"Výpočet!AG37","v":900},"Length",{"$f":"Výpočet!T55","v":200},{"$f":"Výpočet!U55","v":300},{"$f":"Výpočet!V55","v":400},{"$f":"Výpočet!W55","v":500},{"$f":"Výpočet!X55","v":600},{"$f":"Výpočet!Y55","v":700},{"$f":"Výpočet!Z55","v":900},{"$f":"Výpočet!AA55","v":200},{"$f":"Výpočet!AB55","v":300},{"$f":"Výpočet!AC55","v":400},{"$f":"Výpočet!AD55","v":500},{"$f":"Výpočet!AE55","v":600},{"$f":"Výpočet!AF55","v":700},{"$f":"Výpočet!AG55","v":900},"Length",null,"Length",{"$f":"Výpočet!T19","v":200},{"$f":"Výpočet!U19","v":300},{"$f":"Výpočet!V19","v":400},{"$f":"Výpočet!W19","v":500},{"$f":"Výpočet!X19","v":600},{"$f":"Výpočet!Y19","v":700},{"$f":"Výpočet!Z19","v":900},{"$f":"Výpočet!AA19","v":200},{"$f":"Výpočet!AB19","v":300},{"$f":"Výpočet!AC19","v":400},{"$f":"Výpočet!AD19","v":500},{"$f":"Výpočet!AE19","v":600},{"$f":"Výpočet!AF19","v":700},{"$f":"Výpočet!AG19","v":900},"Length"]
[null,null,{"$f":"Výpočet!T19","v":200},{"$f":"Výpočet!U19","v":300},{"$f":"Výpočet!V19","v":400},{"$f":"Výpočet!W19","v":500},{"$f":"Výpočet!X19","v":600},{"$f":"Výpočet!Y19","v":700},{"$f":"Výpočet!Z19","v":900},{"$f":"Výpočet!AA19","v":200},{"$f":"Výpočet!AB19","v":300},{"$f":"Výpočet!AC19","v":400},{"$f":"Výpočet!AD19","v":500},{"$f":"Výpočet!AE19","v":600},{"$f":"Výpočet!AF19","v":700},{"$f":"Výpočet!AG19","v":900},null,null,null,null,{"$f":"RANK(U19,$AQ$5:$DM$5,1)","v":1},1,{"$f":"RANK(W19,$AQ$5:$DM$5,1)","v":1},1,1,1,1,1,6,7,9,10,11,14,null,{"$f":"RANK(AJ19,$AQ$5:$DM$5,1)","v":1},1,1,9,11,12,1,1,8,10,12,14,15,18,null,{"$f":"RANK(AY19,$AQ$5:$DM$5,1)","v":1},10,13,16,18,20,25,1,15,19,23,26,30,36,null,null,400,{"$f":"ROUND(Výpočet!C20/(($BS$14-$BT$14)*1.163),0)","v":0},{"$f":"ROUND(Výpočet!D20/(($BS$14-$BT$14)*1.163),0)","v":0},{"$f":"ROUND(Výpočet!E20/(($BS$14-$BT$14)*1.163),0)","v":0},{"$f":"ROUND(Výpočet!F20/(($BS$14-$BT$14)*1.163),0)","v":0},{"$f":"ROUND(Výpočet!G20/(($BS$14-$BT$14)*1.163),0)","v":0},{"$f":"ROUND(Výpočet!H20/(($BS$14-$BT$14)*1.163),0)","v":0},{"$f":"ROUND(Výpočet!I20/(($BS$14-$BT$14)*1.163),0)","v":0},{"$f":"ROUND(Výpočet!J20/(($BS$14-$BT$14)*1.163),0)","v":0},{"$f":"ROUND(Výpočet!K20/(($BS$14-$BT$14)*1.163),0)","v":18},{"$f":"ROUND(Výpočet!L20/(($BS$14-$BT$14)*1.163),0)","v":23},{"$f":"ROUND(Výpočet!M20/(($BS$14-$BT$14)*1.163),0)","v":27},{"$f":"ROUND(Výpočet!N20/(($BS$14-$BT$14)*1.163),0)","v":31},{"$f":"ROUND(Výpočet!O20/(($BS$14-$BT$14)*1.163),0)","v":35},{"$f":"ROUND(Výpočet!P20/(($BS$14-$BT$14)*1.163),0)","v":42},400]
[{"$f":"B19&\"V\"","v":"400V"},{"$f":"Výpočet!$S$20","v":400},{"$f":"SUMIF($S:$S,$A19,U:U)","v":1},{"$f":"SUMIF($S:$S,$A19,V:V)","v":1},{"$f":"SUMIF($S:$S,$A19,W:W)","v":1},{"$f":"SUMIF($S:$S,$A19,X:X)","v":1},{"$f":"SUMIF($S:$S,$A19,Y:Y)","v":1},{"$f":"SUMIF($S:$S,$A19,Z:Z)","v":1},{"$f":"SUMIF($S:$S,$A19,AA:AA)","v":1},{"$f":"SUMIF($S:$S,$A19,AB:AB)","v":1},{"$f":"SUMIF($S:$S,$A19,AC:AC)","v":1},{"$f":"SUMIF($S:$S,$A19,AD:AD)","v":1},{"$f":"SUMIF($S:$S,$A19,AE:AE)","v":1},{"$f":"SUMIF($S:$S,$A19,AF:AF)","v":1},{"$f":"SUMIF($S:$S,$A19,AG:AG)","v":1},{"$f":"SUMIF($S:$S,$A19,AH:AH)","v":2},null,null,null,400,{"$f":"IF(ROUND((BP18/$AG$6)*(SQRT(100))/(SQRT($G$10)),2)<$AG$4,0.01,IF(ROUND((BP18/$AG$6)*(SQRT(100))/(SQRT($G$10)),2)>$AG$5,0.75,ROUND((BP18/$AG$6)*(SQRT(100))/(SQRT($G$10)),2)))","v":0.01},0.01,0.01,0.01,0.01,0.01,0.01,0.01,0.06,7.0000000000000007E-2,0.09,0.1,0.11,0.14000000000000001,400,{"$f":"IF(ROUND((BP36/$AG$6)*(SQRT(100))/(SQRT($G$10)),2)<$AG$4,0.01,IF(ROUND((BP36/$AG$6)*(SQRT(100))/(SQRT($G$10)),2)>$AG$5,0.75,ROUND((BP36/$AG$6)*(SQRT(100))/(SQRT($G$10)),2)))","v":0.01},0.01,0.01,0.09,0.11,0.12,0.01,0.01,0.08,0.1,0.12,0.14000000000000001,0.15,0.18,400,{"$f":"IF(ROUND((BP54/$AG$6)*(SQRT(100))/(SQRT($G$10)),2)<$AG$4,0.01,IF(ROUND((BP54/$AG$6)*(SQRT(100))/(SQRT($G$10)),2)>$AG$5,0.75,ROUND((BP54/$AG$6)*(SQRT(100))/(SQRT($G$10)),2)))","v":0.01},0.1,0.13,0.16,0.18,0.2,0.25,0.01,0.15,0.19,0.23,0.26,0.3,0.36,400,null,500,{"$f":"ROUND(Výpočet!C21/(($BS$14-$BT$14)*1.163),0)","v":0},{"$f":"ROUND(Výpočet!D21/(($BS$14-$BT$14)*1.163),0)","v":0},{"$f":"ROUND(Výpočet!E21/(($BS$14-$BT$14)*1.163),0)","v":0},{"$f":"ROUND(Výpočet!F21/(($BS$14-$BT$14)*1.163),0)","v":0},{"$f":"ROUND(Výpočet!G21/(($BS$14-$BT$14)*1.163),0)","v":0},{"$f":"ROUND(Výpočet!H21/(($BS$14-$BT$14)*1.163),0)","v":0},{"$f":"ROUND(Výpočet!I21/(($BS$14-$BT$14)*1.163),0)","v":0},{"$f":"ROUND(Výpočet!J21/(($BS$14-$BT$14)*1.163),0)","v":0},{"$f":"ROUND(Výpočet!K21/(($BS$14-$BT$14)*1.163),0)","v":23},{"$f":"ROUND(Výpočet!L21/(($BS$14-$BT$14)*1.163),0)","v":28},{"$f":"ROUND(Výpočet!M21/(($BS$14-$BT$14)*1.163),0)","v":34},{"$f":"ROUND(Výpočet!N21/(($BS$14-$BT$14)*1.163),0)","v":39},{"$f":"ROUND(Výpočet!O21/(($BS$14-$BT$14)*1.163),0)","v":44},{"$f":"ROUND(Výpočet!P21/(($BS$14-$BT$14)*1.163),0)","v":53},500]
[{"$f":"B20&\"V\"","v":"500V"},{"$f":"Výpočet!$S$21","v":500},{"$f":"SUMIF($S:$S,$A20,U:U)","v":1},1,1,1,1,1,1,1,1,1,1,1,2,2,null,null,{"$f":"T19&\"V\"","v":"400V"},null,{"$f":"HLOOKUP(U18,$AQ$4:$DM$6,3,FALSE)","v":1},1,1,1,1,1,1,1,1,1,1,1,1,2,null,{"$f":"HLOOKUP(AJ18,$AQ$4:$DM$6,3,FALSE)","v":1},1,1,1,1,1,1,1,1,1,1,2,2,2,null,{"$f":"HLOOKUP(AY18,$AQ$4:$DM$6,3,FALSE)","v":1},1,1,2,2,2,3,1,2,2,3,3,3,4,null,null,600,{"$f":"ROUND(Výpočet!C22/(($BS$14-$BT$14)*1.163),0)","v":0},{"$f":"ROUND(Výpočet!D22/(($BS$14-$BT$14)*1.163),0)","v":0},{"$f":"ROUND(Výpočet!E22/(($BS$14-$BT$14)*1.163),0)","v":0},{"$f":"ROUND(Výpočet!F22/(($BS$14-$BT$14)*1.163),0)","v":0},{"$f":"ROUND(Výpočet!G22/(($BS$14-$BT$14)*1.163),0)","v":0},{"$f":"ROUND(Výpočet!H22/(($BS$14-$BT$14)*1.163),0)","v":0},{"$f":"ROUND(Výpočet!I22/(($BS$14-$BT$14)*1.163),0)","v":0},{"$f":"ROUND(Výpočet!J22/(($BS$14-$BT$14)*1.163),0)","v":0},{"$f":"ROUND(Výpočet!K22/(($BS$14-$BT$14)*1.163),0)","v":27},{"$f":"ROUND(Výpočet!L22/(($BS$14-$BT$14)*1.163),0)","v":34},{"$f":"ROUND(Výpočet!M22/(($BS$14-$BT$14)*1.163),0)","v":40},{"$f":"ROUND(Výpočet!N22/(($BS$14-$BT$14)*1.163),0)","v":46},{"$f":"ROUND(Výpočet!O22/(($BS$14-$BT$14)*1.163),0)","v":52},{"$f":"ROUND(Výpočet!P22/(($BS$14-$BT$14)*1.163),0)","v":64},600]
["600V",{"$f":"Výpočet!$S$22","v":600},1,1,1,1,1,1,1,1,1,1,1,2,2,2,null,null,null,null,{"$f":"RANK(U22,$AQ$5:$DM$5,1)","v":1},1,1,1,1,1,1,1,7,9,11,13,14,17,null,{"$f":"RANK(AJ22,$AQ$5:$DM$5,1)","v":1},1,1,12,14,15,1,1,10,13,15,17,19,23,null,{"$f":"RANK(AY22,$AQ$5:$DM$5,1)","v":1},13,16,19,23,26,31,1,19,24,28,33,37,45,null,null,700,{"$f":"ROUND(Výpočet!C23/(($BS$14-$BT$14)*1.163),0)","v":0},{"$f":"ROUND(Výpočet!D23/(($BS$14-$BT$14)*1.163),0)","v":0},{"$f":"ROUND(Výpočet!E23/(($BS$14-$BT$14)*1.163),0)","v":0},{"$f":"ROUND(Výpočet!F23/(($BS$14-$BT$14)*1.163),0)","v":0},{"$f":"ROUND(Výpočet!G23/(($BS$14-$BT$14)*1.163),0)","v":0},{"$f":"ROUND(Výpočet!H23/(($BS$14-$BT$14)*1.163),0)","v":0},{"$f":"ROUND(Výpočet!I23/(($BS$14-$BT$14)*1.163),0)","v":0},{"$f":"ROUND(Výpočet!J23/(($BS$14-$BT$14)*1.163),0)","v":0},{"$f":"ROUND(Výpočet!K23/(($BS$14-$BT$14)*1.163),0)","v":32},{"$f":"ROUND(Výpočet!L23/(($BS$14-$BT$14)*1.163),0)","v":40},{"$f":"ROUND(Výpočet!M23/(($BS$14-$BT$14)*1.163),0)","v":47},{"$f":"ROUND(Výpočet!N23/(($BS$14-$BT$14)*1.163),0)","v":54},{"$f":"ROUND(Výpočet!O23/(($BS$14-$BT$14)*1.163),0)","v":61},{"$f":"ROUND(Výpočet!P23/(($BS$14-$BT$14)*1.163),0)","v":74},700]
["700V",{"$f":"Výpočet!$S$23","v":700},1,1,1,1,1,1,1,1,1,1,2,2,2,3,null,null,null,500,{"$f":"IF(ROUND((BP19/$AG$6)*(SQRT(100))/(SQRT($G$10)),2)<$AG$4,0.01,IF(ROUND((BP19/$AG$6)*(SQRT(100))/(SQRT($G$10)),2)>$AG$5,0.75,ROUND((BP19/$AG$6)*(SQRT(100))/(SQRT($G$10)),2)))","v":0.01},0.01,0.01,0.01,0.01,0.01,0.01,0.01,7.0000000000000007E-2,0.09,0.11,0.13,0.14000000000000001,0.17,500,{"$f":"IF(ROUND((BP37/$AG$6)*(SQRT(100))/(SQRT($G$10)),2)<$AG$4,0.01,IF(ROUND((BP37/$AG$6)*(SQRT(100))/(SQRT($G$10)),2)>$AG$5,0.75,ROUND((BP37/$AG$6)*(SQRT(100))/(SQRT($G$10)),2)))","v":0.01},0.01,0.01,0.12,0.14000000000000001,0.15,0.01,0.01,0.1,0.13,0.15,0.17,0.19,0.23,500,{"$f":"IF(ROUND((BP55/$AG$6)*(SQRT(100))/(SQRT($G$10)),2)<$AG$4,0.01,IF(ROUND((BP55/$AG$6)*(SQRT(100))/(SQRT($G$10)),2)>$AG$5,0.75,ROUND((BP55/$AG$6)*(SQRT(100))/(SQRT($G$10)),2)))","v":0.01},0.13,0.16,0.19,0.23,0.26,0.31,0.01,0.19,0.24,0.28000000000000003,0.33,0.37,0.45,500,null,800,{"$f":"ROUND(Výpočet!C24/(($BS$14-$BT$14)*1.163),0)","v":0},{"$f":"ROUND(Výpočet!D24/(($BS$14-$BT$14)*1.163),0)","v":0},{"$f":"ROUND(Výpočet!E24/(($BS$14-$BT$14)*1.163),0)","v":0},{"$f":"ROUND(Výpočet!F24/(($BS$14-$BT$14)*1.163),0)","v":0},{"$f":"ROUND(Výpočet!G24/(($BS$14-$BT$14)*1.163),0)","v":0},{"$f":"ROUND(Výpočet!H24/(($BS$14-$BT$14)*1.163),0)","v":0},{"$f":"ROUND(Výpočet!I24/(($BS$14-$BT$14)*1.163),0)","v":0},{"$f":"ROUND(Výpočet!J24/(($BS$14-$BT$14)*1.163),0)","v":0},{"$f":"ROUND(Výpočet!K24/(($BS$14-$BT$14)*1.163),0)","v":36},{"$f":"ROUND(Výpočet!L24/(($BS$14-$BT$14)*1.163),0)","v":45},{"$f":"ROUND(Výpočet!M24/(($BS$14-$BT$14)*1.163),0)","v":54},{"$f":"ROUND(Výpočet!N24/(($BS$14-$BT$14)*1.163),0)","v":62},{"$f":"ROUND(Výpočet!O24/(($BS$14-$BT$14)*1.163),0)","v":70},{"$f":"ROUND(Výpočet!P24/(($BS$14-$BT$14)*1.163),0)","v":85},800]
["800V",{"$f":"Výpočet!$S$24","v":800},1,1,1,1,1,1,1,1,1,2,2,2,3,3,null,null,{"$f":"T22&\"V\"","v":"500V"},null,{"$f":"HLOOKUP(U21,$AQ$4:$DM$6,3,FALSE)","v":1},1,1,1,1,1,1,1,1,1,1,1,2,2,null,{"$f":"HLOOKUP(AJ21,$AQ$4:$DM$6,3,FALSE)","v":1},1,1,1,2,2,1,1,1,1,2,2,2,3,null,{"$f":"HLOOKUP(AY21,$AQ$4:$DM$6,3,FALSE)","v":1},1,2,2,3,3,3,1,2,3,3,4,4,5,null,null,900,{"$f":"ROUND(Výpočet!C25/(($BS$14-$BT$14)*1.163),0)","v":0},{"$f":"ROUND(Výpočet!D25/(($BS$14-$BT$14)*1.163),0)","v":0},{"$f":"ROUND(Výpočet!E25/(($BS$14-$BT$14)*1.163),0)","v":0},{"$f":"ROUND(Výpočet!F25/(($BS$14-$BT$14)*1.163),0)","v":0},{"$f":"ROUND(Výpočet!G25/(($BS$14-$BT$14)*1.163),0)","v":0},{"$f":"ROUND(Výpočet!H25/(($BS$14-$BT$14)*1.163),0)","v":0},{"$f":"ROUND(Výpočet!I25/(($BS$14-$BT$14)*1.163),0)","v":0},{"$f":"ROUND(Výpočet!J25/(($BS$14-$BT$14)*1.163),0)","v":0},{"$f":"ROUND(Výpočet!K25/(($BS$14-$BT$14)*1.163),0)","v":41},{"$f":"ROUND(Výpočet!L25/(($BS$14-$BT$14)*1.163),0)","v":51},{"$f":"ROUND(Výpočet!M25/(($BS$14-$BT$14)*1.163),0)","v":60},{"$f":"ROUND(Výpočet!N25/(($BS$14-$BT$14)*1.163),0)","v":69},{"$f":"ROUND(Výpočet!O25/(($BS$14-$BT$14)*1.163),0)","v":78},{"$f":"ROUND(Výpočet!P25/(($BS$14-$BT$14)*1.163),0)","v":95},900]
["900V",{"$f":"Výpočet!$S$25","v":900},1,1,1,1,1,1,1,1,1,2,2,2,3,3,null,null,null,null,{"$f":"RANK(U25,$AQ$5:$DM$5,1)","v":1},1,1,1,1,1,1,1,9,11,13,15,17,21,null,{"$f":"RANK(AJ25,$AQ$5:$DM$5,1)","v":1},1,1,14,16,18,1,1,12,15,18,20,23,27,null,{"$f":"RANK(AY25,$AQ$5:$DM$5,1)","v":1},15,19,23,27,30,37,1,22,28,34,39,44,54,null,null,1000,{"$f":"ROUND(Výpočet!C26/(($BS$14-$BT$14)*1.163),0)","v":0},{"$f":"ROUND(Výpočet!D26/(($BS$14-$BT$14)*1.163),0)","v":0},{"$f":"ROUND(Výpočet!E26/(($BS$14-$BT$14)*1.163),0)","v":0},{"$f":"ROUND(Výpočet!F26/(($BS$14-$BT$14)*1.163),0)","v":0},{"$f":"ROUND(Výpočet!G26/(($BS$14-$BT$14)*1.163),0)","v":0},{"$f":"ROUND(Výpočet!H26/(($BS$14-$BT$14)*1.163),0)","v":0},{"$f":"ROUND(Výpočet!I26/(($BS$14-$BT$14)*1.163),0)","v":0},{"$f":"ROUND(Výpočet!J26/(($BS$14-$BT$14)*1.163),0)","v":0},{"$f":"ROUND(Výpočet!K26/(($BS$14-$BT$14)*1.163),0)","v":46},{"$f":"ROUND(Výpočet!L26/(($BS$14-$BT$14)*1.163),0)","v":57},{"$f":"ROUND(Výpočet!M26/(($BS$14-$BT$14)*1.163),0)","v":67},{"$f":"ROUND(Výpočet!N26/(($BS$14-$BT$14)*1.163),0)","v":77},{"$f":"ROUND(Výpočet!O26/(($BS$14-$BT$14)*1.163),0)","v":87},{"$f":"ROUND(Výpočet!P26/(($BS$14-$BT$14)*1.163),0)","v":106},1000]
["1000V",{"$f":"Výpočet!$S$26","v":1000},1,1,1,1,1,1,1,1,2,2,2,3,3,4,null,null,null,600,{"$f":"IF(ROUND((BP20/$AG$6)*(SQRT(100))/(SQRT($G$10)),2)<$AG$4,0.01,IF(ROUND((BP20/$AG$6)*(SQRT(100))/(SQRT($G$10)),2)>$AG$5,0.75,ROUND((BP20/$AG$6)*(SQRT(100))/(SQRT($G$10)),2)))","v":0.01},0.01,0.01,0.01,0.01,0.01,0.01,0.01,0.09,0.11,0.13,0.15,0.17,0.21,600,{"$f":"IF(ROUND((BP38/$AG$6)*(SQRT(100))/(SQRT($G$10)),2)<$AG$4,0.01,IF(ROUND((BP38/$AG$6)*(SQRT(100))/(SQRT($G$10)),2)>$AG$5,0.75,ROUND((BP38/$AG$6)*(SQRT(100))/(SQRT($G$10)),2)))","v":0.01},0.01,0.01,0.14000000000000001,0.16,0.18,0.01,0.01,0.12,0.15,0.18,0.2,0.23,0.27,600,{"$f":"IF(ROUND((BP56/$AG$6)*(SQRT(100))/(SQRT($G$10)),2)<$AG$4,0.01,IF(ROUND((BP56/$AG$6)*(SQRT(100))/(SQRT($G$10)),2)>$AG$5,0.75,ROUND((BP56/$AG$6)*(SQRT(100))/(SQRT($G$10)),2)))","v":0.01},0.15,0.19,0.23,0.27,0.3,0.37,0.01,0.22,0.28000000000000003,0.34,0.39,0.44,0.54,600,null,1100,{"$f":"ROUND(Výpočet!C27/(($BS$14-$BT$14)*1.163),0)","v":0},{"$f":"ROUND(Výpočet!D27/(($BS$14-$BT$14)*1.163),0)","v":0},{"$f":"ROUND(Výpočet!E27/(($BS$14-$BT$14)*1.163),0)","v":0},{"$f":"ROUND(Výpočet!F27/(($BS$14-$BT$14)*1.163),0)","v":0},{"$f":"ROUND(Výpočet!G27/(($BS$14-$BT$14)*1.163),0)","v":0},{"$f":"ROUND(Výpočet!H27/(($BS$14-$BT$14)*1.163),0)","v":0},{"$f":"ROUND(Výpočet!I27/(($BS$14-$BT$14)*1.163),0)","v":0},{"$f":"ROUND(Výpočet!J27/(($BS$14-$BT$14)*1.163),0)","v":0},{"$f":"ROUND(Výpočet!K27/(($BS$14-$BT$14)*1.163),0)","v":50},{"$f":"ROUND(Výpočet!L27/(($BS$14-$BT$14)*1.163),0)","v":62},{"$f":"ROUND(Výpočet!M27/(($BS$14-$BT$14)*1.163),0)","v":74},{"$f":"ROUND(Výpočet!N27/(($BS$14-$BT$14)*1.163),0)","v":85},{"$f":"ROUND(Výpočet!O27/(($BS$14-$BT$14)*1.163),0)","v":96},{"$f":"ROUND(Výpočet!P27/(($BS$14-$BT$14)*1.163),0)","v":116},1100]
["1100V",{"$f":"Výpočet!$S$27","v":1100},1,1,1,1,1,1,1,1,2,2,3,3,3,4,null,null,{"$f":"T25&\"V\"","v":"600V"},null,{"$f":"HLOOKUP(U24,$AQ$4:$DM$6,3,FALSE)","v":1},1,1,1,1,1,1,1,1,1,1,2,2,2,null,{"$f":"HLOOKUP(AJ24,$AQ$4:$DM$6,3,FALSE)","v":1},1,1,2,2,2,1,1,1,2,2,2,3,3,null,{"$f":"HLOOKUP(AY24,$AQ$4:$DM$6,3,FALSE)","v":1},2,2,3,3,3,4,1,2,3,4,5,5,6,null,null,1200,{"$f":"ROUND(Výpočet!C28/(($BS$14-$BT$14)*1.163),0)","v":0},{"$f":"ROUND(Výpočet!D28/(($BS$14-$BT$14)*1.163),0)","v":0},{"$f":"ROUND(Výpočet!E28/(($BS$14-$BT$14)*1.163),0)","v":0},{"$f":"ROUND(Výpočet!F28/(($BS$14-$BT$14)*1.163),0)","v":0},{"$f":"ROUND(Výpočet!G28/(($BS$14-$BT$14)*1.163),0)","v":0},{"$f":"ROUND(Výpočet!H28/(($BS$14-$BT$14)*1.163),0)","v":0},{"$f":"ROUND(Výpočet!I28/(($BS$14-$BT$14)*1.163),0)","v":0},{"$f":"ROUND(Výpočet!J28/(($BS$14-$BT$14)*1.163),0)","v":0},{"$f":"ROUND(Výpočet!K28/(($BS$14-$BT$14)*1.163),0)","v":55},{"$f":"ROUND(Výpočet!L28/(($BS$14-$BT$14)*1.163),0)","v":68},{"$f":"ROUND(Výpočet!M28/(($BS$14-$BT$14)*1.163),0)","v":80},{"$f":"ROUND(Výpočet!N28/(($BS$14-$BT$14)*1.163),0)","v":93},{"$f":"ROUND(Výpočet!O28/(($BS$14-$BT$14)*1.163),0)","v":104},{"$f":"ROUND(Výpočet!P28/(($BS$14-$BT$14)*1.163),0)","v":127},1200]
["1200V",{"$f":"Výpočet!$S$28","v":1200},1,1,1,1,1,1,1,1,2,2,3,3,4,5,null,null,null,null,{"$f":"RANK(U28,$AQ$5:$DM$5,1)","v":1},1,1,1,1,1,1,1,10,13,15,18,20,24,null,{"$f":"RANK(AJ28,$AQ$5:$DM$5,1)","v":1},1,1,17,19,21,1,1,14,18,21,24,27,31,null,{"$f":"RANK(AY28,$AQ$5:$DM$5,1)","v":1},18,23,27,32,36,43,1,26,33,40,46,52,63,null,null,1400,{"$f":"ROUND(Výpočet!C29/(($BS$14-$BT$14)*1.163),0)","v":0},{"$f":"ROUND(Výpočet!D29/(($BS$14-$BT$14)*1.163),0)","v":0},{"$f":"ROUND(Výpočet!E29/(($BS$14-$BT$14)*1.163),0)","v":0},{"$f":"ROUND(Výpočet!F29/(($BS$14-$BT$14)*1.163),0)","v":0},{"$f":"ROUND(Výpočet!G29/(($BS$14-$BT$14)*1.163),0)","v":0},{"$f":"ROUND(Výpočet!H29/(($BS$14-$BT$14)*1.163),0)","v":0},{"$f":"ROUND(Výpočet!I29/(($BS$14-$BT$14)*1.163),0)","v":0},{"$f":"ROUND(Výpočet!J29/(($BS$14-$BT$14)*1.163),0)","v":0},{"$f":"ROUND(Výpočet!K29/(($BS$14-$BT$14)*1.163),0)","v":64},{"$f":"ROUND(Výpočet!L29/(($BS$14-$BT$14)*1.163),0)","v":79},{"$f":"ROUND(Výpočet!M29/(($BS$14-$BT$14)*1.163),0)","v":94},{"$f":"ROUND(Výpočet!N29/(($BS$14-$BT$14)*1.163),0)","v":108},{"$f":"ROUND(Výpočet!O29/(($BS$14-$BT$14)*1.163),0)","v":122},{"$f":"ROUND(Výpočet!P29/(($BS$14-$BT$14)*1.163),0)","v":148},1400]
["1400V",{"$f":"Výpočet!$S$29","v":1400},1,1,1,1,1,1,1,1,2,3,3,4,5,6,null,null,null,700,{"$f":"IF(ROUND((BP21/$AG$6)*(SQRT(100))/(SQRT($G$10)),2)<$AG$4,0.01,IF(ROUND((BP21/$AG$6)*(SQRT(100))/(SQRT($G$10)),2)>$AG$5,0.75,ROUND((BP21/$AG$6)*(SQRT(100))/(SQRT($G$10)),2)))","v":0.01},0.01,0.01,0.01,0.01,0.01,0.01,0.01,0.1,0.13,0.15,0.18,0.2,0.24,700,{"$f":"IF(ROUND((BP39/$AG$6)*(SQRT(100))/(SQRT($G$10)),2)<$AG$4,0.01,IF(ROUND((BP39/$AG$6)*(SQRT(100))/(SQRT($G$10)),2)>$AG$5,0.75,ROUND((BP39/$AG$6)*(SQRT(100))/(SQRT($G$10)),2)))","v":0.01},0.01,0.01,0.17,0.19,0.21,0.01,0.01,0.14000000000000001,0.18,0.21,0.24,0.27,0.31,700,{"$f":"IF(ROUND((BP57/$AG$6)*(SQRT(100))/(SQRT($G$10)),2)<$AG$4,0.01,IF(ROUND((BP57/$AG$6)*(SQRT(100))/(SQRT($G$10)),2)>$AG$5,0.75,ROUND((BP57/$AG$6)*(SQRT(100))/(SQRT($G$10)),2)))","v":0.01},0.18,0.23,0.27,0.32,0.36,0.43,0.01,0.26,0.33,0.4,0.46,0.52,0.63,700,null,1600,{"$f":"ROUND(Výpočet!C30/(($BS$14-$BT$14)*1.163),0)","v":0},{"$f":"ROUND(Výpočet!D30/(($BS$14-$BT$14)*1.163),0)","v":0},{"$f":"ROUND(Výpočet!E30/(($BS$14-$BT$14)*1.163),0)","v":0},{"$f":"ROUND(Výpočet!F30/(($BS$14-$BT$14)*1.163),0)","v":0},{"$f":"ROUND(Výpočet!G30/(($BS$14-$BT$14)*1.163),0)","v":0},{"$f":"ROUND(Výpočet!H30/(($BS$14-$BT$14)*1.163),0)","v":0},{"$f":"ROUND(Výpočet!I30/(($BS$14-$BT$14)*1.163),0)","v":0},{"$f":"ROUND(Výpočet!J30/(($BS$14-$BT$14)*1.163),0)","v":0},{"$f":"ROUND(Výpočet!K30/(($BS$14-$BT$14)*1.163),0)","v":73},{"$f":"ROUND(Výpočet!L30/(($BS$14-$BT$14)*1.163),0)","v":91},{"$f":"ROUND(Výpočet!M30/(($BS$14-$BT$14)*1.163),0)","v":107},{"$f":"ROUND(Výpočet!N30/(($BS$14-$BT$14)*1.163),0)","v":123},{"$f":"ROUND(Výpočet!O30/(($BS$14-$BT$14)*1.163),0)","v":139},{"$f":"ROUND(Výpočet!P30/(($BS$14-$BT$14)*1.163),0)","v":169},1600]
["1600V",{"$f":"Výpočet!$S$30","v":1600},1,1,1,1,1,1,1,1,3,3,4,5,5,6,null,null,{"$f":"T28&\"V\"","v":"700V"},null,{"$f":"HLOOKUP(U27,$AQ$4:$DM$6,3,FALSE)","v":1},1,1,1,1,1,1,1,1,1,2,2,2,3,null,{"$f":"HLOOKUP(AJ27,$AQ$4:$DM$6,3,FALSE)","v":1},1,1,2,2,2,1,1,2,2,2,3,3,3,null,{"$f":"HLOOKUP(AY27,$AQ$4:$DM$6,3,FALSE)","v":1},2,3,3,4,4,5,1,3,4,5,5,6,7,null,null,1800,{"$f":"ROUND(Výpočet!C31/(($BS$14-$BT$14)*1.163),0)","v":0},{"$f":"ROUND(Výpočet!D31/(($BS$14-$BT$14)*1.163),0)","v":0},{"$f":"ROUND(Výpočet!E31/(($BS$14-$BT$14)*1.163),0)","v":0},{"$f":"ROUND(Výpočet!F31/(($BS$14-$BT$14)*1.163),0)","v":0},{"$f":"ROUND(Výpočet!G31/(($BS$14-$BT$14)*1.163),0)","v":0},{"$f":"ROUND(Výpočet!H31/(($BS$14-$BT$14)*1.163),0)","v":0},{"$f":"ROUND(Výpočet!I31/(($BS$14-$BT$14)*1.163),0)","v":0},{"$f":"ROUND(Výpočet!J31/(($BS$14-$BT$14)*1.163),0)","v":0},{"$f":"ROUND(Výpočet!K31/(($BS$14-$BT$14)*1.163),0)","v":82},{"$f":"ROUND(Výpočet!L31/(($BS$14-$BT$14)*1.163),0)","v":102},{"$f":"ROUND(Výpočet!M31/(($BS$14-$BT$14)*1.163),0)","v":121},{"$f":"ROUND(Výpočet!N31/(($BS$14-$BT$14)*1.163),0)","v":139},{"$f":"ROUND(Výpočet!O31/(($BS$14-$BT$14)*1.163),0)","v":156},{"$f":"ROUND(Výpočet!P31/(($BS$14-$BT$14)*1.163),0)","v":191},1800]
["1800V",{"$f":"Výpočet!$S$31","v":1800},1,1,1,1,1,1,1,1,3,4,5,5,6,7,null,null,null,null,{"$f":"RANK(U31,$AQ$5:$DM$5,1)","v":1},1,1,1,1,1,1,1,12,15,18,20,23,28,null,{"$f":"RANK(AJ31,$AQ$5:$DM$5,1)","v":1},1,1,19,22,24,1,1,16,20,24,27,30,36,null,{"$f":"RANK(AY31,$AQ$5:$DM$5,1)","v":1},20,26,31,36,41,49,1,30,38,45,52,59,72,null,null,2000,{"$f":"ROUND(Výpočet!C32/(($BS$14-$BT$14)*1.163),0)","v":0},{"$f":"ROUND(Výpočet!D32/(($BS$14-$BT$14)*1.163),0)","v":0},{"$f":"ROUND(Výpočet!E32/(($BS$14-$BT$14)*1.163),0)","v":0},{"$f":"ROUND(Výpočet!F32/(($BS$14-$BT$14)*1.163),0)","v":0},{"$f":"ROUND(Výpočet!G32/(($BS$14-$BT$14)*1.163),0)","v":0},{"$f":"ROUND(Výpočet!H32/(($BS$14-$BT$14)*1.163),0)","v":0},{"$f":"ROUND(Výpočet!I32/(($BS$14-$BT$14)*1.163),0)","v":0},{"$f":"ROUND(Výpočet!J32/(($BS$14-$BT$14)*1.163),0)","v":0},{"$f":"ROUND(Výpočet!K32/(($BS$14-$BT$14)*1.163),0)","v":91},{"$f":"ROUND(Výpočet!L32/(($BS$14-$BT$14)*1.163),0)","v":113},{"$f":"ROUND(Výpočet!M32/(($BS$14-$BT$14)*1.163),0)","v":134},{"$f":"ROUND(Výpočet!N32/(($BS$14-$BT$14)*1.163),0)","v":154},{"$f":"ROUND(Výpočet!O32/(($BS$14-$BT$14)*1.163),0)","v":174},{"$f":"ROUND(Výpočet!P32/(($BS$14-$BT$14)*1.163),0)","v":212},2000]
["2000V",{"$f":"Výpočet!$S$32","v":2000},1,1,1,1,1,1,1,1,3,4,5,6,6,8,null,null,null,800,{"$f":"IF(ROUND((BP22/$AG$6)*(SQRT(100))/(SQRT($G$10)),2)<$AG$4,0.01,IF(ROUND((BP22/$AG$6)*(SQRT(100))/(SQRT($G$10)),2)>$AG$5,0.75,ROUND((BP22/$AG$6)*(SQRT(100))/(SQRT($G$10)),2)))","v":0.01},0.01,0.01,0.01,0.01,0.01,0.01,0.01,0.12,0.15,0.18,0.2,0.23,0.28000000000000003,800,{"$f":"IF(ROUND((BP40/$AG$6)*(SQRT(100))/(SQRT($G$10)),2)<$AG$4,0.01,IF(ROUND((BP40/$AG$6)*(SQRT(100))/(SQRT($G$10)),2)>$AG$5,0.75,ROUND((BP40/$AG$6)*(SQRT(100))/(SQRT($G$10)),2)))","v":0.01},0.01,0.01,0.19,0.22,0.24,0.01,0.01,0.16,0.2,0.24,0.27,0.3,0.36,800,{"$f":"IF(ROUND((BP58/$AG$6)*(SQRT(100))/(SQRT($G$10)),2)<$AG$4,0.01,IF(ROUND((BP58/$AG$6)*(SQRT(100))/(SQRT($G$10)),2)>$AG$5,0.75,ROUND((BP58/$AG$6)*(SQRT(100))/(SQRT($G$10)),2)))","v":0.01},0.2,0.26,0.31,0.36,0.41,0.49,0.01,0.3,0.38,0.45,0.52,0.59,0.72,800,null,2300,{"$f":"ROUND(Výpočet!C33/(($BS$14-$BT$14)*1.163),0)","v":0},{"$f":"ROUND(Výpočet!D33/(($BS$14-$BT$14)*1.163),0)","v":0},{"$f":"ROUND(Výpočet!E33/(($BS$14-$BT$14)*1.163),0)","v":0},{"$f":"ROUND(Výpočet!F33/(($BS$14-$BT$14)*1.163),0)","v":0},{"$f":"ROUND(Výpočet!G33/(($BS$14-$BT$14)*1.163),0)","v":0},{"$f":"ROUND(Výpočet!H33/(($BS$14-$BT$14)*1.163),0)","v":0},{"$f":"ROUND(Výpočet!I33/(($BS$14-$BT$14)*1.163),0)","v":0},{"$f":"ROUND(Výpočet!J33/(($BS$14-$BT$14)*1.163),0)","v":0},{"$f":"ROUND(Výpočet!K33/(($BS$14-$BT$14)*1.163),0)","v":105},{"$f":"ROUND(Výpočet!L33/(($BS$14-$BT$14)*1.163),0)","v":130},{"$f":"ROUND(Výpočet!M33/(($BS$14-$BT$14)*1.163),0)","v":154},{"$f":"ROUND(Výpočet!N33/(($BS$14-$BT$14)*1.163),0)","v":177},{"$f":"ROUND(Výpočet!O33/(($BS$14-$BT$14)*1.163),0)","v":200},{"$f":"ROUND(Výpočet!P33/(($BS$14-$BT$14)*1.163),0)","v":243},2300]
["2300V",{"$f":"Výpočet!$S$33","v":2300},1,1,1,1,1,1,1,1,4,5,6,6,7,8,null,null,{"$f":"T31&\"V\"","v":"800V"},null,{"$f":"HLOOKUP(U30,$AQ$4:$DM$6,3,FALSE)","v":1},1,1,1,1,1,1,1,1,2,2,2,3,3,null,{"$f":"HLOOKUP(AJ30,$AQ$4:$DM$6,3,FALSE)","v":1},1,1,2,2,3,1,1,2,2,3,3,3,4,null,{"$f":"HLOOKUP(AY30,$AQ$4:$DM$6,3,FALSE)","v":1},2,3,3,4,5,6,1,3,4,5,6,7,8,null,null,2600,{"$f":"ROUND(Výpočet!C34/(($BS$14-$BT$14)*1.163),0)","v":0},{"$f":"ROUND(Výpočet!D34/(($BS$14-$BT$14)*1.163),0)","v":0},{"$f":"ROUND(Výpočet!E34/(($BS$14-$BT$14)*1.163),0)","v":0},{"$f":"ROUND(Výpočet!F34/(($BS$14-$BT$14)*1.163),0)","v":0},{"$f":"ROUND(Výpočet!G34/(($BS$14-$BT$14)*1.163),0)","v":0},{"$f":"ROUND(Výpočet!H34/(($BS$14-$BT$14)*1.163),0)","v":0},{"$f":"ROUND(Výpočet!I34/(($BS$14-$BT$14)*1.163),0)","v":0},{"$f":"ROUND(Výpočet!J34/(($BS$14-$BT$14)*1.163),0)","v":0},{"$f":"ROUND(Výpočet!K34/(($BS$14-$BT$14)*1.163),0)","v":118},{"$f":"ROUND(Výpočet!L34/(($BS$14-$BT$14)*1.163),0)","v":147},{"$f":"ROUND(Výpočet!M34/(($BS$14-$BT$14)*1.163),0)","v":174},{"$f":"ROUND(Výpočet!N34/(($BS$14-$BT$14)*1.163),0)","v":201},{"$f":"ROUND(Výpočet!O34/(($BS$14-$BT$14)*1.163),0)","v":226},{"$f":"ROUND(Výpočet!P34/(($BS$14-$BT$14)*1.163),0)","v":275},2600]
["2600V",{"$f":"Výpočet!$S$34","v":2600},1,1,1,1,1,1,1,1,4,6,6,7,8,8,null,null,null,null,{"$f":"RANK(U34,$AQ$5:$DM$5,1)","v":1},1,1,1,1,1,1,1,13,17,19,22,25,31,null,{"$f":"RANK(AJ34,$AQ$5:$DM$5,1)","v":1},1,1,21,24,27,1,1,18,23,27,31,34,41,null,{"$f":"RANK(AY34,$AQ$5:$DM$5,1)","v":1},23,29,35,41,46,55,1,33,42,51,59,66,75,null,null,3000,{"$f":"ROUND(Výpočet!C35/(($BS$14-$BT$14)*1.163),0)","v":0},{"$f":"ROUND(Výpočet!D35/(($BS$14-$BT$14)*1.163),0)","v":0},{"$f":"ROUND(Výpočet!E35/(($BS$14-$BT$14)*1.163),0)","v":0},{"$f":"ROUND(Výpočet!F35/(($BS$14-$BT$14)*1.163),0)","v":0},{"$f":"ROUND(Výpočet!G35/(($BS$14-$BT$14)*1.163),0)","v":0},{"$f":"ROUND(Výpočet!H35/(($BS$14-$BT$14)*1.163),0)","v":0},{"$f":"ROUND(Výpočet!I35/(($BS$14-$BT$14)*1.163),0)","v":0},{"$f":"ROUND(Výpočet!J35/(($BS$14-$BT$14)*1.163),0)","v":0},{"$f":"ROUND(Výpočet!K35/(($BS$14-$BT$14)*1.163),0)","v":137},{"$f":"ROUND(Výpočet!L35/(($BS$14-$BT$14)*1.163),0)","v":170},{"$f":"ROUND(Výpočet!M35/(($BS$14-$BT$14)*1.163),0)","v":201},{"$f":"ROUND(Výpočet!N35/(($BS$14-$BT$14)*1.163),0)","v":231},{"$f":"ROUND(Výpočet!O35/(($BS$14-$BT$14)*1.163),0)","v":261},{"$f":"ROUND(Výpočet!P35/(($BS$14-$BT$14)*1.163),0)","v":318},3000]
["3000V",{"$f":"Výpočet!$S$35","v":3000},1,1,1,1,1,1,1,1,5,6,7,8,8,8,null,null,null,900,{"$f":"IF(ROUND((BP23/$AG$6)*(SQRT(100))/(SQRT($G$10)),2)<$AG$4,0.01,IF(ROUND((BP23/$AG$6)*(SQRT(100))/(SQRT($G$10)),2)>$AG$5,0.75,ROUND((BP23/$AG$6)*(SQRT(100))/(SQRT($G$10)),2)))","v":0.01},0.01,0.01,0.01,0.01,0.01,0.01,0.01,0.13,0.17,0.19,0.22,0.25,0.31,900,{"$f":"IF(ROUND((BP41/$AG$6)*(SQRT(100))/(SQRT($G$10)),2)<$AG$4,0.01,IF(ROUND((BP41/$AG$6)*(SQRT(100))/(SQRT($G$10)),2)>$AG$5,0.75,ROUND((BP41/$AG$6)*(SQRT(100))/(SQRT($G$10)),2)))","v":0.01},0.01,0.01,0.21,0.24,0.27,0.01,0.01,0.18,0.23,0.27,0.31,0.34,0.41,900,{"$f":"IF(ROUND((BP59/$AG$6)*(SQRT(100))/(SQRT($G$10)),2)<$AG$4,0.01,IF(ROUND((BP59/$AG$6)*(SQRT(100))/(SQRT($G$10)),2)>$AG$5,0.75,ROUND((BP59/$AG$6)*(SQRT(100))/(SQRT($G$10)),2)))","v":0.01},0.23,0.28999999999999998,0.35,0.41,0.46,0.55000000000000004,0.01,0.33,0.42,0.51,0.59,0.66,0.75,900,null,"Height",null,null,{"$f":"Výpočet!V36","v":"Typ"},{"$f":"Výpočet!W36","v":20},null,null,null,null,null,{"$f":"Výpočet!AC36","v":"Typ"},{"$f":"Výpočet!AD36","v":21},null,null,null,"Height"]
[null,null,null,null,null,null,null,null,null,null,null,null,null,null,null,null,null,null,{"$f":"T34&\"V\"","v":"900V"},null,{"$f":"HLOOKUP(U33,$AQ$4:$DM$6,3,FALSE)","v":1},1,1,1,1,1,1,1,1,2,2,2,3,3,null,{"$f":"HLOOKUP(AJ33,$AQ$4:$DM$6,3,FALSE)","v":1},1,1,2,3,3,1,1,2,3,3,3,4,5,null,{"$f":"HLOOKUP(AY33,$AQ$4:$DM$6,3,FALSE)","v":1},3,3,4,5,5,6,1,4,5,6,7,7,8,null,null,"Length",{"$f":"Výpočet!T37","v":200},{"$f":"Výpočet!U37","v":300},{"$f":"Výpočet!V37","v":400},{"$f":"Výpočet!W37","v":500},{"$f":"Výpočet!X37","v":600},{"$f":"Výpočet!Y37","v":700},{"$f":"Výpočet!Z37","v":900},{"$f":"Výpočet!AA37","v":200},{"$f":"Výpočet!AB37","v":300},{"$f":"Výpočet!AC37","v":400},{"$f":"Výpočet!AD37","v":500},{"$f":"Výpočet!AE37","v":600},{"$f":"Výpočet!AF37","v":700},{"$f":"Výpočet!AG37","v":900},"Length"]
[null,null,null,null,null,{"$f":"Výpočet!V36","v":"Typ"},{"$f":"Výpočet!W36","v":20},null,null,null,null,null,{"$f":"Výpočet!AC36","v":"Typ"},{"$f":"Výpočet!AD36","v":21},null,null,null,null,null,null,{"$f":"RANK(U37,$AQ$5:$DM$5,1)","v":1},1,1,1,1,1,1,1,15,18,22,25,28,34,null,{"$f":"RANK(AJ37,$AQ$5:$DM$5,1)","v":1},1,1,24,27,30,1,1,20,25,30,34,38,45,null,{"$f":"RANK(AY37,$AQ$5:$DM$5,1)","v":1},26,32,39,45,51,62,1,37,47,56,65,74,75,null,null,400,{"$f":"ROUND(Výpočet!C38/(($BS$14-$BT$14)*1.163),0)","v":0},{"$f":"ROUND(Výpočet!D38/(($BS$14-$BT$14)*1.163),0)","v":0},{"$f":"ROUND(Výpočet!E38/(($BS$14-$BT$14)*1.163),0)","v":0},{"$f":"ROUND(Výpočet!F38/(($BS$14-$BT$14)*1.163),0)","v":29},{"$f":"ROUND(Výpočet!G38/(($BS$14-$BT$14)*1.163),0)","v":33},{"$f":"ROUND(Výpočet!H38/(($BS$14-$BT$14)*1.163),0)","v":37},{"$f":"ROUND(Výpočet!I38/(($BS$14-$BT$14)*1.163),0)","v":0},{"$f":"ROUND(Výpočet!J38/(($BS$14-$BT$14)*1.163),0)","v":0},{"$f":"ROUND(Výpočet!K38/(($BS$14-$BT$14)*1.163),0)","v":25},{"$f":"ROUND(Výpočet!L38/(($BS$14-$BT$14)*1.163),0)","v":31},{"$f":"ROUND(Výpočet!M38/(($BS$14-$BT$14)*1.163),0)","v":37},{"$f":"ROUND(Výpočet!N38/(($BS$14-$BT$14)*1.163),0)","v":42},{"$f":"ROUND(Výpočet!O38/(($BS$14-$BT$14)*1.163),0)","v":47},{"$f":"ROUND(Výpočet!P38/(($BS$14-$BT$14)*1.163),0)","v":56},400]
[null,null,null,null,null,null,null,null,null,null,null,null,null,null,null,null,null,null,null,1000,{"$f":"IF(ROUND((BP24/$AG$6)*(SQRT(100))/(SQRT($G$10)),2)<$AG$4,0.01,IF(ROUND((BP24/$AG$6)*(SQRT(100))/(SQRT($G$10)),2)>$AG$5,0.75,ROUND((BP24/$AG$6)*(SQRT(100))/(SQRT($G$10)),2)))","v":0.01},0.01,0.01,0.01,0.01,0.01,0.01,0.01,0.15,0.18,0.22,0.25,0.28000000000000003,0.34,1000,{"$f":"IF(ROUND((BP42/$AG$6)*(SQRT(100))/(SQRT($G$10)),2)<$AG$4,0.01,IF(ROUND((BP42/$AG$6)*(SQRT(100))/(SQRT($G$10)),2)>$AG$5,0.75,ROUND((BP42/$AG$6)*(SQRT(100))/(SQRT($G$10)),2)))","v":0.01},0.01,0.01,0.24,0.27,0.3,0.01,0.01,0.2,0.25,0.3,0.34,0.38,0.45,1000,{"$f":"IF(ROUND((BP60/$AG$6)*(SQRT(100))/(SQRT($G$10)),2)<$AG$4,0.01,IF(ROUND((BP60/$AG$6)*(SQRT(100))/(SQRT($G$10)),2)>$AG$5,0.75,ROUND((BP60/$AG$6)*(SQRT(100))/(SQRT($G$10)),2)))","v":0.01},0.26,0.32,0.39,0.45,0.51,0.62,0.01,0.37,0.47,0.56000000000000005,0.65,0.74,0.75,1000,null,500,{"$f":"ROUND(Výpočet!C39/(($BS$14-$BT$14)*1.163),0)","v":0},{"$f":"ROUND(Výpočet!D39/(($BS$14-$BT$14)*1.163),0)","v":0},{"$f":"ROUND(Výpočet!E39/(($BS$14-$BT$14)*1.163),0)","v":0},{"$f":"ROUND(Výpočet!F39/(($BS$14-$BT$14)*1.163),0)","v":36},{"$f":"ROUND(Výpočet!G39/(($BS$14-$BT$14)*1.163),0)","v":42},{"$f":"ROUND(Výpočet!H39/(($BS$14-$BT$14)*1.163),0)","v":47},{"$f":"ROUND(Výpočet!I39/(($BS$14-$BT$14)*1.163),0)","v":0},{"$f":"ROUND(Výpočet!J39/(($BS$14-$BT$14)*1.163),0)","v":0},{"$f":"ROUND(Výpočet!K39/(($BS$14-$BT$14)*1.163),0)","v":31},{"$f":"ROUND(Výpočet!L39/(($BS$14-$BT$14)*1.163),0)","v":39},{"$f":"ROUND(Výpočet!M39/(($BS$14-$BT$14)*1.163),0)","v":46},{"$f":"ROUND(Výpočet!N39/(($BS$14-$BT$14)*1.163),0)","v":53},{"$f":"ROUND(Výpočet!O39/(($BS$14-$BT$14)*1.163),0)","v":59},{"$f":"ROUND(Výpočet!P39/(($BS$14-$BT$14)*1.163),0)","v":70},500]
[null,null,{"$f":"Výpočet!T9","v":200},{"$f":"Výpočet!U9","v":300},{"$f":"Výpočet!V9","v":400},{"$f":"Výpočet!W9","v":500},{"$f":"Výpočet!X9","v":600},{"$f":"Výpočet!Y9","v":700},{"$f":"Výpočet!Z9","v":900},{"$f":"Výpočet!AA9","v":200},{"$f":"Výpočet!AB9","v":300},{"$f":"Výpočet!AC9","v":400},{"$f":"Výpočet!AD9","v":500},{"$f":"Výpočet!AE9","v":600},{"$f":"Výpočet!AF9","v":700},{"$f":"Výpočet!AG9","v":900},null,null,{"$f":"T37&\"V\"","v":"1000V"},null,{"$f":"HLOOKUP(U36,$AQ$4:$DM$6,3,FALSE)","v":1},1,1,1,1,1,1,1,2,2,2,3,3,4,null,{"$f":"HLOOKUP(AJ36,$AQ$4:$DM$6,3,FALSE)","v":1},1,1,3,3,3,1,1,2,3,3,4,4,5,null,{"$f":"HLOOKUP(AY36,$AQ$4:$DM$6,3,FALSE)","v":1},3,4,5,5,6,7,1,4,5,6,7,8,8,null,null,600,{"$f":"ROUND(Výpočet!C40/(($BS$14-$BT$14)*1.163),0)","v":0},{"$f":"ROUND(Výpočet!D40/(($BS$14-$BT$14)*1.163),0)","v":0},{"$f":"ROUND(Výpočet!E40/(($BS$14-$BT$14)*1.163),0)","v":0},{"$f":"ROUND(Výpočet!F40/(($BS$14-$BT$14)*1.163),0)","v":44},{"$f":"ROUND(Výpočet!G40/(($BS$14-$BT$14)*1.163),0)","v":50},{"$f":"ROUND(Výpočet!H40/(($BS$14-$BT$14)*1.163),0)","v":56},{"$f":"ROUND(Výpočet!I40/(($BS$14-$BT$14)*1.163),0)","v":0},{"$f":"ROUND(Výpočet!J40/(($BS$14-$BT$14)*1.163),0)","v":0},{"$f":"ROUND(Výpočet!K40/(($BS$14-$BT$14)*1.163),0)","v":37},{"$f":"ROUND(Výpočet!L40/(($BS$14-$BT$14)*1.163),0)","v":47},{"$f":"ROUND(Výpočet!M40/(($BS$14-$BT$14)*1.163),0)","v":55},{"$f":"ROUND(Výpočet!N40/(($BS$14-$BT$14)*1.163),0)","v":63},{"$f":"ROUND(Výpočet!O40/(($BS$14-$BT$14)*1.163),0)","v":71},{"$f":"ROUND(Výpočet!P40/(($BS$14-$BT$14)*1.163),0)","v":83},600]
[{"$f":"B39&\"V\"","v":"400V"},{"$f":"Výpočet!$S$20","v":400},{"$f":"SUMIF($S:$S,$A39,AJ:AJ)","v":1},{"$f":"SUMIF($S:$S,$A39,AK:AK)","v":1},{"$f":"SUMIF($S:$S,$A39,AL:AL)","v":1},{"$f":"SUMIF($S:$S,$A39,AM:AM)","v":1},{"$f":"SUMIF($S:$S,$A39,AN:AN)","v":1},{"$f":"SUMIF($S:$S,$A39,AO:AO)","v":1},{"$f":"SUMIF($S:$S,$A39,AP:AP)","v":1},{"$f":"SUMIF($S:$S,$A39,AQ:AQ)","v":1},{"$f":"SUMIF($S:$S,$A39,AR:AR)","v":1},{"$f":"SUMIF($S:$S,$A39,AS:AS)","v":1},{"$f":"SUMIF($S:$S,$A39,AT:AT)","v":1},{"$f":"SUMIF($S:$S,$A39,AU:AU)","v":2},{"$f":"SUMIF($S:$S,$A39,AV:AV)","v":2},{"$f":"SUMIF($S:$S,$A39,AW:AW)","v":2},null,null,null,null,{"$f":"RANK(U40,$AQ$5:$DM$5,1)","v":1},1,1,1,1,1,1,1,16,20,24,28,31,38,null,{"$f":"RANK(AJ40,$AQ$5:$DM$5,1)","v":1},1,1,26,30,33,1,1,22,28,33,38,42,50,null,{"$f":"RANK(AY40,$AQ$5:$DM$5,1)","v":1},28,36,43,50,56,68,1,41,52,62,72,75,75,null,null,700,{"$f":"ROUND(Výpočet!C41/(($BS$14-$BT$14)*1.163),0)","v":0},{"$f":"ROUND(Výpočet!D41/(($BS$14-$BT$14)*1.163),0)","v":0},{"$f":"ROUND(Výpočet!E41/(($BS$14-$BT$14)*1.163),0)","v":0},{"$f":"ROUND(Výpočet!F41/(($BS$14-$BT$14)*1.163),0)","v":51},{"$f":"ROUND(Výpočet!G41/(($BS$14-$BT$14)*1.163),0)","v":58},{"$f":"ROUND(Výpočet!H41/(($BS$14-$BT$14)*1.163),0)","v":65},{"$f":"ROUND(Výpočet!I41/(($BS$14-$BT$14)*1.163),0)","v":0},{"$f":"ROUND(Výpočet!J41/(($BS$14-$BT$14)*1.163),0)","v":0},{"$f":"ROUND(Výpočet!K41/(($BS$14-$BT$14)*1.163),0)","v":43},{"$f":"ROUND(Výpočet!L41/(($BS$14-$BT$14)*1.163),0)","v":54},{"$f":"ROUND(Výpočet!M41/(($BS$14-$BT$14)*1.163),0)","v":64},{"$f":"ROUND(Výpočet!N41/(($BS$14-$BT$14)*1.163),0)","v":74},{"$f":"ROUND(Výpočet!O41/(($BS$14-$BT$14)*1.163),0)","v":82},{"$f":"ROUND(Výpočet!P41/(($BS$14-$BT$14)*1.163),0)","v":97},700]
[{"$f":"B40&\"V\"","v":"500V"},{"$f":"Výpočet!$S$21","v":500},{"$f":"SUMIF($S:$S,$A40,AJ:AJ)","v":1},1,1,1,2,2,1,1,1,1,2,2,2,3,null,null,null,1100,{"$f":"IF(ROUND((BP25/$AG$6)*(SQRT(100))/(SQRT($G$10)),2)<$AG$4,0.01,IF(ROUND((BP25/$AG$6)*(SQRT(100))/(SQRT($G$10)),2)>$AG$5,0.75,ROUND((BP25/$AG$6)*(SQRT(100))/(SQRT($G$10)),2)))","v":0.01},0.01,0.01,0.01,0.01,0.01,0.01,0.01,0.16,0.2,0.24,0.28000000000000003,0.31,0.38,1100,{"$f":"IF(ROUND((BP43/$AG$6)*(SQRT(100))/(SQRT($G$10)),2)<$AG$4,0.01,IF(ROUND((BP43/$AG$6)*(SQRT(100))/(SQRT($G$10)),2)>$AG$5,0.75,ROUND((BP43/$AG$6)*(SQRT(100))/(SQRT($G$10)),2)))","v":0.01},0.01,0.01,0.26,0.3,0.33,0.01,0.01,0.22,0.28000000000000003,0.33,0.38,0.42,0.5,1100,{"$f":"IF(ROUND((BP61/$AG$6)*(SQRT(100))/(SQRT($G$10)),2)<$AG$4,0.01,IF(ROUND((BP61/$AG$6)*(SQRT(100))/(SQRT($G$10)),2)>$AG$5,0.75,ROUND((BP61/$AG$6)*(SQRT(100))/(SQRT($G$10)),2)))","v":0.01},0.28000000000000003,0.36,0.43,0.5,0.56000000000000005,0.68,0.01,0.41,0.52,0.62,0.72,0.75,0.75,1100,null,800,{"$f":"ROUND(Výpočet!C42/(($BS$14-$BT$14)*1.163),0)","v":0},{"$f":"ROUND(Výpočet!D42/(($BS$14-$BT$14)*1.163),0)","v":0},{"$f":"ROUND(Výpočet!E42/(($BS$14-$BT$14)*1.163),0)","v":0},{"$f":"ROUND(Výpočet!F42/(($BS$14-$BT$14)*1.163),0)","v":58},{"$f":"ROUND(Výpočet!G42/(($BS$14-$BT$14)*1.163),0)","v":67},{"$f":"ROUND(Výpočet!H42/(($BS$14-$BT$14)*1.163),0)","v":75},{"$f":"ROUND(Výpočet!I42/(($BS$14-$BT$14)*1.163),0)","v":0},{"$f":"ROUND(Výpočet!J42/(($BS$14-$BT$14)*1.163),0)","v":0},{"$f":"ROUND(Výpočet!K42/(($BS$14-$BT$14)*1.163),0)","v":50},{"$f":"ROUND(Výpočet!L42/(($BS$14-$BT$14)*1.163),0)","v":62},{"$f":"ROUND(Výpočet!M42/(($BS$14-$BT$14)*1.163),0)","v":74},{"$f":"ROUND(Výpočet!N42/(($BS$14-$BT$14)*1.163),0)","v":84},{"$f":"ROUND(Výpočet!O42/(($BS$14-$BT$14)*1.163),0)","v":94},{"$f":"ROUND(Výpočet!P42/(($BS$14-$BT$14)*1.163),0)","v":111},800]
["600V",{"$f":"Výpočet!$S$22","v":600},1,1,1,2,2,2,1,1,1,2,2,2,3,3,null,null,{"$f":"T40&\"V\"","v":"1100V"},null,{"$f":"HLOOKUP(U39,$AQ$4:$DM$6,3,FALSE)","v":1},1,1,1,1,1,1,1,2,2,3,3,3,4,null,{"$f":"HLOOKUP(AJ39,$AQ$4:$DM$6,3,FALSE)","v":1},1,1,3,3,4,1,1,2,3,4,4,5,6,null,{"$f":"HLOOKUP(AY39,$AQ$4:$DM$6,3,FALSE)","v":1},3,4,5,6,6,8,1,5,6,7,8,8,8,null,null,900,{"$f":"ROUND(Výpočet!C43/(($BS$14-$BT$14)*1.163),0)","v":0},{"$f":"ROUND(Výpočet!D43/(($BS$14-$BT$14)*1.163),0)","v":0},{"$f":"ROUND(Výpočet!E43/(($BS$14-$BT$14)*1.163),0)","v":0},{"$f":"ROUND(Výpočet!F43/(($BS$14-$BT$14)*1.163),0)","v":66},{"$f":"ROUND(Výpočet!G43/(($BS$14-$BT$14)*1.163),0)","v":75},{"$f":"ROUND(Výpočet!H43/(($BS$14-$BT$14)*1.163),0)","v":84},{"$f":"ROUND(Výpočet!I43/(($BS$14-$BT$14)*1.163),0)","v":0},{"$f":"ROUND(Výpočet!J43/(($BS$14-$BT$14)*1.163),0)","v":0},{"$f":"ROUND(Výpočet!K43/(($BS$14-$BT$14)*1.163),0)","v":56},{"$f":"ROUND(Výpočet!L43/(($BS$14-$BT$14)*1.163),0)","v":70},{"$f":"ROUND(Výpočet!M43/(($BS$14-$BT$14)*1.163),0)","v":83},{"$f":"ROUND(Výpočet!N43/(($BS$14-$BT$14)*1.163),0)","v":95},{"$f":"ROUND(Výpočet!O43/(($BS$14-$BT$14)*1.163),0)","v":106},{"$f":"ROUND(Výpočet!P43/(($BS$14-$BT$14)*1.163),0)","v":125},900]
["700V",{"$f":"Výpočet!$S$23","v":700},1,1,1,2,2,2,1,1,2,2,2,3,3,3,null,null,null,null,{"$f":"RANK(U43,$AQ$5:$DM$5,1)","v":1},1,1,1,1,1,1,1,18,22,26,30,34,41,null,{"$f":"RANK(AJ43,$AQ$5:$DM$5,1)","v":1},1,1,29,32,36,1,1,24,30,36,41,46,54,null,{"$f":"RANK(AY43,$AQ$5:$DM$5,1)","v":1},30,39,47,54,61,74,1,45,56,68,75,75,75,null,null,1000,{"$f":"ROUND(Výpočet!C44/(($BS$14-$BT$14)*1.163),0)","v":0},{"$f":"ROUND(Výpočet!D44/(($BS$14-$BT$14)*1.163),0)","v":0},{"$f":"ROUND(Výpočet!E44/(($BS$14-$BT$14)*1.163),0)","v":0},{"$f":"ROUND(Výpočet!F44/(($BS$14-$BT$14)*1.163),0)","v":73},{"$f":"ROUND(Výpočet!G44/(($BS$14-$BT$14)*1.163),0)","v":83},{"$f":"ROUND(Výpočet!H44/(($BS$14-$BT$14)*1.163),0)","v":93},{"$f":"ROUND(Výpočet!I44/(($BS$14-$BT$14)*1.163),0)","v":0},{"$f":"ROUND(Výpočet!J44/(($BS$14-$BT$14)*1.163),0)","v":0},{"$f":"ROUND(Výpočet!K44/(($BS$14-$BT$14)*1.163),0)","v":62},{"$f":"ROUND(Výpočet!L44/(($BS$14-$BT$14)*1.163),0)","v":78},{"$f":"ROUND(Výpočet!M44/(($BS$14-$BT$14)*1.163),0)","v":92},{"$f":"ROUND(Výpočet!N44/(($BS$14-$BT$14)*1.163),0)","v":105},{"$f":"ROUND(Výpočet!O44/(($BS$14-$BT$14)*1.163),0)","v":118},{"$f":"ROUND(Výpočet!P44/(($BS$14-$BT$14)*1.163),0)","v":139},1000]
["800V",{"$f":"Výpočet!$S$24","v":800},1,1,1,2,2,3,1,1,2,2,3,3,3,4,null,null,null,1200,{"$f":"IF(ROUND((BP26/$AG$6)*(SQRT(100))/(SQRT($G$10)),2)<$AG$4,0.01,IF(ROUND((BP26/$AG$6)*(SQRT(100))/(SQRT($G$10)),2)>$AG$5,0.75,ROUND((BP26/$AG$6)*(SQRT(100))/(SQRT($G$10)),2)))","v":0.01},0.01,0.01,0.01,0.01,0.01,0.01,0.01,0.18,0.22,0.26,0.3,0.34,0.41,1200,{"$f":"IF(ROUND((BP44/$AG$6)*(SQRT(100))/(SQRT($G$10)),2)<$AG$4,0.01,IF(ROUND((BP44/$AG$6)*(SQRT(100))/(SQRT($G$10)),2)>$AG$5,0.75,ROUND((BP44/$AG$6)*(SQRT(100))/(SQRT($G$10)),2)))","v":0.01},0.01,0.01,0.28999999999999998,0.32,0.36,0.01,0.01,0.24,0.3,0.36,0.41,0.46,0.54,1200,{"$f":"IF(ROUND((BP62/$AG$6)*(SQRT(100))/(SQRT($G$10)),2)<$AG$4,0.01,IF(ROUND((BP62/$AG$6)*(SQRT(100))/(SQRT($G$10)),2)>$AG$5,0.75,ROUND((BP62/$AG$6)*(SQRT(100))/(SQRT($G$10)),2)))","v":0.01},0.3,0.39,0.47,0.54,0.61,0.74,0.01,0.45,0.56000000000000005,0.68,0.75,0.75,0.75,1200,null,1100,{"$f":"ROUND(Výpočet!C45/(($BS$14-$BT$14)*1.163),0)","v":0},{"$f":"ROUND(Výpočet!D45/(($BS$14-$BT$14)*1.163),0)","v":0},{"$f":"ROUND(Výpočet!E45/(($BS$14-$BT$14)*1.163),0)","v":0},{"$f":"ROUND(Výpočet!F45/(($BS$14-$BT$14)*1.163),0)","v":80},{"$f":"ROUND(Výpočet!G45/(($BS$14-$BT$14)*1.163),0)","v":92},{"$f":"ROUND(Výpočet!H45/(($BS$14-$BT$14)*1.163),0)","v":103},{"$f":"ROUND(Výpočet!I45/(($BS$14-$BT$14)*1.163),0)","v":0},{"$f":"ROUND(Výpočet!J45/(($BS$14-$BT$14)*1.163),0)","v":0},{"$f":"ROUND(Výpočet!K45/(($BS$14-$BT$14)*1.163),0)","v":68},{"$f":"ROUND(Výpočet!L45/(($BS$14-$BT$14)*1.163),0)","v":85},{"$f":"ROUND(Výpočet!M45/(($BS$14-$BT$14)*1.163),0)","v":101},{"$f":"ROUND(Výpočet!N45/(($BS$14-$BT$14)*1.163),0)","v":116},{"$f":"ROUND(Výpočet!O45/(($BS$14-$BT$14)*1.163),0)","v":129},{"$f":"ROUND(Výpočet!P45/(($BS$14-$BT$14)*1.163),0)","v":153},1100]
["900V",{"$f":"Výpočet!$S$25","v":900},1,1,1,2,3,3,1,1,2,3,3,3,4,5,null,null,{"$f":"T43&\"V\"","v":"1200V"},null,{"$f":"HLOOKUP(U42,$AQ$4:$DM$6,3,FALSE)","v":1},1,1,1,1,1,1,1,2,2,3,3,4,5,null,{"$f":"HLOOKUP(AJ42,$AQ$4:$DM$6,3,FALSE)","v":1},1,1,3,4,4,1,1,3,3,4,5,5,6,null,{"$f":"HLOOKUP(AY42,$AQ$4:$DM$6,3,FALSE)","v":1},3,5,5,6,7,8,1,5,6,8,8,8,8,null,null,1200,{"$f":"ROUND(Výpočet!C46/(($BS$14-$BT$14)*1.163),0)","v":0},{"$f":"ROUND(Výpočet!D46/(($BS$14-$BT$14)*1.163),0)","v":0},{"$f":"ROUND(Výpočet!E46/(($BS$14-$BT$14)*1.163),0)","v":0},{"$f":"ROUND(Výpočet!F46/(($BS$14-$BT$14)*1.163),0)","v":88},{"$f":"ROUND(Výpočet!G46/(($BS$14-$BT$14)*1.163),0)","v":100},{"$f":"ROUND(Výpočet!H46/(($BS$14-$BT$14)*1.163),0)","v":112},{"$f":"ROUND(Výpočet!I46/(($BS$14-$BT$14)*1.163),0)","v":0},{"$f":"ROUND(Výpočet!J46/(($BS$14-$BT$14)*1.163),0)","v":0},{"$f":"ROUND(Výpočet!K46/(($BS$14-$BT$14)*1.163),0)","v":74},{"$f":"ROUND(Výpočet!L46/(($BS$14-$BT$14)*1.163),0)","v":93},{"$f":"ROUND(Výpočet!M46/(($BS$14-$BT$14)*1.163),0)","v":111},{"$f":"ROUND(Výpočet!N46/(($BS$14-$BT$14)*1.163),0)","v":126},{"$f":"ROUND(Výpočet!O46/(($BS$14-$BT$14)*1.163),0)","v":141},{"$f":"ROUND(Výpočet!P46/(($BS$14-$BT$14)*1.163),0)","v":167},1200]
["1000V",{"$f":"Výpočet!$S$26","v":1000},1,1,1,3,3,3,1,1,2,3,3,4,4,5,null,null,null,null,{"$f":"RANK(U46,$AQ$5:$DM$5,1)","v":1},1,1,1,1,1,1,1,21,26,30,35,40,48,null,{"$f":"RANK(AJ46,$AQ$5:$DM$5,1)","v":1},1,1,33,38,42,1,1,28,35,42,48,54,63,null,{"$f":"RANK(AY46,$AQ$5:$DM$5,1)","v":1},36,45,55,63,71,75,1,52,66,75,75,75,75,null,null,1400,{"$f":"ROUND(Výpočet!C47/(($BS$14-$BT$14)*1.163),0)","v":0},{"$f":"ROUND(Výpočet!D47/(($BS$14-$BT$14)*1.163),0)","v":0},{"$f":"ROUND(Výpočet!E47/(($BS$14-$BT$14)*1.163),0)","v":0},{"$f":"ROUND(Výpočet!F47/(($BS$14-$BT$14)*1.163),0)","v":102},{"$f":"ROUND(Výpočet!G47/(($BS$14-$BT$14)*1.163),0)","v":117},{"$f":"ROUND(Výpočet!H47/(($BS$14-$BT$14)*1.163),0)","v":131},{"$f":"ROUND(Výpočet!I47/(($BS$14-$BT$14)*1.163),0)","v":0},{"$f":"ROUND(Výpočet!J47/(($BS$14-$BT$14)*1.163),0)","v":0},{"$f":"ROUND(Výpočet!K47/(($BS$14-$BT$14)*1.163),0)","v":87},{"$f":"ROUND(Výpočet!L47/(($BS$14-$BT$14)*1.163),0)","v":109},{"$f":"ROUND(Výpočet!M47/(($BS$14-$BT$14)*1.163),0)","v":129},{"$f":"ROUND(Výpočet!N47/(($BS$14-$BT$14)*1.163),0)","v":148},{"$f":"ROUND(Výpočet!O47/(($BS$14-$BT$14)*1.163),0)","v":165},{"$f":"ROUND(Výpočet!P47/(($BS$14-$BT$14)*1.163),0)","v":195},1400]
["1100V",{"$f":"Výpočet!$S$27","v":1100},1,1,1,3,3,4,1,1,2,3,4,4,5,6,null,null,null,1400,{"$f":"IF(ROUND((BP27/$AG$6)*(SQRT(100))/(SQRT($G$10)),2)<$AG$4,0.01,IF(ROUND((BP27/$AG$6)*(SQRT(100))/(SQRT($G$10)),2)>$AG$5,0.75,ROUND((BP27/$AG$6)*(SQRT(100))/(SQRT($G$10)),2)))","v":0.01},0.01,0.01,0.01,0.01,0.01,0.01,0.01,0.21,0.26,0.3,0.35,0.4,0.48,1400,{"$f":"IF(ROUND((BP45/$AG$6)*(SQRT(100))/(SQRT($G$10)),2)<$AG$4,0.01,IF(ROUND((BP45/$AG$6)*(SQRT(100))/(SQRT($G$10)),2)>$AG$5,0.75,ROUND((BP45/$AG$6)*(SQRT(100))/(SQRT($G$10)),2)))","v":0.01},0.01,0.01,0.33,0.38,0.42,0.01,0.01,0.28000000000000003,0.35,0.42,0.48,0.54,0.63,1400,{"$f":"IF(ROUND((BP63/$AG$6)*(SQRT(100))/(SQRT($G$10)),2)<$AG$4,0.01,IF(ROUND((BP63/$AG$6)*(SQRT(100))/(SQRT($G$10)),2)>$AG$5,0.75,ROUND((BP63/$AG$6)*(SQRT(100))/(SQRT($G$10)),2)))","v":0.01},0.36,0.45,0.55000000000000004,0.63,0.71,0.75,0.01,0.52,0.66,0.75,0.75,0.75,0.75,1400,null,1600,{"$f":"ROUND(Výpočet!C48/(($BS$14-$BT$14)*1.163),0)","v":0},{"$f":"ROUND(Výpočet!D48/(($BS$14-$BT$14)*1.163),0)","v":0},{"$f":"ROUND(Výpočet!E48/(($BS$14-$BT$14)*1.163),0)","v":0},{"$f":"ROUND(Výpočet!F48/(($BS$14-$BT$14)*1.163),0)","v":117},{"$f":"ROUND(Výpočet!G48/(($BS$14-$BT$14)*1.163),0)","v":133},{"$f":"ROUND(Výpočet!H48/(($BS$14-$BT$14)*1.163),0)","v":149},{"$f":"ROUND(Výpočet!I48/(($BS$14-$BT$14)*1.163),0)","v":0},{"$f":"ROUND(Výpočet!J48/(($BS$14-$BT$14)*1.163),0)","v":0},{"$f":"ROUND(Výpočet!K48/(($BS$14-$BT$14)*1.163),0)","v":99},{"$f":"ROUND(Výpočet!L48/(($BS$14-$BT$14)*1.163),0)","v":124},{"$f":"ROUND(Výpočet!M48/(($BS$14-$BT$14)*1.163),0)","v":147},{"$f":"ROUND(Výpočet!N48/(($BS$14-$BT$14)*1.163),0)","v":169},{"$f":"ROUND(Výpočet!O48/(($BS$14-$BT$14)*1.163),0)","v":188},{"$f":"ROUND(Výpočet!P48/(($BS$14-$BT$14)*1.163),0)","v":222},1600]
["1200V",{"$f":"Výpočet!$S$28","v":1200},1,1,1,3,4,4,1,1,3,3,4,5,5,6,null,null,{"$f":"T46&\"V\"","v":"1400V"},null,{"$f":"HLOOKUP(U45,$AQ$4:$DM$6,3,FALSE)","v":1},1,1,1,1,1,1,1,2,3,3,4,5,6,null,{"$f":"HLOOKUP(AJ45,$AQ$4:$DM$6,3,FALSE)","v":1},1,1,4,4,5,1,1,3,4,5,6,6,7,null,{"$f":"HLOOKUP(AY45,$AQ$4:$DM$6,3,FALSE)","v":1},4,5,6,7,8,8,1,6,7,8,8,8,8,null,null,1800,{"$f":"ROUND(Výpočet!C49/(($BS$14-$BT$14)*1.163),0)","v":0},{"$f":"ROUND(Výpočet!D49/(($BS$14-$BT$14)*1.163),0)","v":0},{"$f":"ROUND(Výpočet!E49/(($BS$14-$BT$14)*1.163),0)","v":0},{"$f":"ROUND(Výpočet!F49/(($BS$14-$BT$14)*1.163),0)","v":131},{"$f":"ROUND(Výpočet!G49/(($BS$14-$BT$14)*1.163),0)","v":150},{"$f":"ROUND(Výpočet!H49/(($BS$14-$BT$14)*1.163),0)","v":168},{"$f":"ROUND(Výpočet!I49/(($BS$14-$BT$14)*1.163),0)","v":0},{"$f":"ROUND(Výpočet!J49/(($BS$14-$BT$14)*1.163),0)","v":0},{"$f":"ROUND(Výpočet!K49/(($BS$14-$BT$14)*1.163),0)","v":111},{"$f":"ROUND(Výpočet!L49/(($BS$14-$BT$14)*1.163),0)","v":140},{"$f":"ROUND(Výpočet!M49/(($BS$14-$BT$14)*1.163),0)","v":166},{"$f":"ROUND(Výpočet!N49/(($BS$14-$BT$14)*1.163),0)","v":190},{"$f":"ROUND(Výpočet!O49/(($BS$14-$BT$14)*1.163),0)","v":212},{"$f":"ROUND(Výpočet!P49/(($BS$14-$BT$14)*1.163),0)","v":250},1800]
["1400V",{"$f":"Výpočet!$S$29","v":1400},1,1,1,4,4,5,1,1,3,4,5,6,6,7,null,null,null,null,{"$f":"RANK(U49,$AQ$5:$DM$5,1)","v":1},1,1,1,1,1,1,1,24,30,35,40,45,55,null,{"$f":"RANK(AJ49,$AQ$5:$DM$5,1)","v":1},1,1,38,43,48,1,1,32,40,48,55,61,72,null,{"$f":"RANK(AY49,$AQ$5:$DM$5,1)","v":1},41,52,63,72,75,75,1,60,75,75,75,75,75,null,null,2000,{"$f":"ROUND(Výpočet!C50/(($BS$14-$BT$14)*1.163),0)","v":0},{"$f":"ROUND(Výpočet!D50/(($BS$14-$BT$14)*1.163),0)","v":0},{"$f":"ROUND(Výpočet!E50/(($BS$14-$BT$14)*1.163),0)","v":0},{"$f":"ROUND(Výpočet!F50/(($BS$14-$BT$14)*1.163),0)","v":146},{"$f":"ROUND(Výpočet!G50/(($BS$14-$BT$14)*1.163),0)","v":167},{"$f":"ROUND(Výpočet!H50/(($BS$14-$BT$14)*1.163),0)","v":187},{"$f":"ROUND(Výpočet!I50/(($BS$14-$BT$14)*1.163),0)","v":0},{"$f":"ROUND(Výpočet!J50/(($BS$14-$BT$14)*1.163),0)","v":0},{"$f":"ROUND(Výpočet!K50/(($BS$14-$BT$14)*1.163),0)","v":124},{"$f":"ROUND(Výpočet!L50/(($BS$14-$BT$14)*1.163),0)","v":155},{"$f":"ROUND(Výpočet!M50/(($BS$14-$BT$14)*1.163),0)","v":184},{"$f":"ROUND(Výpočet!N50/(($BS$14-$BT$14)*1.163),0)","v":211},{"$f":"ROUND(Výpočet!O50/(($BS$14-$BT$14)*1.163),0)","v":235},{"$f":"ROUND(Výpočet!P50/(($BS$14-$BT$14)*1.163),0)","v":278},2000]
["1600V",{"$f":"Výpočet!$S$30","v":1600},1,1,1,4,5,6,1,1,4,5,6,6,7,8,null,null,null,1600,{"$f":"IF(ROUND((BP28/$AG$6)*(SQRT(100))/(SQRT($G$10)),2)<$AG$4,0.01,IF(ROUND((BP28/$AG$6)*(SQRT(100))/(SQRT($G$10)),2)>$AG$5,0.75,ROUND((BP28/$AG$6)*(SQRT(100))/(SQRT($G$10)),2)))","v":0.01},0.01,0.01,0.01,0.01,0.01,0.01,0.01,0.24,0.3,0.35,0.4,0.45,0.55000000000000004,1600,{"$f":"IF(ROUND((BP46/$AG$6)*(SQRT(100))/(SQRT($G$10)),2)<$AG$4,0.01,IF(ROUND((BP46/$AG$6)*(SQRT(100))/(SQRT($G$10)),2)>$AG$5,0.75,ROUND((BP46/$AG$6)*(SQRT(100))/(SQRT($G$10)),2)))","v":0.01},0.01,0.01,0.38,0.43,0.48,0.01,0.01,0.32,0.4,0.48,0.55000000000000004,0.61,0.72,1600,{"$f":"IF(ROUND((BP64/$AG$6)*(SQRT(100))/(SQRT($G$10)),2)<$AG$4,0.01,IF(ROUND((BP64/$AG$6)*(SQRT(100))/(SQRT($G$10)),2)>$AG$5,0.75,ROUND((BP64/$AG$6)*(SQRT(100))/(SQRT($G$10)),2)))","v":0.01},0.41,0.52,0.63,0.72,0.75,0.75,0.01,0.6,0.75,0.75,0.75,0.75,0.75,1600,null,2300,{"$f":"ROUND(Výpočet!C51/(($BS$14-$BT$14)*1.163),0)","v":0},{"$f":"ROUND(Výpočet!D51/(($BS$14-$BT$14)*1.163),0)","v":0},{"$f":"ROUND(Výpočet!E51/(($BS$14-$BT$14)*1.163),0)","v":0},{"$f":"ROUND(Výpočet!F51/(($BS$14-$BT$14)*1.163),0)","v":168},{"$f":"ROUND(Výpočet!G51/(($BS$14-$BT$14)*1.163),0)","v":192},{"$f":"ROUND(Výpočet!H51/(($BS$14-$BT$14)*1.163),0)","v":215},{"$f":"ROUND(Výpočet!I51/(($BS$14-$BT$14)*1.163),0)","v":0},{"$f":"ROUND(Výpočet!J51/(($BS$14-$BT$14)*1.163),0)","v":0},{"$f":"ROUND(Výpočet!K51/(($BS$14-$BT$14)*1.163),0)","v":142},{"$f":"ROUND(Výpočet!L51/(($BS$14-$BT$14)*1.163),0)","v":179},{"$f":"ROUND(Výpočet!M51/(($BS$14-$BT$14)*1.163),0)","v":212},{"$f":"ROUND(Výpočet!N51/(($BS$14-$BT$14)*1.163),0)","v":242},{"$f":"ROUND(Výpočet!O51/(($BS$14-$BT$14)*1.163),0)","v":270},{"$f":"ROUND(Výpočet!P51/(($BS$14-$BT$14)*1.163),0)","v":320},2300]
["1800V",{"$f":"Výpočet!$S$31","v":1800},1,1,1,5,6,6,1,1,4,5,6,7,8,8,null,null,{"$f":"T49&\"V\"","v":"1600V"},null,{"$f":"HLOOKUP(U48,$AQ$4:$DM$6,3,FALSE)","v":1},1,1,1,1,1,1,1,3,3,4,5,5,6,null,{"$f":"HLOOKUP(AJ48,$AQ$4:$DM$6,3,FALSE)","v":1},1,1,4,5,6,1,1,4,5,6,6,7,8,null,{"$f":"HLOOKUP(AY48,$AQ$4:$DM$6,3,FALSE)","v":1},5,6,7,8,8,8,1,7,8,8,8,8,8,null,null,2600,{"$f":"ROUND(Výpočet!C52/(($BS$14-$BT$14)*1.163),0)","v":0},{"$f":"ROUND(Výpočet!D52/(($BS$14-$BT$14)*1.163),0)","v":0},{"$f":"ROUND(Výpočet!E52/(($BS$14-$BT$14)*1.163),0)","v":0},{"$f":"ROUND(Výpočet!F52/(($BS$14-$BT$14)*1.163),0)","v":190},{"$f":"ROUND(Výpočet!G52/(($BS$14-$BT$14)*1.163),0)","v":217},{"$f":"ROUND(Výpočet!H52/(($BS$14-$BT$14)*1.163),0)","v":243},{"$f":"ROUND(Výpočet!I52/(($BS$14-$BT$14)*1.163),0)","v":0},{"$f":"ROUND(Výpočet!J52/(($BS$14-$BT$14)*1.163),0)","v":0},{"$f":"ROUND(Výpočet!K52/(($BS$14-$BT$14)*1.163),0)","v":161},{"$f":"ROUND(Výpočet!L52/(($BS$14-$BT$14)*1.163),0)","v":202},{"$f":"ROUND(Výpočet!M52/(($BS$14-$BT$14)*1.163),0)","v":240},{"$f":"ROUND(Výpočet!N52/(($BS$14-$BT$14)*1.163),0)","v":274},{"$f":"ROUND(Výpočet!O52/(($BS$14-$BT$14)*1.163),0)","v":306},{"$f":"ROUND(Výpočet!P52/(($BS$14-$BT$14)*1.163),0)","v":361},2600]
["2000V",{"$f":"Výpočet!$S$32","v":2000},1,1,1,5,6,7,1,1,5,6,7,8,8,8,null,null,null,null,{"$f":"RANK(U52,$AQ$5:$DM$5,1)","v":1},1,1,1,1,1,1,1,27,33,39,45,51,62,null,{"$f":"RANK(AJ52,$AQ$5:$DM$5,1)","v":1},1,1,42,49,54,1,1,36,45,54,62,69,75,null,{"$f":"RANK(AY52,$AQ$5:$DM$5,1)","v":1},46,58,70,75,75,75,1,67,75,75,75,75,75,null,null,3000,{"$f":"ROUND(Výpočet!C53/(($BS$14-$BT$14)*1.163),0)","v":0},{"$f":"ROUND(Výpočet!D53/(($BS$14-$BT$14)*1.163),0)","v":0},{"$f":"ROUND(Výpočet!E53/(($BS$14-$BT$14)*1.163),0)","v":0},{"$f":"ROUND(Výpočet!F53/(($BS$14-$BT$14)*1.163),0)","v":219},{"$f":"ROUND(Výpočet!G53/(($BS$14-$BT$14)*1.163),0)","v":250},{"$f":"ROUND(Výpočet!H53/(($BS$14-$BT$14)*1.163),0)","v":280},{"$f":"ROUND(Výpočet!I53/(($BS$14-$BT$14)*1.163),0)","v":0},{"$f":"ROUND(Výpočet!J53/(($BS$14-$BT$14)*1.163),0)","v":0},{"$f":"ROUND(Výpočet!K53/(($BS$14-$BT$14)*1.163),0)","v":186},{"$f":"ROUND(Výpočet!L53/(($BS$14-$BT$14)*1.163),0)","v":233},{"$f":"ROUND(Výpočet!M53/(($BS$14-$BT$14)*1.163),0)","v":277},{"$f":"ROUND(Výpočet!N53/(($BS$14-$BT$14)*1.163),0)","v":316},{"$f":"ROUND(Výpočet!O53/(($BS$14-$BT$14)*1.163),0)","v":353},{"$f":"ROUND(Výpočet!P53/(($BS$14-$BT$14)*1.163),0)","v":417},3000]
["2300V",{"$f":"Výpočet!$S$33","v":2300},1,1,1,6,7,8,1,1,5,7,8,8,8,8,null,null,null,1800,{"$f":"IF(ROUND((BP29/$AG$6)*(SQRT(100))/(SQRT($G$10)),2)<$AG$4,0.01,IF(ROUND((BP29/$AG$6)*(SQRT(100))/(SQRT($G$10)),2)>$AG$5,0.75,ROUND((BP29/$AG$6)*(SQRT(100))/(SQRT($G$10)),2)))","v":0.01},0.01,0.01,0.01,0.01,0.01,0.01,0.01,0.27,0.33,0.39,0.45,0.51,0.62,1800,{"$f":"IF(ROUND((BP47/$AG$6)*(SQRT(100))/(SQRT($G$10)),2)<$AG$4,0.01,IF(ROUND((BP47/$AG$6)*(SQRT(100))/(SQRT($G$10)),2)>$AG$5,0.75,ROUND((BP47/$AG$6)*(SQRT(100))/(SQRT($G$10)),2)))","v":0.01},0.01,0.01,0.42,0.49,0.54,0.01,0.01,0.36,0.45,0.54,0.62,0.69,0.75,1800,{"$f":"IF(ROUND((BP65/$AG$6)*(SQRT(100))/(SQRT($G$10)),2)<$AG$4,0.01,IF(ROUND((BP65/$AG$6)*(SQRT(100))/(SQRT($G$10)),2)>$AG$5,0.75,ROUND((BP65/$AG$6)*(SQRT(100))/(SQRT($G$10)),2)))","v":0.01},0.46,0.57999999999999996,0.7,0.75,0.75,0.75,0.01,0.67,0.75,0.75,0.75,0.75,0.75,1800,null,"Height",null,null,{"$f":"Výpočet!V54","v":"Typ"},{"$f":"Výpočet!W54","v":22},null,null,null,null,null,{"$f":"Výpočet!AC54","v":"Typ"},{"$f":"Výpočet!AD54","v":33},null,null,null,"Height"]
["2600V",{"$f":"Výpočet!$S$34","v":2600},1,1,1,7,8,8,1,1,6,7,8,8,8,8,null,null,{"$f":"T52&\"V\"","v":"1800V"},null,{"$f":"HLOOKUP(U51,$AQ$4:$DM$6,3,FALSE)","v":1},1,1,1,1,1,1,1,3,4,5,5,6,7,null,{"$f":"HLOOKUP(AJ51,$AQ$4:$DM$6,3,FALSE)","v":1},1,1,5,6,6,1,1,4,5,6,7,8,8,null,{"$f":"HLOOKUP(AY51,$AQ$4:$DM$6,3,FALSE)","v":1},5,7,8,8,8,8,1,8,8,8,8,8,8,null,null,"Length",{"$f":"Výpočet!T55","v":200},{"$f":"Výpočet!U55","v":300},{"$f":"Výpočet!V55","v":400},{"$f":"Výpočet!W55","v":500},{"$f":"Výpočet!X55","v":600},{"$f":"Výpočet!Y55","v":700},{"$f":"Výpočet!Z55","v":900},{"$f":"Výpočet!AA55","v":200},{"$f":"Výpočet!AB55","v":300},{"$f":"Výpočet!AC55","v":400},{"$f":"Výpočet!AD55","v":500},{"$f":"Výpočet!AE55","v":600},{"$f":"Výpočet!AF55","v":700},{"$f":"Výpočet!AG55","v":900},"Length"]
["3000V",{"$f":"Výpočet!$S$35","v":3000},1,1,1,8,8,8,1,1,7,8,8,8,8,8,null,null,null,null,{"$f":"RANK(U55,$AQ$5:$DM$5,1)","v":1},1,1,1,1,1,1,1,30,37,43,50,56,69,null,{"$f":"RANK(AJ55,$AQ$5:$DM$5,1)","v":1},1,1,47,54,61,1,1,40,50,60,68,75,75,null,{"$f":"RANK(AY55,$AQ$5:$DM$5,1)","v":1},51,65,75,75,75,75,1,75,75,75,75,75,75,null,null,400,{"$f":"ROUND(Výpočet!C56/(($BS$14-$BT$14)*1.163),0)","v":0},{"$f":"ROUND(Výpočet!D56/(($BS$14-$BT$14)*1.163),0)","v":31},{"$f":"ROUND(Výpočet!E56/(($BS$14-$BT$14)*1.163),0)","v":40},{"$f":"ROUND(Výpočet!F56/(($BS$14-$BT$14)*1.163),0)","v":48},{"$f":"ROUND(Výpočet!G56/(($BS$14-$BT$14)*1.163),0)","v":56},{"$f":"ROUND(Výpočet!H56/(($BS$14-$BT$14)*1.163),0)","v":63},{"$f":"ROUND(Výpočet!I56/(($BS$14-$BT$14)*1.163),0)","v":76},{"$f":"ROUND(Výpočet!J56/(($BS$14-$BT$14)*1.163),0)","v":0},{"$f":"ROUND(Výpočet!K56/(($BS$14-$BT$14)*1.163),0)","v":46},{"$f":"ROUND(Výpočet!L56/(($BS$14-$BT$14)*1.163),0)","v":58},{"$f":"ROUND(Výpočet!M56/(($BS$14-$BT$14)*1.163),0)","v":70},{"$f":"ROUND(Výpočet!N56/(($BS$14-$BT$14)*1.163),0)","v":80},{"$f":"ROUND(Výpočet!O56/(($BS$14-$BT$14)*1.163),0)","v":91},{"$f":"ROUND(Výpočet!P56/(($BS$14-$BT$14)*1.163),0)","v":111},400]
[null,null,null,null,null,null,null,null,null,null,null,null,null,null,null,null,null,null,null,2000,{"$f":"IF(ROUND((BP30/$AG$6)*(SQRT(100))/(SQRT($G$10)),2)<$AG$4,0.01,IF(ROUND((BP30/$AG$6)*(SQRT(100))/(SQRT($G$10)),2)>$AG$5,0.75,ROUND((BP30/$AG$6)*(SQRT(100))/(SQRT($G$10)),2)))","v":0.01},0.01,0.01,0.01,0.01,0.01,0.01,0.01,0.3,0.37,0.43,0.5,0.56000000000000005,0.69,2000,{"$f":"IF(ROUND((BP48/$AG$6)*(SQRT(100))/(SQRT($G$10)),2)<$AG$4,0.01,IF(ROUND((BP48/$AG$6)*(SQRT(100))/(SQRT($G$10)),2)>$AG$5,0.75,ROUND((BP48/$AG$6)*(SQRT(100))/(SQRT($G$10)),2)))","v":0.01},0.01,0.01,0.47,0.54,0.61,0.01,0.01,0.4,0.5,0.6,0.68,0.75,0.75,2000,{"$f":"IF(ROUND((BP66/$AG$6)*(SQRT(100))/(SQRT($G$10)),2)<$AG$4,0.01,IF(ROUND((BP66/$AG$6)*(SQRT(100))/(SQRT($G$10)),2)>$AG$5,0.75,ROUND((BP66/$AG$6)*(SQRT(100))/(SQRT($G$10)),2)))","v":0.01},0.51,0.65,0.75,0.75,0.75,0.75,0.01,0.75,0.75,0.75,0.75,0.75,0.75,2000,null,500,{"$f":"ROUND(Výpočet!C57/(($BS$14-$BT$14)*1.163),0)","v":0},{"$f":"ROUND(Výpočet!D57/(($BS$14-$BT$14)*1.163),0)","v":39},{"$f":"ROUND(Výpočet!E57/(($BS$14-$BT$14)*1.163),0)","v":50},{"$f":"ROUND(Výpočet!F57/(($BS$14-$BT$14)*1.163),0)","v":60},{"$f":"ROUND(Výpočet!G57/(($BS$14-$BT$14)*1.163),0)","v":70},{"$f":"ROUND(Výpočet!H57/(($BS$14-$BT$14)*1.163),0)","v":79},{"$f":"ROUND(Výpočet!I57/(($BS$14-$BT$14)*1.163),0)","v":95},{"$f":"ROUND(Výpočet!J57/(($BS$14-$BT$14)*1.163),0)","v":0},{"$f":"ROUND(Výpočet!K57/(($BS$14-$BT$14)*1.163),0)","v":58},{"$f":"ROUND(Výpočet!L57/(($BS$14-$BT$14)*1.163),0)","v":73},{"$f":"ROUND(Výpočet!M57/(($BS$14-$BT$14)*1.163),0)","v":87},{"$f":"ROUND(Výpočet!N57/(($BS$14-$BT$14)*1.163),0)","v":101},{"$f":"ROUND(Výpočet!O57/(($BS$14-$BT$14)*1.163),0)","v":114},{"$f":"ROUND(Výpočet!P57/(($BS$14-$BT$14)*1.163),0)","v":139},500]
[null,null,null,null,null,{"$f":"Výpočet!V54","v":"Typ"},{"$f":"Výpočet!W54","v":22},null,null,null,null,null,{"$f":"Výpočet!AC54","v":"Typ"},{"$f":"Výpočet!AD54","v":33},null,null,null,null,{"$f":"T55&\"V\"","v":"2000V"},null,{"$f":"HLOOKUP(U54,$AQ$4:$DM$6,3,FALSE)","v":1},1,1,1,1,1,1,1,3,4,5,6,6,8,null,{"$f":"HLOOKUP(AJ54,$AQ$4:$DM$6,3,FALSE)","v":1},1,1,5,6,7,1,1,5,6,7,8,8,8,null,{"$f":"HLOOKUP(AY54,$AQ$4:$DM$6,3,FALSE)","v":1},6,7,8,8,8,8,1,8,8,8,8,8,8,null,null,600,{"$f":"ROUND(Výpočet!C58/(($BS$14-$BT$14)*1.163),0)","v":0},{"$f":"ROUND(Výpočet!D58/(($BS$14-$BT$14)*1.163),0)","v":47},{"$f":"ROUND(Výpočet!E58/(($BS$14-$BT$14)*1.163),0)","v":60},{"$f":"ROUND(Výpočet!F58/(($BS$14-$BT$14)*1.163),0)","v":72},{"$f":"ROUND(Výpočet!G58/(($BS$14-$BT$14)*1.163),0)","v":84},{"$f":"ROUND(Výpočet!H58/(($BS$14-$BT$14)*1.163),0)","v":94},{"$f":"ROUND(Výpočet!I58/(($BS$14-$BT$14)*1.163),0)","v":114},{"$f":"ROUND(Výpočet!J58/(($BS$14-$BT$14)*1.163),0)","v":0},{"$f":"ROUND(Výpočet!K58/(($BS$14-$BT$14)*1.163),0)","v":69},{"$f":"ROUND(Výpočet!L58/(($BS$14-$BT$14)*1.163),0)","v":87},{"$f":"ROUND(Výpočet!M58/(($BS$14-$BT$14)*1.163),0)","v":104},{"$f":"ROUND(Výpočet!N58/(($BS$14-$BT$14)*1.163),0)","v":121},{"$f":"ROUND(Výpočet!O58/(($BS$14-$BT$14)*1.163),0)","v":137},{"$f":"ROUND(Výpočet!P58/(($BS$14-$BT$14)*1.163),0)","v":167},600]
[null,null,null,null,null,null,null,null,null,null,null,null,null,null,null,null,null,null,null,null,{"$f":"RANK(U58,$AQ$5:$DM$5,1)","v":1},1,1,1,1,1,1,1,34,42,50,57,65,75,null,{"$f":"RANK(AJ58,$AQ$5:$DM$5,1)","v":1},1,1,54,62,70,1,1,46,58,69,75,75,75,null,{"$f":"RANK(AY58,$AQ$5:$DM$5,1)","v":1},59,75,75,75,75,75,1,75,75,75,75,75,75,null,null,700,{"$f":"ROUND(Výpočet!C59/(($BS$14-$BT$14)*1.163),0)","v":0},{"$f":"ROUND(Výpočet!D59/(($BS$14-$BT$14)*1.163),0)","v":55},{"$f":"ROUND(Výpočet!E59/(($BS$14-$BT$14)*1.163),0)","v":70},{"$f":"ROUND(Výpočet!F59/(($BS$14-$BT$14)*1.163),0)","v":84},{"$f":"ROUND(Výpočet!G59/(($BS$14-$BT$14)*1.163),0)","v":98},{"$f":"ROUND(Výpočet!H59/(($BS$14-$BT$14)*1.163),0)","v":110},{"$f":"ROUND(Výpočet!I59/(($BS$14-$BT$14)*1.163),0)","v":133},{"$f":"ROUND(Výpočet!J59/(($BS$14-$BT$14)*1.163),0)","v":0},{"$f":"ROUND(Výpočet!K59/(($BS$14-$BT$14)*1.163),0)","v":80},{"$f":"ROUND(Výpočet!L59/(($BS$14-$BT$14)*1.163),0)","v":102},{"$f":"ROUND(Výpočet!M59/(($BS$14-$BT$14)*1.163),0)","v":122},{"$f":"ROUND(Výpočet!N59/(($BS$14-$BT$14)*1.163),0)","v":141},{"$f":"ROUND(Výpočet!O59/(($BS$14-$BT$14)*1.163),0)","v":159},{"$f":"ROUND(Výpočet!P59/(($BS$14-$BT$14)*1.163),0)","v":194},700]
[null,null,{"$f":"Výpočet!T13","v":200},{"$f":"Výpočet!U13","v":300},{"$f":"Výpočet!V13","v":400},{"$f":"Výpočet!W13","v":500},{"$f":"Výpočet!X13","v":600},{"$f":"Výpočet!Y13","v":700},{"$f":"Výpočet!Z13","v":900},{"$f":"Výpočet!AA13","v":200},{"$f":"Výpočet!AB13","v":300},{"$f":"Výpočet!AC13","v":400},{"$f":"Výpočet!AD13","v":500},{"$f":"Výpočet!AE13","v":600},{"$f":"Výpočet!AF13","v":700},{"$f":"Výpočet!AG13","v":900},null,null,null,2300,{"$f":"IF(ROUND((BP31/$AG$6)*(SQRT(100))/(SQRT($G$10)),2)<$AG$4,0.01,IF(ROUND((BP31/$AG$6)*(SQRT(100))/(SQRT($G$10)),2)>$AG$5,0.75,ROUND((BP31/$AG$6)*(SQRT(100))/(SQRT($G$10)),2)))","v":0.01},0.01,0.01,0.01,0.01,0.01,0.01,0.01,0.34,0.42,0.5,0.56999999999999995,0.65,0.75,2300,{"$f":"IF(ROUND((BP49/$AG$6)*(SQRT(100))/(SQRT($G$10)),2)<$AG$4,0.01,IF(ROUND((BP49/$AG$6)*(SQRT(100))/(SQRT($G$10)),2)>$AG$5,0.75,ROUND((BP49/$AG$6)*(SQRT(100))/(SQRT($G$10)),2)))","v":0.01},0.01,0.01,0.54,0.62,0.7,0.01,0.01,0.46,0.57999999999999996,0.69,0.75,0.75,0.75,2300,{"$f":"IF(ROUND((BP67/$AG$6)*(SQRT(100))/(SQRT($G$10)),2)<$AG$4,0.01,IF(ROUND((BP67/$AG$6)*(SQRT(100))/(SQRT($G$10)),2)>$AG$5,0.75,ROUND((BP67/$AG$6)*(SQRT(100))/(SQRT($G$10)),2)))","v":0.01},0.59,0.75,0.75,0.75,0.75,0.75,0.01,0.75,0.75,0.75,0.75,0.75,0.75,2300,null,800,{"$f":"ROUND(Výpočet!C60/(($BS$14-$BT$14)*1.163),0)","v":0},{"$f":"ROUND(Výpočet!D60/(($BS$14-$BT$14)*1.163),0)","v":63},{"$f":"ROUND(Výpočet!E60/(($BS$14-$BT$14)*1.163),0)","v":80},{"$f":"ROUND(Výpočet!F60/(($BS$14-$BT$14)*1.163),0)","v":96},{"$f":"ROUND(Výpočet!G60/(($BS$14-$BT$14)*1.163),0)","v":112},{"$f":"ROUND(Výpočet!H60/(($BS$14-$BT$14)*1.163),0)","v":126},{"$f":"ROUND(Výpočet!I60/(($BS$14-$BT$14)*1.163),0)","v":152},{"$f":"ROUND(Výpočet!J60/(($BS$14-$BT$14)*1.163),0)","v":0},{"$f":"ROUND(Výpočet!K60/(($BS$14-$BT$14)*1.163),0)","v":92},{"$f":"ROUND(Výpočet!L60/(($BS$14-$BT$14)*1.163),0)","v":116},{"$f":"ROUND(Výpočet!M60/(($BS$14-$BT$14)*1.163),0)","v":139},{"$f":"ROUND(Výpočet!N60/(($BS$14-$BT$14)*1.163),0)","v":161},{"$f":"ROUND(Výpočet!O60/(($BS$14-$BT$14)*1.163),0)","v":182},{"$f":"ROUND(Výpočet!P60/(($BS$14-$BT$14)*1.163),0)","v":222},800]
[{"$f":"B59&\"V\"","v":"400V"},{"$f":"Výpočet!$S$20","v":400},{"$f":"SUMIF($S:$S,$A59,AY:AY)","v":1},{"$f":"SUMIF($S:$S,$A59,AZ:AZ)","v":1},{"$f":"SUMIF($S:$S,$A59,BA:BA)","v":1},{"$f":"SUMIF($S:$S,$A59,BB:BB)","v":2},{"$f":"SUMIF($S:$S,$A59,BC:BC)","v":2},{"$f":"SUMIF($S:$S,$A59,BD:BD)","v":2},{"$f":"SUMIF($S:$S,$A59,BE:BE)","v":3},{"$f":"SUMIF($S:$S,$A59,BF:BF)","v":1},{"$f":"SUMIF($S:$S,$A59,BG:BG)","v":2},{"$f":"SUMIF($S:$S,$A59,BH:BH)","v":2},{"$f":"SUMIF($S:$S,$A59,BI:BI)","v":3},{"$f":"SUMIF($S:$S,$A59,BJ:BJ)","v":3},{"$f":"SUMIF($S:$S,$A59,BK:BK)","v":3},{"$f":"SUMIF($S:$S,$A59,BL:BL)","v":4},null,null,{"$f":"T58&\"V\"","v":"2300V"},null,{"$f":"HLOOKUP(U57,$AQ$4:$DM$6,3,FALSE)","v":1},1,1,1,1,1,1,1,4,5,6,6,7,8,null,{"$f":"HLOOKUP(AJ57,$AQ$4:$DM$6,3,FALSE)","v":1},1,1,6,7,8,1,1,5,7,8,8,8,8,null,{"$f":"HLOOKUP(AY57,$AQ$4:$DM$6,3,FALSE)","v":1},7,8,8,8,8,8,1,8,8,8,8,8,8,null,null,900,{"$f":"ROUND(Výpočet!C61/(($BS$14-$BT$14)*1.163),0)","v":0},{"$f":"ROUND(Výpočet!D61/(($BS$14-$BT$14)*1.163),0)","v":71},{"$f":"ROUND(Výpočet!E61/(($BS$14-$BT$14)*1.163),0)","v":90},{"$f":"ROUND(Výpočet!F61/(($BS$14-$BT$14)*1.163),0)","v":108},{"$f":"ROUND(Výpočet!G61/(($BS$14-$BT$14)*1.163),0)","v":125},{"$f":"ROUND(Výpočet!H61/(($BS$14-$BT$14)*1.163),0)","v":142},{"$f":"ROUND(Výpočet!I61/(($BS$14-$BT$14)*1.163),0)","v":171},{"$f":"ROUND(Výpočet!J61/(($BS$14-$BT$14)*1.163),0)","v":0},{"$f":"ROUND(Výpočet!K61/(($BS$14-$BT$14)*1.163),0)","v":103},{"$f":"ROUND(Výpočet!L61/(($BS$14-$BT$14)*1.163),0)","v":131},{"$f":"ROUND(Výpočet!M61/(($BS$14-$BT$14)*1.163),0)","v":156},{"$f":"ROUND(Výpočet!N61/(($BS$14-$BT$14)*1.163),0)","v":181},{"$f":"ROUND(Výpočet!O61/(($BS$14-$BT$14)*1.163),0)","v":205},{"$f":"ROUND(Výpočet!P61/(($BS$14-$BT$14)*1.163),0)","v":250},900]
[{"$f":"B60&\"V\"","v":"500V"},{"$f":"Výpočet!$S$21","v":500},{"$f":"SUMIF($S:$S,$A60,AY:AY)","v":1},1,2,2,3,3,3,1,2,3,3,4,4,5,null,null,null,null,{"$f":"RANK(U61,$AQ$5:$DM$5,1)","v":1},1,1,1,1,1,1,1,38,48,56,65,73,75,null,{"$f":"RANK(AJ61,$AQ$5:$DM$5,1)","v":1},1,1,62,70,75,1,1,52,66,75,75,75,75,null,{"$f":"RANK(AY61,$AQ$5:$DM$5,1)","v":1},66,75,75,75,75,75,1,75,75,75,75,75,75,null,null,1000,{"$f":"ROUND(Výpočet!C62/(($BS$14-$BT$14)*1.163),0)","v":0},{"$f":"ROUND(Výpočet!D62/(($BS$14-$BT$14)*1.163),0)","v":79},{"$f":"ROUND(Výpočet!E62/(($BS$14-$BT$14)*1.163),0)","v":100},{"$f":"ROUND(Výpočet!F62/(($BS$14-$BT$14)*1.163),0)","v":120},{"$f":"ROUND(Výpočet!G62/(($BS$14-$BT$14)*1.163),0)","v":139},{"$f":"ROUND(Výpočet!H62/(($BS$14-$BT$14)*1.163),0)","v":157},{"$f":"ROUND(Výpočet!I62/(($BS$14-$BT$14)*1.163),0)","v":190},{"$f":"ROUND(Výpočet!J62/(($BS$14-$BT$14)*1.163),0)","v":0},{"$f":"ROUND(Výpočet!K62/(($BS$14-$BT$14)*1.163),0)","v":115},{"$f":"ROUND(Výpočet!L62/(($BS$14-$BT$14)*1.163),0)","v":145},{"$f":"ROUND(Výpočet!M62/(($BS$14-$BT$14)*1.163),0)","v":174},{"$f":"ROUND(Výpočet!N62/(($BS$14-$BT$14)*1.163),0)","v":201},{"$f":"ROUND(Výpočet!O62/(($BS$14-$BT$14)*1.163),0)","v":228},{"$f":"ROUND(Výpočet!P62/(($BS$14-$BT$14)*1.163),0)","v":278},1000]
["600V",{"$f":"Výpočet!$S$22","v":600},1,2,2,3,3,3,4,1,2,3,4,5,5,6,null,null,null,2600,{"$f":"IF(ROUND((BP32/$AG$6)*(SQRT(100))/(SQRT($G$10)),2)<$AG$4,0.01,IF(ROUND((BP32/$AG$6)*(SQRT(100))/(SQRT($G$10)),2)>$AG$5,0.75,ROUND((BP32/$AG$6)*(SQRT(100))/(SQRT($G$10)),2)))","v":0.01},0.01,0.01,0.01,0.01,0.01,0.01,0.01,0.38,0.48,0.56000000000000005,0.65,0.73,0.75,2600,{"$f":"IF(ROUND((BP50/$AG$6)*(SQRT(100))/(SQRT($G$10)),2)<$AG$4,0.01,IF(ROUND((BP50/$AG$6)*(SQRT(100))/(SQRT($G$10)),2)>$AG$5,0.75,ROUND((BP50/$AG$6)*(SQRT(100))/(SQRT($G$10)),2)))","v":0.01},0.01,0.01,0.62,0.7,0.75,0.01,0.01,0.52,0.66,0.75,0.75,0.75,0.75,2600,{"$f":"IF(ROUND((BP68/$AG$6)*(SQRT(100))/(SQRT($G$10)),2)<$AG$4,0.01,IF(ROUND((BP68/$AG$6)*(SQRT(100))/(SQRT($G$10)),2)>$AG$5,0.75,ROUND((BP68/$AG$6)*(SQRT(100))/(SQRT($G$10)),2)))","v":0.01},0.66,0.75,0.75,0.75,0.75,0.75,0.01,0.75,0.75,0.75,0.75,0.75,0.75,2600,null,1100,{"$f":"ROUND(Výpočet!C63/(($BS$14-$BT$14)*1.163),0)","v":0},{"$f":"ROUND(Výpočet!D63/(($BS$14-$BT$14)*1.163),0)","v":86},{"$f":"ROUND(Výpočet!E63/(($BS$14-$BT$14)*1.163),0)","v":110},{"$f":"ROUND(Výpočet!F63/(($BS$14-$BT$14)*1.163),0)","v":132},{"$f":"ROUND(Výpočet!G63/(($BS$14-$BT$14)*1.163),0)","v":153},{"$f":"ROUND(Výpočet!H63/(($BS$14-$BT$14)*1.163),0)","v":173},{"$f":"ROUND(Výpočet!I63/(($BS$14-$BT$14)*1.163),0)","v":210},{"$f":"ROUND(Výpočet!J63/(($BS$14-$BT$14)*1.163),0)","v":0},{"$f":"ROUND(Výpočet!K63/(($BS$14-$BT$14)*1.163),0)","v":126},{"$f":"ROUND(Výpočet!L63/(($BS$14-$BT$14)*1.163),0)","v":160},{"$f":"ROUND(Výpočet!M63/(($BS$14-$BT$14)*1.163),0)","v":191},{"$f":"ROUND(Výpočet!N63/(($BS$14-$BT$14)*1.163),0)","v":221},{"$f":"ROUND(Výpočet!O63/(($BS$14-$BT$14)*1.163),0)","v":250},{"$f":"ROUND(Výpočet!P63/(($BS$14-$BT$14)*1.163),0)","v":306},1100]
["700V",{"$f":"Výpočet!$S$23","v":700},1,2,3,3,4,4,5,1,3,4,5,5,6,7,null,null,{"$f":"T61&\"V\"","v":"2600V"},null,{"$f":"HLOOKUP(U60,$AQ$4:$DM$6,3,FALSE)","v":1},1,1,1,1,1,1,1,4,6,6,7,8,8,null,{"$f":"HLOOKUP(AJ60,$AQ$4:$DM$6,3,FALSE)","v":1},1,1,7,8,8,1,1,6,7,8,8,8,8,null,{"$f":"HLOOKUP(AY60,$AQ$4:$DM$6,3,FALSE)","v":1},7,8,8,8,8,8,1,8,8,8,8,8,8,null,null,1200,{"$f":"ROUND(Výpočet!C64/(($BS$14-$BT$14)*1.163),0)","v":0},{"$f":"ROUND(Výpočet!D64/(($BS$14-$BT$14)*1.163),0)","v":94},{"$f":"ROUND(Výpočet!E64/(($BS$14-$BT$14)*1.163),0)","v":120},{"$f":"ROUND(Výpočet!F64/(($BS$14-$BT$14)*1.163),0)","v":144},{"$f":"ROUND(Výpočet!G64/(($BS$14-$BT$14)*1.163),0)","v":167},{"$f":"ROUND(Výpočet!H64/(($BS$14-$BT$14)*1.163),0)","v":189},{"$f":"ROUND(Výpočet!I64/(($BS$14-$BT$14)*1.163),0)","v":229},{"$f":"ROUND(Výpočet!J64/(($BS$14-$BT$14)*1.163),0)","v":0},{"$f":"ROUND(Výpočet!K64/(($BS$14-$BT$14)*1.163),0)","v":138},{"$f":"ROUND(Výpočet!L64/(($BS$14-$BT$14)*1.163),0)","v":174},{"$f":"ROUND(Výpočet!M64/(($BS$14-$BT$14)*1.163),0)","v":209},{"$f":"ROUND(Výpočet!N64/(($BS$14-$BT$14)*1.163),0)","v":242},{"$f":"ROUND(Výpočet!O64/(($BS$14-$BT$14)*1.163),0)","v":273},{"$f":"ROUND(Výpočet!P64/(($BS$14-$BT$14)*1.163),0)","v":333},1200]
["800V",{"$f":"Výpočet!$S$24","v":800},1,2,3,3,4,5,6,1,3,4,5,6,7,8,null,null,null,null,{"$f":"RANK(U64,$AQ$5:$DM$5,1)","v":1},1,1,1,1,1,1,1,44,55,65,75,75,75,null,{"$f":"RANK(AJ64,$AQ$5:$DM$5,1)","v":1},1,1,71,75,75,1,1,60,75,75,75,75,75,null,{"$f":"RANK(AY64,$AQ$5:$DM$5,1)","v":1},75,75,75,75,75,75,1,75,75,75,75,75,75,null,null,1400,{"$f":"ROUND(Výpočet!C65/(($BS$14-$BT$14)*1.163),0)","v":0},{"$f":"ROUND(Výpočet!D65/(($BS$14-$BT$14)*1.163),0)","v":110},{"$f":"ROUND(Výpočet!E65/(($BS$14-$BT$14)*1.163),0)","v":140},{"$f":"ROUND(Výpočet!F65/(($BS$14-$BT$14)*1.163),0)","v":169},{"$f":"ROUND(Výpočet!G65/(($BS$14-$BT$14)*1.163),0)","v":195},{"$f":"ROUND(Výpočet!H65/(($BS$14-$BT$14)*1.163),0)","v":220},{"$f":"ROUND(Výpočet!I65/(($BS$14-$BT$14)*1.163),0)","v":267},{"$f":"ROUND(Výpočet!J65/(($BS$14-$BT$14)*1.163),0)","v":0},{"$f":"ROUND(Výpočet!K65/(($BS$14-$BT$14)*1.163),0)","v":161},{"$f":"ROUND(Výpočet!L65/(($BS$14-$BT$14)*1.163),0)","v":203},{"$f":"ROUND(Výpočet!M65/(($BS$14-$BT$14)*1.163),0)","v":243},{"$f":"ROUND(Výpočet!N65/(($BS$14-$BT$14)*1.163),0)","v":282},{"$f":"ROUND(Výpočet!O65/(($BS$14-$BT$14)*1.163),0)","v":319},{"$f":"ROUND(Výpočet!P65/(($BS$14-$BT$14)*1.163),0)","v":389},1400]
["900V",{"$f":"Výpočet!$S$25","v":900},1,3,3,4,5,5,6,1,4,5,6,7,7,8,null,null,null,3000,{"$f":"IF(ROUND((BP33/$AG$6)*(SQRT(100))/(SQRT($G$10)),2)<$AG$4,0.01,IF(ROUND((BP33/$AG$6)*(SQRT(100))/(SQRT($G$10)),2)>$AG$5,0.75,ROUND((BP33/$AG$6)*(SQRT(100))/(SQRT($G$10)),2)))","v":0.01},0.01,0.01,0.01,0.01,0.01,0.01,0.01,0.44,0.55000000000000004,0.65,0.75,0.75,0.75,3000,{"$f":"IF(ROUND((BP51/$AG$6)*(SQRT(100))/(SQRT($G$10)),2)<$AG$4,0.01,IF(ROUND((BP51/$AG$6)*(SQRT(100))/(SQRT($G$10)),2)>$AG$5,0.75,ROUND((BP51/$AG$6)*(SQRT(100))/(SQRT($G$10)),2)))","v":0.01},0.01,0.01,0.71,0.75,0.75,0.01,0.01,0.6,0.75,0.75,0.75,0.75,0.75,3000,{"$f":"IF(ROUND((BP69/$AG$6)*(SQRT(100))/(SQRT($G$10)),2)<$AG$4,0.01,IF(ROUND((BP69/$AG$6)*(SQRT(100))/(SQRT($G$10)),2)>$AG$5,0.75,ROUND((BP69/$AG$6)*(SQRT(100))/(SQRT($G$10)),2)))","v":0.01},0.75,0.75,0.75,0.75,0.75,0.75,0.01,0.75,0.75,0.75,0.75,0.75,0.75,3000,null,1600,{"$f":"ROUND(Výpočet!C66/(($BS$14-$BT$14)*1.163),0)","v":0},{"$f":"ROUND(Výpočet!D66/(($BS$14-$BT$14)*1.163),0)","v":126},{"$f":"ROUND(Výpočet!E66/(($BS$14-$BT$14)*1.163),0)","v":160},{"$f":"ROUND(Výpočet!F66/(($BS$14-$BT$14)*1.163),0)","v":193},{"$f":"ROUND(Výpočet!G66/(($BS$14-$BT$14)*1.163),0)","v":223},{"$f":"ROUND(Výpočet!H66/(($BS$14-$BT$14)*1.163),0)","v":252},{"$f":"ROUND(Výpočet!I66/(($BS$14-$BT$14)*1.163),0)","v":305},{"$f":"ROUND(Výpočet!J66/(($BS$14-$BT$14)*1.163),0)","v":0},{"$f":"ROUND(Výpočet!K66/(($BS$14-$BT$14)*1.163),0)","v":184},{"$f":"ROUND(Výpočet!L66/(($BS$14-$BT$14)*1.163),0)","v":232},{"$f":"ROUND(Výpočet!M66/(($BS$14-$BT$14)*1.163),0)","v":278},{"$f":"ROUND(Výpočet!N66/(($BS$14-$BT$14)*1.163),0)","v":322},{"$f":"ROUND(Výpočet!O66/(($BS$14-$BT$14)*1.163),0)","v":364},{"$f":"ROUND(Výpočet!P66/(($BS$14-$BT$14)*1.163),0)","v":445},1600]
["1000V",{"$f":"Výpočet!$S$26","v":1000},1,3,4,5,5,6,7,1,4,5,6,7,8,8,null,null,{"$f":"T64&\"V\"","v":"3000V"},null,{"$f":"HLOOKUP(U63,$AQ$4:$DM$6,3,FALSE)","v":1},1,1,1,1,1,1,1,5,6,7,8,8,8,null,{"$f":"HLOOKUP(AJ63,$AQ$4:$DM$6,3,FALSE)","v":1},1,1,8,8,8,1,1,7,8,8,8,8,8,null,{"$f":"HLOOKUP(AY63,$AQ$4:$DM$6,3,FALSE)","v":1},8,8,8,8,8,8,1,8,8,8,8,8,8,null,null,1800,{"$f":"ROUND(Výpočet!C67/(($BS$14-$BT$14)*1.163),0)","v":0},{"$f":"ROUND(Výpočet!D67/(($BS$14-$BT$14)*1.163),0)","v":141},{"$f":"ROUND(Výpočet!E67/(($BS$14-$BT$14)*1.163),0)","v":180},{"$f":"ROUND(Výpočet!F67/(($BS$14-$BT$14)*1.163),0)","v":217},{"$f":"ROUND(Výpočet!G67/(($BS$14-$BT$14)*1.163),0)","v":251},{"$f":"ROUND(Výpočet!H67/(($BS$14-$BT$14)*1.163),0)","v":283},{"$f":"ROUND(Výpočet!I67/(($BS$14-$BT$14)*1.163),0)","v":343},{"$f":"ROUND(Výpočet!J67/(($BS$14-$BT$14)*1.163),0)","v":0},{"$f":"ROUND(Výpočet!K67/(($BS$14-$BT$14)*1.163),0)","v":207},{"$f":"ROUND(Výpočet!L67/(($BS$14-$BT$14)*1.163),0)","v":261},{"$f":"ROUND(Výpočet!M67/(($BS$14-$BT$14)*1.163),0)","v":313},{"$f":"ROUND(Výpočet!N67/(($BS$14-$BT$14)*1.163),0)","v":362},{"$f":"ROUND(Výpočet!O67/(($BS$14-$BT$14)*1.163),0)","v":410},{"$f":"ROUND(Výpočet!P67/(($BS$14-$BT$14)*1.163),0)","v":500},1800]
["1100V",{"$f":"Výpočet!$S$27","v":1100},1,3,4,5,6,6,8,1,5,6,7,8,8,8,null,null,null,null,null,null,null,null,null,null,null,null,null,null,null,null,null,null,null,null,null,null,null,null,null,null,null,null,null,null,null,null,null,null,null,null,null,null,null,null,null,null,null,null,null,null,null,null,null,null,2000,{"$f":"ROUND(Výpočet!C68/(($BS$14-$BT$14)*1.163),0)","v":0},{"$f":"ROUND(Výpočet!D68/(($BS$14-$BT$14)*1.163),0)","v":157},{"$f":"ROUND(Výpočet!E68/(($BS$14-$BT$14)*1.163),0)","v":200},{"$f":"ROUND(Výpočet!F68/(($BS$14-$BT$14)*1.163),0)","v":241},{"$f":"ROUND(Výpočet!G68/(($BS$14-$BT$14)*1.163),0)","v":279},{"$f":"ROUND(Výpočet!H68/(($BS$14-$BT$14)*1.163),0)","v":315},{"$f":"ROUND(Výpočet!I68/(($BS$14-$BT$14)*1.163),0)","v":381},{"$f":"ROUND(Výpočet!J68/(($BS$14-$BT$14)*1.163),0)","v":0},{"$f":"ROUND(Výpočet!K68/(($BS$14-$BT$14)*1.163),0)","v":230},{"$f":"ROUND(Výpočet!L68/(($BS$14-$BT$14)*1.163),0)","v":290},{"$f":"ROUND(Výpočet!M68/(($BS$14-$BT$14)*1.163),0)","v":348},{"$f":"ROUND(Výpočet!N68/(($BS$14-$BT$14)*1.163),0)","v":403},{"$f":"ROUND(Výpočet!O68/(($BS$14-$BT$14)*1.163),0)","v":455},{"$f":"ROUND(Výpočet!P68/(($BS$14-$BT$14)*1.163),0)","v":556},2000]
["1200V",{"$f":"Výpočet!$S$28","v":1200},1,3,5,5,6,7,8,1,5,6,8,8,8,8,null,null,null,null,null,null,null,null,null,null,null,null,null,null,null,null,null,null,null,null,null,null,null,null,null,null,null,null,null,null,null,null,null,null,null,null,null,null,null,null,null,null,null,null,null,null,null,null,null,null,2300,{"$f":"ROUND(Výpočet!C69/(($BS$14-$BT$14)*1.163),0)","v":0},{"$f":"ROUND(Výpočet!D69/(($BS$14-$BT$14)*1.163),0)","v":181},{"$f":"ROUND(Výpočet!E69/(($BS$14-$BT$14)*1.163),0)","v":230},{"$f":"ROUND(Výpočet!F69/(($BS$14-$BT$14)*1.163),0)","v":277},{"$f":"ROUND(Výpočet!G69/(($BS$14-$BT$14)*1.163),0)","v":321},{"$f":"ROUND(Výpočet!H69/(($BS$14-$BT$14)*1.163),0)","v":362},{"$f":"ROUND(Výpočet!I69/(($BS$14-$BT$14)*1.163),0)","v":438},{"$f":"ROUND(Výpočet!J69/(($BS$14-$BT$14)*1.163),0)","v":0},{"$f":"ROUND(Výpočet!K69/(($BS$14-$BT$14)*1.163),0)","v":264},{"$f":"ROUND(Výpočet!L69/(($BS$14-$BT$14)*1.163),0)","v":334},{"$f":"ROUND(Výpočet!M69/(($BS$14-$BT$14)*1.163),0)","v":400},{"$f":"ROUND(Výpočet!N69/(($BS$14-$BT$14)*1.163),0)","v":463},{"$f":"ROUND(Výpočet!O69/(($BS$14-$BT$14)*1.163),0)","v":524},{"$f":"ROUND(Výpočet!P69/(($BS$14-$BT$14)*1.163),0)","v":639},2300]
["1400V",{"$f":"Výpočet!$S$29","v":1400},1,4,5,6,7,8,8,1,6,7,8,8,8,8,null,null,null,null,null,null,null,null,null,null,null,null,null,null,null,null,null,null,null,null,null,null,null,null,null,null,null,null,null,null,null,null,null,null,null,null,null,null,null,null,null,null,null,null,null,null,null,null,null,null,2600,{"$f":"ROUND(Výpočet!C70/(($BS$14-$BT$14)*1.163),0)","v":0},{"$f":"ROUND(Výpočet!D70/(($BS$14-$BT$14)*1.163),0)","v":204},{"$f":"ROUND(Výpočet!E70/(($BS$14-$BT$14)*1.163),0)","v":260},{"$f":"ROUND(Výpočet!F70/(($BS$14-$BT$14)*1.163),0)","v":313},{"$f":"ROUND(Výpočet!G70/(($BS$14-$BT$14)*1.163),0)","v":362},{"$f":"ROUND(Výpočet!H70/(($BS$14-$BT$14)*1.163),0)","v":409},{"$f":"ROUND(Výpočet!I70/(($BS$14-$BT$14)*1.163),0)","v":495},{"$f":"ROUND(Výpočet!J70/(($BS$14-$BT$14)*1.163),0)","v":0},{"$f":"ROUND(Výpočet!K70/(($BS$14-$BT$14)*1.163),0)","v":299},{"$f":"ROUND(Výpočet!L70/(($BS$14-$BT$14)*1.163),0)","v":378},{"$f":"ROUND(Výpočet!M70/(($BS$14-$BT$14)*1.163),0)","v":452},{"$f":"ROUND(Výpočet!N70/(($BS$14-$BT$14)*1.163),0)","v":523},{"$f":"ROUND(Výpočet!O70/(($BS$14-$BT$14)*1.163),0)","v":592},{"$f":"ROUND(Výpočet!P70/(($BS$14-$BT$14)*1.163),0)","v":722},2600]
["1600V",{"$f":"Výpočet!$S$30","v":1600},1,5,6,7,8,8,8,1,7,8,8,8,8,8,null,null,null,null,null,null,null,null,null,null,null,null,null,null,null,null,null,null,null,null,null,null,null,null,null,null,null,null,null,null,null,null,null,null,null,null,null,null,null,null,null,null,null,null,null,null,null,null,null,null,3000,{"$f":"ROUND(Výpočet!C71/(($BS$14-$BT$14)*1.163),0)","v":0},{"$f":"ROUND(Výpočet!D71/(($BS$14-$BT$14)*1.163),0)","v":236},{"$f":"ROUND(Výpočet!E71/(($BS$14-$BT$14)*1.163),0)","v":301},{"$f":"ROUND(Výpočet!F71/(($BS$14-$BT$14)*1.163),0)","v":361},{"$f":"ROUND(Výpočet!G71/(($BS$14-$BT$14)*1.163),0)","v":418},{"$f":"ROUND(Výpočet!H71/(($BS$14-$BT$14)*1.163),0)","v":472},{"$f":"ROUND(Výpočet!I71/(($BS$14-$BT$14)*1.163),0)","v":571},{"$f":"ROUND(Výpočet!J71/(($BS$14-$BT$14)*1.163),0)","v":0},{"$f":"ROUND(Výpočet!K71/(($BS$14-$BT$14)*1.163),0)","v":345},{"$f":"ROUND(Výpočet!L71/(($BS$14-$BT$14)*1.163),0)","v":436},{"$f":"ROUND(Výpočet!M71/(($BS$14-$BT$14)*1.163),0)","v":522},{"$f":"ROUND(Výpočet!N71/(($BS$14-$BT$14)*1.163),0)","v":604},{"$f":"ROUND(Výpočet!O71/(($BS$14-$BT$14)*1.163),0)","v":683},{"$f":"ROUND(Výpočet!P71/(($BS$14-$BT$14)*1.163),0)","v":833},3000]
["1800V",{"$f":"Výpočet!$S$31","v":1800},1,5,7,8,8,8,8,1,8,8,8,8,8,8]
["2000V",{"$f":"Výpočet!$S$32","v":2000},1,6,7,8,8,8,8,1,8,8,8,8,8,8]
["2300V",{"$f":"Výpočet!$S$33","v":2300},1,7,8,8,8,8,8,1,8,8,8,8,8,8]
["2600V",{"$f":"Výpočet!$S$34","v":2600},1,7,8,8,8,8,8,1,8,8,8,8,8,8]
["3000V",{"$f":"Výpočet!$S$35","v":3000},1,8,8,8,8,8,8,1,8,8,8,8,8,8]
[]
[]
[]
[]
[]
[]
[]
[]
[]
[]
[]
[]
[]
[]
[]
[null,null,null,null,null,null,null,null,null,null,null,null,null,null,null,null,null,null,null,null,null,null,null,null,null,null,null,null,null,null,null,null,null,null,null,","]

{"sheet":"Qn","index":5,"n_rows":846,"n_cols":32,"rows_kept":846,"cut":false,"hidden":true,"merged":[]}
[null,null,"DESKOVÁ  OTOPNÁ  TĚLESA"]
[null,null,{"$f":"Logic!C3","v":"T0L00"},null,null,null,null,null,null,null,null,null,null,null,null,null,null,null,null,"Sortiment QN "]
[null,{"$f":"$C$2&C3","v":"T0L001typ"},"1typ",null,null,"Typ",{"$f":"IF(SUM(S6:Y6)=0,0,SUMIF($B$19:$B$1224,$B3,G$19:G$1224))","v":0},null,null,null,null,null,"Typ",{"$f":"IF(SUM(Z6:AF6)=0,0,SUMIF($B$19:$B$1224,$B3,N$19:N$1224))","v":11},null,null,null,null,null,null,"Type",{"$f":"SUMIF($B$19:$B$1224,$B3,V$19:V$1224)","v":10},null,null,null,null,null,"Type",{"$f":"SUMIF($B$19:$B$1224,$B3,AC$19:AC$1224)","v":11}]
[null,"T0L001výška","1výška",{"$f":"SUMIF($B$19:$B$1224,$B4,D$19:D$1224)","v":200},300,400,500,600,700,900,200,300,400,500,600,700,900,null,{"$f":"SUMIF($B$19:$B$1224,$B4,S$19:S$1224)","v":0},0,0,0,{"$f":"SUMIF($B$19:$B$1224,$B4,W$19:W$1224)","v":0},0,0,0,1,1,1,{"$f":"SUMIF($B$19:$B$1224,$B4,AD$19:AD$1224)","v":1},1,1]
[null,"T0L001n =","1n =",{"$f":"IF(S5<>1,0,SUMIF($B$19:$B$1224,$B5,D$19:D$1224))","v":0},0,0,0,0,0,0,0,1.2617,1.2698,1.2778,1.2859,1.2988999999999999,1.3249,null,0,0,0,0,0,0,0,0,1,1,1,1,1,1]
[null,"T0L001Qn =","1Qn =",0,0,0,0,0,0,0,0,530,658,780,897,1011,1231,null,0,0,0,0,0,0,0,0,1,1,1,1,1,1]
[null,"T0L002typ","2typ",null,null,"Typ",{"$f":"IF(SUM(S10:Y10)=0,0,SUMIF($B$19:$B$1224,$B7,G$19:G$1224))","v":20},null,null,null,null,null,"Typ",{"$f":"IF(SUM(Z10:AF10)=0,0,SUMIF($B$19:$B$1224,$B7,N$19:N$1224))","v":21},null,null,null,null,null,null,"Type",20,null,null,null,null,null,"Type",21]
[null,"T0L002výška","2výška",{"$f":"SUMIF($B$19:$B$1224,$B8,D$19:D$1224)","v":200},300,400,500,600,700,900,200,300,400,500,600,700,900,null,{"$f":"SUMIF($B$19:$B$1224,$B8,S$19:S$1224)","v":0},0,0,1,{"$f":"SUMIF($B$19:$B$1224,$B8,W$19:W$1224)","v":1},1,0,0,1,1,1,{"$f":"SUMIF($B$19:$B$1224,$B8,AD$19:AD$1224)","v":1},1,1]
[null,"T0L002n =","2n =",{"$f":"IF(S9<>1,0,SUMIF($B$19:$B$1224,$B9,D$19:D$1224))","v":0},0,0,1.2895000000000001,1.2924,1.2988,0,0,1.3019000000000001,1.3144,1.3268,1.3392999999999999,1.3446,1.3552999999999999,null,0,0,0,1,1,1,0,0,1,1,1,1,1,1]
[null,"T0L002Qn =","2Qn =",0,0,0,848,969,1085,0,0,720,904,1072,1226,1367,1617,null,0,0,0,1,1,1,0,0,1,1,1,1,1,1]
[null,"T0L003typ","3typ",null,null,"Typ",{"$f":"IF(SUM(S14:Y14)=0,0,SUMIF($B$19:$B$1224,$B11,G$19:G$1224))","v":22},null,null,null,null,null,"Typ",{"$f":"IF(SUM(Z14:AF14)=0,0,SUMIF($B$19:$B$1224,$B11,N$19:N$1224))","v":33},null,null,null,null,null,null,"Type",22,null,null,null,null,null,"Type",33]
[null,"T0L003výška","3výška",{"$f":"SUMIF($B$19:$B$1224,$B12,D$19:D$1224)","v":200},300,400,500,600,700,900,200,300,400,500,600,700,900,null,{"$f":"SUMIF($B$19:$B$1224,$B12,S$19:S$1224)","v":0},1,1,1,{"$f":"SUMIF($B$19:$B$1224,$B12,W$19:W$1224)","v":1},1,1,0,1,1,1,{"$f":"SUMIF($B$19:$B$1224,$B12,AD$19:AD$1224)","v":1},1,1]
[null,"T0L003n =","3n =",{"$f":"IF(S13<>1,0,SUMIF($B$19:$B$1224,$B13,D$19:D$1224))","v":0},1.2863,1.2989999999999999,1.3117000000000001,1.3244,1.3327,1.3492999999999999,0,1.3284,1.3251999999999999,1.3219000000000001,1.3187,1.3312999999999999,1.3565,null,0,1,1,1,1,1,1,0,1,1,1,1,1,1]
[null,"T0L003Qn =","3Qn =",0,914,1165,1400,1621,1830,2215,0,1337,1689,2022,2341,2648,3231,null,0,1,1,1,1,1,1,0,1,1,1,1,1,1]
[]
[]
[]
[null,null,"50-00",null,"RADIK KLASIK",null,null,null,null,null,null,null,null,null,null,null,null,null,null,{"$f":"$E18","v":"RADIK KLASIK"}]
[null,{"$f":"C18&C19","v":"50-001typ"},"1typ",null,null,"Typ",10,null,null,null,null,null,"Typ",11,null,null,null,null,null,null,"Typ",10,null,null,null,null,null,"Typ",11]
[null,{"$f":"C18&C20","v":"50-001výška"},"1výška",200,300,400,500,600,700,900,200,300,400,500,600,700,900,null,{"$f":"IF(S21=0,0,1)","v":0},{"$f":"IF(T21=0,0,1)","v":1},1,1,1,{"$f":"IF(X21=0,0,1)","v":1},1,0,1,1,1,1,1,1]
[null,{"$f":"C18&C21","v":"50-001n ="},"1n =",null,1.3319000000000001,1.3192999999999999,1.3068,1.2942,1.2988999999999999,1.3083,null,1.3156000000000001,1.3140000000000001,1.3123,1.3107,1.3140000000000001,1.3206,null,null,1,1,1,1,1,1,null,1,1,1,1,1,1]
[null,{"$f":"C18&C22","v":"50-001Qn ="},"1Qn =",null,330,423,514,604,694,875,null,549,708,858,1002,1139,1394,null,null,1,1,1,1,1,1,null,1,1,1,1,1,1]
[null,{"$f":"C18&C23","v":"50-002typ"},"2typ",null,null,"Typ",20,null,null,null,null,null,"Typ",21,null,null,null,null,null,null,"Typ",20,null,null,null,null,null,"Typ",21]
[null,{"$f":"C18&C24","v":"50-002výška"},"2výška",200,300,400,500,600,700,900,200,300,400,500,600,700,900,null,{"$f":"IF(S25=0,0,1)","v":0},0,0,1,1,1,0,0,1,1,1,1,1,1]
[null,{"$f":"C18&C25","v":"50-002n ="},"2n =",null,1.2986,1.2995000000000001,1.3005,1.3013999999999999,1.3191999999999999,1.3548,null,1.3197000000000001,1.3238000000000001,1.3278000000000001,1.3319000000000001,1.3405,1.3577999999999999,null,null,null,null,1,1,1,null,null,1,1,1,1,1,1]
[null,{"$f":"C18&C26","v":"50-002Qn ="},"2Qn =",null,554,698,838,978,1117,1398,null,745,937,1117,1288,1450,1754,null,null,null,null,1,1,1,null,null,1,1,1,1,1,1]
[null,{"$f":"C18&C27","v":"50-003typ"},"3typ",null,null,"Typ",22,null,null,null,null,null,"Typ",33,null,null,null,null,null,null,"Typ",22,null,null,null,null,null,"Typ",33]
[null,{"$f":"C18&C28","v":"50-003výška"},"3výška",200,300,400,500,600,700,900,200,300,400,500,600,700,900,null,{"$f":"IF(S29=0,0,1)","v":1},1,1,1,1,1,1,1,1,1,1,1,1,1]
[null,{"$f":"C18&C29","v":"50-003n ="},"3n =",1.256,1.3297000000000001,1.3315999999999999,1.3333999999999999,1.3352999999999999,1.3427,1.3573999999999999,1.2667999999999999,1.2977000000000001,1.3129,1.3282,1.3433999999999999,1.3498000000000001,1.3626,null,1,1,1,1,1,1,1,1,1,1,1,1,1,1]
[null,{"$f":"C18&C30","v":"50-003Qn ="},"3Qn =",649,966,1216,1452,1679,1897,2313,934,1379,1738,2079,2406,2723,3328,null,1,1,1,1,1,1,1,1,1,1,1,1,1,1]
[]
[]
[null,null,"60-00",null,"RADIK VK",null,null,null,null,null,null,null,null,null,null,null,null,null,null,{"$f":"$E33","v":"RADIK VK"}]
[null,{"$f":"C33&C34","v":"60-001typ"},"1typ",null,null,"Typ",10,null,null,null,null,null,"Typ",11,null,null,null,null,null,null,"Typ",10,null,null,null,null,null,"Typ",11]
[null,{"$f":"C33&C35","v":"60-001výška"},"1výška",200,300,400,500,600,700,900,200,300,400,500,600,700,900,null,{"$f":"IF(S36=0,0,1)","v":0},1,1,1,1,1,1,0,1,1,1,1,1,1]
[null,{"$f":"C33&C36","v":"60-001n ="},"1n =",null,1.3319000000000001,1.3192999999999999,1.3068,1.2942,1.2988999999999999,1.3083,null,1.3156000000000001,1.3140000000000001,1.3123,1.3107,1.3140000000000001,1.3206,null,null,1,1,1,1,1,1,null,1,1,1,1,1,1]
[null,{"$f":"C33&C37","v":"60-001Qn ="},"1Qn =",null,330,423,514,604,694,875,null,549,708,858,1002,1139,1394,null,null,1,1,1,1,1,1,null,1,1,1,1,1,1]
[null,{"$f":"C33&C38","v":"60-002typ"},"2typ",null,null,"Typ",20,null,null,null,null,null,"Typ",21,null,null,null,null,null,null,"Typ",20,null,null,null,null,null,"Typ",21]
[null,{"$f":"C33&C39","v":"60-002výška"},"2výška",200,300,400,500,600,700,900,200,300,400,500,600,700,900,null,{"$f":"IF(S40=0,0,1)","v":0},0,0,1,1,1,0,0,1,1,1,1,1,1]
[null,{"$f":"C33&C40","v":"60-002n ="},"2n =",null,1.2986,1.2995000000000001,1.3005,1.3013999999999999,1.3191999999999999,1.3548,null,1.3197000000000001,1.3238000000000001,1.3278000000000001,1.3319000000000001,1.3405,1.3577999999999999,null,null,null,null,1,1,1,null,null,1,1,1,1,1,1]
[null,{"$f":"C33&C41","v":"60-002Qn ="},"2Qn =",null,554,698,838,978,1117,1398,null,745,937,1117,1288,1450,1754,null,null,null,null,1,1,1,null,null,1,1,1,1,1,1]
[null,{"$f":"C33&C42","v":"60-003typ"},"3typ",null,null,"Typ",22,null,null,null,null,null,"Typ",33,null,null,null,null,null,null,"Typ",22,null,null,null,null,null,"Typ",33]
[null,{"$f":"C33&C43","v":"60-003výška"},"3výška",200,300,400,500,600,700,900,200,300,400,500,600,700,900,null,{"$f":"IF(S44=0,0,1)","v":1},1,1,1,1,1,1,1,1,1,1,1,1,1]
[null,{"$f":"C33&C44","v":"60-003n ="},"3n =",null,1.3297000000000001,1.3315999999999999,1.3333999999999999,1.3352999999999999,1.3427,1.3573999999999999,null,1.2977000000000001,1.3129,1.3282,1.3433999999999999,1.3498000000000001,1.3626,null,1,1,1,1,1,1,1,1,1,1,1,1,1,1]
[null,{"$f":"C33&C45","v":"60-003Qn ="},"3Qn =",null,966,1216,1452,1679,1897,2313,null,1379,1738,2079,2406,2723,3328,null,1,1,1,1,1,1,1,1,1,1,1,1,1,1]
[]
[]
[null,null,"M0-00",null,"RADIK MM",null,null,null,null,null,null,null,null,null,null,null,null,null,null,{"$f":"$E48","v":"RADIK MM"}]
[null,{"$f":"C48&C49","v":"M0-001typ"},"1typ",null,null,"Typ",10,null,null,null,null,null,"Typ",11,null,null,null,null,null,null,"Typ",10,null,null,null,null,null,"Typ",11]
[null,{"$f":"C48&C50","v":"M0-001výška"},"1výška",200,300,400,500,600,700,900,200,300,400,500,600,700,900,null,{"$f":"IF(S51=0,0,1)","v":0},0,0,0,0,0,0,0,0,1,1,1,1,1]
[null,{"$f":"C48&C51","v":"M0-001n ="},"1n =",null,1.2847999999999999,1.2851999999999999,1.2856000000000001,1.286,1.2909999999999999,1.3010999999999999,null,1.2630999999999999,1.2693000000000001,1.2754000000000001,1.2816000000000001,1.2882,1.3013999999999999,null,null,null,null,null,null,null,null,null,null,1,1,1,1,1]
[null,{"$f":"C48&C52","v":"M0-001Qn ="},"1Qn =",null,359,464,564,661,753,927,null,572,728,876,1017,1151,1404,null,null,null,null,null,null,null,null,null,null,1,1,1,1,1]
[null,{"$f":"C48&C53","v":"M0-002typ"},"2typ",null,null,"Typ",20,null,null,null,null,null,"Typ",21,null,null,null,null,null,null,"Typ",20,null,null,null,null,null,"Typ",21]
[null,{"$f":"C48&C54","v":"M0-002výška"},"2výška",200,300,400,500,600,700,900,200,300,400,500,600,700,900,null,{"$f":"IF(S55=0,0,1)","v":0},0,0,0,0,0,0,0,0,1,1,1,1,1]
[null,{"$f":"C48&C55","v":"M0-002n ="},"2n =",null,1.2892999999999999,1.2982,1.3070999999999999,1.3160000000000001,1.3213999999999999,1.3321000000000001,null,1.2989999999999999,1.3075000000000001,1.3161,1.3246,1.3335999999999999,1.3516999999999999,null,null,null,null,null,null,null,null,null,null,1,1,1,1,1]
[null,{"$f":"C48&C56","v":"M0-002Qn ="},"2Qn =",null,581,735,884,1032,1178,1469,null,736,932,1114,1284,1442,1731,null,null,null,null,null,null,null,null,null,null,1,1,1,1,1]
[null,{"$f":"C48&C57","v":"M0-003typ"},"3typ",null,null,"Typ",22,null,null,null,null,null,"Typ",33,null,null,null,null,null,null,"Typ",22,null,null,null,null,null,"Typ",33]
[null,{"$f":"C48&C58","v":"M0-003výška"},"3výška",200,300,400,500,600,700,900,200,300,400,500,600,700,900,null,{"$f":"IF(S59=0,0,1)","v":0},1,1,1,1,1,1,0,1,1,1,1,1,1]
[null,{"$f":"C48&C59","v":"M0-003n ="},"3n =",null,1.2941,1.3069,1.3197000000000001,1.3325,1.3352999999999999,1.3408,null,1.3036000000000001,1.3122,1.3208,1.3293999999999999,1.3358000000000001,1.3487,null,null,1,1,1,1,1,1,null,1,1,1,1,1,1]
[null,{"$f":"C48&C60","v":"M0-003Qn ="},"3Qn =",null,982,1233,1472,1702,1925,2357,null,1279,1665,2028,2369,2687,3258,null,null,1,1,1,1,1,1,null,1,1,1,1,1,1]
[]
[]
[null,null,"6U-00",null,"RADIK VKU",null,null,null,null,null,null,null,null,null,null,null,null,null,null,{"$f":"$E63","v":"RADIK VKU"}]
[null,{"$f":"C63&C64","v":"6U-001typ"},"1typ",null,null,"Typ",10,null,null,null,null,null,"Typ",11,null,null,null,null,null,null,"Typ",10,null,null,null,null,null,"Typ",11]
[null,{"$f":"C63&C65","v":"6U-001výška"},"1výška",200,300,400,500,600,700,900,200,300,400,500,600,700,900,null,{"$f":"IF(S66=0,0,1)","v":0},0,0,0,0,0,0,0,0,0,0,0,0,0]
[null,{"$f":"C63&C66","v":"6U-001n ="},"1n ="]
[null,{"$f":"C63&C67","v":"6U-001Qn ="},"1Qn ="]
[null,{"$f":"C63&C68","v":"6U-002typ"},"2typ",null,null,"Typ",20,null,null,null,null,null,"Typ",21,null,null,null,null,null,null,"Typ",20,null,null,null,null,null,"Typ",21]
[null,{"$f":"C63&C69","v":"6U-002výška"},"2výška",200,300,400,500,600,700,900,200,300,400,500,600,700,900,null,{"$f":"IF(S70=0,0,1)","v":0},0,0,0,0,0,0,0,0,0,1,1,1,1]
[null,{"$f":"C63&C70","v":"6U-002n ="},"2n =",null,1.2986,1.2995000000000001,1.3005,1.3013999999999999,1.3191999999999999,1.3548,null,1.3197000000000001,1.3238000000000001,1.3278000000000001,1.3319000000000001,1.3405,1.3577999999999999,null,null,null,null,null,null,null,null,null,null,null,1,1,1,1]
[null,{"$f":"C63&C71","v":"6U-002Qn ="},"2Qn =",null,554,698,838,978,1117,1398,null,745,937,1117,1288,1450,1754,null,null,null,null,null,null,null,null,null,null,null,1,1,1,1]
[null,{"$f":"C63&C72","v":"6U-003typ"},"3typ",null,null,"Typ",22,null,null,null,null,null,"Typ",33,null,null,null,null,null,null,"Typ",22,null,null,null,null,null,"Typ",33]
[null,{"$f":"C63&C73","v":"6U-003výška"},"3výška",200,300,400,500,600,700,900,200,300,400,500,600,700,900,null,{"$f":"IF(S74=0,0,1)","v":1},1,1,1,1,1,1,1,1,1,1,1,1,1]
[null,{"$f":"C63&C74","v":"6U-003n ="},"3n =",1.256,1.3297000000000001,1.3315999999999999,1.3333999999999999,1.3352999999999999,1.3427,1.3573999999999999,1.2667999999999999,1.2977000000000001,1.3129,1.3282,1.3433999999999999,1.3498000000000001,1.3626,null,1,1,1,1,1,1,1,1,1,1,1,1,1,1]
[null,{"$f":"C63&C75","v":"6U-003Qn ="},"3Qn =",649,966,1216,1452,1679,1897,2313,934,1379,1738,2079,2406,2723,3328,null,1,1,1,1,1,1,1,1,1,1,1,1,1,1]
[]
[]
[null,null,"E0-00",null,"RADIK VKL",null,null,null,null,null,null,null,null,null,null,null,null,null,null,{"$f":"$E78","v":"RADIK VKL"}]
[null,{"$f":"C78&C79","v":"E0-001typ"},"1typ",null,null,"Typ",10,null,null,null,null,null,"Typ",11,null,null,null,null,null,null,"Typ",10,null,null,null,null,null,"Typ",11]
[null,{"$f":"C78&C80","v":"E0-001výška"},"1výška",200,300,400,500,600,700,900,200,300,400,500,600,700,900,null,{"$f":"IF(S81=0,0,1)","v":0},1,1,1,1,1,1,0,1,1,1,1,1,1]
[null,{"$f":"C78&C81","v":"E0-001n ="},"1n =",null,1.3319000000000001,1.3192999999999999,1.3068,1.2942,1.2988999999999999,1.3083,null,1.3156000000000001,1.3140000000000001,1.3123,1.3107,1.3140000000000001,1.3206,null,null,1,1,1,1,1,1,null,1,1,1,1,1,1]
[null,{"$f":"C78&C82","v":"E0-001Qn ="},"1Qn =",null,330,423,514,604,694,875,null,549,708,858,1002,1139,1394,null,null,1,1,1,1,1,1,null,1,1,1,1,1,1]
[null,{"$f":"C78&C83","v":"E0-002typ"},"2typ",null,null,"Typ",20,null,null,null,null,null,"Typ",21,null,null,null,null,null,null,"Typ",20,null,null,null,null,null,"Typ",21]
[null,{"$f":"C78&C84","v":"E0-002výška"},"2výška",200,300,400,500,600,700,900,200,300,400,500,600,700,900,null,{"$f":"IF(S85=0,0,1)","v":0},0,0,0,0,0,0,0,1,1,1,1,1,1]
[null,{"$f":"C78&C85","v":"E0-002n ="},"2n =",null,1.2986,1.2995000000000001,1.3005,1.3013999999999999,1.3191999999999999,1.3548,null,1.3197000000000001,1.3238000000000001,1.3278000000000001,1.3319000000000001,1.3405,1.3577999999999999,null,null,null,null,null,null,null,null,null,1,1,1,1,1,1]
[null,{"$f":"C78&C86","v":"E0-002Qn ="},"2Qn =",null,554,698,838,978,1117,1398,null,745,937,1117,1288,1450,1754,null,null,null,null,null,null,null,null,null,1,1,1,1,1,1]
[null,{"$f":"C78&C87","v":"E0-003typ"},"3typ",null,null,"Typ",22,null,null,null,null,null,"Typ",33,null,null,null,null,null,null,"Typ",22,null,null,null,null,null,"Typ",33]
[null,{"$f":"C78&C88","v":"E0-003výška"},"3výška",200,300,400,500,600,700,900,200,300,400,500,600,700,900,null,{"$f":"IF(S89=0,0,1)","v":0},1,1,1,1,1,1,0,1,1,1,1,1,1]
[null,{"$f":"C78&C89","v":"E0-003n ="},"3n =",null,1.3297000000000001,1.3315999999999999,1.3333999999999999,1.3352999999999999,1.3427,1.3573999999999999,null,1.2977000000000001,1.3129,1.3282,1.3433999999999999,1.3498000000000001,1.3626,null,null,1,1,1,1,1,1,null,1,1,1,1,1,1]
[null,{"$f":"C78&C90","v":"E0-003Qn ="},"3Qn =",null,966,1216,1452,1679,1897,2313,null,1379,1738,2079,2406,2723,3328,null,null,1,1,1,1,1,1,null,1,1,1,1,1,1]
[]
[]
[null,null,"G0-00",null,"RADIK VKM",null,null,null,null,null,null,null,null,null,null,null,null,null,null,{"$f":"$E93","v":"RADIK VKM"}]
[null,{"$f":"C93&C94","v":"G0-001typ"},"1typ",null,null,"Typ",10,null,null,null,null,null,"Typ",11,null,null,null,null,null,null,"Typ",10,null,null,null,null,null,"Typ",11]
[null,{"$f":"C93&C95","v":"G0-001výška"},"1výška",200,300,400,500,600,700,900,200,300,400,500,600,700,900,null,{"$f":"IF(S96=0,0,1)","v":0},1,1,1,1,1,1,0,1,1,1,1,1,1]
[null,{"$f":"C93&C96","v":"G0-001n ="},"1n =",null,1.2945,1.3012999999999999,1.3081,1.3149,1.321,1.3331,null,1.2583,1.2771999999999999,1.2962,1.3150999999999999,1.3198000000000001,1.3290999999999999,null,null,1,1,1,1,1,1,null,1,1,1,1,1,1]
[null,{"$f":"C93&C97","v":"G0-001Qn ="},"1Qn =",null,375,476,572,665,753,922,null,533,683,831,979,1129,1432,null,null,1,1,1,1,1,1,null,1,1,1,1,1,1]
[null,{"$f":"C93&C98","v":"G0-002typ"},"2typ",null,null,"Typ",20,null,null,null,null,null,"Typ",21,null,null,null,null,null,null,"Typ",20,null,null,null,null,null,"Typ",21]
[null,{"$f":"C93&C99","v":"G0-002výška"},"2výška",200,300,400,500,600,700,900,200,300,400,500,600,700,900,null,{"$f":"IF(S100=0,0,1)","v":0},0,0,0,0,0,0,0,1,1,1,1,1,1]
[null,{"$f":"C93&C100","v":"G0-002n ="},"2n =",null,1.296,1.3027,1.3092999999999999,1.3160000000000001,1.3259000000000001,1.3455999999999999,null,1.3134999999999999,1.3259000000000001,1.3384,1.3508,1.3602000000000001,1.3791,null,null,null,null,null,null,null,null,null,1,1,1,1,1,1]
[null,{"$f":"C93&C101","v":"G0-002Qn ="},"2Qn =",null,627,784,934,1080,1222,1502,null,748,937,1118,1294,1466,1802,null,null,null,null,null,null,null,null,null,1,1,1,1,1,1]
[null,{"$f":"C93&C102","v":"G0-003typ"},"3typ",null,null,"Typ",22,null,null,null,null,null,"Typ",33,null,null,null,null,null,null,"Typ",22,null,null,null,null,null,"Typ",33]
[null,{"$f":"C93&C103","v":"G0-003výška"},"3výška",200,300,400,500,600,700,900,200,300,400,500,600,700,900,null,{"$f":"IF(S104=0,0,1)","v":0},1,1,1,1,1,1,0,1,1,1,1,1,1]
[null,{"$f":"C93&C104","v":"G0-003n ="},"3n =",null,1.2985,1.3122,1.3260000000000001,1.3396999999999999,1.3468,1.3609,null,1.319,1.3272999999999999,1.3357000000000001,1.3440000000000001,1.3529,1.3708,null,null,1,1,1,1,1,1,null,1,1,1,1,1,1]
[null,{"$f":"C93&C105","v":"G0-003Qn ="},"3Qn =",null,950,1204,1447,1680,1905,2335,null,1331,1716,2075,2411,2724,3286,null,null,1,1,1,1,1,1,null,1,1,1,1,1,1]
[]
[]
[null,null,"5C-00",null,"RADIK CLEAN",null,null,null,null,null,null,null,null,null,null,null,null,null,null,{"$f":"$E108","v":"RADIK CLEAN"}]
[null,{"$f":"C108&C109","v":"5C-001typ"},"1typ",null,null,"Typ",10,null,null,null,null,null,null,null,null,null,null,null,null,null,"Typ",10]
[null,{"$f":"C108&C110","v":"5C-001výška"},"1výška",200,300,400,500,600,700,900,null,null,null,null,null,null,null,null,{"$f":"IF(S111=0,0,1)","v":0},1,1,1,1,1,1,0,0,0,0,0,0,0]
[null,{"$f":"C108&C111","v":"5C-001n ="},"1n =",null,1.3319000000000001,1.3192999999999999,1.3068,1.2942,1.2988999999999999,1.3083,null,null,null,null,null,null,null,null,null,1,1,1,1,1,1]
[null,{"$f":"C108&C112","v":"5C-001Qn ="},"1Qn =",null,330,423,514,604,694,875,null,null,null,null,null,null,null,null,null,1,1,1,1,1,1]
[null,{"$f":"C108&C113","v":"5C-002typ"},"2typ",null,null,"Typ",20,null,null,null,null,null,null,null,null,null,null,null,null,null,"Typ",20]
[null,{"$f":"C108&C114","v":"5C-002výška"},"2výška",200,300,400,500,600,700,900,null,null,null,null,null,null,null,null,{"$f":"IF(S115=0,0,1)","v":0},0,0,1,1,1,1,0,0,0,0,0,0,0]
[null,{"$f":"C108&C115","v":"5C-002n ="},"2n =",null,1.3018000000000001,1.3071999999999999,1.3127,1.3181,1.3140000000000001,1.3058000000000001,null,null,null,null,null,null,null,null,null,null,null,1,1,1,1]
[null,{"$f":"C108&C116","v":"5C-002Qn ="},"2Qn =",null,590,746,897,1043,1186,1463,null,null,null,null,null,null,null,null,null,null,null,1,1,1,1]
[null,{"$f":"C108&C117","v":"5C-003typ"},"3typ",null,null,"Typ",30,null,null,null,null,null,null,null,null,null,null,null,null,null,"Typ",30]
[null,{"$f":"C108&C118","v":"5C-003výška"},"3výška",200,300,400,500,600,700,900,null,null,null,null,null,null,null,null,{"$f":"IF(S119=0,0,1)","v":0},0,0,1,1,1,1,0,0,0,0,0,0,0]
[null,{"$f":"C108&C119","v":"5C-003n ="},"3n =",null,1.3037000000000001,1.3124,1.3211999999999999,1.3299000000000001,1.3318000000000001,1.3354999999999999,null,null,null,null,null,null,null,null,null,null,null,1,1,1,1]
[null,{"$f":"C108&C120","v":"5C-003Qn ="},"3Qn =",null,858,1072,1279,1482,1682,2084,null,null,null,null,null,null,null,null,null,null,null,1,1,1,1]
[]
[]
[null,null,"6C-00",null,"RADIK CLEAN VK",null,null,null,null,null,null,null,null,null,null,null,null,null,null,{"$f":"$E123","v":"RADIK CLEAN VK"}]
[null,{"$f":"C123&C124","v":"6C-001typ"},"1typ",null,null,"Typ",10,null,null,null,null,null,null,null,null,null,null,null,null,null,"Typ",10]
[null,{"$f":"C123&C125","v":"6C-001výška"},"1výška",200,300,400,500,600,700,900,null,null,null,null,null,null,null,null,{"$f":"IF(S126=0,0,1)","v":0},1,1,1,1,1,1,0,0,0,0,0,0,0]
[null,{"$f":"C123&C126","v":"6C-001n ="},"1n =",null,1.3319000000000001,1.3192999999999999,1.3068,1.2942,1.2988999999999999,1.3083,null,null,null,null,null,null,null,null,null,1,1,1,1,1,1]
[null,{"$f":"C123&C127","v":"6C-001Qn ="},"1Qn =",null,330,423,514,604,694,875,null,null,null,null,null,null,null,null,null,1,1,1,1,1,1]
[null,{"$f":"C123&C128","v":"6C-002typ"},"2typ",null,null,"Typ",20,null,null,null,null,null,null,null,null,null,null,null,null,null,"Typ",20]
[null,{"$f":"C123&C129","v":"6C-002výška"},"2výška",200,300,400,500,600,700,900,null,null,null,null,null,null,null,null,{"$f":"IF(S130=0,0,1)","v":0},0,0,1,1,1,1,0,0,0,0,0,0,0]
[null,{"$f":"C123&C130","v":"6C-002n ="},"2n =",null,1.3018000000000001,1.3071999999999999,1.3127,1.3181,1.3140000000000001,1.3058000000000001,null,null,null,null,null,null,null,null,null,null,null,1,1,1,1]
[null,{"$f":"C123&C131","v":"6C-002Qn ="},"2Qn =",null,590,746,897,1043,1186,1463,null,null,null,null,null,null,null,null,null,null,null,1,1,1,1]
[null,{"$f":"C123&C132","v":"6C-003typ"},"3typ",null,null,"Typ",30,null,null,null,null,null,null,null,null,null,null,null,null,null,"Typ",30]
[null,{"$f":"C123&C133","v":"6C-003výška"},"3výška",200,300,400,500,600,700,900,null,null,null,null,null,null,null,null,{"$f":"IF(S134=0,0,1)","v":0},0,0,1,1,1,1,0,0,0,0,0,0,0]
[null,{"$f":"C123&C134","v":"6C-003n ="},"3n =",null,1.3037000000000001,1.3124,1.3211999999999999,1.3299000000000001,1.3318000000000001,1.3354999999999999,null,null,null,null,null,null,null,null,null,null,null,1,1,1,1]
[null,{"$f":"C123&C135","v":"6C-003Qn ="},"3Qn =",null,858,1072,1279,1482,1682,2084,null,null,null,null,null,null,null,null,null,null,null,1,1,1,1]
[]
[]
[null,null,"50P00",null,"RADIK PLAN KLASIK",null,null,null,null,null,null,null,null,null,null,null,null,null,null,{"$f":"$E138","v":"RADIK PLAN KLASIK"}]
[null,{"$f":"C138&C139","v":"50P001typ"},"1typ",null,null,"Typ",10,null,null,null,null,null,"Typ",11,null,null,null,null,null,null,"Typ",10,null,null,null,null,null,"Typ",11]
[null,{"$f":"C138&C140","v":"50P001výška"},"1výška",200,300,400,500,600,700,900,200,300,400,500,600,700,900,null,{"$f":"IF(S141=0,0,1)","v":0},0,0,0,0,0,0,0,1,1,1,1,1,1]
[null,{"$f":"C138&C141","v":"50P001n ="},"1n =",null,1.3149999999999999,1.2981,1.2813000000000001,1.2644,1.2756000000000001,1.2979000000000001,null,1.2683,1.2683,1.2682,1.2682,1.2793000000000001,1.3015000000000001,null,null,null,null,null,null,null,null,null,1,1,1,1,1,1]
[null,{"$f":"C138&C142","v":"50P001Qn ="},"1Qn =",null,305,389,470,550,630,787,null,533,678,818,953,1084,1337,null,null,null,null,null,null,null,null,null,1,1,1,1,1,1]
[null,{"$f":"C138&C143","v":"50P002typ"},"2typ",null,null,"Typ",20,null,null,null,null,null,"Typ",21,null,null,null,null,null,null,"Typ",20,null,null,null,null,null,"Typ",21]
[null,{"$f":"C138&C144","v":"50P002výška"},"2výška",200,300,400,500,600,700,900,200,300,400,500,600,700,900,null,{"$f":"IF(S145=0,0,1)","v":0},0,0,0,0,0,0,0,1,1,1,1,1,1]
[null,{"$f":"C138&C145","v":"50P002n ="},"2n =",null,1.2804,1.2803,1.2801,1.28,1.2859,1.2978000000000001,null,1.3098000000000001,1.3145,1.3191999999999999,1.3239000000000001,1.3310999999999999,1.3454999999999999,null,null,null,null,null,null,null,null,null,1,1,1,1,1,1]
[null,{"$f":"C138&C146","v":"50P002Qn ="},"2Qn =",null,530,657,780,903,1025,1273,null,727,896,1060,1222,1384,1711,null,null,null,null,null,null,null,null,null,1,1,1,1,1,1]
[null,{"$f":"C138&C147","v":"50P003typ"},"3typ",null,null,"Typ",22,null,null,null,null,null,"Typ",33,null,null,null,null,null,null,"Typ",22,null,null,null,null,null,"Typ",33]
[null,{"$f":"C138&C148","v":"50P003výška"},"3výška",200,300,400,500,600,700,900,200,300,400,500,600,700,900,null,{"$f":"IF(S149=0,0,1)","v":1},1,1,1,1,1,1,1,1,1,1,1,1,1]
[null,{"$f":"C138&C149","v":"50P003n ="},"3n =",1.2401,1.3141,1.3173999999999999,1.3208,1.3241000000000001,1.3265,1.3313999999999999,1.2589999999999999,1.3284,1.3251999999999999,1.3219000000000001,1.3187,1.3312999999999999,1.3565,null,1,1,1,1,1,1,1,1,1,1,1,1,1,1]
[null,{"$f":"C138&C150","v":"50P003Qn ="},"3Qn =",626,948,1187,1414,1631,1841,2243,918,1337,1689,2022,2341,2648,3231,null,1,1,1,1,1,1,1,1,1,1,1,1,1,1]
[]
[]
[null,null,"60P00",null,"RADIK PLAN VK",null,null,null,null,null,null,null,null,null,null,null,null,null,null,{"$f":"$E153","v":"RADIK PLAN VK"}]
[null,{"$f":"C153&C154","v":"60P001typ"},"1typ",null,null,"Typ",10,null,null,null,null,null,"Typ",11,null,null,null,null,null,null,"Typ",10,null,null,null,null,null,"Typ",11]
[null,{"$f":"C153&C155","v":"60P001výška"},"1výška",200,300,400,500,600,700,900,200,300,400,500,600,700,900,null,{"$f":"IF(S156=0,0,1)","v":0},0,0,0,0,0,0,0,1,1,1,1,1,1]
[null,{"$f":"C153&C156","v":"60P001n ="},"1n =",null,1.3149999999999999,1.2981,1.2813000000000001,1.2644,1.2756000000000001,1.2979000000000001,null,1.2683,1.2683,1.2682,1.2682,1.2793000000000001,1.3015000000000001,null,null,null,null,null,null,null,null,null,1,1,1,1,1,1]
[null,{"$f":"C153&C157","v":"60P001Qn ="},"1Qn =",null,305,389,470,550,630,787,null,533,678,818,953,1084,1337,null,null,null,null,null,null,null,null,null,1,1,1,1,1,1]
[null,{"$f":"C153&C158","v":"60P002typ"},"2typ",null,null,"Typ",20,null,null,null,null,null,"Typ",21,null,null,null,null,null,null,"Typ",20,null,null,null,null,null,"Typ",21]
[null,{"$f":"C153&C159","v":"60P002výška"},"2výška",200,300,400,500,600,700,900,200,300,400,500,600,700,900,null,{"$f":"IF(S160=0,0,1)","v":0},0,0,0,0,0,0,0,1,1,1,1,1,1]
[null,{"$f":"C153&C160","v":"60P002n ="},"2n =",null,1.2804,1.2803,1.2801,1.28,1.2859,1.2978000000000001,null,1.3098000000000001,1.3145,1.3191999999999999,1.3239000000000001,1.3310999999999999,1.3454999999999999,null,null,null,null,null,null,null,null,null,1,1,1,1,1,1]
[null,{"$f":"C153&C161","v":"60P002Qn ="},"2Qn =",null,530,657,780,903,1025,1273,null,727,896,1060,1222,1384,1711,null,null,null,null,null,null,null,null,null,1,1,1,1,1,1]
[null,{"$f":"C153&C162","v":"60P003typ"},"3typ",null,null,"Typ",22,null,null,null,null,null,"Typ",33,null,null,null,null,null,null,"Typ",22,null,null,null,null,null,"Typ",33]
[null,{"$f":"C153&C163","v":"60P003výška"},"3výška",200,300,400,500,600,700,900,200,300,400,500,600,700,900,null,{"$f":"IF(S164=0,0,1)","v":1},1,1,1,1,1,1,1,1,1,1,1,1,1]
[null,{"$f":"C153&C164","v":"60P003n ="},"3n =",1.2401,1.3141,1.3173999999999999,1.3208,1.3241000000000001,1.3265,1.3313999999999999,1.2589999999999999,1.3284,1.3251999999999999,1.3219000000000001,1.3187,1.3312999999999999,1.3565,null,1,1,1,1,1,1,1,1,1,1,1,1,1,1]
[null,{"$f":"C153&C165","v":"60P003Qn ="},"3Qn =",626,948,1187,1414,1631,1841,2243,918,1337,1689,2022,2341,2648,3231,null,1,1,1,1,1,1,1,1,1,1,1,1,1,1]
[]
[]
[null,null,"E0P00",null,"RADIK PLAN VKL",null,null,null,null,null,null,null,null,null,null,null,null,null,null,{"$f":"$E168","v":"RADIK PLAN VKL"}]
[null,{"$f":"C168&C169","v":"E0P001typ"},"1typ",null,null,"Typ",10,null,null,null,null,null,"Typ",11,null,null,null,null,null,null,"Typ",10,null,null,null,null,null,"Typ",11]
[null,{"$f":"C168&C170","v":"E0P001výška"},"1výška",200,300,400,500,600,700,900,200,300,400,500,600,700,900,null,{"$f":"IF(S171=0,0,1)","v":0},0,0,0,0,0,0,0,1,1,1,1,1,1]
[null,{"$f":"C168&C171","v":"E0P001n ="},"1n =",null,1.3149999999999999,1.2981,1.2813000000000001,1.2644,1.2756000000000001,1.2979000000000001,null,1.2683,1.2683,1.2682,1.2682,1.2793000000000001,1.3015000000000001,null,null,null,null,null,null,null,null,null,1,1,1,1,1,1]
[null,{"$f":"C168&C172","v":"E0P001Qn ="},"1Qn =",null,305,389,470,550,630,787,null,533,678,818,953,1084,1337,null,null,null,null,null,null,null,null,null,1,1,1,1,1,1]
[null,{"$f":"C168&C173","v":"E0P002typ"},"2typ",null,null,"Typ",20,null,null,null,null,null,"Typ",21,null,null,null,null,null,null,"Typ",20,null,null,null,null,null,"Typ",21]
[null,{"$f":"C168&C174","v":"E0P002výška"},"2výška",200,300,400,500,600,700,900,200,300,400,500,600,700,900,null,{"$f":"IF(S175=0,0,1)","v":0},0,0,0,0,0,0,0,1,1,1,1,1,1]
[null,{"$f":"C168&C175","v":"E0P002n ="},"2n =",null,1.2804,1.2803,1.2801,1.28,1.2859,1.2978000000000001,null,1.3098000000000001,1.3145,1.3191999999999999,1.3239000000000001,1.3310999999999999,1.3454999999999999,null,null,null,null,null,null,null,null,null,1,1,1,1,1,1]
[null,{"$f":"C168&C176","v":"E0P002Qn ="},"2Qn =",null,530,657,780,903,1025,1273,null,727,896,1060,1222,1384,1711,null,null,null,null,null,null,null,null,null,1,1,1,1,1,1]
[null,{"$f":"C168&C177","v":"E0P003typ"},"3typ",null,null,"Typ",22,null,null,null,null,null,"Typ",33,null,null,null,null,null,null,"Typ",22,null,null,null,null,null,"Typ",33]
[null,{"$f":"C168&C178","v":"E0P003výška"},"3výška",200,300,400,500,600,700,900,200,300,400,500,600,700,900,null,{"$f":"IF(S179=0,0,1)","v":0},1,1,1,1,1,1,0,1,1,1,1,1,1]
[null,{"$f":"C168&C179","v":"E0P003n ="},"3n =",1.2401,1.3141,1.3173999999999999,1.3208,1.3241000000000001,1.3265,1.3313999999999999,1.2589999999999999,1.3284,1.3251999999999999,1.3219000000000001,1.3187,1.3312999999999999,1.3565,null,null,1,1,1,1,1,1,null,1,1,1,1,1,1]
[null,{"$f":"C168&C180","v":"E0P003Qn ="},"3Qn =",626,948,1187,1414,1631,1841,2243,918,1337,1689,2022,2341,2648,3231,null,null,1,1,1,1,1,1,null,1,1,1,1,1,1]
[]
[]
[null,null,"G0P00",null,"RADIK PLAN VKM",null,null,null,null,null,null,null,null,null,null,null,null,null,null,{"$f":"$E183","v":"RADIK PLAN VKM"}]
[null,{"$f":"C183&C184","v":"G0P001typ"},"1typ",null,null,"Typ",10,null,null,null,null,null,"Typ",11,null,null,null,null,null,null,"Typ",10,null,null,null,null,null,"Typ",11]
[null,{"$f":"C183&C185","v":"G0P001výška"},"1výška",200,300,400,500,600,700,900,200,300,400,500,600,700,900,null,{"$f":"IF(S186=0,0,1)","v":0},0,0,0,0,0,0,0,1,1,1,1,1,1]
[null,{"$f":"C183&C186","v":"G0P001n ="},"1n =",null,1.2835000000000001,1.2866,1.3005,1.2928999999999999,null,1.2701,null,1.2617,1.2698,1.2778,1.2859,1.2988999999999999,1.3249,null,null,null,null,null,null,null,null,null,1,1,1,1,1,1]
[null,{"$f":"C183&C187","v":"G0P001Qn ="},"1Qn =",null,333,423,510,593,null,831,null,530,658,780,897,1011,1231,null,null,null,null,null,null,null,null,null,1,1,1,1,1,1]
[null,{"$f":"C183&C188","v":"G0P002typ"},"2typ",null,null,"Typ",20,null,null,null,null,null,"Typ",21,null,null,null,null,null,null,"Typ",20,null,null,null,null,null,"Typ",21]
[null,{"$f":"C183&C189","v":"G0P002výška"},"2výška",200,300,400,500,600,700,900,200,300,400,500,600,700,900,null,{"$f":"IF(S190=0,0,1)","v":0},0,0,0,0,0,0,0,1,1,1,1,1,1]
[null,{"$f":"C183&C190","v":"G0P002n ="},"2n =",null,1.2836000000000001,1.2865,1.2895000000000001,1.2924,1.2988,1.3117000000000001,null,1.3019000000000001,1.3144,1.3268,1.3392999999999999,1.3446,1.3552999999999999,null,null,null,null,null,null,null,null,null,1,1,1,1,1,1]
[null,{"$f":"C183&C191","v":"G0P002Qn ="},"2Qn =",null,587,721,848,969,1085,1307,null,720,904,1072,1226,1367,1617,null,null,null,null,null,null,null,null,null,1,1,1,1,1,1]
[null,{"$f":"C183&C192","v":"G0P003typ"},"3typ",null,null,"Typ",22,null,null,null,null,null,"Typ",33,null,null,null,null,null,null,"Typ",22,null,null,null,null,null,"Typ",33]
[null,{"$f":"C183&C193","v":"G0P003výška"},"3výška",200,300,400,500,600,700,900,200,300,400,500,600,700,900,null,{"$f":"IF(S194=0,0,1)","v":0},1,1,1,1,1,1,0,1,1,1,1,1,1]
[null,{"$f":"C183&C194","v":"G0P003n ="},"3n =",null,1.2863,1.2989999999999999,1.3117000000000001,1.3244,1.3327,1.3492999999999999,null,1.3284,1.3251999999999999,1.3219000000000001,1.3187,1.3312999999999999,1.3565,null,null,1,1,1,1,1,1,null,1,1,1,1,1,1]
[null,{"$f":"C183&C195","v":"G0P003Qn ="},"3Qn =",null,914,1165,1400,1621,1830,2215,null,1337,1689,2022,2341,2648,3231,null,null,1,1,1,1,1,1,null,1,1,1,1,1,1]
[]
[]
[null,null,"5CH00",null,"RADIK HYGIENE",null,null,null,null,null,null,null,null,null,null,null,null,null,null,{"$f":"$E198","v":"RADIK HYGIENE"}]
[null,{"$f":"C198&C199","v":"5CH001typ"},"1typ",null,null,"Typ",10,null,null,null,null,null,null,null,null,null,null,null,null,null,"Typ",10]
[null,{"$f":"C198&C200","v":"5CH001výška"},"1výška",203,303,403,503,603,703,903,null,null,null,null,null,null,null,null,{"$f":"IF(S201=0,0,1)","v":0},0,0,1,1,1,0,0,0,0,0,0,0,0]
[null,{"$f":"C198&C201","v":"5CH001n ="},"1n =",null,1.2577,1.2617,1.2656000000000001,1.2695000000000001,1.2617,1.2463,null,null,null,null,null,null,null,null,null,null,null,1,1,1]
[null,{"$f":"C198&C202","v":"5CH001Qn ="},"1Qn =",null,287,362,431,496,556,665,null,null,null,null,null,null,null,null,null,null,null,1,1,1]
[null,{"$f":"C198&C203","v":"5CH002typ"},"2typ",null,null,"Typ",20,null,null,null,null,null,null,null,null,null,null,null,null,null,"Typ",20]
[null,{"$f":"C198&C204","v":"5CH002výška"},"2výška",203,303,403,503,603,703,903,null,null,null,null,null,null,null,null,{"$f":"IF(S205=0,0,1)","v":0},0,0,1,1,1,0,0,0,0,0,0,0,0]
[null,{"$f":"C198&C205","v":"5CH002n ="},"2n =",null,1.2648999999999999,1.2603,1.2557,1.2512000000000001,1.26,1.2776000000000001,null,null,null,null,null,null,null,null,null,null,null,1,1,1]
[null,{"$f":"C198&C206","v":"5CH002Qn ="},"2Qn =",null,531,672,808,941,1072,1330,null,null,null,null,null,null,null,null,null,null,null,1,1,1]
[null,{"$f":"C198&C207","v":"5CH003typ"},"3typ",null,null,"Typ",30,null,null,null,null,null,null,null,null,null,null,null,null,null,"Typ",30]
[null,{"$f":"C198&C208","v":"5CH003výška"},"3výška",203,303,403,503,603,703,903,null,null,null,null,null,null,null,null,{"$f":"IF(S209=0,0,1)","v":0},0,0,1,1,1,0,0,0,0,0,0,0,0]
[null,{"$f":"C198&C209","v":"5CH003n ="},"3n =",null,1.2737000000000001,1.2717000000000001,1.2697000000000001,1.2677,1.2785,1.3001,null,null,null,null,null,null,null,null,null,null,null,1,1,1]
[null,{"$f":"C198&C210","v":"5CH003Qn ="},"3Qn =",null,762,964,1153,1333,1503,1822,null,null,null,null,null,null,null,null,null,null,null,1,1,1]
[]
[]
[null,null,"6CH00",null,"RADIK HYGIENE VK",null,null,null,null,null,null,null,null,null,null,null,null,null,null,{"$f":"$E213","v":"RADIK HYGIENE VK"}]
[null,{"$f":"C213&C214","v":"6CH001typ"},"1typ",null,null,"Typ",10,null,null,null,null,null,null,null,null,null,null,null,null,null,"Typ",10]
[null,{"$f":"C213&C215","v":"6CH001výška"},"1výška",203,303,403,503,603,703,903,null,null,null,null,null,null,null,null,{"$f":"IF(S216=0,0,1)","v":0},0,0,1,1,1,0,0,0,0,0,0,0,0]
[null,{"$f":"C213&C216","v":"6CH001n ="},"1n =",null,1.2577,1.2617,1.2656000000000001,1.2695000000000001,1.2617,1.2463,null,null,null,null,null,null,null,null,null,null,null,1,1,1]
[null,{"$f":"C213&C217","v":"6CH001Qn ="},"1Qn =",null,287,362,431,496,556,665,null,null,null,null,null,null,null,null,null,null,null,1,1,1]
[null,{"$f":"C213&C218","v":"6CH002typ"},"2typ",null,null,"Typ",20,null,null,null,null,null,null,null,null,null,null,null,null,null,"Typ",20]
[null,{"$f":"C213&C219","v":"6CH002výška"},"2výška",203,303,403,503,603,703,903,null,null,null,null,null,null,null,null,{"$f":"IF(S220=0,0,1)","v":0},0,0,1,1,1,0,0,0,0,0,0,0,0]
[null,{"$f":"C213&C220","v":"6CH002n ="},"2n =",null,1.2648999999999999,1.2603,1.2557,1.2512000000000001,1.26,1.2776000000000001,null,null,null,null,null,null,null,null,null,null,null,1,1,1]
[null,{"$f":"C213&C221","v":"6CH002Qn ="},"2Qn =",null,531,672,808,941,1072,1330,null,null,null,null,null,null,null,null,null,null,null,1,1,1]
[null,{"$f":"C213&C222","v":"6CH003typ"},"3typ",null,null,"Typ",30,null,null,null,null,null,null,null,null,null,null,null,null,null,"Typ",30]
[null,{"$f":"C213&C223","v":"6CH003výška"},"3výška",203,303,403,503,603,703,903,null,null,null,null,null,null,null,null,{"$f":"IF(S224=0,0,1)","v":0},0,0,1,1,1,0,0,0,0,0,0,0,0]
[null,{"$f":"C213&C224","v":"6CH003n ="},"3n =",null,1.2737000000000001,1.2717000000000001,1.2697000000000001,1.2677,1.2785,1.3001,null,null,null,null,null,null,null,null,null,null,null,1,1,1]
[null,{"$f":"C213&C225","v":"6CH003Qn ="},"3Qn =",null,762,964,1153,1333,1503,1822,null,null,null,null,null,null,null,null,null,null,null,1,1,1]
[]
[]
[null,null,"N0-00",null,"RADIK COMBI VK",null,null,null,null,null,null,null,null,null,null,null,null,null,null,{"$f":"$E228","v":"RADIK COMBI VK"}]
[null,{"$f":"C228&C229","v":"N0-001typ"},"1typ",null,null,"Typ",10,null,null,null,null,null,"Typ",11,null,null,null,null,null,null,"Typ",10,null,null,null,null,null,"Typ",11]
[null,{"$f":"C228&C230","v":"N0-001výška"},"1výška",200,300,400,500,600,600,900,200,300,400,500,600,600,900,null,{"$f":"IF(S231=0,0,1)","v":0},0,0,0,0,0,0,0,0,0,0,0,0,0]
[null,{"$f":"C228&C231","v":"N0-001n ="},"1n ="]
[null,{"$f":"C228&C232","v":"N0-001Qn ="},"1Qn ="]
[null,{"$f":"C228&C233","v":"N0-002typ"},"2typ",null,null,"Typ",20,null,null,null,null,null,"Typ",21,null,null,null,null,null,null,"Typ",20,null,null,null,null,null,"Typ",21]
[null,{"$f":"C228&C234","v":"N0-002výška"},"2výška",200,300,400,500,600,600,900,200,300,400,500,600,600,900,null,{"$f":"IF(S235=0,0,1)","v":0},0,0,0,0,0,0,0,0,0,0,0,0,0]
[null,{"$f":"C228&C235","v":"N0-002n ="},"2n ="]
[null,{"$f":"C228&C236","v":"N0-002Qn ="},"2Qn ="]
[null,{"$f":"C228&C237","v":"N0-003typ"},"3typ",null,null,"Typ",22,null,null,null,null,null,"Typ",33,null,null,null,null,null,null,"Typ",22,null,null,null,null,null,"Typ",33]
[null,{"$f":"C228&C238","v":"N0-003výška"},"3výška",200,300,400,500,600,700,900,200,300,400,500,600,600,900,null,{"$f":"IF(S239=0,0,1)","v":0},0,0,1,1,0,0,0,0,0,0,0,0,0]
[null,{"$f":"C228&C239","v":"N0-003n ="},"3n =",null,1.2771999999999999,1.2877000000000001,1.2981,1.3085,1.3179000000000001,1.3368,null,null,null,null,null,null,null,null,null,null,null,1,1]
[null,{"$f":"C228&C240","v":"N0-003Qn ="},"3Qn =",null,913,1168,1411,1646,1874,2311,null,null,null,null,null,null,null,null,null,null,null,1,1]
[]
[]
[null,null,"R0-00",null,"RADIK KLASIK - R",null,null,null,null,null,null,null,null,null,null,null,null,null,null,{"$f":"$E243","v":"RADIK KLASIK - R"}]
[null,{"$f":"C243&C244","v":"R0-001typ"},"1typ",null,null,"Typ",10,null,null,null,null,null,"Typ",11,null,null,null,null,null,null,"Typ",10,null,null,null,null,null,"Typ",11]
[null,{"$f":"C243&C245","v":"R0-001výška"},"1výška",null,null,null,null,null,null,null,null,null,null,null,null,null,null,null,{"$f":"IF(S246=0,0,1)","v":0},0,0,0,0,0,0,0,0,0,0,0,0,0]
[null,{"$f":"C243&C246","v":"R0-001n ="},"1n ="]
[null,{"$f":"C243&C247","v":"R0-001Qn ="},"1Qn ="]
[null,{"$f":"C243&C248","v":"R0-002typ"},"2typ",null,null,"Typ",20,null,null,null,null,null,"Typ",21,null,null,null,null,null,null,"Typ",20,null,null,null,null,null,"Typ",21]
[null,{"$f":"C243&C249","v":"R0-002výška"},"2výška",null,null,null,554,null,null,null,null,null,null,554,null,null,950,null,{"$f":"IF(S250=0,0,1)","v":0},0,0,1,0,0,1,0,0,0,1,0,0,1]
[null,{"$f":"C243&C250","v":"R0-002n ="},"2n =",null,null,null,1.3009999999999999,null,null,null,null,null,null,1.33,null,null,1.3277000000000001,null,null,null,null,1,null,null,1,null,null,null,1,null,null,1]
[null,{"$f":"C243&C251","v":"R0-002Qn ="},"2Qn =",null,null,null,914,null,null,null,null,null,null,1210,null,null,1906,null,null,null,null,1,null,null,1,null,null,null,1,null,null,1]
[null,{"$f":"C243&C252","v":"R0-003typ"},"3typ",null,null,"Typ",22,null,null,null,null,null,"Typ",33,null,null,null,null,null,null,"Typ",22,null,null,null,null,null,"Typ",33]
[null,{"$f":"C243&C253","v":"R0-003výška"},"3výška",null,null,null,554,null,null,950,null,null,null,554,null,null,950,null,{"$f":"IF(S254=0,0,1)","v":0},0,0,1,0,0,1,0,0,0,1,0,0,1]
[null,{"$f":"C243&C254","v":"R0-003n ="},"3n =",null,null,null,1.3344,null,null,1.3355999999999999,null,null,null,1.3364,null,null,1.3423,null,null,null,null,1,null,null,1,null,null,null,1,null,null,1]
[null,{"$f":"C243&C255","v":"R0-003Qn ="},"3Qn =",null,null,null,1576,null,null,2406,null,null,null,2257,null,null,3427,null,null,null,null,1,null,null,1,null,null,null,1,null,null,1]
[]
[]
[null,null,"50Z00",null,"RADIK KLASIK - Z",null,null,null,null,null,null,null,null,null,null,null,null,null,null,{"$f":"$E258","v":"RADIK KLASIK - Z"}]
[null,{"$f":"C258&C259","v":"50Z001typ"},"1typ",null,null,"Typ",10,null,null,null,null,null,"Typ",11,null,null,null,null,null,null,"Typ",10,null,null,null,null,null,"Typ",11]
[null,{"$f":"C258&C260","v":"50Z001výška"},"1výška",200,300,400,500,600,700,900,200,300,400,500,600,700,900,null,{"$f":"IF(S261=0,0,1)","v":0},1,1,1,1,1,1,0,1,1,1,1,1,1]
[null,{"$f":"C258&C261","v":"50Z001n ="},"1n =",null,1.3319000000000001,1.3192999999999999,1.3068,1.2942,1.2988999999999999,1.3083,null,1.3156000000000001,1.3140000000000001,1.3123,1.3107,1.3140000000000001,1.3206,null,null,1,1,1,1,1,1,null,1,1,1,1,1,1]
[null,{"$f":"C258&C262","v":"50Z001Qn ="},"1Qn =",null,330,423,514,604,694,875,null,549,708,858,1002,1139,1394,null,null,1,1,1,1,1,1,null,1,1,1,1,1,1]
[null,{"$f":"C258&C263","v":"50Z002typ"},"2typ",null,null,"Typ",20,null,null,null,null,null,"Typ",21,null,null,null,null,null,null,"Typ",20,null,null,null,null,null,"Typ",21]
[null,{"$f":"C258&C264","v":"50Z002výška"},"2výška",200,300,400,500,600,700,900,200,300,400,500,600,700,900,null,{"$f":"IF(S265=0,0,1)","v":0},0,0,0,0,0,0,0,1,1,1,1,1,1]
[null,{"$f":"C258&C265","v":"50Z002n ="},"2n =",null,1.2986,1.2995000000000001,1.3005,1.3013999999999999,1.3191999999999999,1.3548,null,1.3197000000000001,1.3238000000000001,1.3278000000000001,1.3319000000000001,1.3405,1.3577999999999999,null,null,null,null,null,null,null,null,null,1,1,1,1,1,1]
[null,{"$f":"C258&C266","v":"50Z002Qn ="},"2Qn =",null,554,698,838,978,1117,1398,null,745,937,1117,1288,1450,1754,null,null,null,null,null,null,null,null,null,1,1,1,1,1,1]
[null,{"$f":"C258&C267","v":"50Z003typ"},"3typ",null,null,"Typ",22,null,null,null,null,null,"Typ",33,null,null,null,null,null,null,"Typ",22,null,null,null,null,null,"Typ",33]
[null,{"$f":"C258&C268","v":"50Z003výška"},"3výška",200,300,400,500,600,700,900,200,300,400,500,600,700,900,null,{"$f":"IF(S269=0,0,1)","v":1},1,1,1,1,1,1,1,1,1,1,1,1,1]
[null,{"$f":"C258&C269","v":"50Z003n ="},"3n =",1.256,1.3297000000000001,1.3315999999999999,1.3333999999999999,1.3352999999999999,1.3427,1.3573999999999999,1.2667999999999999,1.2977000000000001,1.3129,1.3282,1.3433999999999999,1.3498000000000001,1.3626,null,1,1,1,1,1,1,1,1,1,1,1,1,1,1]
[null,{"$f":"C258&C270","v":"50Z003Qn ="},"3Qn =",649,966,1216,1452,1679,1897,2313,934,1379,1738,2079,2406,2723,3328,null,1,1,1,1,1,1,1,1,1,1,1,1,1,1]
[]
[]
[null,null,"60Z00",null,"RADIK VK - Z",null,null,null,null,null,null,null,null,null,null,null,null,null,null,{"$f":"$E273","v":"RADIK VK - Z"}]
[null,{"$f":"C273&C274","v":"60Z001typ"},"1typ",null,null,"Typ",10,null,null,null,null,null,"Typ",11,null,null,null,null,null,null,"Typ",10,null,null,null,null,null,"Typ",11]
[null,{"$f":"C273&C275","v":"60Z001výška"},"1výška",200,300,400,500,600,700,900,200,300,400,500,600,700,900,null,{"$f":"IF(S276=0,0,1)","v":0},1,1,1,1,1,1,0,1,1,1,1,1,1]
[null,{"$f":"C273&C276","v":"60Z001n ="},"1n =",null,1.3319000000000001,1.3192999999999999,1.3068,1.2942,1.2988999999999999,1.3083,null,1.3156000000000001,1.3140000000000001,1.3123,1.3107,1.3140000000000001,1.3206,null,null,1,1,1,1,1,1,null,1,1,1,1,1,1]
[null,{"$f":"C273&C277","v":"60Z001Qn ="},"1Qn =",null,330,423,514,604,694,875,null,549,708,858,1002,1139,1394,null,null,1,1,1,1,1,1,null,1,1,1,1,1,1]
[null,{"$f":"C273&C278","v":"60Z002typ"},"2typ",null,null,"Typ",20,null,null,null,null,null,"Typ",21,null,null,null,null,null,null,"Typ",20,null,null,null,null,null,"Typ",21]
[null,{"$f":"C273&C279","v":"60Z002výška"},"2výška",200,300,400,500,600,700,900,200,300,400,500,600,700,900,null,{"$f":"IF(S280=0,0,1)","v":0},0,0,0,0,0,0,0,1,1,1,1,1,1]
[null,{"$f":"C273&C280","v":"60Z002n ="},"2n =",null,1.2986,1.2995000000000001,1.3005,1.3013999999999999,1.3191999999999999,1.3548,null,1.3197000000000001,1.3238000000000001,1.3278000000000001,1.3319000000000001,1.3405,1.3577999999999999,null,null,null,null,null,null,null,null,null,1,1,1,1,1,1]
[null,{"$f":"C273&C281","v":"60Z002Qn ="},"2Qn =",null,554,698,838,978,1117,1398,null,745,937,1117,1288,1450,1754,null,null,null,null,null,null,null,null,null,1,1,1,1,1,1]
[null,{"$f":"C273&C282","v":"60Z003typ"},"3typ",null,null,"Typ",22,null,null,null,null,null,"Typ",33,null,null,null,null,null,null,"Typ",22,null,null,null,null,null,"Typ",33]
[null,{"$f":"C273&C283","v":"60Z003výška"},"3výška",200,300,400,500,600,700,900,200,300,400,500,600,700,900,null,{"$f":"IF(S284=0,0,1)","v":0},1,1,1,1,1,1,0,1,1,1,1,1,1]
[null,{"$f":"C273&C284","v":"60Z003n ="},"3n =",null,1.3297000000000001,1.3315999999999999,1.3333999999999999,1.3352999999999999,1.3427,1.3573999999999999,null,1.2977000000000001,1.3129,1.3282,1.3433999999999999,1.3498000000000001,1.3626,null,null,1,1,1,1,1,1,null,1,1,1,1,1,1]
[null,{"$f":"C273&C285","v":"60Z003Qn ="},"3Qn =",null,966,1216,1452,1679,1897,2313,null,1379,1738,2079,2406,2723,3328,null,null,1,1,1,1,1,1,null,1,1,1,1,1,1]
[]
[]
[null,null,"30-00",null,null,null,null,null,null,null,null,null,null,null,null,null,null,null,null,{"$f":"$E288","v":0}]
[null,{"$f":"C288&C289","v":"30-001typ"},"1typ",null,null,"Typ",10,null,null,null,null,null,"Typ",11,null,null,null,null,null,null,"Typ",10,null,null,null,null,null,"Typ",11]
[null,{"$f":"C288&C290","v":"30-001výška"},"1výška",200,300,400,500,600,700,900,200,300,400,500,600,700,900,null,{"$f":"IF(S291=0,0,1)","v":0},0,0,0,0,0,0,0,1,1,1,1,0,1]
[null,{"$f":"C288&C291","v":"30-001n ="},"1n =",null,1.3319000000000001,1.3192999999999999,1.3068,1.2942,1.2988999999999999,1.3083,null,1.2555000000000001,1.2670999999999999,1.2786999999999999,1.2903,null,1.3032999999999999,null,null,null,null,null,null,null,null,null,1,1,1,1,null,1]
[null,{"$f":"C288&C292","v":"30-001Qn ="},"1Qn =",null,330,423,514,604,694,875,null,518,670,819,964,null,1386,null,null,null,null,null,null,null,null,null,1,1,1,1,null,1]
[null,{"$f":"C288&C293","v":"30-002typ"},"2typ",null,null,"Typ",20,null,null,null,null,null,"Typ",21,null,null,null,null,null,null,"Typ",20,null,null,null,null,null,"Typ",21]
[null,{"$f":"C288&C294","v":"30-002výška"},"2výška",200,300,400,500,600,700,900,200,300,400,500,600,700,900,null,{"$f":"IF(S295=0,0,1)","v":0},0,0,0,0,0,0,0,1,1,1,1,0,1]
[null,{"$f":"C288&C295","v":"30-002n ="},"2n =",null,1.2986,1.2995000000000001,1.3005,1.3013999999999999,1.3191999999999999,1.3548,null,1.2721,1.2864,1.2844,1.3116000000000001,1.3149,1.3216000000000001,null,null,null,null,null,null,null,null,null,1,1,1,1,null,1]
[null,{"$f":"C288&C296","v":"30-002Qn ="},"2Qn =",null,554,698,838,978,1117,1398,null,704,883,1053,1216,1373,1674,null,null,null,null,null,null,null,null,null,1,1,1,1,null,1]
[null,{"$f":"C288&C297","v":"30-003typ"},"3typ",null,null,"Typ",22,null,null,null,null,null,"Typ",33,null,null,null,null,null,null,"Typ",22,null,null,null,null,null,"Typ",33]
[null,{"$f":"C288&C298","v":"30-003výška"},"3výška",200,300,400,500,600,700,900,200,300,400,500,600,700,900,null,{"$f":"IF(S299=0,0,1)","v":0},1,1,1,1,0,1,0,1,1,1,1,0,1]
[null,{"$f":"C288&C299","v":"30-003n ="},"3n =",null,1.2743,1.2975000000000001,1.2945,1.2970999999999999,1.3057000000000001,1.323,null,1.2796000000000001,1.3038000000000001,1.3139000000000001,1.3187,1.3265,1.3420000000000001,null,null,1,1,1,1,null,1,null,1,1,1,1,null,1]
[null,{"$f":"C288&C300","v":"30-003Qn ="},"3Qn =",null,892,1118,1333,1550,1738,2118,null,1276,1588,1882,2162,2430,2942,null,null,1,1,1,1,null,1,null,1,1,1,1,null,1]
[]
[]
[null,null,"40-00",null,null,null,null,null,null,null,null,null,null,null,null,null,null,null,null,{"$f":"$E303","v":0}]
[null,{"$f":"C303&C304","v":"40-001typ"},"1typ",null,null,"Typ",10,null,null,null,null,null,"Typ",11,null,null,null,null,null,null,"Typ",10,null,null,null,null,null,"Typ",11]
[null,{"$f":"C303&C305","v":"40-001výška"},"1výška",200,300,400,500,600,700,900,200,300,400,500,600,700,900,null,{"$f":"IF(S306=0,0,1)","v":0},0,0,0,0,0,0,0,1,1,1,1,0,1]
[null,{"$f":"C303&C306","v":"40-001n ="},"1n =",null,1.3319000000000001,1.3192999999999999,1.3068,1.2942,1.2988999999999999,1.3083,null,1.2555000000000001,1.2670999999999999,1.2786999999999999,1.2903,null,1.3032999999999999,null,null,null,null,null,null,null,null,null,1,1,1,1,null,1]
[null,{"$f":"C303&C307","v":"40-001Qn ="},"1Qn =",null,330,423,514,604,694,875,null,518,670,819,964,null,1386,null,null,null,null,null,null,null,null,null,1,1,1,1,null,1]
[null,{"$f":"C303&C308","v":"40-002typ"},"2typ",null,null,"Typ",20,null,null,null,null,null,"Typ",21,null,null,null,null,null,null,"Typ",20,null,null,null,null,null,"Typ",21]
[null,{"$f":"C303&C309","v":"40-002výška"},"2výška",200,300,400,500,600,700,900,200,300,400,500,600,700,900,null,{"$f":"IF(S310=0,0,1)","v":0},0,0,0,0,0,0,0,1,1,1,1,0,1]
[null,{"$f":"C303&C310","v":"40-002n ="},"2n =",null,1.2986,1.2995000000000001,1.3005,1.3013999999999999,1.3191999999999999,1.3548,null,1.2721,1.2864,1.2844,1.3116000000000001,1.3149,1.3216000000000001,null,null,null,null,null,null,null,null,null,1,1,1,1,null,1]
[null,{"$f":"C303&C311","v":"40-002Qn ="},"2Qn =",null,554,698,838,978,1117,1398,null,704,883,1053,1216,1373,1674,null,null,null,null,null,null,null,null,null,1,1,1,1,null,1]
[null,{"$f":"C303&C312","v":"40-003typ"},"3typ",null,null,"Typ",22,null,null,null,null,null,"Typ",33,null,null,null,null,null,null,"Typ",22,null,null,null,null,null,"Typ",33]
[null,{"$f":"C303&C313","v":"40-003výška"},"3výška",200,300,400,500,600,700,900,200,300,400,500,600,700,900,null,{"$f":"IF(S314=0,0,1)","v":0},1,1,1,1,0,1,0,1,1,1,1,0,1]
[null,{"$f":"C303&C314","v":"40-003n ="},"3n =",null,1.2743,1.2975000000000001,1.2945,1.2970999999999999,1.3057000000000001,1.323,null,1.2796000000000001,1.3038000000000001,1.3139000000000001,1.3187,1.3265,1.3420000000000001,null,null,1,1,1,1,null,1,null,1,1,1,1,null,1]
[null,{"$f":"C303&C315","v":"40-003Qn ="},"3Qn =",null,892,1118,1333,1550,1738,2118,null,1276,1588,1882,2162,2430,2942,null,null,1,1,1,1,null,1,null,1,1,1,1,null,1]
[]
[]
[null,null,"5D-00",null,"RADIK KLASIK - DIN",null,null,null,null,null,null,null,null,null,null,null,null,null,null,{"$f":"$E318","v":"RADIK KLASIK - DIN"}]
[null,{"$f":"C318&C319","v":"5D-001typ"},"1typ",null,null,"Typ",10,null,null,null,null,null,"Typ",11,null,null,null,null,null,null,"Typ",10,null,null,null,null,null,"Typ",11]
[null,{"$f":"C318&C320","v":"5D-001výška"},"1výška",200,300,400,500,600,700,900,200,300,400,500,600,700,900,null,{"$f":"IF(S321=0,0,1)","v":0},1,1,1,1,0,1,0,1,1,1,1,0,1]
[null,{"$f":"C318&C321","v":"5D-001n ="},"1n =",null,1.25,1.25,1.25,1.25,null,1.3,null,1.3,1.28,1.26,1.24,null,1.25,null,null,1,1,1,1,null,1,null,1,1,1,1,null,1]
[null,{"$f":"C318&C322","v":"5D-001Qn ="},"1Qn =",null,362.60395712563314,484.54157102628852,604.87474263877743,726.01013539534961,null,935.92776574707727,null,564.57834637249357,737.34227433113381,910.51880972482058,1084.9095200155425,null,1355.753733500708,null,null,1,1,1,1,null,1,null,1,1,1,1,null,1]
[null,{"$f":"C318&C323","v":"5D-002typ"},"2typ",null,null,"Typ",20,null,null,null,null,null,"Typ",21,null,null,null,null,null,null,"Typ",20,null,null,null,null,null,"Typ",21]
[null,{"$f":"C318&C324","v":"5D-002výška"},"2výška",200,300,400,500,600,700,900,200,300,400,500,600,700,900,null,{"$f":"IF(S325=0,0,1)","v":0},0,0,0,0,0,0,0,1,1,1,1,0,1]
[null,{"$f":"C318&C325","v":"5D-002n ="},"2n =",null,1.2130000000000001,1.218,1.22,1.23,null,1.24,null,1.27,1.272,1.27,1.28,null,1.28,null,null,null,null,null,null,null,null,null,1,1,1,1,null,1]
[null,{"$f":"C318&C326","v":"5D-002Qn ="},"2Qn =",null,694.42516425670362,851.93820314909408,983.8998098353776,1159.2787919768714,null,1502.8005943918995,null,767.42164312021077,971.72473033664437,1144.737284320981,1394.8856012238332,null,1874.4772753288239,null,null,null,null,null,null,null,null,null,1,1,1,1,null,1]
[null,{"$f":"C318&C327","v":"5D-003typ"},"3typ",null,null,"Typ",22,null,null,null,null,null,"Typ",33,null,null,null,null,null,null,"Typ",22,null,null,null,null,null,"Typ",33]
[null,{"$f":"C318&C328","v":"5D-003výška"},"3výška",200,300,400,500,600,700,900,200,300,400,500,600,700,900,null,{"$f":"IF(S329=0,0,1)","v":1},1,1,1,1,0,1,1,1,1,1,1,0,1]
[null,{"$f":"C318&C329","v":"5D-003n ="},"3n =",null,1.264,1.274,1.2849999999999999,1.2949999999999999,null,1.3169999999999999,null,1.2809999999999999,1.2929999999999999,1.3049999999999999,1.3169999999999999,null,1.3260000000000001,null,1,1,1,1,1,null,1,1,1,1,1,1,null,1]
[null,{"$f":"C318&C330","v":"5D-003Qn ="},"3Qn =",null,1001.1047180179958,1266.9507538174823,1523.6142520472499,1770.0416071148202,null,2438.6563206579021,null,1443.3084860995534,1816.0470957344412,2170.5197407215055,2506.0444179452629,null,3390.1839260183915,null,1,1,1,1,1,null,1,1,1,1,1,1,null,1]
[]
[]
[null,null,"30-02",null,null,null,null,null,null,null,null,null,null,null,null,null,null,null,null,{"$f":"$E333","v":0}]
[null,{"$f":"C333&C334","v":"30-021typ"},"1typ",null,null,"Typ",10,null,null,null,null,null,"Typ",11,null,null,null,null,null,null,"Typ",10,null,null,null,null,null,"Typ",11]
[null,{"$f":"C333&C335","v":"30-021výška"},"1výška",200,300,400,500,600,700,900,200,300,400,500,600,700,900,null,{"$f":"IF(S336=0,0,1)","v":0},0,0,0,0,0,0,0,1,1,1,1,0,1]
[null,{"$f":"C333&C336","v":"30-021n ="},"1n =",null,1.3319000000000001,1.3192999999999999,1.3068,1.2942,1.2988999999999999,1.3083,null,1.2555000000000001,1.2670999999999999,1.2786999999999999,1.2903,null,1.3032999999999999,null,null,null,null,null,null,null,null,null,1,1,1,1,null,1]
[null,{"$f":"C333&C337","v":"30-021Qn ="},"1Qn =",null,330,423,514,604,694,875,null,518,670,819,964,null,1386,null,null,null,null,null,null,null,null,null,1,1,1,1,null,1]
[null,{"$f":"C333&C338","v":"30-022typ"},"2typ",null,null,"Typ",20,null,null,null,null,null,"Typ",21,null,null,null,null,null,null,"Typ",20,null,null,null,null,null,"Typ",21]
[null,{"$f":"C333&C339","v":"30-022výška"},"2výška",200,300,400,500,600,700,900,200,300,400,500,600,700,900,null,{"$f":"IF(S340=0,0,1)","v":0},0,0,0,0,0,0,0,1,1,1,1,0,1]
[null,{"$f":"C333&C340","v":"30-022n ="},"2n =",null,1.2986,1.2995000000000001,1.3005,1.3013999999999999,1.3191999999999999,1.3548,null,1.2721,1.2864,1.2844,1.3116000000000001,1.3149,1.3216000000000001,null,null,null,null,null,null,null,null,null,1,1,1,1,null,1]
[null,{"$f":"C333&C341","v":"30-022Qn ="},"2Qn =",null,554,698,838,978,1117,1398,null,704,883,1053,1216,1373,1674,null,null,null,null,null,null,null,null,null,1,1,1,1,null,1]
[null,{"$f":"C333&C342","v":"30-023typ"},"3typ",null,null,"Typ",22,null,null,null,null,null,"Typ",33,null,null,null,null,null,null,"Typ",22,null,null,null,null,null,"Typ",33]
[null,{"$f":"C333&C343","v":"30-023výška"},"3výška",200,300,400,500,600,700,900,200,300,400,500,600,700,900,null,{"$f":"IF(S344=0,0,1)","v":0},1,1,1,1,0,1,0,1,1,1,1,0,1]
[null,{"$f":"C333&C344","v":"30-023n ="},"3n =",null,1.2743,1.2975000000000001,1.2945,1.2970999999999999,1.3057000000000001,1.323,null,1.2796000000000001,1.3038000000000001,1.3139000000000001,1.3187,1.3265,1.3420000000000001,null,null,1,1,1,1,null,1,null,1,1,1,1,null,1]
[null,{"$f":"C333&C345","v":"30-023Qn ="},"3Qn =",null,892,1118,1333,1550,1738,2118,null,1276,1588,1882,2162,2430,2942,null,null,1,1,1,1,null,1,null,1,1,1,1,null,1]
[]
[]
[null,null,"30-17",null,null,null,null,null,null,null,null,null,null,null,null,null,null,null,null,{"$f":"$E348","v":0}]
[null,{"$f":"C348&C349","v":"30-171typ"},"1typ",null,null,"Typ",10,null,null,null,null,null,"Typ",11,null,null,null,null,null,null,"Typ",10,null,null,null,null,null,"Typ",11]
[null,{"$f":"C348&C350","v":"30-171výška"},"1výška",200,300,400,500,600,700,900,200,300,400,500,600,700,900,null,{"$f":"IF(S351=0,0,1)","v":0},0,0,0,0,0,0,0,0,0,0,1,0,1]
[null,{"$f":"C348&C351","v":"30-171n ="},"1n =",null,1.3319000000000001,1.3192999999999999,1.3068,1.2942,1.2988999999999999,1.3083,null,1.2555000000000001,1.2670999999999999,1.2786999999999999,1.2903,null,1.3032999999999999,null,null,null,null,null,null,null,null,null,null,null,null,1,null,1]
[null,{"$f":"C348&C352","v":"30-171Qn ="},"1Qn =",null,330,423,514,604,694,875,null,518,670,819,964,null,1386,null,null,null,null,null,null,null,null,null,null,null,null,1,null,1]
[null,{"$f":"C348&C353","v":"30-172typ"},"2typ",null,null,"Typ",20,null,null,null,null,null,"Typ",21,null,null,null,null,null,null,"Typ",20,null,null,null,null,null,"Typ",21]
[null,{"$f":"C348&C354","v":"30-172výška"},"2výška",200,300,400,500,600,700,900,200,300,400,500,600,700,900,null,{"$f":"IF(S355=0,0,1)","v":0},0,0,0,0,0,0,0,0,0,0,0,0,0]
[null,{"$f":"C348&C355","v":"30-172n ="},"2n =",null,1.2986,1.2995000000000001,1.3005,1.3013999999999999,1.3191999999999999,1.3548,null,1.2721,1.2864,1.2844,1.3116000000000001,1.3149,1.3216000000000001]
[null,{"$f":"C348&C356","v":"30-172Qn ="},"2Qn =",null,554,698,838,978,1117,1398,null,704,883,1053,1216,1373,1674]
[null,{"$f":"C348&C357","v":"30-173typ"},"3typ",null,null,"Typ",22,null,null,null,null,null,"Typ",33,null,null,null,null,null,null,"Typ",22,null,null,null,null,null,"Typ",33]
[null,{"$f":"C348&C358","v":"30-173výška"},"3výška",200,300,400,500,600,700,900,200,300,400,500,600,700,900,null,{"$f":"IF(S359=0,0,1)","v":0},1,1,1,1,0,1,0,1,0,1,1,0,1]
[null,{"$f":"C348&C359","v":"30-173n ="},"3n =",null,1.2743,1.2975000000000001,1.2945,1.2970999999999999,1.3057000000000001,1.323,null,1.2796000000000001,1.3038000000000001,1.3139000000000001,1.3187,1.3265,1.3420000000000001,null,null,1,1,1,1,null,1,null,1,null,1,1,null,1]
[null,{"$f":"C348&C360","v":"30-173Qn ="},"3Qn =",null,892,1118,1333,1550,1738,2118,null,1276,1588,1882,2162,2430,2942,null,null,1,1,1,1,null,1,null,1,null,1,1,null,1]
[]
[]
[null,null,"30-05",null,null,null,null,null,null,null,null,null,null,null,null,null,null,null,null,{"$f":"$E363","v":0}]
[null,{"$f":"C363&C364","v":"30-051typ"},"1typ",null,null,"Typ",10,null,null,null,null,null,"Typ",11,null,null,null,null,null,null,"Typ",10,null,null,null,null,null,"Typ",11]
[null,{"$f":"C363&C365","v":"30-051výška"},"1výška",200,300,400,500,600,700,900,200,300,400,500,600,700,900,null,{"$f":"IF(S366=0,0,1)","v":0},0,0,0,0,0,0,0,1,1,1,1,0,1]
[null,{"$f":"C363&C366","v":"30-051n ="},"1n =",null,1.3319000000000001,1.3192999999999999,1.3068,1.2942,1.2988999999999999,1.3083,null,1.2555000000000001,1.2670999999999999,1.2786999999999999,1.2903,null,1.3032999999999999,null,null,null,null,null,null,null,null,null,1,1,1,1,null,1]
[null,{"$f":"C363&C367","v":"30-051Qn ="},"1Qn =",null,330,423,514,604,694,875,null,518,670,819,964,null,1386,null,null,null,null,null,null,null,null,null,1,1,1,1,null,1]
[null,{"$f":"C363&C368","v":"30-052typ"},"2typ",null,null,"Typ",20,null,null,null,null,null,"Typ",21,null,null,null,null,null,null,"Typ",20,null,null,null,null,null,"Typ",21]
[null,{"$f":"C363&C369","v":"30-052výška"},"2výška",200,300,400,500,600,700,900,200,300,400,500,600,700,900,null,{"$f":"IF(S370=0,0,1)","v":0},0,0,0,0,0,0,0,1,1,1,1,0,1]
[null,{"$f":"C363&C370","v":"30-052n ="},"2n =",null,1.2986,1.2995000000000001,1.3005,1.3013999999999999,1.3191999999999999,1.3548,null,1.2721,1.2864,1.2844,1.3116000000000001,1.3149,1.3216000000000001,null,null,null,null,null,null,null,null,null,1,1,1,1,null,1]
[null,{"$f":"C363&C371","v":"30-052Qn ="},"2Qn =",null,554,698,838,978,1117,1398,null,704,883,1053,1216,1373,1674,null,null,null,null,null,null,null,null,null,1,1,1,1,null,1]
[null,{"$f":"C363&C372","v":"30-053typ"},"3typ",null,null,"Typ",22,null,null,null,null,null,"Typ",33,null,null,null,null,null,null,"Typ",22,null,null,null,null,null,"Typ",33]
[null,{"$f":"C363&C373","v":"30-053výška"},"3výška",200,300,400,500,600,700,900,200,300,400,500,600,700,900,null,{"$f":"IF(S374=0,0,1)","v":0},1,1,1,1,0,1,0,1,1,1,1,0,1]
[null,{"$f":"C363&C374","v":"30-053n ="},"3n =",null,1.2743,1.2975000000000001,1.2945,1.2970999999999999,1.3057000000000001,1.323,null,1.2796000000000001,1.3038000000000001,1.3139000000000001,1.3187,1.3265,1.3420000000000001,null,null,1,1,1,1,null,1,null,1,1,1,1,null,1]
[null,{"$f":"C363&C375","v":"30-053Qn ="},"3Qn =",null,892,1118,1333,1550,1738,2118,null,1276,1588,1882,2162,2430,2942,null,null,1,1,1,1,null,1,null,1,1,1,1,null,1]
[]
[]
[null,null,"40-05",null,null,null,null,null,null,null,null,null,null,null,null,null,null,null,null,{"$f":"$E378","v":0}]
[null,{"$f":"C378&C379","v":"40-051typ"},"1typ",null,null,"Typ",10,null,null,null,null,null,"Typ",11,null,null,null,null,null,null,"Typ",10,null,null,null,null,null,"Typ",11]
[null,{"$f":"C378&C380","v":"40-051výška"},"1výška",200,300,400,500,600,700,900,200,300,400,500,600,700,900,null,{"$f":"IF(S381=0,0,1)","v":0},0,0,0,0,0,0,0,1,1,1,1,0,1]
[null,{"$f":"C378&C381","v":"40-051n ="},"1n =",null,1.3319000000000001,1.3192999999999999,1.3068,1.2942,1.2988999999999999,1.3083,null,1.2555000000000001,1.2670999999999999,1.2786999999999999,1.2903,null,1.3032999999999999,null,null,null,null,null,null,null,null,null,1,1,1,1,null,1]
[null,{"$f":"C378&C382","v":"40-051Qn ="},"1Qn =",null,330,423,514,604,694,875,null,518,670,819,964,null,1386,null,null,null,null,null,null,null,null,null,1,1,1,1,null,1]
[null,{"$f":"C378&C383","v":"40-052typ"},"2typ",null,null,"Typ",20,null,null,null,null,null,"Typ",21,null,null,null,null,null,null,"Typ",20,null,null,null,null,null,"Typ",21]
[null,{"$f":"C378&C384","v":"40-052výška"},"2výška",200,300,400,500,600,700,900,200,300,400,500,600,700,900,null,{"$f":"IF(S385=0,0,1)","v":0},0,0,0,0,0,0,0,1,1,1,1,0,1]
[null,{"$f":"C378&C385","v":"40-052n ="},"2n =",null,1.2986,1.2995000000000001,1.3005,1.3013999999999999,1.3191999999999999,1.3548,null,1.2721,1.2864,1.2844,1.3116000000000001,1.3149,1.3216000000000001,null,null,null,null,null,null,null,null,null,1,1,1,1,null,1]
[null,{"$f":"C378&C386","v":"40-052Qn ="},"2Qn =",null,554,698,838,978,1117,1398,null,704,883,1053,1216,1373,1674,null,null,null,null,null,null,null,null,null,1,1,1,1,null,1]
[null,{"$f":"C378&C387","v":"40-053typ"},"3typ",null,null,"Typ",22,null,null,null,null,null,"Typ",33,null,null,null,null,null,null,"Typ",22,null,null,null,null,null,"Typ",33]
[null,{"$f":"C378&C388","v":"40-053výška"},"3výška",200,300,400,500,600,700,900,200,300,400,500,600,700,900,null,{"$f":"IF(S389=0,0,1)","v":0},1,1,1,1,0,1,0,1,1,1,1,0,1]
[null,{"$f":"C378&C389","v":"40-053n ="},"3n =",null,1.2743,1.2975000000000001,1.2945,1.2970999999999999,1.3057000000000001,1.323,null,1.2796000000000001,1.3038000000000001,1.3139000000000001,1.3187,1.3265,1.3420000000000001,null,null,1,1,1,1,null,1,null,1,1,1,1,null,1]
[null,{"$f":"C378&C390","v":"40-053Qn ="},"3Qn =",null,892,1118,1333,1550,1738,2118,null,1276,1588,1882,2162,2430,2942,null,null,1,1,1,1,null,1,null,1,1,1,1,null,1]
[]
[]
[null,null,"XU-00",null,"RADIK RC VKU",null,null,null,null,null,null,null,null,null,null,null,null,null,null,{"$f":"$E393","v":"RADIK RC VKU"}]
[null,{"$f":"C393&C394","v":"XU-001typ"},"1typ",null,null,"Typ",10,null,null,null,null,null,"Typ",11,null,null,null,null,null,null,"Typ",10,null,null,null,null,null,"Typ",11]
[null,{"$f":"C393&C395","v":"XU-001výška"},"1výška",200,300,400,500,600,700,900,200,300,400,500,600,700,900,null,{"$f":"IF(S396=0,0,1)","v":0},0,0,0,0,0,0,0,0,0,0,0,0,0]
[null,{"$f":"C393&C396","v":"XU-001n ="},"1n ="]
[null,{"$f":"C393&C397","v":"XU-001Qn ="},"1Qn ="]
[null,{"$f":"C393&C398","v":"XU-002typ"},"2typ",null,null,"Typ",20,null,null,null,null,null,"Typ",21,null,null,null,null,null,null,"Typ",20,null,null,null,null,null,"Typ",21]
[null,{"$f":"C393&C399","v":"XU-002výška"},"2výška",200,300,400,500,600,700,900,200,300,400,500,600,700,900,null,{"$f":"IF(S400=0,0,1)","v":0},0,0,1,1,1,1,0,1,1,1,1,1,1]
[null,{"$f":"C393&C400","v":"XU-002n ="},"2n =",null,1.2986,1.2995000000000001,1.3005,1.3013999999999999,1.3191999999999999,1.3548,null,1.3197000000000001,1.3238000000000001,1.3278000000000001,1.3319000000000001,1.3405,1.3577999999999999,null,null,null,null,1,1,1,1,null,1,1,1,1,1,1]
[null,{"$f":"C393&C401","v":"XU-002Qn ="},"2Qn =",null,554,698,838,978,1117,1398,null,745,937,1117,1288,1450,1754,null,null,null,null,1,1,1,1,null,1,1,1,1,1,1]
[null,{"$f":"C393&C402","v":"XU-003typ"},"3typ",null,null,"Typ",22,null,null,null,null,null,"Typ",33,null,null,null,null,null,null,"Typ",22,null,null,null,null,null,"Typ",33]
[null,{"$f":"C393&C403","v":"XU-003výška"},"3výška",200,300,400,500,600,700,900,200,300,400,500,600,700,900,null,{"$f":"IF(S404=0,0,1)","v":1},1,1,1,1,1,1,1,1,1,1,1,1,1]
[null,{"$f":"C393&C404","v":"XU-003n ="},"3n =",1.256,1.3297000000000001,1.3315999999999999,1.3333999999999999,1.3352999999999999,1.3427,1.3573999999999999,1.2667999999999999,1.2977000000000001,1.3129,1.3282,1.3433999999999999,1.3498000000000001,1.3626,null,1,1,1,1,1,1,1,1,1,1,1,1,1,1]
[null,{"$f":"C393&C405","v":"XU-003Qn ="},"3Qn =",649,966,1216,1452,1679,1897,2313,934,1379,1738,2079,2406,2723,3328,null,1,1,1,1,1,1,1,1,1,1,1,1,1,1]
[]
[]
[null,null,"XUP00",null,"RADIK RC PLAN VK",null,null,null,null,null,null,null,null,null,null,null,null,null,null,{"$f":"$E408","v":"RADIK RC PLAN VK"}]
[null,{"$f":"C408&C409","v":"XUP001typ"},"1typ",null,null,"Typ",10,null,null,null,null,null,"Typ",11,null,null,null,null,null,null,"Typ",10,null,null,null,null,null,"Typ",11]
[null,{"$f":"C408&C410","v":"XUP001výška"},"1výška",200,300,400,500,600,700,900,200,300,400,500,600,700,900,null,{"$f":"IF(S411=0,0,1)","v":0},0,0,0,0,0,0,0,0,0,0,0,0,0]
[null,{"$f":"C408&C411","v":"XUP001n ="},"1n =",null,1.3149999999999999,1.2981,1.2813000000000001,1.2644,1.2756000000000001,1.2979000000000001,null,1.2683,1.2683,1.2682,1.2682,1.2793000000000001,1.3015000000000001]
[null,{"$f":"C408&C412","v":"XUP001Qn ="},"1Qn =",null,305,389,470,550,630,787,null,533,678,818,953,1084,1337]
[null,{"$f":"C408&C413","v":"XUP002typ"},"2typ",null,null,"Typ",20,null,null,null,null,null,"Typ",21,null,null,null,null,null,null,"Typ",20,null,null,null,null,null,"Typ",21]
[null,{"$f":"C408&C414","v":"XUP002výška"},"2výška",200,300,400,500,600,700,900,200,300,400,500,600,700,900,null,{"$f":"IF(S415=0,0,1)","v":0},0,0,1,1,1,1,0,1,1,1,1,1,1]
[null,{"$f":"C408&C415","v":"XUP002n ="},"2n =",null,1.2804,1.2803,1.2801,1.28,1.2859,1.2978000000000001,null,1.3098000000000001,1.3145,1.3191999999999999,1.3239000000000001,1.3310999999999999,1.3454999999999999,null,null,null,null,1,1,1,1,null,1,1,1,1,1,1]
[null,{"$f":"C408&C416","v":"XUP002Qn ="},"2Qn =",null,530,657,780,903,1025,1273,null,727,896,1060,1222,1384,1711,null,null,null,null,1,1,1,1,null,1,1,1,1,1,1]
[null,{"$f":"C408&C417","v":"XUP003typ"},"3typ",null,null,"Typ",22,null,null,null,null,null,"Typ",33,null,null,null,null,null,null,"Typ",22,null,null,null,null,null,"Typ",33]
[null,{"$f":"C408&C418","v":"XUP003výška"},"3výška",200,300,400,500,600,700,900,200,300,400,500,600,700,900,null,{"$f":"IF(S419=0,0,1)","v":1},1,1,1,1,1,1,1,1,1,1,1,1,1]
[null,{"$f":"C408&C419","v":"XUP003n ="},"3n =",1.2401,1.3141,1.3173999999999999,1.3208,1.3241000000000001,1.3265,1.3313999999999999,1.2589999999999999,1.3284,1.3251999999999999,1.3219000000000001,1.3187,1.3312999999999999,1.3565,null,1,1,1,1,1,1,1,1,1,1,1,1,1,1]
[null,{"$f":"C408&C420","v":"XUP003Qn ="},"3Qn =",626,948,1187,1414,1631,1841,2243,918,1337,1689,2022,2341,2648,3231,null,1,1,1,1,1,1,1,1,1,1,1,1,1,1]
[]
[]
[null,null,"YUP00",null,"RADIK RC PLAN VKL",null,null,null,null,null,null,null,null,null,null,null,null,null,null,{"$f":"$E423","v":"RADIK RC PLAN VKL"}]
[null,{"$f":"C423&C424","v":"YUP001typ"},"1typ",null,null,"Typ",10,null,null,null,null,null,"Typ",11,null,null,null,null,null,null,"Typ",10,null,null,null,null,null,"Typ",11]
[null,{"$f":"C423&C425","v":"YUP001výška"},"1výška",200,300,400,500,600,700,900,200,300,400,500,600,700,900,null,{"$f":"IF(S426=0,0,1)","v":0},0,0,0,0,0,0,0,0,0,0,0,0,0]
[null,{"$f":"C423&C426","v":"YUP001n ="},"1n =",null,1.3149999999999999,1.2981,1.2813000000000001,1.2644,1.2756000000000001,1.2979000000000001,null,1.2683,1.2683,1.2682,1.2682,1.2793000000000001,1.3015000000000001]
[null,{"$f":"C423&C427","v":"YUP001Qn ="},"1Qn =",null,305,389,470,550,630,787,null,533,678,818,953,1084,1337]
[null,{"$f":"C423&C428","v":"YUP002typ"},"2typ",null,null,"Typ",20,null,null,null,null,null,"Typ",21,null,null,null,null,null,null,"Typ",20,null,null,null,null,null,"Typ",21]
[null,{"$f":"C423&C429","v":"YUP002výška"},"2výška",200,300,400,500,600,700,900,200,300,400,500,600,700,900,null,{"$f":"IF(S430=0,0,1)","v":0},0,0,1,1,1,1,0,1,1,1,1,1,1]
[null,{"$f":"C423&C430","v":"YUP002n ="},"2n =",null,1.2804,1.2803,1.2801,1.28,1.2859,1.2978000000000001,null,1.3098000000000001,1.3145,1.3191999999999999,1.3239000000000001,1.3310999999999999,1.3454999999999999,null,null,null,null,1,1,1,1,null,1,1,1,1,1,1]
[null,{"$f":"C423&C431","v":"YUP002Qn ="},"2Qn =",null,530,657,780,903,1025,1273,null,727,896,1060,1222,1384,1711,null,null,null,null,1,1,1,1,null,1,1,1,1,1,1]
[null,{"$f":"C423&C432","v":"YUP003typ"},"3typ",null,null,"Typ",22,null,null,null,null,null,"Typ",33,null,null,null,null,null,null,"Typ",22,null,null,null,null,null,"Typ",33]
[null,{"$f":"C423&C433","v":"YUP003výška"},"3výška",200,300,400,500,600,700,900,200,300,400,500,600,700,900,null,{"$f":"IF(S434=0,0,1)","v":0},1,1,1,1,1,1,0,1,1,1,1,1,1]
[null,{"$f":"C423&C434","v":"YUP003n ="},"3n =",1.2401,1.3141,1.3173999999999999,1.3208,1.3241000000000001,1.3265,1.3313999999999999,1.2589999999999999,1.3284,1.3251999999999999,1.3219000000000001,1.3187,1.3312999999999999,1.3565,null,null,1,1,1,1,1,1,null,1,1,1,1,1,1]
[null,{"$f":"C423&C435","v":"YUP003Qn ="},"3Qn =",626,948,1187,1414,1631,1841,2243,918,1337,1689,2022,2341,2648,3231,null,null,1,1,1,1,1,1,null,1,1,1,1,1,1]
[]
[]
[null,null,35,"bez krytování",null,null,null,null,null,null,null,null,null,null,null,null,null,null,null,{"$f":"$E438","v":0}]
[null,{"$f":"C438&C439","v":"351typ"},"1typ",null,null,"Typ",10,null,null,null,null,null,"Typ",11,null,null,null,null,null,null,"Typ",10,null,null,null,null,null,"Typ",11]
[null,{"$f":"C438&C440","v":"351výška"},"1výška",200,300,400,500,600,700,900,200,300,400,500,600,700,900,null,{"$f":"IF(S441=0,0,1)","v":0},0,0,0,0,0,0,0,0,0,0,0,0,0]
[null,{"$f":"C438&C441","v":"351n ="},"1n ="]
[null,{"$f":"C438&C442","v":"351Qn ="},"1Qn ="]
[null,{"$f":"C438&C443","v":"352typ"},"2typ",null,null,"Typ",20,null,null,null,null,null,"Typ",21,null,null,null,null,null,null,"Typ",20,null,null,null,null,null,"Typ",21]
[null,{"$f":"C438&C444","v":"352výška"},"2výška",200,300,400,500,600,700,900,200,300,400,500,600,700,900,null,{"$f":"IF(S445=0,0,1)","v":0},0,0,0,0,0,0,0,0,0,1,1,0,0]
[null,{"$f":"C438&C445","v":"352n ="},"2n =",null,null,null,null,null,null,null,null,1.2781,1.2883,1.2986,1.3088,null,1.3197000000000001,null,null,null,null,null,null,null,null,null,null,null,1,1]
[null,{"$f":"C438&C446","v":"352Qn ="},"2Qn =",null,null,null,null,null,null,null,null,746,933,1111,1284,null,1785,null,null,null,null,null,null,null,null,null,null,null,1,1]
[null,{"$f":"C438&C447","v":"353typ"},"3typ",null,null,"Typ",22,null,null,null,null,null,"Typ",33,null,null,null,null,null,null,"Typ",22,null,null,null,null,null,"Typ",33]
[null,{"$f":"C438&C448","v":"353výška"},"3výška",200,300,400,500,600,700,900,200,300,400,500,600,700,900,null,{"$f":"IF(S449=0,0,1)","v":0},0,0,1,1,0,0,0,0,0,1,1,0,0]
[null,{"$f":"C438&C449","v":"353n ="},"3n =",null,1.2707999999999999,1.2781,1.2855000000000001,1.2927999999999999,null,1.2967,null,null,null,null,null,null,null,null,null,null,null,1,1,null,null,null,null,null,1,1]
[null,{"$f":"C438&C450","v":"353Qn ="},"3Qn =",null,943,1181,1407,1624,null,2236,null,null,null,null,null,null,null,null,null,null,null,1,1,null,null,null,null,null,1,1]
[]
[]
[null,null,"S0-00",null,"RADIK VKM8",null,null,null,null,null,null,null,null,null,null,null,null,null,null,{"$f":"$E453","v":"RADIK VKM8"}]
[null,{"$f":"C453&C454","v":"S0-001typ"},"1typ",null,null,"Typ",10,null,null,null,null,null,"Typ",11,null,null,null,null,null,null,"Typ",10,null,null,null,null,null,"Typ",11]
[null,{"$f":"C453&C455","v":"S0-001výška"},"1výška",200,300,400,500,600,700,900,200,300,400,500,600,700,900,null,{"$f":"IF(S456=0,0,1)","v":0},1,1,1,1,1,1,0,1,1,1,1,1,1]
[null,{"$f":"C453&C456","v":"S0-001n ="},"1n =",null,1.2945,1.3012999999999999,1.3081,1.3149,1.321,1.3331,null,1.2583,1.2771999999999999,1.2962,1.3150999999999999,1.3198000000000001,1.3290999999999999,null,null,1,1,1,1,1,1,null,1,1,1,1,1,1]
[null,{"$f":"C453&C457","v":"S0-001Qn ="},"1Qn =",null,375,476,572,665,753,922,null,533,683,831,979,1129,1432,null,null,1,1,1,1,1,1,null,1,1,1,1,1,1]
[null,{"$f":"C453&C458","v":"S0-002typ"},"2typ",null,null,"Typ",20,null,null,null,null,null,"Typ",21,null,null,null,null,null,null,"Typ",20,null,null,null,null,null,"Typ",21]
[null,{"$f":"C453&C459","v":"S0-002výška"},"2výška",200,300,400,500,600,700,900,200,300,400,500,600,700,900,null,{"$f":"IF(S460=0,0,1)","v":0},0,0,1,1,1,0,0,1,1,1,1,1,1]
[null,{"$f":"C453&C460","v":"S0-002n ="},"2n =",null,1.296,1.3027,1.3092999999999999,1.3160000000000001,1.3259000000000001,1.3455999999999999,null,1.3134999999999999,1.3259000000000001,1.3384,1.3508,1.3602000000000001,1.3791,null,null,null,null,1,1,1,null,null,1,1,1,1,1,1]
[null,{"$f":"C453&C461","v":"S0-002Qn ="},"2Qn =",null,627,784,934,1080,1222,1502,null,748,937,1118,1294,1466,1802,null,null,null,null,1,1,1,null,null,1,1,1,1,1,1]
[null,{"$f":"C453&C462","v":"S0-003typ"},"3typ",null,null,"Typ",22,null,null,null,null,null,"Typ",33,null,null,null,null,null,null,"Typ",22,null,null,null,null,null,"Typ",33]
[null,{"$f":"C453&C463","v":"S0-003výška"},"3výška",200,300,400,500,600,700,900,200,300,400,500,600,700,900,null,{"$f":"IF(S464=0,0,1)","v":0},1,1,1,1,1,1,0,1,1,1,1,1,1]
[null,{"$f":"C453&C464","v":"S0-003n ="},"3n =",null,1.2985,1.3122,1.3260000000000001,1.3396999999999999,1.3468,1.3609,null,1.319,1.3272999999999999,1.3357000000000001,1.3440000000000001,1.3529,1.3708,null,null,1,1,1,1,1,1,null,1,1,1,1,1,1]
[null,{"$f":"C453&C465","v":"S0-003Qn ="},"3Qn =",null,950,1204,1447,1680,1905,2335,null,1331,1716,2075,2411,2724,3286,null,null,1,1,1,1,1,1,null,1,1,1,1,1,1]
[]
[]
[null,null,"50L00",null,"RADIK LINE KLASIK",null,null,null,null,null,null,null,null,null,null,null,null,null,null,{"$f":"$E468","v":"RADIK LINE KLASIK"}]
[null,{"$f":"C468&C469","v":"50L001typ"},"1typ",null,null,"Typ",10,null,null,null,null,null,"Typ",11,null,null,null,null,null,null,"Typ",10,null,null,null,null,null,"Typ",11]
[null,{"$f":"C468&C470","v":"50L001výška"},"1výška",200,300,400,500,600,700,900,200,300,400,500,600,700,900,null,{"$f":"IF(S471=0,0,1)","v":0},0,0,0,0,0,0,0,1,1,1,1,1,1]
[null,{"$f":"C468&C471","v":"50L001n ="},"1n =",null,1.3149999999999999,1.2981,1.2813000000000001,1.2644,1.2756000000000001,1.2979000000000001,null,1.2683,1.2683,1.2682,1.2682,1.2793000000000001,1.3015000000000001,null,null,null,null,null,null,null,null,null,1,1,1,1,1,1]
[null,{"$f":"C468&C472","v":"50L001Qn ="},"1Qn =",null,305,389,470,550,630,787,null,533,678,818,953,1084,1337,null,null,null,null,null,null,null,null,null,1,1,1,1,1,1]
[null,{"$f":"C468&C473","v":"50L002typ"},"2typ",null,null,"Typ",20,null,null,null,null,null,"Typ",21,null,null,null,null,null,null,"Typ",20,null,null,null,null,null,"Typ",21]
[null,{"$f":"C468&C474","v":"50L002výška"},"2výška",200,300,400,500,600,700,900,200,300,400,500,600,700,900,null,{"$f":"IF(S475=0,0,1)","v":0},0,0,0,0,0,0,0,1,1,1,1,1,1]
[null,{"$f":"C468&C475","v":"50L002n ="},"2n =",null,1.2804,1.2803,1.2801,1.28,1.2859,1.2978000000000001,null,1.3098000000000001,1.3145,1.3191999999999999,1.3239000000000001,1.3310999999999999,1.3454999999999999,null,null,null,null,null,null,null,null,null,1,1,1,1,1,1]
[null,{"$f":"C468&C476","v":"50L002Qn ="},"2Qn =",null,530,657,780,903,1025,1273,null,727,896,1060,1222,1384,1711,null,null,null,null,null,null,null,null,null,1,1,1,1,1,1]
[null,{"$f":"C468&C477","v":"50L003typ"},"3typ",null,null,"Typ",22,null,null,null,null,null,"Typ",33,null,null,null,null,null,null,"Typ",22,null,null,null,null,null,"Typ",33]
[null,{"$f":"C468&C478","v":"50L003výška"},"3výška",200,300,400,500,600,700,900,200,300,400,500,600,700,900,null,{"$f":"IF(S479=0,0,1)","v":1},1,1,1,1,1,1,1,1,1,1,1,1,1]
[null,{"$f":"C468&C479","v":"50L003n ="},"3n =",1.2401,1.3141,1.3173999999999999,1.3208,1.3241000000000001,1.3265,1.3313999999999999,1.2589999999999999,1.3284,1.3251999999999999,1.3219000000000001,1.3187,1.3312999999999999,1.3565,null,1,1,1,1,1,1,1,1,1,1,1,1,1,1]
[null,{"$f":"C468&C480","v":"50L003Qn ="},"3Qn =",626,948,1187,1414,1631,1841,2243,918,1337,1689,2022,2341,2648,3231,null,1,1,1,1,1,1,1,1,1,1,1,1,1,1]
[]
[]
[null,null,"60L00",null,"RADIK LINE VK",null,null,null,null,null,null,null,null,null,null,null,null,null,null,{"$f":"$E483","v":"RADIK LINE VK"}]
[null,{"$f":"C483&C484","v":"60L001typ"},"1typ",null,null,"Typ",10,null,null,null,null,null,"Typ",11,null,null,null,null,null,null,"Typ",10,null,null,null,null,null,"Typ",11]
[null,{"$f":"C483&C485","v":"60L001výška"},"1výška",200,300,400,500,600,700,900,200,300,400,500,600,700,900,null,{"$f":"IF(S486=0,0,1)","v":0},0,0,0,0,0,0,0,1,1,1,1,1,1]
[null,{"$f":"C483&C486","v":"60L001n ="},"1n =",null,1.3149999999999999,1.2981,1.2813000000000001,1.2644,1.2756000000000001,1.2979000000000001,null,1.2683,1.2683,1.2682,1.2682,1.2793000000000001,1.3015000000000001,null,null,null,null,null,null,null,null,null,1,1,1,1,1,1]
[null,{"$f":"C483&C487","v":"60L001Qn ="},"1Qn =",null,305,389,470,550,630,787,null,533,678,818,953,1084,1337,null,null,null,null,null,null,null,null,null,1,1,1,1,1,1]
[null,{"$f":"C483&C488","v":"60L002typ"},"2typ",null,null,"Typ",20,null,null,null,null,null,"Typ",21,null,null,null,null,null,null,"Typ",20,null,null,null,null,null,"Typ",21]
[null,{"$f":"C483&C489","v":"60L002výška"},"2výška",200,300,400,500,600,700,900,200,300,400,500,600,700,900,null,{"$f":"IF(S490=0,0,1)","v":0},0,0,0,0,0,0,0,1,1,1,1,1,1]
[null,{"$f":"C483&C490","v":"60L002n ="},"2n =",null,1.2804,1.2803,1.2801,1.28,1.2859,1.2978000000000001,null,1.3098000000000001,1.3145,1.3191999999999999,1.3239000000000001,1.3310999999999999,1.3454999999999999,null,null,null,null,null,null,null,null,null,1,1,1,1,1,1]
[null,{"$f":"C483&C491","v":"60L002Qn ="},"2Qn =",null,530,657,780,903,1025,1273,null,727,896,1060,1222,1384,1711,null,null,null,null,null,null,null,null,null,1,1,1,1,1,1]
[null,{"$f":"C483&C492","v":"60L003typ"},"3typ",null,null,"Typ",22,null,null,null,null,null,"Typ",33,null,null,null,null,null,null,"Typ",22,null,null,null,null,null,"Typ",33]
[null,{"$f":"C483&C493","v":"60L003výška"},"3výška",200,300,400,500,600,700,900,200,300,400,500,600,700,900,null,{"$f":"IF(S494=0,0,1)","v":1},1,1,1,1,1,1,1,1,1,1,1,1,1]
[null,{"$f":"C483&C494","v":"60L003n ="},"3n =",1.2401,1.3141,1.3173999999999999,1.3208,1.3241000000000001,1.3265,1.3313999999999999,1.2589999999999999,1.3284,1.3251999999999999,1.3219000000000001,1.3187,1.3312999999999999,1.3565,null,1,1,1,1,1,1,1,1,1,1,1,1,1,1]
[null,{"$f":"C483&C495","v":"60L003Qn ="},"3Qn =",626,948,1187,1414,1631,1841,2243,918,1337,1689,2022,2341,2648,3231,null,1,1,1,1,1,1,1,1,1,1,1,1,1,1]
[]
[]
[null,null,"E0L00",null,"RADIK LINE VKL",null,null,null,null,null,null,null,null,null,null,null,null,null,null,{"$f":"$E498","v":"RADIK LINE VKL"}]
[null,{"$f":"C498&C499","v":"E0L001typ"},"1typ",null,null,"Typ",10,null,null,null,null,null,"Typ",11,null,null,null,null,null,null,"Typ",10,null,null,null,null,null,"Typ",11]
[null,{"$f":"C498&C500","v":"E0L001výška"},"1výška",200,300,400,500,600,700,900,200,300,400,500,600,700,900,null,{"$f":"IF(S501=0,0,1)","v":0},0,0,0,0,0,0,0,1,1,1,1,1,1]
[null,{"$f":"C498&C501","v":"E0L001n ="},"1n =",null,1.3149999999999999,1.2981,1.2813000000000001,1.2644,1.2756000000000001,1.2979000000000001,null,1.2683,1.2683,1.2682,1.2682,1.2793000000000001,1.3015000000000001,null,null,null,null,null,null,null,null,null,1,1,1,1,1,1]
[null,{"$f":"C498&C502","v":"E0L001Qn ="},"1Qn =",null,305,389,470,550,630,787,null,533,678,818,953,1084,1337,null,null,null,null,null,null,null,null,null,1,1,1,1,1,1]
[null,{"$f":"C498&C503","v":"E0L002typ"},"2typ",null,null,"Typ",20,null,null,null,null,null,"Typ",21,null,null,null,null,null,null,"Typ",20,null,null,null,null,null,"Typ",21]
[null,{"$f":"C498&C504","v":"E0L002výška"},"2výška",200,300,400,500,600,700,900,200,300,400,500,600,700,900,null,{"$f":"IF(S505=0,0,1)","v":0},0,0,0,0,0,0,0,1,1,1,1,1,1]
[null,{"$f":"C498&C505","v":"E0L002n ="},"2n =",null,1.2804,1.2803,1.2801,1.28,1.2859,1.2978000000000001,null,1.3098000000000001,1.3145,1.3191999999999999,1.3239000000000001,1.3310999999999999,1.3454999999999999,null,null,null,null,null,null,null,null,null,1,1,1,1,1,1]
[null,{"$f":"C498&C506","v":"E0L002Qn ="},"2Qn =",null,530,657,780,903,1025,1273,null,727,896,1060,1222,1384,1711,null,null,null,null,null,null,null,null,null,1,1,1,1,1,1]
[null,{"$f":"C498&C507","v":"E0L003typ"},"3typ",null,null,"Typ",22,null,null,null,null,null,"Typ",33,null,null,null,null,null,null,"Typ",22,null,null,null,null,null,"Typ",33]
[null,{"$f":"C498&C508","v":"E0L003výška"},"3výška",200,300,400,500,600,700,900,200,300,400,500,600,700,900,null,{"$f":"IF(S509=0,0,1)","v":0},1,1,1,1,1,1,0,1,1,1,1,1,1]
[null,{"$f":"C498&C509","v":"E0L003n ="},"3n =",1.2401,1.3141,1.3173999999999999,1.3208,1.3241000000000001,1.3265,1.3313999999999999,1.2589999999999999,1.3284,1.3251999999999999,1.3219000000000001,1.3187,1.3312999999999999,1.3565,null,null,1,1,1,1,1,1,null,1,1,1,1,1,1]
[null,{"$f":"C498&C510","v":"E0L003Qn ="},"3Qn =",626,948,1187,1414,1631,1841,2243,918,1337,1689,2022,2341,2648,3231,null,null,1,1,1,1,1,1,null,1,1,1,1,1,1]
[]
[]
[null,null,"G0L00",null,"RADIK LINE VKM",null,null,null,null,null,null,null,null,null,null,null,null,null,null,{"$f":"$E513","v":"RADIK LINE VKM"}]
[null,{"$f":"C513&C514","v":"G0L001typ"},"1typ",null,null,"Typ",10,null,null,null,null,null,"Typ",11,null,null,null,null,null,null,"Typ",10,null,null,null,null,null,"Typ",11]
[null,{"$f":"C513&C515","v":"G0L001výška"},"1výška",200,300,400,500,600,700,900,200,300,400,500,600,700,900,null,{"$f":"IF(S516=0,0,1)","v":0},0,0,0,0,0,0,0,1,1,1,1,1,1]
[null,{"$f":"C513&C516","v":"G0L001n ="},"1n =",null,1.2835000000000001,1.2866,1.3005,1.2928999999999999,null,1.2701,null,1.2617,1.2698,1.2778,1.2859,1.2988999999999999,1.3249,null,null,null,null,null,null,null,null,null,1,1,1,1,1,1]
[null,{"$f":"C513&C517","v":"G0L001Qn ="},"1Qn =",null,333,423,510,593,null,831,null,530,658,780,897,1011,1231,null,null,null,null,null,null,null,null,null,1,1,1,1,1,1]
[null,{"$f":"C513&C518","v":"G0L002typ"},"2typ",null,null,"Typ",20,null,null,null,null,null,"Typ",21,null,null,null,null,null,null,"Typ",20,null,null,null,null,null,"Typ",21]
[null,{"$f":"C513&C519","v":"G0L002výška"},"2výška",200,300,400,500,600,700,900,200,300,400,500,600,700,900,null,{"$f":"IF(S520=0,0,1)","v":0},0,0,0,0,0,0,0,1,1,1,1,1,1]
[null,{"$f":"C513&C520","v":"G0L002n ="},"2n =",null,1.2836000000000001,1.2865,1.2895000000000001,1.2924,1.2988,1.3117000000000001,null,1.3019000000000001,1.3144,1.3268,1.3392999999999999,1.3446,1.3552999999999999,null,null,null,null,null,null,null,null,null,1,1,1,1,1,1]
[null,{"$f":"C513&C521","v":"G0L002Qn ="},"2Qn =",null,587,721,848,969,1085,1307,null,720,904,1072,1226,1367,1617,null,null,null,null,null,null,null,null,null,1,1,1,1,1,1]
[null,{"$f":"C513&C522","v":"G0L003typ"},"3typ",null,null,"Typ",22,null,null,null,null,null,"Typ",33,null,null,null,null,null,null,"Typ",22,null,null,null,null,null,"Typ",33]
[null,{"$f":"C513&C523","v":"G0L003výška"},"3výška",200,300,400,500,600,700,900,200,300,400,500,600,700,900,null,{"$f":"IF(S524=0,0,1)","v":0},1,1,1,1,1,1,0,1,1,1,1,1,1]
[null,{"$f":"C513&C524","v":"G0L003n ="},"3n =",null,1.2863,1.2989999999999999,1.3117000000000001,1.3244,1.3327,1.3492999999999999,null,1.3284,1.3251999999999999,1.3219000000000001,1.3187,1.3312999999999999,1.3565,null,null,1,1,1,1,1,1,null,1,1,1,1,1,1]
[null,{"$f":"C513&C525","v":"G0L003Qn ="},"3Qn =",null,914,1165,1400,1621,1830,2215,null,1337,1689,2022,2341,2648,3231,null,null,1,1,1,1,1,1,null,1,1,1,1,1,1]
[]
[]
[null,null,"R0P00",null,"RADIK PLAN KLASIK - R",null,null,null,null,null,null,null,null,null,null,null,null,null,null,{"$f":"$E528","v":"RADIK PLAN KLASIK - R"}]
[null,{"$f":"C528&C529","v":"R0P001typ"},"1typ",null,null,"Typ",10,null,null,null,null,null,"Typ",11,null,null,null,null,null,null,"Typ",10,null,null,null,null,null,"Typ",11]
[null,{"$f":"C528&C530","v":"R0P001výška"},"1výška",null,null,null,null,null,null,null,null,null,null,null,null,null,null,null,{"$f":"IF(S531=0,0,1)","v":0},0,0,0,0,0,0,0,0,0,0,0,0,0]
[null,{"$f":"C528&C531","v":"R0P001n ="},"1n ="]
[null,{"$f":"C528&C532","v":"R0P001Qn ="},"1Qn ="]
[null,{"$f":"C528&C533","v":"R0P002typ"},"2typ",null,null,"Typ",20,null,null,null,null,null,"Typ",21,null,null,null,null,null,null,"Typ",20,null,null,null,null,null,"Typ",21]
[null,{"$f":"C528&C534","v":"R0P002výška"},"2výška",null,null,null,554,null,null,null,null,null,null,554,null,null,null,null,{"$f":"IF(S535=0,0,1)","v":0},0,0,1,0,0,0,0,0,0,1,0,0,0]
[null,{"$f":"C528&C535","v":"R0P002n ="},"2n =",null,null,null,1.2801,null,null,null,null,null,null,1.3217000000000001,null,null,null,null,null,null,null,1,null,null,null,null,null,null,1]
[null,{"$f":"C528&C536","v":"R0P002Qn ="},"2Qn =",null,null,null,846,null,null,null,null,null,null,1148,null,null,null,null,null,null,null,1,null,null,null,null,null,null,1]
[null,{"$f":"C528&C537","v":"R0P003typ"},"3typ",null,null,"Typ",22,null,null,null,null,null,"Typ",33,null,null,null,null,null,null,"Typ",22,null,null,null,null,null,"Typ",33]
[null,{"$f":"C528&C538","v":"R0P003výška"},"3výška",null,null,null,554,null,null,null,null,null,null,554,null,null,null,null,{"$f":"IF(S539=0,0,1)","v":0},0,0,1,0,0,0,0,0,0,1,0,0,0]
[null,{"$f":"C528&C539","v":"R0P003n ="},"3n =",null,null,null,1.3226,null,null,null,null,null,null,1.3202,null,null,null,null,null,null,null,1,null,null,null,null,null,null,1]
[null,{"$f":"C528&C540","v":"R0P003Qn ="},"3Qn =",null,null,null,1532,null,null,null,null,null,null,2196,null,null,null,null,null,null,null,1,null,null,null,null,null,null,1]
[]
[]
[null,null,"R0L00",null,"RADIK LINE KLASIK - R",null,null,null,null,null,null,null,null,null,null,null,null,null,null,{"$f":"$E543","v":"RADIK LINE KLASIK - R"}]
[null,{"$f":"C543&C544","v":"R0L001typ"},"1typ",null,null,"Typ",10,null,null,null,null,null,"Typ",11,null,null,null,null,null,null,"Typ",10,null,null,null,null,null,"Typ",11]
[null,{"$f":"C543&C545","v":"R0L001výška"},"1výška",null,null,null,null,null,null,null,null,null,null,null,null,null,null,null,{"$f":"IF(S546=0,0,1)","v":0},0,0,0,0,0,0,0,0,0,0,0,0,0]
[null,{"$f":"C543&C546","v":"R0L001n ="},"1n ="]
[null,{"$f":"C543&C547","v":"R0L001Qn ="},"1Qn ="]
[null,{"$f":"C543&C548","v":"R0L002typ"},"2typ",null,null,"Typ",20,null,null,null,null,null,"Typ",21,null,null,null,null,null,null,"Typ",20,null,null,null,null,null,"Typ",21]
[null,{"$f":"C543&C549","v":"R0L002výška"},"2výška",null,null,null,554,null,null,null,null,null,null,554,null,null,null,null,{"$f":"IF(S550=0,0,1)","v":0},0,0,1,0,0,null,0,0,0,1,0,0]
[null,{"$f":"C543&C550","v":"R0L002n ="},"2n =",null,null,null,1.2801,null,null,null,null,null,null,1.3217000000000001,null,null,null,null,null,null,null,1,null,null,null,null,null,null,1]
[null,{"$f":"C543&C551","v":"R0L002Qn ="},"2Qn =",null,null,null,846,null,null,null,null,null,null,1148,null,null,null,null,null,null,null,1,null,null,null,null,null,null,1]
[null,{"$f":"C543&C552","v":"R0L003typ"},"3typ",null,null,"Typ",22,null,null,null,null,null,"Typ",33,null,null,null,null,null,null,"Typ",22,null,null,null,null,null,"Typ",33]
[null,{"$f":"C543&C553","v":"R0L003výška"},"3výška",null,null,null,554,null,null,null,null,null,null,554,null,null,null,null,{"$f":"IF(S554=0,0,1)","v":0},0,0,1,0,0,null,0,0,0,1,0,0]
[null,{"$f":"C543&C554","v":"R0L003n ="},"3n =",null,null,null,1.3226,null,null,null,null,null,null,1.3202,null,null,null,null,null,null,null,1,null,null,null,null,null,null,1]
[null,{"$f":"C543&C555","v":"R0L003Qn ="},"3Qn =",null,null,null,1532,null,null,null,null,null,null,2196,null,null,null,null,null,null,null,1,null,null,null,null,null,null,1]
[]
[]
[null,null,"S0P00",null,"RADIK PLAN VKM8",null,null,null,null,null,null,null,null,null,null,null,null,null,null,{"$f":"$E558","v":"RADIK PLAN VKM8"}]
[null,{"$f":"C558&C559","v":"S0P001typ"},"1typ",null,null,"Typ",10,null,null,null,null,null,"Typ",11,null,null,null,null,null,null,"Typ",10,null,null,null,null,null,"Typ",11]
[null,{"$f":"C558&C560","v":"S0P001výška"},"1výška",200,300,400,500,600,700,900,200,300,400,500,600,700,900,null,{"$f":"IF(S561=0,0,1)","v":0},0,0,0,0,0,0,0,1,1,1,1,1,1]
[null,{"$f":"C558&C561","v":"S0P001n ="},"1n =",null,1.2835000000000001,1.2866,1.3005,1.2928999999999999,null,1.2701,null,1.2617,1.2698,1.2778,1.2859,1.2988999999999999,1.3249,null,null,null,null,null,null,null,null,null,1,1,1,1,1,1]
[null,{"$f":"C558&C562","v":"S0P001Qn ="},"1Qn =",null,333,423,510,593,null,831,null,530,658,780,897,1011,1231,null,null,null,null,null,null,null,null,null,1,1,1,1,1,1]
[null,{"$f":"C558&C563","v":"S0P002typ"},"2typ",null,null,"Typ",20,null,null,null,null,null,"Typ",21,null,null,null,null,null,null,"Typ",20,null,null,null,null,null,"Typ",21]
[null,{"$f":"C558&C564","v":"S0P002výška"},"2výška",200,300,400,500,600,700,900,200,300,400,500,600,700,900,null,{"$f":"IF(S565=0,0,1)","v":0},0,0,1,1,1,0,0,1,1,1,1,1,1]
[null,{"$f":"C558&C565","v":"S0P002n ="},"2n =",null,1.2836000000000001,1.2865,1.2895000000000001,1.2924,1.2988,1.3117000000000001,null,1.3019000000000001,1.3144,1.3268,1.3392999999999999,1.3446,1.3552999999999999,null,null,null,null,1,1,1,null,null,1,1,1,1,1,1]
[null,{"$f":"C558&C566","v":"S0P002Qn ="},"2Qn =",null,587,721,848,969,1085,1307,null,720,904,1072,1226,1367,1617,null,null,null,null,1,1,1,null,null,1,1,1,1,1,1]
[null,{"$f":"C558&C567","v":"S0P003typ"},"3typ",null,null,"Typ",22,null,null,null,null,null,"Typ",33,null,null,null,null,null,null,"Typ",22,null,null,null,null,null,"Typ",33]
[null,{"$f":"C558&C568","v":"S0P003výška"},"3výška",200,300,400,500,600,700,900,200,300,400,500,600,700,900,null,{"$f":"IF(S569=0,0,1)","v":0},1,1,1,1,1,1,0,1,1,1,1,1,1]
[null,{"$f":"C558&C569","v":"S0P003n ="},"3n =",null,1.2863,1.2989999999999999,1.3117000000000001,1.3244,1.3327,1.3492999999999999,null,1.3284,1.3251999999999999,1.3219000000000001,1.3187,1.3312999999999999,1.3565,null,null,1,1,1,1,1,1,null,1,1,1,1,1,1]
[null,{"$f":"C558&C570","v":"S0P003Qn ="},"3Qn =",null,914,1165,1400,1621,1830,2215,null,1337,1689,2022,2341,2648,3231,null,null,1,1,1,1,1,1,null,1,1,1,1,1,1]
[]
[]
[null,null,"S0L00",null,"RADIK LINE VKM8",null,null,null,null,null,null,null,null,null,null,null,null,null,null,{"$f":"$E573","v":"RADIK LINE VKM8"}]
[null,{"$f":"C573&C574","v":"S0L001typ"},"1typ",null,null,"Typ",10,null,null,null,null,null,"Typ",11,null,null,null,null,null,null,"Typ",10,null,null,null,null,null,"Typ",11]
[null,{"$f":"C573&C575","v":"S0L001výška"},"1výška",200,300,400,500,600,700,900,200,300,400,500,600,700,900,null,{"$f":"IF(S576=0,0,1)","v":0},0,0,0,0,0,0,0,1,1,1,1,1,1]
[null,{"$f":"C573&C576","v":"S0L001n ="},"1n =",null,1.2835000000000001,1.2866,1.3005,1.2928999999999999,null,1.2701,null,1.2617,1.2698,1.2778,1.2859,1.2988999999999999,1.3249,null,null,null,null,null,null,null,null,null,1,1,1,1,1,1]
[null,{"$f":"C573&C577","v":"S0L001Qn ="},"1Qn =",null,333,423,510,593,null,831,null,530,658,780,897,1011,1231,null,null,null,null,null,null,null,null,null,1,1,1,1,1,1]
[null,{"$f":"C573&C578","v":"S0L002typ"},"2typ",null,null,"Typ",20,null,null,null,null,null,"Typ",21,null,null,null,null,null,null,"Typ",20,null,null,null,null,null,"Typ",21]
[null,{"$f":"C573&C579","v":"S0L002výška"},"2výška",200,300,400,500,600,700,900,200,300,400,500,600,700,900,null,{"$f":"IF(S580=0,0,1)","v":0},0,0,1,1,1,0,0,1,1,1,1,1,1]
[null,{"$f":"C573&C580","v":"S0L002n ="},"2n =",null,1.2836000000000001,1.2865,1.2895000000000001,1.2924,1.2988,1.3117000000000001,null,1.3019000000000001,1.3144,1.3268,1.3392999999999999,1.3446,1.3552999999999999,null,null,null,null,1,1,1,null,null,1,1,1,1,1,1]
[null,{"$f":"C573&C581","v":"S0L002Qn ="},"2Qn =",null,587,721,848,969,1085,1307,null,720,904,1072,1226,1367,1617,null,null,null,null,1,1,1,null,null,1,1,1,1,1,1]
[null,{"$f":"C573&C582","v":"S0L003typ"},"3typ",null,null,"Typ",22,null,null,null,null,null,"Typ",33,null,null,null,null,null,null,"Typ",22,null,null,null,null,null,"Typ",33]
[null,{"$f":"C573&C583","v":"S0L003výška"},"3výška",200,300,400,500,600,700,900,200,300,400,500,600,700,900,null,{"$f":"IF(S584=0,0,1)","v":0},1,1,1,1,1,1,0,1,1,1,1,1,1]
[null,{"$f":"C573&C584","v":"S0L003n ="},"3n =",null,1.2863,1.2989999999999999,1.3117000000000001,1.3244,1.3327,1.3492999999999999,null,1.3284,1.3251999999999999,1.3219000000000001,1.3187,1.3312999999999999,1.3565,null,null,1,1,1,1,1,1,null,1,1,1,1,1,1]
[null,{"$f":"C573&C585","v":"S0L003Qn ="},"3Qn =",null,914,1165,1400,1621,1830,2215,null,1337,1689,2022,2341,2648,3231,null,null,1,1,1,1,1,1,null,1,1,1,1,1,1]
[]
[]
[null,null,"XUL00",null,"RADIK RC LINE VK",null,null,null,null,null,null,null,null,null,null,null,null,null,null,{"$f":"$E588","v":"RADIK RC LINE VK"}]
[null,{"$f":"C588&C589","v":"XUL001typ"},"1typ",null,null,"Typ",10,null,null,null,null,null,"Typ",11,null,null,null,null,null,null,"Typ",10,null,null,null,null,null,"Typ",11]
[null,{"$f":"C588&C590","v":"XUL001výška"},"1výška",200,300,400,500,600,700,900,200,300,400,500,600,700,900,null,{"$f":"IF(S591=0,0,1)","v":0},0,0,0,0,0,0,0,0,0,0,0,0,0]
[null,{"$f":"C588&C591","v":"XUL001n ="},"1n =",null,1.3149999999999999,1.2981,1.2813000000000001,1.2644,1.2756000000000001,1.2979000000000001,null,1.2683,1.2683,1.2682,1.2682,1.2793000000000001,1.3015000000000001]
[null,{"$f":"C588&C592","v":"XUL001Qn ="},"1Qn =",null,305,389,470,550,630,787,null,533,678,818,953,1084,1337]
[null,{"$f":"C588&C593","v":"XUL002typ"},"2typ",null,null,"Typ",20,null,null,null,null,null,"Typ",21,null,null,null,null,null,null,"Typ",20,null,null,null,null,null,"Typ",21]
[null,{"$f":"C588&C594","v":"XUL002výška"},"2výška",200,300,400,500,600,700,900,200,300,400,500,600,700,900,null,{"$f":"IF(S595=0,0,1)","v":0},0,0,1,1,1,1,0,1,1,1,1,1,1]
[null,{"$f":"C588&C595","v":"XUL002n ="},"2n =",null,1.2804,1.2803,1.2801,1.28,1.2859,1.2978000000000001,null,1.3098000000000001,1.3145,1.3191999999999999,1.3239000000000001,1.3310999999999999,1.3454999999999999,null,null,null,null,1,1,1,1,null,1,1,1,1,1,1]
[null,{"$f":"C588&C596","v":"XUL002Qn ="},"2Qn =",null,530,657,780,903,1025,1273,null,727,896,1060,1222,1384,1711,null,null,null,null,1,1,1,1,null,1,1,1,1,1,1]
[null,{"$f":"C588&C597","v":"XUL003typ"},"3typ",null,null,"Typ",22,null,null,null,null,null,"Typ",33,null,null,null,null,null,null,"Typ",22,null,null,null,null,null,"Typ",33]
[null,{"$f":"C588&C598","v":"XUL003výška"},"3výška",200,300,400,500,600,700,900,200,300,400,500,600,700,900,null,{"$f":"IF(S599=0,0,1)","v":1},1,1,1,1,1,1,1,1,1,1,1,1,1]
[null,{"$f":"C588&C599","v":"XUL003n ="},"3n =",1.2401,1.3141,1.3173999999999999,1.3208,1.3241000000000001,1.3265,1.3313999999999999,1.2589999999999999,1.3284,1.3251999999999999,1.3219000000000001,1.3187,1.3312999999999999,1.3565,null,1,1,1,1,1,1,1,1,1,1,1,1,1,1]
[null,{"$f":"C588&C600","v":"XUL003Qn ="},"3Qn =",626,948,1187,1414,1631,1841,2243,918,1337,1689,2022,2341,2648,3231,null,1,1,1,1,1,1,1,1,1,1,1,1,1,1]
[]
[]
[null,null,"YUL00",null,"RADIK RC LINE VKL",null,null,null,null,null,null,null,null,null,null,null,null,null,null,{"$f":"$E603","v":"RADIK RC LINE VKL"}]
[null,{"$f":"C603&C604","v":"YUL001typ"},"1typ",null,null,"Typ",10,null,null,null,null,null,"Typ",11,null,null,null,null,null,null,"Typ",10,null,null,null,null,null,"Typ",11]
[null,{"$f":"C603&C605","v":"YUL001výška"},"1výška",200,300,400,500,600,700,900,200,300,400,500,600,700,900,null,{"$f":"IF(S606=0,0,1)","v":0},0,0,0,0,0,0,0,0,0,0,0,0,0]
[null,{"$f":"C603&C606","v":"YUL001n ="},"1n =",null,1.3149999999999999,1.2981,1.2813000000000001,1.2644,1.2756000000000001,1.2979000000000001,null,1.2683,1.2683,1.2682,1.2682,1.2793000000000001,1.3015000000000001]
[null,{"$f":"C603&C607","v":"YUL001Qn ="},"1Qn =",null,305,389,470,550,630,787,null,533,678,818,953,1084,1337]
[null,{"$f":"C603&C608","v":"YUL002typ"},"2typ",null,null,"Typ",20,null,null,null,null,null,"Typ",21,null,null,null,null,null,null,"Typ",20,null,null,null,null,null,"Typ",21]
[null,{"$f":"C603&C609","v":"YUL002výška"},"2výška",200,300,400,500,600,700,900,200,300,400,500,600,700,900,null,{"$f":"IF(S610=0,0,1)","v":0},0,0,1,1,1,1,0,1,1,1,1,1,1]
[null,{"$f":"C603&C610","v":"YUL002n ="},"2n =",null,1.2804,1.2803,1.2801,1.28,1.2859,1.2978000000000001,null,1.3098000000000001,1.3145,1.3191999999999999,1.3239000000000001,1.3310999999999999,1.3454999999999999,null,null,null,null,1,1,1,1,null,1,1,1,1,1,1]
[null,{"$f":"C603&C611","v":"YUL002Qn ="},"2Qn =",null,530,657,780,903,1025,1273,null,727,896,1060,1222,1384,1711,null,null,null,null,1,1,1,1,null,1,1,1,1,1,1]
[null,{"$f":"C603&C612","v":"YUL003typ"},"3typ",null,null,"Typ",22,null,null,null,null,null,"Typ",33,null,null,null,null,null,null,"Typ",22,null,null,null,null,null,"Typ",33]
[null,{"$f":"C603&C613","v":"YUL003výška"},"3výška",200,300,400,500,600,700,900,200,300,400,500,600,700,900,null,{"$f":"IF(S614=0,0,1)","v":0},1,1,1,1,1,1,0,1,1,1,1,1,1]
[null,{"$f":"C603&C614","v":"YUL003n ="},"3n =",1.2401,1.3141,1.3173999999999999,1.3208,1.3241000000000001,1.3265,1.3313999999999999,1.2589999999999999,1.3284,1.3251999999999999,1.3219000000000001,1.3187,1.3312999999999999,1.3565,null,null,1,1,1,1,1,1,null,1,1,1,1,1,1]
[null,{"$f":"C603&C615","v":"YUL003Qn ="},"3Qn =",626,948,1187,1414,1631,1841,2243,918,1337,1689,2022,2341,2648,3231,null,null,1,1,1,1,1,1,null,1,1,1,1,1,1]
[]
[]
[null,null,"WU-00",null,"RADIK PREMIUM",null,null,null,null,null,null,null,null,null,null,null,null,null,null,{"$f":"$E618","v":"RADIK PREMIUM"}]
[null,{"$f":"C618&C619","v":"WU-001typ"},"1typ",null,null,"Typ",10,null,null,null,null,null,"Typ",11,null,null,null,null,null,null,"Typ",10,null,null,null,null,null,"Typ",11]
[null,{"$f":"C618&C620","v":"WU-001výška"},"1výška",1400,1600,1800,2000,2200,2400,2600,1400,1600,1800,2000,2200,2400,2600,null,{"$f":"IF(S621=0,0,1)","v":0},1,1,1,1,0,0,0,1,1,1,1,0,0]
[null,{"$f":"C618&C621","v":"WU-001n ="},"1n =",null,1.2747999999999999,1.2891999999999999,1.3037000000000001,1.3182,null,null,null,1.3361000000000001,1.3320000000000001,1.3278000000000001,1.3237000000000001,null,null,null,null,1,1,1,1,null,null,null,1,1,1,1]
[null,{"$f":"C618&C622","v":"WU-001Qn ="},"1Qn =",null,1677,1863,2058,2265,null,null,null,2157,2379,2595,2802,null,null,null,null,1,1,1,1,null,null,null,1,1,1,1]
[null,{"$f":"C618&C623","v":"WU-002typ"},"2typ",null,null,"Typ",20,null,null,null,null,null,"Typ",21,null,null,null,null,null,null,"Typ",20,null,null,null,null,null,"Typ",21]
[null,{"$f":"C618&C624","v":"WU-002výška"},"2výška",1400,1600,1800,2000,2200,2400,2600,1400,1600,1800,2000,2200,2400,2600,null,{"$f":"IF(S625=0,0,1)","v":0},1,1,1,1,0,0,0,1,1,1,1,0,0]
[null,{"$f":"C618&C625","v":"WU-002n ="},"2n =",null,1.3202,1.3134999999999999,1.3068,1.3,null,null,null,1.3234999999999999,1.3263,1.3291999999999999,1.3320000000000001,null,null,null,null,1,1,1,1,null,null,null,1,1,1,1]
[null,{"$f":"C618&C626","v":"WU-002Qn ="},"2Qn =",null,2592,2865,3120,3390,null,null,null,3030,3330,3600,3870,null,null,null,null,1,1,1,1,null,null,null,1,1,1,1]
[null,{"$f":"C618&C627","v":"WU-003typ"},"3typ",null,null,"Typ",22,null,null,null,null,null,"Typ",33,null,null,null,null,null,null,"Typ",22,null,null,null,null,null,"Typ",33]
[null,{"$f":"C618&C628","v":"WU-003výška"},"3výška",1400,1600,1800,2000,2200,2400,2600,1400,1600,1800,2000,2200,2400,2600,null,{"$f":"IF(S629=0,0,1)","v":0},1,1,1,1,0,0,0,0,0,0,0,0,0]
[null,{"$f":"C618&C629","v":"WU-003n ="},"3n =",null,1.3275999999999999,1.331,1.3344,1.3379000000000001,null,null,null,null,null,null,null,null,null,null,null,1,1,1,1]
[null,{"$f":"C618&C630","v":"WU-003Qn ="},"3Qn =",null,3630,3960,4290,4620,null,null,null,null,null,null,null,null,null,null,null,1,1,1,1]
[]
[]
[null,null,"WUP00",null,"RADIK PLAN PREMIUM",null,null,null,null,null,null,null,null,null,null,null,null,null,null,{"$f":"$E633","v":"RADIK PLAN PREMIUM"}]
[null,{"$f":"C633&C634","v":"WUP001typ"},"1typ",null,null,"Typ",10,null,null,null,null,null,"Typ",11,null,null,null,null,null,null,"Typ",10,null,null,null,null,null,"Typ",11]
[null,{"$f":"C633&C635","v":"WUP001výška"},"1výška",1400,1600,1800,2000,2200,2400,2600,1400,1600,1800,2000,2200,2400,2600,null,{"$f":"IF(S636=0,0,1)","v":0},1,1,1,1,0,0,0,1,1,1,1,0,0]
[null,{"$f":"C633&C636","v":"WUP001n ="},"1n =",null,null,null,null,null,null,null,null,1.3044,1.2997000000000001,1.2949999999999999,1.2829999999999999,null,null,null,null,1,1,1,1,null,null,null,1,1,1,1]
[null,{"$f":"C633&C637","v":"WUP001Qn ="},"1Qn =",null,null,null,null,null,null,null,null,1987,2167,2337,2498,null,null,null,null,1,1,1,1,null,null,null,1,1,1,1]
[null,{"$f":"C633&C638","v":"WUP002typ"},"2typ",null,null,"Typ",20,null,null,null,null,null,"Typ",21,null,null,null,null,null,null,"Typ",20,null,null,null,null,null,"Typ",21]
[null,{"$f":"C633&C639","v":"WUP002výška"},"2výška",1400,1600,1800,2000,2200,2400,2600,1400,1600,1800,2000,2200,2400,2600,null,{"$f":"IF(S640=0,0,1)","v":0},1,1,1,1,0,0,0,1,1,1,1,0,0]
[null,{"$f":"C633&C640","v":"WUP002n ="},"2n =",null,1.3136000000000001,1.3037000000000001,1.2937000000000001,1.2750999999999999,null,null,null,1.3169,1.3102,1.3033999999999999,1.3010999999999999,null,null,null,null,1,1,1,1,null,null,null,1,1,1,1]
[null,{"$f":"C633&C641","v":"WUP002Qn ="},"2Qn =",null,2435,2660,2868,3060,null,null,null,2820,3078,3305,3503,null,null,null,null,1,1,1,1,null,null,null,1,1,1,1]
[null,{"$f":"C633&C642","v":"WUP003typ"},"3typ",null,null,"Typ",22,null,null,null,null,null,"Typ",33,null,null,null,null,null,null,"Typ",22,null,null,null,null,null,"Typ",33]
[null,{"$f":"C633&C643","v":"WUP003výška"},"3výška",1400,1600,1800,2000,2200,2400,2600,1400,1600,1800,2000,2200,2400,2600,null,{"$f":"IF(S644=0,0,1)","v":0},1,1,1,1,0,0,0,0,0,0,0,0,0]
[null,{"$f":"C633&C644","v":"WUP003n ="},"3n =",null,1.3311999999999999,1.3331,1.3349,1.3250999999999999,null,null,null,null,null,null,null,null,null,null,null,1,1,1,1]
[null,{"$f":"C633&C645","v":"WUP003Qn ="},"3Qn =",null,3358,3692,4012,4320,null,null,null,null,null,null,null,null,null,null,null,1,1,1,1]
[]
[]
[null,null,"WUL00",null,"RADIK LINE PREMIUM",null,null,null,null,null,null,null,null,null,null,null,null,null,null,{"$f":"$E648","v":"RADIK LINE PREMIUM"}]
[null,{"$f":"C648&C649","v":"WUL001typ"},"1typ",null,null,"Typ",10,null,null,null,null,null,"Typ",11,null,null,null,null,null,null,"Typ",10,null,null,null,null,null,"Typ",11]
[null,{"$f":"C648&C650","v":"WUL001výška"},"1výška",1400,1600,1800,2000,2200,2400,2600,1400,1600,1800,2000,2200,2400,2600,null,{"$f":"IF(S651=0,0,1)","v":0},1,1,1,1,0,0,0,1,1,1,1,0,0]
[null,{"$f":"C648&C651","v":"WUL001n ="},"1n =",null,null,null,null,null,null,null,null,1.3044,1.2997000000000001,1.2949999999999999,1.2829999999999999,null,null,null,null,1,1,1,1,null,null,null,1,1,1,1]
[null,{"$f":"C648&C652","v":"WUL001Qn ="},"1Qn =",null,null,null,null,null,null,null,null,1987,2167,2337,2498,null,null,null,null,1,1,1,1,null,null,null,1,1,1,1]
[null,{"$f":"C648&C653","v":"WUL002typ"},"2typ",null,null,"Typ",20,null,null,null,null,null,"Typ",21,null,null,null,null,null,null,"Typ",20,null,null,null,null,null,"Typ",21]
[null,{"$f":"C648&C654","v":"WUL002výška"},"2výška",1400,1600,1800,2000,2200,2400,2600,1400,1600,1800,2000,2200,2400,2600,null,{"$f":"IF(S655=0,0,1)","v":0},1,1,1,1,0,0,0,1,1,1,1,0,0]
[null,{"$f":"C648&C655","v":"WUL002n ="},"2n =",null,1.3136000000000001,1.3037000000000001,1.2937000000000001,1.2750999999999999,null,null,null,1.3169,1.3102,1.3033999999999999,1.3010999999999999,null,null,null,null,1,1,1,1,null,null,null,1,1,1,1]
[null,{"$f":"C648&C656","v":"WUL002Qn ="},"2Qn =",null,2435,2660,2868,3060,null,null,null,2820,3078,3305,3503,null,null,null,null,1,1,1,1,null,null,null,1,1,1,1]
[null,{"$f":"C648&C657","v":"WUL003typ"},"3typ",null,null,"Typ",22,null,null,null,null,null,"Typ",33,null,null,null,null,null,null,"Typ",22,null,null,null,null,null,"Typ",33]
[null,{"$f":"C648&C658","v":"WUL003výška"},"3výška",1400,1600,1800,2000,2200,2400,2600,1400,1600,1800,2000,2200,2400,2600,null,{"$f":"IF(S659=0,0,1)","v":0},1,1,1,1,0,0,0,0,0,0,0,0,0]
[null,{"$f":"C648&C659","v":"WUL003n ="},"3n =",null,1.3311999999999999,1.3331,1.3349,1.3250999999999999,null,null,null,null,null,null,null,null,null,null,null,1,1,1,1]
[null,{"$f":"C648&C660","v":"WUL003Qn ="},"3Qn =",null,3358,3692,4012,4320,null,null,null,null,null,null,null,null,null,null,null,1,1,1,1]
[]
[]
[null,null,"SP-08",null,"UNI.8",null,null,null,null,null,null,null,null,null,null,null,null,null,null,{"$f":"$E663","v":"UNI.8"}]
[null,{"$f":"C663&C664","v":"SP-081typ"},"1typ",null,null,"Typ",10,null,null,null,null,null,"Typ",11,null,null,null,null,null,null,"Typ",10,null,null,null,null,null,"Typ",11]
[null,{"$f":"C663&C665","v":"SP-081výška"},"1výška",200,300,400,500,600,700,900,200,300,400,500,600,700,900,null,{"$f":"IF(S666=0,0,1)","v":0},1,1,1,1,1,1,0,1,1,1,1,1,1]
[null,{"$f":"C663&C666","v":"SP-081n ="},"1n =",null,1.2945,1.3012999999999999,1.3081,1.3149,1.321,1.3331,null,1.2583,1.2771999999999999,1.2962,1.3150999999999999,1.3198000000000001,1.3290999999999999,null,null,1,1,1,1,1,1,null,1,1,1,1,1,1]
[null,{"$f":"C663&C667","v":"SP-081Qn ="},"1Qn =",null,375,476,572,665,753,922,null,533,683,831,979,1129,1432,null,null,1,1,1,1,1,1,null,1,1,1,1,1,1]
[null,{"$f":"C663&C668","v":"SP-082typ"},"2typ",null,null,"Typ",20,null,null,null,null,null,"Typ",21,null,null,null,null,null,null,"Typ",20,null,null,null,null,null,"Typ",21]
[null,{"$f":"C663&C669","v":"SP-082výška"},"2výška",200,300,400,500,600,700,900,200,300,400,500,600,700,900,null,{"$f":"IF(S670=0,0,1)","v":0},0,0,1,1,1,0,0,1,1,1,1,1,1]
[null,{"$f":"C663&C670","v":"SP-082n ="},"2n =",null,1.296,1.3027,1.3092999999999999,1.3160000000000001,1.3259000000000001,1.3455999999999999,null,1.3134999999999999,1.3259000000000001,1.3384,1.3508,1.3602000000000001,1.3791,null,null,null,null,1,1,1,null,null,1,1,1,1,1,1]
[null,{"$f":"C663&C671","v":"SP-082Qn ="},"2Qn =",null,627,784,934,1080,1222,1502,null,748,937,1118,1294,1466,1802,null,null,null,null,1,1,1,null,null,1,1,1,1,1,1]
[null,{"$f":"C663&C672","v":"SP-083typ"},"3typ",null,null,"Typ",22,null,null,null,null,null,"Typ",33,null,null,null,null,null,null,"Typ",22,null,null,null,null,null,"Typ",33]
[null,{"$f":"C663&C673","v":"SP-083výška"},"3výška",200,300,400,500,600,700,900,200,300,400,500,600,700,900,null,{"$f":"IF(S674=0,0,1)","v":0},1,1,1,1,1,1,0,1,1,1,1,1,1]
[null,{"$f":"C663&C674","v":"SP-083n ="},"3n =",null,1.2985,1.3122,1.3260000000000001,1.3396999999999999,1.3468,1.3609,null,1.319,1.3272999999999999,1.3357000000000001,1.3440000000000001,1.3529,1.3708,null,null,1,1,1,1,1,1,null,1,1,1,1,1,1]
[null,{"$f":"C663&C675","v":"SP-083Qn ="},"3Qn =",null,950,1204,1447,1680,1905,2335,null,1331,1716,2075,2411,2724,3286,null,null,1,1,1,1,1,1,null,1,1,1,1,1,1]
[]
[]
[]
[null,null,"6S-00",null,"RADIK MATERNELLE VK",null,null,null,null,null,null,null,null,null,null,null,null,null,null,{"$f":"$E679","v":"RADIK MATERNELLE VK"}]
[null,{"$f":"C679&C680","v":"6S-001typ"},"1typ",null,null,"Typ",10,null,null,null,null,null,"Typ",11,null,null,null,null,null,null,"Typ",10,null,null,null,null,null,"Typ",11]
[null,{"$f":"C679&C681","v":"6S-001výška"},"1výška",200,300,400,500,600,700,900,200,300,400,500,600,700,900,null,{"$f":"IF(S682=0,0,1)","v":0},0,0,0,0,0,0,0,0,0,0,0,0,0]
[null,{"$f":"C679&C682","v":"6S-001n ="},"1n ="]
[null,{"$f":"C679&C683","v":"6S-001Qn ="},"1Qn ="]
[null,{"$f":"C679&C684","v":"6S-002typ"},"2typ",null,null,"Typ",20,null,null,null,null,null,"Typ",21,null,null,null,null,null,null,"Typ",20,null,null,null,null,null,"Typ",21]
[null,{"$f":"C679&C685","v":"6S-002výška"},"2výška",200,300,400,500,600,700,900,200,300,400,500,600,700,900,null,{"$f":"IF(S686=0,0,1)","v":0},0,0,0,0,0,0,0,0,0,0,0,0,0]
[null,{"$f":"C679&C686","v":"6S-002n ="},"2n ="]
[null,{"$f":"C679&C687","v":"6S-002Qn ="},"2Qn ="]
[null,{"$f":"C679&C688","v":"6S-003typ"},"3typ",null,null,"Typ",22,null,null,null,null,null,"Typ",32,null,null,null,null,null,null,"Typ",22,null,null,null,null,null,"Typ",32]
[null,{"$f":"C679&C689","v":"6S-003výška"},"3výška",200,300,400,500,600,700,900,200,300,400,500,600,700,900,null,{"$f":"IF(S690=0,0,1)","v":0},0,0,0,0,0,0,0,1,1,1,1,1,1]
[null,{"$f":"C679&C690","v":"6S-003n ="},"3n =",null,null,null,null,null,null,null,null,1.3023,1.3050999999999999,1.3079000000000001,1.3107,1.3263,1.3573999999999999,null,null,null,null,null,null,null,null,null,1,1,1,1,1,1]
[null,{"$f":"C679&C691","v":"6S-003Qn ="},"3Qn =",null,null,null,null,null,null,null,null,992,1229,1455,1675,1891,2315,null,null,null,null,null,null,null,null,null,1,1,1,1,1,1]
[]
[]
[]
[null,null,"ES-00",null,"RADIK MATERNELLE VKL",null,null,null,null,null,null,null,null,null,null,null,null,null,null,{"$f":"$E695","v":"RADIK MATERNELLE VKL"}]
[null,{"$f":"C695&C696","v":"ES-001typ"},"1typ",null,null,"Typ",10,null,null,null,null,null,"Typ",11,null,null,null,null,null,null,"Typ",10,null,null,null,null,null,"Typ",11]
[null,{"$f":"C695&C697","v":"ES-001výška"},"1výška",200,300,400,500,600,700,900,200,300,400,500,600,700,900,null,{"$f":"IF(S698=0,0,1)","v":0},0,0,0,0,0,0,0,0,0,0,0,0,0]
[null,{"$f":"C695&C698","v":"ES-001n ="},"1n ="]
[null,{"$f":"C695&C699","v":"ES-001Qn ="},"1Qn ="]
[null,{"$f":"C695&C700","v":"ES-002typ"},"2typ",null,null,"Typ",20,null,null,null,null,null,"Typ",21,null,null,null,null,null,null,"Typ",20,null,null,null,null,null,"Typ",21]
[null,{"$f":"C695&C701","v":"ES-002výška"},"2výška",200,300,400,500,600,700,900,200,300,400,500,600,700,900,null,{"$f":"IF(S702=0,0,1)","v":0},0,0,0,0,0,0,0,0,0,0,0,0,0]
[null,{"$f":"C695&C702","v":"ES-002n ="},"2n ="]
[null,{"$f":"C695&C703","v":"ES-002Qn ="},"2Qn ="]
[null,{"$f":"C695&C704","v":"ES-003typ"},"3typ",null,null,"Typ",22,null,null,null,null,null,"Typ",32,null,null,null,null,null,null,"Typ",22,null,null,null,null,null,"Typ",32]
[null,{"$f":"C695&C705","v":"ES-003výška"},"3výška",200,300,400,500,600,700,900,200,300,400,500,600,700,900,null,{"$f":"IF(S706=0,0,1)","v":0},0,0,0,0,0,0,0,1,1,1,1,1,1]
[null,{"$f":"C695&C706","v":"ES-003n ="},"3n =",null,null,null,null,null,null,null,null,1.3023,1.3050999999999999,1.3079000000000001,1.3107,1.3263,1.3573999999999999,null,null,null,null,null,null,null,null,null,1,1,1,1,1,1]
[null,{"$f":"C695&C707","v":"ES-003Qn ="},"3Qn =",null,null,null,null,null,null,null,null,992,1229,1455,1675,1891,2315,null,null,null,null,null,null,null,null,null,1,1,1,1,1,1]
[]
[]
[null,null,"V0P00",null,"RADIK PLAN VERTIKAL - M",null,null,null,null,null,null,null,null,null,null,null,null,null,null,{"$f":"$E710","v":"RADIK PLAN VERTIKAL - M"}]
[null,{"$f":"C710&C711","v":"V0P001typ"},"1typ",null,null,"Typ",10,null,null,null,null,null,"Typ",11,null,null,null,null,null,null,"Typ",10,null,null,null,null,null,"Typ",11]
[null,{"$f":"C710&C712","v":"V0P001výška"},"1výška",1400,1600,1800,2000,2200,2400,2600,null,null,null,null,null,null,null,null,{"$f":"IF(S713=0,0,1)","v":0},1,1,1,0,0,0,0,0,0,0,0,0,0]
[null,{"$f":"C710&C713","v":"V0P001n ="},"1n =",null,null,null,null,null,null,null,null,null,null,null,null,null,null,null,null,1,1,1]
[null,{"$f":"C710&C714","v":"V0P001Qn ="},"1Qn =",null,null,null,null,null,null,null,null,null,null,null,null,null,null,null,null,1,1,1]
[null,{"$f":"C710&C715","v":"V0P002typ"},"2typ",null,null,"Typ",20,null,null,null,null,null,"Typ",21,null,null,null,null,null,null,"Typ",20,null,null,null,null,null,"Typ",21]
[null,{"$f":"C710&C716","v":"V0P002výška"},"2výška",1400,1600,1800,2000,2200,2400,2600,null,null,null,null,null,null,null,null,{"$f":"IF(S717=0,0,1)","v":0},1,1,1,0,0,0,0,0,0,0,0,0,0]
[null,{"$f":"C710&C717","v":"V0P002n ="},"2n =",null,null,null,null,null,null,null,null,null,null,null,null,null,null,null,null,1,1,1]
[null,{"$f":"C710&C718","v":"V0P002Qn ="},"2Qn =",null,null,null,null,null,null,null,null,null,null,null,null,null,null,null,null,1,1,1]
[null,{"$f":"C710&C719","v":"V0P003typ"},"3typ",null,null,"Typ",22,null,null,null,null,null,"Typ",33,null,null,null,null,null,null,"Typ",22,null,null,null,null,null,"Typ",33]
[null,{"$f":"C710&C720","v":"V0P003výška"},"3výška",1400,1600,1800,2000,2200,2400,2600,null,null,null,null,null,null,null,null,{"$f":"IF(S721=0,0,1)","v":0},0,0,0,0,0,0,0,0,0,0,0,0,0]
[null,{"$f":"C710&C721","v":"V0P003n ="},"3n ="]
[null,{"$f":"C710&C722","v":"V0P003Qn ="},"3Qn ="]
[]
[]
[null,null,"V0L00",null,"RADIK LINE VERTIKAL - M",null,null,null,null,null,null,null,null,null,null,null,null,null,null,{"$f":"$E725","v":"RADIK LINE VERTIKAL - M"}]
[null,{"$f":"C725&C726","v":"V0L001typ"},"1typ",null,null,"Typ",10,null,null,null,null,null,"Typ",11,null,null,null,null,null,null,"Typ",10,null,null,null,null,null,"Typ",11]
[null,{"$f":"C725&C727","v":"V0L001výška"},"1výška",1400,1600,1800,2000,2200,2400,2600,null,null,null,null,null,null,null,null,{"$f":"IF(S728=0,0,1)","v":0},1,1,1,0,0,0,0,0,0,0,0,0,0]
[null,{"$f":"C725&C728","v":"V0L001n ="},"1n =",null,null,null,null,null,null,null,null,null,null,null,null,null,null,null,null,1,1,1]
[null,{"$f":"C725&C729","v":"V0L001Qn ="},"1Qn =",null,null,null,null,null,null,null,null,null,null,null,null,null,null,null,null,1,1,1]
[null,{"$f":"C725&C730","v":"V0L002typ"},"2typ",null,null,"Typ",20,null,null,null,null,null,"Typ",21,null,null,null,null,null,null,"Typ",20,null,null,null,null,null,"Typ",21]
[null,{"$f":"C725&C731","v":"V0L002výška"},"2výška",1400,1600,1800,2000,2200,2400,2600,null,null,null,null,null,null,null,null,{"$f":"IF(S732=0,0,1)","v":0},1,1,1,0,0,0,0,0,0,0,0,0,0]
[null,{"$f":"C725&C732","v":"V0L002n ="},"2n =",null,null,null,null,null,null,null,null,null,null,null,null,null,null,null,null,1,1,1]
[null,{"$f":"C725&C733","v":"V0L002Qn ="},"2Qn =",null,null,null,null,null,null,null,null,null,null,null,null,null,null,null,null,1,1,1]
[null,{"$f":"C725&C734","v":"V0L003typ"},"3typ",null,null,"Typ",22,null,null,null,null,null,"Typ",33,null,null,null,null,null,null,"Typ",22,null,null,null,null,null,"Typ",33]
[null,{"$f":"C725&C735","v":"V0L003výška"},"3výška",1400,1600,1800,2000,2200,2400,2600,null,null,null,null,null,null,null,null,{"$f":"IF(S736=0,0,1)","v":0},0,0,0,0,0,0,0,0,0,0,0,0,0]
[null,{"$f":"C725&C736","v":"V0L003n ="},"3n ="]
[null,{"$f":"C725&C737","v":"V0L003Qn ="},"3Qn ="]
[]
[]
[]
[null,null,"4P-02",null,"DUNATERM VK UNI",null,null,null,null,null,null,null,null,null,null,null,null,null,null,{"$f":"$E741","v":"DUNATERM VK UNI"}]
[null,{"$f":"C741&C742","v":"4P-021typ"},"1typ",null,null,"Typ",10,null,null,null,null,null,"Typ",11,null,null,null,null,null,null,"Typ",10,null,null,null,null,null,"Typ",11]
[null,{"$f":"C741&C743","v":"4P-021výška"},"1výška",200,300,400,500,600,700,900,200,300,400,500,600,700,900,null,{"$f":"IF(S744=0,0,1)","v":0},0,0,0,0,0,0,0,1,1,1,1,0,1]
[null,{"$f":"C741&C744","v":"4P-021n ="},"1n =",null,1.3319000000000001,1.3192999999999999,1.3068,1.2942,null,1.3083,null,1.2555000000000001,1.2670999999999999,1.2786999999999999,1.2903,null,1.3032999999999999,null,null,null,null,null,null,null,null,null,1,1,1,1,null,1]
[null,{"$f":"C741&C745","v":"4P-021Qn ="},"1Qn =",null,330,423,514,604,null,875,null,518,670,819,964,null,1386,null,null,null,null,null,null,null,null,null,1,1,1,1,null,1]
[null,{"$f":"C741&C746","v":"4P-022typ"},"2typ",null,null,"Typ",20,null,null,null,null,null,"Typ",21,null,null,null,null,null,null,"Typ",20,null,null,null,null,null,"Typ",21]
[null,{"$f":"C741&C747","v":"4P-022výška"},"2výška",200,300,400,500,600,700,900,200,300,400,500,600,700,900,null,{"$f":"IF(S748=0,0,1)","v":0},0,0,0,0,0,0,0,0,0,1,1,0,1]
[null,{"$f":"C741&C748","v":"4P-022n ="},"2n =",null,1.2986,1.2995000000000001,1.3005,1.3013999999999999,null,1.3548,null,1.2721,1.2864,1.2844,1.3116000000000001,null,1.3216000000000001,null,null,null,null,null,null,null,null,null,null,null,1,1,null,1]
[null,{"$f":"C741&C749","v":"4P-022Qn ="},"2Qn =",null,554,698,838,978,null,1398,null,704,883,1053,1216,null,1674,null,null,null,null,null,null,null,null,null,null,null,1,1,null,1]
[null,{"$f":"C741&C750","v":"4P-023typ"},"3typ",null,null,"Typ",22,null,null,null,null,null,"Typ",33,null,null,null,null,null,null,"Typ",22,null,null,null,null,null,"Typ",33]
[null,{"$f":"C741&C751","v":"4P-023výška"},"3výška",200,300,400,500,600,700,900,200,300,400,500,600,700,900,null,{"$f":"IF(S752=0,0,1)","v":0},1,1,1,1,0,1,0,1,1,1,1,0,1]
[null,{"$f":"C741&C752","v":"4P-023n ="},"3n =",null,1.2743,1.2975000000000001,1.2945,1.2970999999999999,null,1.323,null,1.2796000000000001,1.3038000000000001,1.3139000000000001,1.3187,null,1.3420000000000001,null,null,1,1,1,1,null,1,null,1,1,1,1,null,1]
[null,{"$f":"C741&C753","v":"4P-023Qn ="},"3Qn =",null,892,1118,1333,1550,null,2118,null,1276,1588,1882,2162,null,2942,null,null,1,1,1,1,null,1,null,1,1,1,1,null,1]
[]
[]
[]
[null,null,"GC-00",null,"RADIK CLEAN VKM",null,null,null,null,null,null,null,null,null,null,null,null,null,null,{"$f":"$E757","v":"RADIK CLEAN VKM"}]
[null,{"$f":"C757&C758","v":"GC-001typ"},"1typ",null,null,"Typ",10,null,null,null,null,null,null,null,null,null,null,null,null,null,"Typ",10]
[null,{"$f":"C757&C759","v":"GC-001výška"},"1výška",200,300,400,500,600,700,900,null,null,null,null,null,null,null,null,{"$f":"IF(S760=0,0,1)","v":0},0,0,0,0,0,0,0,0,0,0,0,0,0]
[null,{"$f":"C757&C760","v":"GC-001n ="},"1n ="]
[null,{"$f":"C757&C761","v":"GC-001Qn ="},"1Qn ="]
[null,{"$f":"C757&C762","v":"GC-002typ"},"2typ",null,null,"Typ",20,null,null,null,null,null,null,null,null,null,null,null,null,null,"Typ",20]
[null,{"$f":"C757&C763","v":"GC-002výška"},"2výška",200,300,400,500,600,700,900,null,null,null,null,null,null,null,null,{"$f":"IF(S764=0,0,1)","v":0},0,0,1,1,1,1,0,0,0,0,0,0,0]
[null,{"$f":"C757&C764","v":"GC-002n ="},"2n =",null,1.3018000000000001,1.3071999999999999,1.3127,1.3181,1.3140000000000001,1.3058000000000001,null,null,null,null,null,null,null,null,null,null,null,1,1,1,1]
[null,{"$f":"C757&C765","v":"GC-002Qn ="},"2Qn =",null,590,746,897,1043,1186,1463,null,null,null,null,null,null,null,null,null,null,null,1,1,1,1]
[null,{"$f":"C757&C766","v":"GC-003typ"},"3typ",null,null,"Typ",30,null,null,null,null,null,null,null,null,null,null,null,null,null,"Typ",30]
[null,{"$f":"C757&C767","v":"GC-003výška"},"3výška",200,300,400,500,600,700,900,null,null,null,null,null,null,null,null,{"$f":"IF(S768=0,0,1)","v":0},0,0,1,1,1,1,0,0,0,0,0,0,0]
[null,{"$f":"C757&C768","v":"GC-003n ="},"3n =",null,1.3037000000000001,1.3124,1.3211999999999999,1.3299000000000001,1.3318000000000001,1.3354999999999999,null,null,null,null,null,null,null,null,null,null,null,1,1,1,1]
[null,{"$f":"C757&C769","v":"GC-003Qn ="},"3Qn =",null,858,1072,1279,1482,1682,2084,null,null,null,null,null,null,null,null,null,null,null,1,1,1,1]
[]
[]
[]
[null,null,"T0-00",null,"RADIK VKM8",null,null,null,null,null,null,null,null,null,null,null,null,null,null,{"$f":"$E773","v":"RADIK VKM8"}]
[null,{"$f":"C773&C774","v":"T0-001typ"},"1typ",null,null,"Typ",10,null,null,null,null,null,"Typ",11,null,null,null,null,null,null,"Typ",10,null,null,null,null,null,"Typ",11]
[null,{"$f":"C773&C775","v":"T0-001výška"},"1výška",200,300,400,500,600,700,900,200,300,400,500,600,700,900,null,{"$f":"IF(S776=0,0,1)","v":0},1,1,1,1,1,1,0,1,1,1,1,1,1]
[null,{"$f":"C773&C776","v":"T0-001n ="},"1n =",null,1.2945,1.3012999999999999,1.3081,1.3149,1.321,1.3331,null,1.2583,1.2771999999999999,1.2962,1.3150999999999999,1.3198000000000001,1.3290999999999999,null,null,1,1,1,1,1,1,null,1,1,1,1,1,1]
[null,{"$f":"C773&C777","v":"T0-001Qn ="},"1Qn =",null,375,476,572,665,753,922,null,533,683,831,979,1129,1432,null,null,1,1,1,1,1,1,null,1,1,1,1,1,1]
[null,{"$f":"C773&C778","v":"T0-002typ"},"2typ",null,null,"Typ",20,null,null,null,null,null,"Typ",21,null,null,null,null,null,null,"Typ",20,null,null,null,null,null,"Typ",21]
[null,{"$f":"C773&C779","v":"T0-002výška"},"2výška",200,300,400,500,600,700,900,200,300,400,500,600,700,900,null,{"$f":"IF(S780=0,0,1)","v":0},0,0,1,1,1,0,0,1,1,1,1,1,1]
[null,{"$f":"C773&C780","v":"T0-002n ="},"2n =",null,1.296,1.3027,1.3092999999999999,1.3160000000000001,1.3259000000000001,1.3455999999999999,null,1.3134999999999999,1.3259000000000001,1.3384,1.3508,1.3602000000000001,1.3791,null,null,null,null,1,1,1,null,null,1,1,1,1,1,1]
[null,{"$f":"C773&C781","v":"T0-002Qn ="},"2Qn =",null,627,784,934,1080,1222,1502,null,748,937,1118,1294,1466,1802,null,null,null,null,1,1,1,null,null,1,1,1,1,1,1]
[null,{"$f":"C773&C782","v":"T0-003typ"},"3typ",null,null,"Typ",22,null,null,null,null,null,"Typ",33,null,null,null,null,null,null,"Typ",22,null,null,null,null,null,"Typ",33]
[null,{"$f":"C773&C783","v":"T0-003výška"},"3výška",200,300,400,500,600,700,900,200,300,400,500,600,700,900,null,{"$f":"IF(S784=0,0,1)","v":0},1,1,1,1,1,1,0,1,1,1,1,1,1]
[null,{"$f":"C773&C784","v":"T0-003n ="},"3n =",null,1.2985,1.3122,1.3260000000000001,1.3396999999999999,1.3468,1.3609,null,1.319,1.3272999999999999,1.3357000000000001,1.3440000000000001,1.3529,1.3708,null,null,1,1,1,1,1,1,null,1,1,1,1,1,1]
[null,{"$f":"C773&C785","v":"T0-003Qn ="},"3Qn =",null,950,1204,1447,1680,1905,2335,null,1331,1716,2075,2411,2724,3286,null,null,1,1,1,1,1,1,null,1,1,1,1,1,1]
[]
[]
[]
[null,null,"SU-00",null,"RADIK VKM8",null,null,null,null,null,null,null,null,null,null,null,null,null,null,{"$f":"$E789","v":"RADIK VKM8"}]
[null,{"$f":"C789&C790","v":"SU-001typ"},"1typ",null,null,"Typ",10,null,null,null,null,null,"Typ",11,null,null,null,null,null,null,"Typ",10,null,null,null,null,null,"Typ",11]
[null,{"$f":"C789&C791","v":"SU-001výška"},"1výška",200,300,400,500,600,700,900,200,300,400,500,600,700,900,null,{"$f":"IF(S792=0,0,1)","v":0},0,0,0,0,0,0,0,0,0,0,0,0,0]
[null,{"$f":"C789&C792","v":"SU-001n ="},"1n ="]
[null,{"$f":"C789&C793","v":"SU-001Qn ="},"1Qn ="]
[null,{"$f":"C789&C794","v":"SU-002typ"},"2typ",null,null,"Typ",20,null,null,null,null,null,"Typ",21,null,null,null,null,null,null,"Typ",20,null,null,null,null,null,"Typ",21]
[null,{"$f":"C789&C795","v":"SU-002výška"},"2výška",200,300,400,500,600,700,900,200,300,400,500,600,700,900,null,{"$f":"IF(S796=0,0,1)","v":0},0,0,1,1,1,0,0,1,1,1,1,1,1]
[null,{"$f":"C789&C796","v":"SU-002n ="},"2n =",null,1.296,1.3027,1.3092999999999999,1.3160000000000001,1.3259000000000001,1.3455999999999999,null,1.3134999999999999,1.3259000000000001,1.3384,1.3508,1.3602000000000001,1.3791,null,null,null,null,1,1,1,null,null,1,1,1,1,1,1]
[null,{"$f":"C789&C797","v":"SU-002Qn ="},"2Qn =",null,627,784,934,1080,1222,1502,null,748,937,1118,1294,1466,1802,null,null,null,null,1,1,1,null,null,1,1,1,1,1,1]
[null,{"$f":"C789&C798","v":"SU-003typ"},"3typ",null,null,"Typ",22,null,null,null,null,null,"Typ",33,null,null,null,null,null,null,"Typ",22,null,null,null,null,null,"Typ",33]
[null,{"$f":"C789&C799","v":"SU-003výška"},"3výška",200,300,400,500,600,700,900,200,300,400,500,600,700,900,null,{"$f":"IF(S800=0,0,1)","v":0},1,1,1,1,1,1,0,1,1,1,1,1,1]
[null,{"$f":"C789&C800","v":"SU-003n ="},"3n =",null,1.2985,1.3122,1.3260000000000001,1.3396999999999999,1.3468,1.3609,null,1.319,1.3272999999999999,1.3357000000000001,1.3440000000000001,1.3529,1.3708,null,null,1,1,1,1,1,1,null,1,1,1,1,1,1]
[null,{"$f":"C789&C801","v":"SU-003Qn ="},"3Qn =",null,950,1204,1447,1680,1905,2335,null,1331,1716,2075,2411,2724,3286,null,null,1,1,1,1,1,1,null,1,1,1,1,1,1]
[]
[]
[null,null,"SC-00",null,"RADIK CLEAN VKM8",null,null,null,null,null,null,null,null,null,null,null,null,null,null,{"$f":"$E804","v":"RADIK CLEAN VKM8"}]
[null,{"$f":"C804&C805","v":"SC-001typ"},"1typ",null,null,"Typ",10,null,null,null,null,null,null,null,null,null,null,null,null,null,"Typ",10]
[null,{"$f":"C804&C806","v":"SC-001výška"},"1výška",200,300,400,500,600,700,900,null,null,null,null,null,null,null,null,{"$f":"IF(S807=0,0,1)","v":0},null,1,1,1,null,1,0,0,0,0,0,0,0]
[null,{"$f":"C804&C807","v":"SC-001n ="},"1n =",null,1.2945,1.3012999999999999,1.3081,1.3149,1.321,1.3331,null,null,null,null,null,null,null,null,null,null,1,1,1,null,1]
[null,{"$f":"C804&C808","v":"SC-001Qn ="},"1Qn =",null,375,476,572,665,753,922,null,null,null,null,null,null,null,null,null,null,1,1,1,null,1]
[null,{"$f":"C804&C809","v":"SC-002typ"},"2typ",null,null,"Typ",20,null,null,null,null,null,null,null,null,null,null,null,null,null,"Typ",20]
[null,{"$f":"C804&C810","v":"SC-002výška"},"2výška",200,300,400,500,600,700,900,null,null,null,null,null,null,null,null,{"$f":"IF(S811=0,0,1)","v":0},0,1,1,1,null,1,0,0,0,0,0,0,0]
[null,{"$f":"C804&C811","v":"SC-002n ="},"2n =",null,1.3018000000000001,1.3071999999999999,1.3127,1.3181,1.3140000000000001,1.3058000000000001,null,null,null,null,null,null,null,null,null,null,1,1,1,null,1]
[null,{"$f":"C804&C812","v":"SC-002Qn ="},"2Qn =",null,590,746,897,1043,1186,1463,null,null,null,null,null,null,null,null,null,null,1,1,1,null,1]
[null,{"$f":"C804&C813","v":"SC-003typ"},"3typ",null,null,"Typ",30,null,null,null,null,null,null,null,null,null,null,null,null,null,"Typ",30]
[null,{"$f":"C804&C814","v":"SC-003výška"},"3výška",200,300,400,500,600,700,900,null,null,null,null,null,null,null,null,{"$f":"IF(S815=0,0,1)","v":0},0,1,1,1,null,1,0,0,0,0,0,0,0]
[null,{"$f":"C804&C815","v":"SC-003n ="},"3n =",null,1.3037000000000001,1.3124,1.3211999999999999,1.3299000000000001,1.3318000000000001,1.3354999999999999,null,null,null,null,null,null,null,null,null,null,1,1,1,null,1]
[null,{"$f":"C804&C816","v":"SC-003Qn ="},"3Qn =",null,858,1072,1279,1482,1682,2084,null,null,null,null,null,null,null,null,null,null,1,1,1,null,1]
[]
[]
[null,null,"T0P00",null,"RADIK PLAN VKM8-L",null,null,null,null,null,null,null,null,null,null,null,null,null,null,{"$f":"$E819","v":"RADIK PLAN VKM8-L"}]
[null,{"$f":"C819&C820","v":"T0P001typ"},"1typ",null,null,"Typ",10,null,null,null,null,null,"Typ",11,null,null,null,null,null,null,"Typ",10,null,null,null,null,null,"Typ",11]
[null,{"$f":"C819&C821","v":"T0P001výška"},"1výška",200,300,400,500,600,700,900,200,300,400,500,600,700,900,null,{"$f":"IF(S822=0,0,1)","v":0},0,0,0,0,0,0,0,1,1,1,1,1,1]
[null,{"$f":"C819&C822","v":"T0P001n ="},"1n =",null,1.2835000000000001,1.2866,1.3005,1.2928999999999999,null,1.2701,null,1.2617,1.2698,1.2778,1.2859,1.2988999999999999,1.3249,null,null,null,null,null,null,null,null,null,1,1,1,1,1,1]
[null,{"$f":"C819&C823","v":"T0P001Qn ="},"1Qn =",null,333,423,510,593,null,831,null,530,658,780,897,1011,1231,null,null,null,null,null,null,null,null,null,1,1,1,1,1,1]
[null,{"$f":"C819&C824","v":"T0P002typ"},"2typ",null,null,"Typ",20,null,null,null,null,null,"Typ",21,null,null,null,null,null,null,"Typ",20,null,null,null,null,null,"Typ",21]
[null,{"$f":"C819&C825","v":"T0P002výška"},"2výška",200,300,400,500,600,700,900,200,300,400,500,600,700,900,null,{"$f":"IF(S826=0,0,1)","v":0},0,0,1,1,1,0,0,1,1,1,1,1,1]
[null,{"$f":"C819&C826","v":"T0P002n ="},"2n =",null,1.2836000000000001,1.2865,1.2895000000000001,1.2924,1.2988,1.3117000000000001,null,1.3019000000000001,1.3144,1.3268,1.3392999999999999,1.3446,1.3552999999999999,null,null,null,null,1,1,1,null,null,1,1,1,1,1,1]
[null,{"$f":"C819&C827","v":"T0P002Qn ="},"2Qn =",null,587,721,848,969,1085,1307,null,720,904,1072,1226,1367,1617,null,null,null,null,1,1,1,null,null,1,1,1,1,1,1]
[null,{"$f":"C819&C828","v":"T0P003typ"},"3typ",null,null,"Typ",22,null,null,null,null,null,"Typ",33,null,null,null,null,null,null,"Typ",22,null,null,null,null,null,"Typ",33]
[null,{"$f":"C819&C829","v":"T0P003výška"},"3výška",200,300,400,500,600,700,900,200,300,400,500,600,700,900,null,{"$f":"IF(S830=0,0,1)","v":0},1,1,1,1,1,1,0,1,1,1,1,1,1]
[null,{"$f":"C819&C830","v":"T0P003n ="},"3n =",null,1.2863,1.2989999999999999,1.3117000000000001,1.3244,1.3327,1.3492999999999999,null,1.3284,1.3251999999999999,1.3219000000000001,1.3187,1.3312999999999999,1.3565,null,null,1,1,1,1,1,1,null,1,1,1,1,1,1]
[null,{"$f":"C819&C831","v":"T0P003Qn ="},"3Qn =",null,914,1165,1400,1621,1830,2215,null,1337,1689,2022,2341,2648,3231,null,null,1,1,1,1,1,1,null,1,1,1,1,1,1]
[]
[]
[null,null,"T0L00",null,"RADIK LINE VKM8-L",null,null,null,null,null,null,null,null,null,null,null,null,null,null,{"$f":"$E834","v":"RADIK LINE VKM8-L"}]
[null,{"$f":"C834&C835","v":"T0L001typ"},"1typ",null,null,"Typ",10,null,null,null,null,null,"Typ",11,null,null,null,null,null,null,"Typ",10,null,null,null,null,null,"Typ",11]
[null,{"$f":"C834&C836","v":"T0L001výška"},"1výška",200,300,400,500,600,700,900,200,300,400,500,600,700,900,null,{"$f":"IF(S837=0,0,1)","v":0},0,0,0,0,0,0,0,1,1,1,1,1,1]
[null,{"$f":"C834&C837","v":"T0L001n ="},"1n =",null,1.2835000000000001,1.2866,1.3005,1.2928999999999999,null,1.2701,null,1.2617,1.2698,1.2778,1.2859,1.2988999999999999,1.3249,null,null,null,null,null,null,null,null,null,1,1,1,1,1,1]
[null,{"$f":"C834&C838","v":"T0L001Qn ="},"1Qn =",null,333,423,510,593,null,831,null,530,658,780,897,1011,1231,null,null,null,null,null,null,null,null,null,1,1,1,1,1,1]
[null,{"$f":"C834&C839","v":"T0L002typ"},"2typ",null,null,"Typ",20,null,null,null,null,null,"Typ",21,null,null,null,null,null,null,"Typ",20,null,null,null,null,null,"Typ",21]
[null,{"$f":"C834&C840","v":"T0L002výška"},"2výška",200,300,400,500,600,700,900,200,300,400,500,600,700,900,null,{"$f":"IF(S841=0,0,1)","v":0},0,0,1,1,1,0,0,1,1,1,1,1,1]
[null,{"$f":"C834&C841","v":"T0L002n ="},"2n =",null,1.2836000000000001,1.2865,1.2895000000000001,1.2924,1.2988,1.3117000000000001,null,1.3019000000000001,1.3144,1.3268,1.3392999999999999,1.3446,1.3552999999999999,null,null,null,null,1,1,1,null,null,1,1,1,1,1,1]
[null,{"$f":"C834&C842","v":"T0L002Qn ="},"2Qn =",null,587,721,848,969,1085,1307,null,720,904,1072,1226,1367,1617,null,null,null,null,1,1,1,null,null,1,1,1,1,1,1]
[null,{"$f":"C834&C843","v":"T0L003typ"},"3typ",null,null,"Typ",22,null,null,null,null,null,"Typ",33,null,null,null,null,null,null,"Typ",22,null,null,null,null,null,"Typ",33]
[null,{"$f":"C834&C844","v":"T0L003výška"},"3výška",200,300,400,500,600,700,900,200,300,400,500,600,700,900,null,{"$f":"IF(S845=0,0,1)","v":0},1,1,1,1,1,1,0,1,1,1,1,1,1]
[null,{"$f":"C834&C845","v":"T0L003n ="},"3n =",null,1.2863,1.2989999999999999,1.3117000000000001,1.3244,1.3327,1.3492999999999999,null,1.3284,1.3251999999999999,1.3219000000000001,1.3187,1.3312999999999999,1.3565,null,null,1,1,1,1,1,1,null,1,1,1,1,1,1]
[null,{"$f":"C834&C846","v":"T0L003Qn ="},"3Qn =",null,914,1165,1400,1621,1830,2215,null,1337,1689,2022,2341,2648,3231,null,null,1,1,1,1,1,1,null,1,1,1,1,1,1]

{"sheet":"Sortiment","index":6,"n_rows":679,"n_cols":57,"rows_kept":679,"cut":false,"hidden":true,"merged":[]}
[]
[]
[{"$f":"SUMIF($C$5:$AQ$5,$A$7,$C3:$AQ3)","v":1},"ventil",0,0,0,0,1,1,1,1,1,1,1,1,1,0,0,0,0,1,1,1,1,1,1,1,1,0,1,0,0,0,0,0,1,1,0,1,0,0,0,1,0,1,1,1,0,0,0,0,0,0,0,0,0,0,0]
[{"$f":"MAX(C4:V4)","v":"2021-03-09"},"aktualizace","2016-01-01","2016-01-01","2016-01-01","2016-01-01","2016-01-01","2016-01-01","2016-01-01","2016-01-01","2016-01-01","2016-01-01","2021-03-09","2019-06-01","2019-08-28","2016-01-01","2016-01-01","2016-01-01","2016-01-01","2016-01-01","2016-01-01","2016-01-01","2016-01-01","2016-01-01","2016-01-01","2021-03-09","2021-03-09","2016-01-01","2016-01-01","2016-01-01","2016-01-01","2016-01-01","2016-01-01","2016-01-01","2016-01-01","2016-01-01"]
[null,null,1,{"$f":"IF(D7<>0,C5+1,\"\")","v":2},3,{"$f":"IF(F7<>0,E5+1,\"\")","v":4},{"$f":"IF(G7<>0,F5+1,\"\")","v":5},{"$f":"IF(H7<>0,G5+1,\"\")","v":6},{"$f":"IF(I7<>0,H5+1,\"\")","v":7},{"$f":"IF(J7<>0,I5+1,\"\")","v":8},{"$f":"IF(K7<>0,J5+1,\"\")","v":9},{"$f":"IF(L7<>0,K5+1,\"\")","v":10},{"$f":"IF(M7<>0,L5+1,\"\")","v":11},{"$f":"IF(N7<>0,M5+1,\"\")","v":12},{"$f":"IF(O7<>0,N5+1,\"\")","v":13},14,15,16,17,18,19,20,21,22,23,24,25,{"$f":"IF(AB7<>0,AA5+1,\"\")","v":26},{"$f":"IF(AC7<>0,AB5+1,\"\")","v":27},{"$f":"IF(AD7<>0,AC5+1,\"\")","v":28},{"$f":"IF(AE7<>0,AD5+1,\"\")","v":29},{"$f":"IF(AF7<>0,AE5+1,\"\")","v":30},{"$f":"IF(AG7<>0,AF5+1,\"\")","v":31},{"$f":"IF(AH7<>0,AG5+1,\"\")","v":32},{"$f":"IF(AI7<>0,AH5+1,\"\")","v":33},{"$f":"IF(AJ7<>0,AI5+1,\"\")","v":34},{"$f":"IF(AK7<>0,AJ5+1,\"\")","v":35},{"$f":"IF(AL7<>0,AK5+1,\"\")","v":36},{"$f":"IF(AM7<>0,AL5+1,\"\")","v":37},{"$f":"IF(AN7<>0,AM5+1,\"\")","v":38},{"$f":"IF(AO7<>0,AN5+1,\"\")","v":39},{"$f":"IF(AP7<>0,AO5+1,\"\")","v":40},{"$f":"IF(AQ7<>0,AP5+1,\"\")","v":41},{"$f":"IF(AR7<>0,AQ5+1,\"\")","v":42},{"$f":"IF(AS7<>0,AR5+1,\"\")","v":43},{"$f":"IF(AT7<>0,AS5+1,\"\")","v":44},{"$f":"IF(AU7<>0,AT5+1,\"\")","v":""},{"$f":"IF(AV7<>0,AU5+1,\"\")","v":""},{"$f":"IF(AW7<>0,AV5+1,\"\")","v":""},{"$f":"IF(AX7<>0,AW5+1,\"\")","v":""},{"$f":"IF(AY7<>0,AX5+1,\"\")","v":""},{"$f":"IF(AZ7<>0,AY5+1,\"\")","v":""},{"$f":"IF(BA7<>0,AZ5+1,\"\")","v":""},{"$f":"IF(BB7<>0,BA5+1,\"\")","v":""},{"$f":"IF(BC7<>0,BB5+1,\"\")","v":""},{"$f":"IF(BD7<>0,BC5+1,\"\")","v":""},{"$f":"IF(BE7<>0,BD5+1,\"\")","v":""}]
[null,null,"50-00","5C-00","R0-00","50Z00","60-00","6U-00","E0-00","6C-00","60Z00","S0-00","T0-00","SU-00","SC-00","50P00","R0P00","50L00","R0L00","60P00","60L00","E0P00","E0L00","S0P00","S0L00","T0P00","T0L00","5CH00","6CH00","V0P00","V0L00","WU-00","WUP00","WUL00","6S-00","ES-00","30-00","40-00","5D-00","30-17","30-05","40-05","30-02","SP-08","4P-02","GC-00"]
[{"$f":"Logic!$A$3","v":25},"artikl","RADIK KLASIK","RADIK CLEAN","RADIK KLASIK - R","RADIK KLASIK - Z","RADIK VK","RADIK VKU","RADIK VKL","RADIK CLEAN VK","RADIK VK - Z","RADIK VKM8","RADIK VKM8-L","RADIK VKM8-U","RADIK CLEAN VKM8","RADIK PLAN KLASIK","RADIK PLAN KLASIK - R","RADIK LINE KLASIK","RADIK LINE KLASIK - R","RADIK PLAN VK","RADIK LINE VK","RADIK PLAN VKL","RADIK LINE VKL","RADIK PLAN VKM8","RADIK LINE VKM8","RADIK PLAN VKM8-L","RADIK LINE VKM8-L","RADIK HYGIENE","RADIK HYGIENE VK","RADIK PLAN VERTIKAL - M","RADIK LINE VERTIKAL - M","RADIK PREMIUM","RADIK PLAN PREMIUM","RADIK LINE PREMIUM","RADIK MATERNELLE VK","RADIK MATERNELLE VKL","KINGRAD COMPACT","KINGRAD VENTIL COMPACT","RADIK KLASIK (DIN)","KINGRAD COMPACT S","LICON CLASIC C","LICON CLASIC V","DUNATERM","Uni.8","DUNATERM VK-UNI","RADIK CLEAN VKM"]
[{"$f":"SUMIF($C$5:$BE$5,$A$7,$C8:$BE8)","v":0},"10-020040",0,0,0,0,0,0,0,0,0,0,0,0,0,0,0,0,0,0,0,0,0,0,0,0,0,0,0,0,0,0,0,0,0,0,0,0,0,0,0,0,0,0,0,0]
[0,"10-020050",0,0,0,0,0,0,0,0,0,0,0,0,0,0,0,0,0,0,0,0,0,0,0,0,0,0,0,0,0,0,0,0,0,0,0,0,0,0,0,0,0,0,0,0]
[0,"10-020060",0,0,0,0,0,0,0,0,0,0,0,0,0,0,0,0,0,0,0,0,0,0,0,0,0,0,0,0,0,0,0,0,0,0,0,0,0,0,0,0,0,0,0,0]
[0,"10-020070",0,0,0,0,0,0,0,0,0,0,0,0,0,0,0,0,0,0,0,0,0,0,0,0,0,0,0,0,0,0,0,0,0,0,0,0,0,0,0,0,0,0,0,0]
[0,"10-020080",0,0,0,0,0,0,0,0,0,0,0,0,0,0,0,0,0,0,0,0,0,0,0,0,0,0,0,0,0,0,0,0,0,0,0,0,0,0,0,0,0,0,0,0]
[0,"10-020090",0,0,0,0,0,0,0,0,0,0,0,0,0,0,0,0,0,0,0,0,0,0,0,0,0,0,0,0,0,0,0,0,0,0,0,0,0,0,0,0,0,0,0,0]
[0,"10-020100",0,0,0,0,0,0,0,0,0,0,0,0,0,0,0,0,0,0,0,0,0,0,0,0,0,0,0,0,0,0,0,0,0,0,0,0,0,0,0,0,0,0,0,0]
[0,"10-020110",0,0,0,0,0,0,0,0,0,0,0,0,0,0,0,0,0,0,0,0,0,0,0,0,0,0,0,0,0,0,0,0,0,0,0,0,0,0,0,0,0,0,0,0]
[0,"10-020120",0,0,0,0,0,0,0,0,0,0,0,0,0,0,0,0,0,0,0,0,0,0,0,0,0,0,0,0,0,0,0,0,0,0,0,0,0,0,0,0,0,0,0,0]
[0,"10-020140",0,0,0,0,0,0,0,0,0,0,0,0,0,0,0,0,0,0,0,0,0,0,0,0,0,0,0,0,0,0,0,0,0,0,0,0,0,0,0,0,0,0,0,0]
[0,"10-020160",0,0,0,0,0,0,0,0,0,0,0,0,0,0,0,0,0,0,0,0,0,0,0,0,0,0,0,0,0,0,0,0,0,0,0,0,0,0,0,0,0,0,0,0]
[0,"10-020180",0,0,0,0,0,0,0,0,0,0,0,0,0,0,0,0,0,0,0,0,0,0,0,0,0,0,0,0,0,0,0,0,0,0,0,0,0,0,0,0,0,0,0,0]
[0,"10-020200",0,0,0,0,0,0,0,0,0,0,0,0,0,0,0,0,0,0,0,0,0,0,0,0,0,0,0,0,0,0,0,0,0,0,0,0,0,0,0,0,0,0,0,0]
[0,"10-020230",0,0,0,0,0,0,0,0,0,0,0,0,0,0,0,0,0,0,0,0,0,0,0,0,0,0,0,0,0,0,0,0,0,0,0,0,0,0,0,0,0,0,0,0]
[0,"10-020260",0,0,0,0,0,0,0,0,0,0,0,0,0,0,0,0,0,0,0,0,0,0,0,0,0,0,0,0,0,0,0,0,0,0,0,0,0,0,0,0,0,0,0,0]
[0,"10-020300",0,0,0,0,0,0,0,0,0,0,0,0,0,0,0,0,0,0,0,0,0,0,0,0,0,0,0,0,0,0,0,0,0,0,0,0,0,0,0,0,0,0,0,0]
[0,"10-030040",0,0,0,0,0,0,0,0,0,0,0,0,0,0,0,0,0,0,0,0,0,0,0,0,0,0,0,1,1,1,1,1,0,0,0,0,0,0,0,0,0,0,0,0]
[0,"10-030050",1,1,0,1,1,0,1,1,1,1,1,0,0,0,0,0,0,0,0,0,0,0,0,0,0,0,0,0,0,1,1,1,0,0,0,0,1,0,0,0,0,0,0,0]
[0,"10-030060",1,1,0,1,1,0,1,1,1,1,1,0,0,0,0,0,0,0,0,0,0,0,0,0,0,0,0,1,1,1,1,1,0,0,0,0,1,0,0,0,0,0,0,0]
[0,"10-030070",0,0,0,0,0,0,0,0,0,0,0,0,0,0,0,0,0,0,0,0,0,0,0,0,0,0,0,0,0,1,1,1,0,0,0,0,0,0,0,0,0,0,0,0]
[0,"10-030080",0,0,0,0,0,0,0,0,0,0,0,0,0,0,0,0,0,0,0,0,0,0,0,0,0,0,0,0,0,0,0,0,0,0,0,0,0,0,0,0,0,0,0,0]
[0,"10-030090",0,0,0,0,0,0,0,0,0,0,0,0,0,0,0,0,0,0,0,0,0,0,0,0,0,0,0,1,1,0,0,0,0,0,0,0,0,0,0,0,0,0,0,0]
[0,"10-030100",0,0,0,0,0,0,0,0,0,0,0,0,0,0,0,0,0,0,0,0,0,0,0,0,0,0,0,0,0,0,0,0,0,0,0,0,0,0,0,0,0,0,0,0]
[0,"10-030110",0,0,0,0,0,0,0,0,0,0,0,0,0,0,0,0,0,0,0,0,0,0,0,0,0,0,0,0,0,0,0,0,0,0,0,0,0,0,0,0,0,0,0,0]
[0,"10-030120",0,0,0,0,0,0,0,0,0,0,0,0,0,0,0,0,0,0,0,0,0,0,0,0,0,0,0,0,0,0,0,0,0,0,0,0,0,0,0,0,0,0,0,0]
[0,"10-030140",0,0,0,0,0,0,0,0,0,0,0,0,0,0,0,0,0,0,0,0,0,0,0,0,0,0,0,0,0,0,0,0,0,0,0,0,0,0,0,0,0,0,0,0]
[0,"10-030160",0,0,0,0,0,0,0,0,0,0,0,0,0,0,0,0,0,0,0,0,0,0,0,0,0,0,0,0,0,0,0,0,0,0,0,0,0,0,0,0,0,0,0,0]
[0,"10-030180",0,0,0,0,0,0,0,0,0,0,0,0,0,0,0,0,0,0,0,0,0,0,0,0,0,0,0,0,0,0,0,0,0,0,0,0,0,0,0,0,0,0,0,0]
[0,"10-030200",0,0,0,0,0,0,0,0,0,0,0,0,0,0,0,0,0,0,0,0,0,0,0,0,0,0,0,0,0,0,0,0,0,0,0,0,0,0,0,0,0,0,0,0]
[0,"10-030230",0,0,0,0,0,0,0,0,0,0,0,0,0,0,0,0,0,0,0,0,0,0,0,0,0,0,0,0,0,0,0,0,0,0,0,0,0,0,0,0,0,0,0,0]
[0,"10-030260",0,0,0,0,0,0,0,0,0,0,0,0,0,0,0,0,0,0,0,0,0,0,0,0,0,0,0,0,0,0,0,0,0,0,0,0,0,0,0,0,0,0,0,0]
[0,"10-030300",0,0,0,0,0,0,0,0,0,0,0,0,0,0,0,0,0,0,0,0,0,0,0,0,0,0,0,0,0,0,0,0,0,0,0,0,0,0,0,0,0,0,0,0]
[0,"10-040040",0,0,0,0,0,0,0,0,0,0,0,0,0,0,0,0,0,0,0,0,0,0,0,0,0,0,0,1,1,1,1,1,0,0,0,0,0,0,0,0,0,0,0,0]
[0,"10-040050",1,1,0,1,1,0,1,1,1,1,1,0,1,0,0,0,0,0,0,0,0,0,0,0,0,0,0,0,0,1,1,1,0,0,0,0,1,0,0,0,0,0,0,0]
[0,"10-040060",1,1,0,1,1,0,1,1,1,1,1,0,1,0,0,0,0,0,0,0,0,0,0,0,0,0,0,1,1,1,1,1,0,0,0,0,1,0,0,0,0,0,0,0]
[0,"10-040070",0,0,0,0,0,0,0,0,0,0,0,0,1,0,0,0,0,0,0,0,0,0,0,0,0,0,0,0,0,1,1,1,0,0,0,0,0,0,0,0,0,0,0,0]
[0,"10-040080",0,0,0,0,0,0,0,0,0,0,0,0,1,0,0,0,0,0,0,0,0,0,0,0,0,0,0,0,0,0,0,0,0,0,0,0,0,0,0,0,0,0,0,0]
[0,"10-040090",0,0,0,0,0,0,0,0,0,0,0,0,1,0,0,0,0,0,0,0,0,0,0,0,0,0,0,1,1,0,0,0,0,0,0,0,0,0,0,0,0,0,0,0]
[0,"10-040100",0,0,0,0,0,0,0,0,0,0,0,0,1,0,0,0,0,0,0,0,0,0,0,0,0,0,0,0,0,0,0,0,0,0,0,0,0,0,0,0,0,0,0,0]
[0,"10-040110",0,0,0,0,0,0,0,0,0,0,0,0,1,0,0,0,0,0,0,0,0,0,0,0,0,0,0,0,0,0,0,0,0,0,0,0,0,0,0,0,0,0,0,0]
[0,"10-040120",0,0,0,0,0,0,0,0,0,0,0,0,1,0,0,0,0,0,0,0,0,0,0,0,0,0,0,0,0,0,0,0,0,0,0,0,0,0,0,0,0,0,0,0]
[0,"10-040140",0,0,0,0,0,0,0,0,0,0,0,0,1,0,0,0,0,0,0,0,0,0,0,0,0,0,0,0,0,0,0,0,0,0,0,0,0,0,0,0,0,0,0,0]
[0,"10-040160",0,0,0,0,0,0,0,0,0,0,0,0,1,0,0,0,0,0,0,0,0,0,0,0,0,0,0,0,0,0,0,0,0,0,0,0,0,0,0,0,0,0,0,0]
[0,"10-040180",0,0,0,0,0,0,0,0,0,0,0,0,1,0,0,0,0,0,0,0,0,0,0,0,0,0,0,0,0,0,0,0,0,0,0,0,0,0,0,0,0,0,0,0]
[0,"10-040200",0,0,0,0,0,0,0,0,0,0,0,0,1,0,0,0,0,0,0,0,0,0,0,0,0,0,0,0,0,0,0,0,0,0,0,0,0,0,0,0,0,0,0,0]
[0,"10-040230",0,0,0,0,0,0,0,0,0,0,0,0,0,0,0,0,0,0,0,0,0,0,0,0,0,0,0,0,0,0,0,0,0,0,0,0,0,0,0,0,0,0,0,0]
[0,"10-040260",0,0,0,0,0,0,0,0,0,0,0,0,0,0,0,0,0,0,0,0,0,0,0,0,0,0,0,0,0,0,0,0,0,0,0,0,0,0,0,0,0,0,0,0]
[0,"10-040300",0,0,0,0,0,0,0,0,0,0,0,0,0,0,0,0,0,0,0,0,0,0,0,0,0,0,0,0,0,0,0,0,0,0,0,0,0,0,0,0,0,0,0,0]
[0,"10-050040",1,1,0,1,1,0,1,1,1,1,0,0,0,0,0,0,0,0,0,0,0,0,0,0,0,1,1,1,1,1,1,1,0,0,0,0,1,0,0,0,0,0,0,0]
[0,"10-050050",1,1,0,1,1,0,1,1,1,1,1,0,1,0,0,0,0,0,0,0,0,0,0,0,0,1,1,0,0,1,1,1,0,0,0,0,1,0,0,0,0,0,0,0]
[0,"10-050060",1,1,0,1,1,0,1,1,1,1,1,0,1,0,0,0,0,0,0,0,0,0,0,0,0,1,1,1,1,1,1,1,0,0,0,0,1,0,0,0,0,0,0,0]
[0,"10-050070",1,1,0,1,1,0,1,1,1,1,1,0,1,0,0,0,0,0,0,0,0,0,0,0,0,1,1,0,0,1,1,1,0,0,0,0,1,0,0,0,0,0,0,0]
[0,"10-050080",1,1,0,1,1,0,1,1,1,1,1,0,1,0,0,0,0,0,0,0,0,0,0,0,0,1,1,0,0,0,0,0,0,0,0,0,1,0,0,0,0,0,0,0]
[0,"10-050090",1,1,0,1,1,0,1,1,1,1,1,0,1,0,0,0,0,0,0,0,0,0,0,0,0,1,1,1,1,0,0,0,0,0,0,0,1,0,0,0,0,0,0,0]
[0,"10-050100",1,1,0,1,1,0,1,1,1,1,1,0,1,0,0,0,0,0,0,0,0,0,0,0,0,1,1,0,0,0,0,0,0,0,0,0,1,0,0,0,0,0,0,0]
[0,"10-050110",1,1,0,1,1,0,1,1,1,1,1,0,1,0,0,0,0,0,0,0,0,0,0,0,0,1,1,0,0,0,0,0,0,0,0,0,1,0,0,0,0,0,0,0]
[0,"10-050120",1,1,0,1,1,0,1,1,1,1,1,0,1,0,0,0,0,0,0,0,0,0,0,0,0,1,1,0,0,0,0,0,0,0,0,0,1,0,0,0,0,0,0,0]
[0,"10-050140",1,1,0,1,1,0,1,1,1,1,1,0,1,0,0,0,0,0,0,0,0,0,0,0,0,1,1,0,0,0,0,0,0,0,0,0,1,0,0,0,0,0,0,0]
[0,"10-050160",1,1,0,1,1,0,1,1,1,1,1,0,1,0,0,0,0,0,0,0,0,0,0,0,0,1,1,0,0,0,0,0,0,0,0,0,1,0,0,0,0,0,0,0]
[0,"10-050180",1,1,0,1,1,0,1,1,1,1,1,0,1,0,0,0,0,0,0,0,0,0,0,0,0,1,1,0,0,0,0,0,0,0,0,0,1,0,0,0,0,0,0,0]
[0,"10-050200",1,1,0,1,1,0,1,1,1,1,1,0,1,0,0,0,0,0,0,0,0,0,0,0,0,1,1,0,0,0,0,0,0,0,0,0,1,0,0,0,0,0,0,0]
[0,"10-050230",0,0,0,0,0,0,0,0,0,0,0,0,0,0,0,0,0,0,0,0,0,0,0,0,0,0,0,0,0,0,0,0,0,0,0,0,0,0,0,0,0,0,0,0]
[0,"10-050260",0,0,0,0,0,0,0,0,0,0,0,0,0,0,0,0,0,0,0,0,0,0,0,0,0,0,0,0,0,0,0,0,0,0,0,0,0,0,0,0,0,0,0,0]
[0,"10-050300",0,0,0,0,0,0,0,0,0,0,0,0,0,0,0,0,0,0,0,0,0,0,0,0,0,0,0,0,0,0,0,0,0,0,0,0,0,0,0,0,0,0,0,0]
[{"$f":"SUMIF($C$5:$BE$5,$A$7,$C72:$BE72)","v":0},"10-060040",1,1,0,1,1,0,1,1,1,1,0,0,0,0,0,0,0,0,0,0,0,0,0,0,0,1,1,0,0,1,1,1,0,0,0,0,1,0,0,0,0,0,0,0]
[0,"10-060050",1,1,0,1,1,0,1,1,1,1,1,0,1,0,0,0,0,0,0,0,0,0,0,0,0,1,1,0,0,1,1,1,0,0,0,0,1,0,0,0,0,0,0,0]
[0,"10-060060",1,1,0,1,1,0,1,1,1,1,1,0,1,0,0,0,0,0,0,0,0,0,0,0,0,1,1,0,0,1,1,1,0,0,0,0,1,0,0,0,0,0,0,0]
[0,"10-060070",1,1,0,1,1,0,1,1,1,1,1,0,1,0,0,0,0,0,0,0,0,0,0,0,0,1,1,0,0,1,1,1,0,0,0,0,1,0,0,0,0,0,0,0]
[0,"10-060080",1,1,0,1,1,0,1,1,1,1,1,0,1,0,0,0,0,0,0,0,0,0,0,0,0,1,1,0,0,0,0,0,0,0,0,0,1,0,0,0,0,0,0,0]
[0,"10-060090",1,1,0,1,1,0,1,1,1,1,1,0,1,0,0,0,0,0,0,0,0,0,0,0,0,1,1,0,0,0,0,0,0,0,0,0,1,0,0,0,0,0,0,0]
[0,"10-060100",1,1,0,1,1,0,1,1,1,1,1,0,1,0,0,0,0,0,0,0,0,0,0,0,0,1,1,0,0,0,0,0,0,0,0,0,1,0,0,0,0,0,0,0]
[0,"10-060110",1,1,0,1,1,0,1,1,1,1,1,0,1,0,0,0,0,0,0,0,0,0,0,0,0,1,1,0,0,0,0,0,0,0,0,0,1,0,0,0,0,0,0,0]
[0,"10-060120",1,1,0,1,1,0,1,1,1,1,1,0,1,0,0,0,0,0,0,0,0,0,0,0,0,1,1,0,0,0,0,0,0,0,0,0,1,0,0,0,0,0,0,0]
[0,"10-060140",1,1,0,1,1,0,1,1,1,1,1,0,1,0,0,0,0,0,0,0,0,0,0,0,0,1,1,0,0,0,0,0,0,0,0,0,1,0,0,0,0,0,0,0]
[0,"10-060160",1,1,0,1,1,0,1,1,1,1,1,0,1,0,0,0,0,0,0,0,0,0,0,0,0,1,1,0,0,0,0,0,0,0,0,0,1,0,0,0,0,0,0,0]
[0,"10-060180",1,1,0,1,1,0,1,1,1,1,1,0,1,0,0,0,0,0,0,0,0,0,0,0,0,1,1,0,0,0,0,0,0,0,0,0,1,0,0,0,0,0,0,0]
[0,"10-060200",1,1,0,1,1,0,1,1,1,1,1,0,1,0,0,0,0,0,0,0,0,0,0,0,0,1,1,0,0,0,0,0,0,0,0,0,1,0,0,0,0,0,0,0]
[0,"10-060230",0,0,0,0,0,0,0,0,0,0,0,0,0,0,0,0,0,0,0,0,0,0,0,0,0,0,0,0,0,0,0,0,0,0,0,0,0,0,0,0,0,0,0,0]
[0,"10-060260",0,0,0,0,0,0,0,0,0,0,0,0,0,0,0,0,0,0,0,0,0,0,0,0,0,0,0,0,0,0,0,0,0,0,0,0,0,0,0,0,0,0,0,0]
[0,"10-060300",0,0,0,0,0,0,0,0,0,0,0,0,0,0,0,0,0,0,0,0,0,0,0,0,0,0,0,0,0,0,0,0,0,0,0,0,0,0,0,0,0,0,0,0]
[0,"10-070040",1,1,0,1,1,0,1,1,1,1,0,0,0,0,0,0,0,0,0,0,0,0,0,0,0,1,1,0,0,0,0,0,0,0,0,0,0,0,0,0,0,0,0,0]
[0,"10-070050",1,1,0,1,1,0,1,1,1,1,1,0,0,0,0,0,0,0,0,0,0,0,0,0,0,1,1,0,0,0,0,0,0,0,0,0,0,0,0,0,0,0,0,0]
[0,"10-070060",1,1,0,1,1,0,1,1,1,1,1,0,0,0,0,0,0,0,0,0,0,0,0,0,0,1,1,0,0,0,0,0,0,0,0,0,0,0,0,0,0,0,0,0]
[0,"10-070070",1,1,0,1,1,0,1,1,1,1,1,0,0,0,0,0,0,0,0,0,0,0,0,0,0,1,1,0,0,0,0,0,0,0,0,0,0,0,0,0,0,0,0,0]
[0,"10-070080",1,1,0,1,1,0,1,1,1,1,1,0,0,0,0,0,0,0,0,0,0,0,0,0,0,1,1,0,0,0,0,0,0,0,0,0,0,0,0,0,0,0,0,0]
[0,"10-070090",1,1,0,1,1,0,1,1,1,1,1,0,0,0,0,0,0,0,0,0,0,0,0,0,0,1,1,0,0,0,0,0,0,0,0,0,0,0,0,0,0,0,0,0]
[0,"10-070100",1,1,0,1,1,0,1,1,1,1,1,0,0,0,0,0,0,0,0,0,0,0,0,0,0,1,1,0,0,0,0,0,0,0,0,0,0,0,0,0,0,0,0,0]
[0,"10-070110",1,1,0,1,1,0,1,1,1,1,1,0,0,0,0,0,0,0,0,0,0,0,0,0,0,1,1,0,0,0,0,0,0,0,0,0,0,0,0,0,0,0,0,0]
[0,"10-070120",1,1,0,1,1,0,1,1,1,1,1,0,0,0,0,0,0,0,0,0,0,0,0,0,0,1,1,0,0,0,0,0,0,0,0,0,0,0,0,0,0,0,0,0]
[0,"10-070140",1,1,0,1,1,0,1,1,1,1,1,0,0,0,0,0,0,0,0,0,0,0,0,0,0,1,1,0,0,0,0,0,0,0,0,0,0,0,0,0,0,0,0,0]
[0,"10-070160",1,1,0,1,1,0,1,1,1,1,1,0,0,0,0,0,0,0,0,0,0,0,0,0,0,1,1,0,0,0,0,0,0,0,0,0,0,0,0,0,0,0,0,0]
[0,"10-070180",1,1,0,1,1,0,1,1,1,1,1,0,0,0,0,0,0,0,0,0,0,0,0,0,0,1,1,0,0,0,0,0,0,0,0,0,0,0,0,0,0,0,0,0]
[0,"10-070200",1,1,0,1,1,0,1,1,1,1,1,0,0,0,0,0,0,0,0,0,0,0,0,0,0,1,1,0,0,0,0,0,0,0,0,0,0,0,0,0,0,0,0,0]
[0,"10-070230",0,0,0,0,0,0,0,0,0,0,0,0,0,0,0,0,0,0,0,0,0,0,0,0,0,0,0,0,0,0,0,0,0,0,0,0,0,0,0,0,0,0,0,0]
[0,"10-070260",0,0,0,0,0,0,0,0,0,0,0,0,0,0,0,0,0,0,0,0,0,0,0,0,0,0,0,0,0,0,0,0,0,0,0,0,0,0,0,0,0,0,0,0]
[0,"10-070300",0,0,0,0,0,0,0,0,0,0,0,0,0,0,0,0,0,0,0,0,0,0,0,0,0,0,0,0,0,0,0,0,0,0,0,0,0,0,0,0,0,0,0,0]
[0,"10-090040",1,1,0,1,1,0,1,1,1,1,0,0,0,0,0,0,0,0,0,0,0,0,0,0,0,0,0,0,0,0,0,0,0,0,0,0,1,0,0,0,0,0,0,0]
[0,"10-090050",1,1,0,1,1,0,1,1,1,1,1,0,1,0,0,0,0,0,0,0,0,0,0,0,0,0,0,0,0,0,0,0,0,0,0,0,1,0,0,0,0,0,0,0]
[0,"10-090060",1,1,0,1,1,0,1,1,1,1,1,0,1,0,0,0,0,0,0,0,0,0,0,0,0,0,0,0,0,0,0,0,0,0,0,0,1,0,0,0,0,0,0,0]
[0,"10-090070",1,1,0,1,1,0,1,1,1,1,1,0,1,0,0,0,0,0,0,0,0,0,0,0,0,0,0,0,0,0,0,0,0,0,0,0,1,0,0,0,0,0,0,0]
[0,"10-090080",1,1,0,1,1,0,1,1,1,1,1,0,1,0,0,0,0,0,0,0,0,0,0,0,0,0,0,0,0,0,0,0,0,0,0,0,1,0,0,0,0,0,0,0]
[0,"10-090090",1,1,0,1,1,0,1,1,1,1,1,0,1,0,0,0,0,0,0,0,0,0,0,0,0,0,0,0,0,0,0,0,0,0,0,0,1,0,0,0,0,0,0,0]
[0,"10-090100",1,1,0,1,1,0,1,1,1,1,1,0,1,0,0,0,0,0,0,0,0,0,0,0,0,0,0,0,0,0,0,0,0,0,0,0,1,0,0,0,0,0,0,0]
[0,"10-090110",1,1,0,1,1,0,1,1,1,0,0,0,0,0,0,0,0,0,0,0,0,0,0,0,0,0,0,0,0,0,0,0,0,0,0,0,1,0,0,0,0,0,0,0]
[0,"10-090120",1,1,0,1,1,0,1,1,1,0,0,0,0,0,0,0,0,0,0,0,0,0,0,0,0,0,0,0,0,0,0,0,0,0,0,0,1,0,0,0,0,0,0,0]
[0,"10-090140",1,1,0,1,1,0,1,1,1,0,0,0,0,0,0,0,0,0,0,0,0,0,0,0,0,0,0,0,0,0,0,0,0,0,0,0,1,0,0,0,0,0,0,0]
[0,"10-090160",1,1,0,1,1,0,1,1,1,0,0,0,0,0,0,0,0,0,0,0,0,0,0,0,0,0,0,0,0,0,0,0,0,0,0,0,1,0,0,0,0,0,0,0]
[0,"10-090180",0,0,0,0,0,0,0,0,0,0,0,0,0,0,0,0,0,0,0,0,0,0,0,0,0,0,0,0,0,0,0,0,0,0,0,0,0,0,0,0,0,0,0,0]
[0,"10-090200",0,0,0,0,0,0,0,0,0,0,0,0,0,0,0,0,0,0,0,0,0,0,0,0,0,0,0,0,0,0,0,0,0,0,0,0,0,0,0,0,0,0,0,0]
[0,"10-090230",0,0,0,0,0,0,0,0,0,0,0,0,0,0,0,0,0,0,0,0,0,0,0,0,0,0,0,0,0,0,0,0,0,0,0,0,0,0,0,0,0,0,0,0]
[0,"10-090260",0,0,0,0,0,0,0,0,0,0,0,0,0,0,0,0,0,0,0,0,0,0,0,0,0,0,0,0,0,0,0,0,0,0,0,0,0,0,0,0,0,0,0,0]
[0,"10-090300",0,0,0,0,0,0,0,0,0,0,0,0,0,0,0,0,0,0,0,0,0,0,0,0,0,0,0,0,0,0,0,0,0,0,0,0,0,0,0,0,0,0,0,0]
[0,"11-020040",0,0,0,0,0,0,0,0,0,0,0,0,0,0,0,0,0,0,0,0,0,0,0,0,0,0,0,0,0,0,0,0,0,0,0,0,0,0,0,0,0,0,0,0]
[0,"11-020050",0,0,0,0,0,0,0,0,0,0,0,0,0,0,0,0,0,0,0,0,0,0,0,0,0,0,0,0,0,0,0,0,0,0,0,0,0,0,0,0,0,0,0,0]
[0,"11-020060",0,0,0,0,0,0,0,0,0,0,0,0,0,0,0,0,0,0,0,0,0,0,0,0,0,0,0,0,0,0,0,0,0,0,0,0,0,0,0,0,0,0,0,0]
[0,"11-020070",0,0,0,0,0,0,0,0,0,0,0,0,0,0,0,0,0,0,0,0,0,0,0,0,0,0,0,0,0,0,0,0,0,0,0,0,0,0,0,0,0,0,0,0]
[0,"11-020080",0,0,0,0,0,0,0,0,0,0,0,0,0,0,0,0,0,0,0,0,0,0,0,0,0,0,0,0,0,0,0,0,0,0,0,0,0,0,0,0,0,0,0,0]
[0,"11-020090",0,0,0,0,0,0,0,0,0,0,0,0,0,0,0,0,0,0,0,0,0,0,0,0,0,0,0,0,0,0,0,0,0,0,0,0,0,0,0,0,0,0,0,0]
[0,"11-020100",0,0,0,0,0,0,0,0,0,0,0,0,0,0,0,0,0,0,0,0,0,0,0,0,0,0,0,0,0,0,0,0,0,0,0,0,0,0,0,0,0,0,0,0]
[0,"11-020110",0,0,0,0,0,0,0,0,0,0,0,0,0,0,0,0,0,0,0,0,0,0,0,0,0,0,0,0,0,0,0,0,0,0,0,0,0,0,0,0,0,0,0,0]
[0,"11-020120",0,0,0,0,0,0,0,0,0,0,0,0,0,0,0,0,0,0,0,0,0,0,0,0,0,0,0,0,0,0,0,0,0,0,0,0,0,0,0,0,0,0,0,0]
[0,"11-020140",0,0,0,0,0,0,0,0,0,0,0,0,0,0,0,0,0,0,0,0,0,0,0,0,0,0,0,0,0,0,0,0,0,0,0,0,0,0,0,0,0,0,0,0]
[0,"11-020160",0,0,0,0,0,0,0,0,0,0,0,0,0,0,0,0,0,0,0,0,0,0,0,0,0,0,0,0,0,0,0,0,0,0,0,0,0,0,0,0,0,0,0,0]
[0,"11-020180",0,0,0,0,0,0,0,0,0,0,0,0,0,0,0,0,0,0,0,0,0,0,0,0,0,0,0,0,0,0,0,0,0,0,0,0,0,0,0,0,0,0,0,0]
[0,"11-020200",0,0,0,0,0,0,0,0,0,0,0,0,0,0,0,0,0,0,0,0,0,0,0,0,0,0,0,0,0,0,0,0,0,0,0,0,0,0,0,0,0,0,0,0]
[0,"11-020230",0,0,0,0,0,0,0,0,0,0,0,0,0,0,0,0,0,0,0,0,0,0,0,0,0,0,0,0,0,0,0,0,0,0,0,0,0,0,0,0,0,0,0,0]
[0,"11-020260",0,0,0,0,0,0,0,0,0,0,0,0,0,0,0,0,0,0,0,0,0,0,0,0,0,0,0,0,0,0,0,0,0,0,0,0,0,0,0,0,0,0,0,0]
[0,"11-020300",0,0,0,0,0,0,0,0,0,0,0,0,0,0,0,0,0,0,0,0,0,0,0,0,0,0,0,0,0,0,0,0,0,0,0,0,0,0,0,0,0,0,0,0]
[{"$f":"SUMIF($C$5:$BE$5,$A$7,$C136:$BE136)","v":0},"11-030040",1,0,0,1,1,0,1,0,1,1,0,0,0,1,0,1,0,1,1,1,1,1,1,0,0,0,0,0,0,1,1,1,0,0,1,1,1,0,1,1,1,1,1,0]
[1,"11-030050",1,0,0,1,1,0,1,0,1,1,1,0,0,1,0,1,0,1,1,1,1,1,1,1,1,0,0,0,0,1,1,1,0,0,1,1,1,0,1,1,1,1,1,0]
[1,"11-030060",1,0,0,1,1,0,1,0,1,1,1,0,0,1,0,1,0,1,1,1,1,1,1,1,1,0,0,0,0,1,1,1,0,0,1,1,1,0,1,1,1,1,1,0]
[1,"11-030070",1,0,0,1,1,0,1,0,1,1,1,0,0,1,0,1,0,1,1,1,1,1,1,1,1,0,0,0,0,1,1,1,0,0,1,1,1,0,1,1,1,1,1,0]
[1,"11-030080",1,0,0,1,1,0,1,0,1,1,1,0,0,1,0,1,0,1,1,1,1,1,1,1,1,0,0,0,0,0,0,0,0,0,1,1,1,0,1,1,1,1,1,0]
[1,"11-030090",1,0,0,1,1,0,1,0,1,1,1,0,0,1,0,1,0,1,1,1,1,1,1,1,1,0,0,0,0,0,0,0,0,0,1,1,1,0,1,1,1,1,1,0]
[1,"11-030100",1,0,0,1,1,0,1,0,1,1,1,0,0,1,0,1,0,1,1,1,1,1,1,1,1,0,0,0,0,0,0,0,0,0,1,1,1,0,1,1,1,1,1,0]
[1,"11-030110",1,0,0,1,1,0,1,0,1,1,1,0,0,1,0,1,0,1,1,1,1,1,1,1,1,0,0,0,0,0,0,0,0,0,1,1,1,0,1,1,1,1,1,0]
[1,"11-030120",1,0,0,1,1,0,1,0,1,1,1,0,0,1,0,1,0,1,1,1,1,1,1,1,1,0,0,0,0,0,0,0,0,0,1,1,1,0,1,1,1,1,1,0]
[1,"11-030140",1,0,0,1,1,0,1,0,1,1,1,0,0,1,0,1,0,1,1,1,1,1,1,1,1,0,0,0,0,0,0,0,0,0,1,1,1,0,1,1,1,1,1,0]
[1,"11-030160",1,0,0,1,1,0,1,0,1,1,1,0,0,1,0,1,0,1,1,1,1,1,1,1,1,0,0,0,0,0,0,0,0,0,1,1,1,0,1,1,1,1,1,0]
[1,"11-030180",1,0,0,1,1,0,1,0,1,1,1,0,0,1,0,1,0,1,1,1,1,1,1,1,1,0,0,0,0,0,0,0,0,0,1,1,1,0,1,1,1,1,1,0]
[1,"11-030200",1,0,0,1,1,0,1,0,1,1,1,0,0,1,0,1,0,1,1,1,1,1,1,1,1,0,0,0,0,0,0,0,0,0,1,1,1,0,1,1,1,1,1,0]
[0,"11-030230",0,0,0,0,0,0,0,0,0,0,0,0,0,0,0,0,0,0,0,0,0,0,0,0,0,0,0,0,0,0,0,0,0,0,0,0,0,0,0,0,0,0,0,0]
[0,"11-030260",0,0,0,0,0,0,0,0,0,0,0,0,0,0,0,0,0,0,0,0,0,0,0,0,0,0,0,0,0,0,0,0,0,0,0,0,0,0,0,0,0,0,0,0]
[0,"11-030300",0,0,0,0,0,0,0,0,0,0,0,0,0,0,0,0,0,0,0,0,0,0,0,0,0,0,0,0,0,0,0,0,0,0,0,0,0,0,0,0,0,0,0,0]
[0,"11-040040",1,0,0,1,1,0,1,0,1,1,0,0,0,1,0,1,0,1,1,1,1,1,1,0,0,0,0,0,0,1,1,1,0,0,1,1,1,0,1,1,1,1,1,0]
[1,"11-040050",1,0,0,1,1,0,1,0,1,1,1,0,0,1,0,1,0,1,1,1,1,1,1,1,1,0,0,0,0,1,1,1,0,0,1,1,1,0,1,1,1,1,1,0]
[1,"11-040060",1,0,0,1,1,0,1,0,1,1,1,0,0,1,0,1,0,1,1,1,1,1,1,1,1,0,0,0,0,1,1,1,0,0,1,1,1,0,1,1,1,1,1,0]
[1,"11-040070",1,0,0,1,1,0,1,0,1,1,1,0,0,1,0,1,0,1,1,1,1,1,1,1,1,0,0,0,0,1,1,1,0,0,1,1,1,0,1,1,1,1,1,0]
[1,"11-040080",1,0,0,1,1,0,1,0,1,1,1,0,0,1,0,1,0,1,1,1,1,1,1,1,1,0,0,0,0,0,0,0,0,0,1,1,1,0,1,1,1,1,1,0]
[1,"11-040090",1,0,0,1,1,0,1,0,1,1,1,0,0,1,0,1,0,1,1,1,1,1,1,1,1,0,0,0,0,0,0,0,0,0,1,1,1,0,1,1,1,1,1,0]
[1,"11-040100",1,0,0,1,1,0,1,0,1,1,1,0,0,1,0,1,0,1,1,1,1,1,1,1,1,0,0,0,0,0,0,0,0,0,1,1,1,0,1,1,1,1,1,0]
[1,"11-040110",1,0,0,1,1,0,1,0,1,1,1,0,0,1,0,1,0,1,1,1,1,1,1,1,1,0,0,0,0,0,0,0,0,0,1,1,1,0,1,1,1,1,1,0]
[1,"11-040120",1,0,0,1,1,0,1,0,1,1,1,0,0,1,0,1,0,1,1,1,1,1,1,1,1,0,0,0,0,0,0,0,0,0,1,1,1,0,1,1,1,1,1,0]
[1,"11-040140",1,0,0,1,1,0,1,0,1,1,1,0,0,1,0,1,0,1,1,1,1,1,1,1,1,0,0,0,0,0,0,0,0,0,1,1,1,0,1,1,1,1,1,0]
[1,"11-040160",1,0,0,1,1,0,1,0,1,1,1,0,0,1,0,1,0,1,1,1,1,1,1,1,1,0,0,0,0,0,0,0,0,0,1,1,1,0,1,1,1,1,1,0]
[1,"11-040180",1,0,0,1,1,0,1,0,1,1,1,0,0,1,0,1,0,1,1,1,1,1,1,1,1,0,0,0,0,0,0,0,0,0,1,1,1,0,1,1,1,1,1,0]
[1,"11-040200",1,0,0,1,1,0,1,0,1,1,1,0,0,1,0,1,0,1,1,1,1,1,1,1,1,0,0,0,0,0,0,0,0,0,1,1,1,0,1,1,1,1,1,0]
[0,"11-040230",0,0,0,0,0,0,0,0,0,0,0,0,0,0,0,0,0,0,0,0,0,0,0,0,0,0,0,0,0,0,0,0,0,0,0,0,0,0,0,0,0,0,0,0]
[0,"11-040260",0,0,0,0,0,0,0,0,0,0,0,0,0,0,0,0,0,0,0,0,0,0,0,0,0,0,0,0,0,0,0,0,0,0,0,0,0,0,0,0,0,0,0,0]
[0,"11-040300",0,0,0,0,0,0,0,0,0,0,0,0,0,0,0,0,0,0,0,0,0,0,0,0,0,0,0,0,0,0,0,0,0,0,0,0,0,0,0,0,0,0,0,0]
[0,"11-050040",1,0,0,1,1,0,1,0,1,1,0,0,0,1,0,1,0,1,1,1,1,1,1,0,0,0,0,0,0,1,1,1,0,0,1,1,1,0,1,1,1,1,1,0]
[1,"11-050050",1,0,0,1,1,0,1,0,1,1,1,0,0,1,0,1,0,1,1,1,1,1,1,1,1,0,0,0,0,1,1,1,0,0,1,1,1,0,1,1,1,1,1,0]
[1,"11-050060",1,0,0,1,1,0,1,0,1,1,1,0,0,1,0,1,0,1,1,1,1,1,1,1,1,0,0,0,0,1,1,1,0,0,1,1,1,0,1,1,1,1,1,0]
[1,"11-050070",1,0,0,1,1,0,1,0,1,1,1,0,0,1,0,1,0,1,1,1,1,1,1,1,1,0,0,0,0,1,1,1,0,0,1,1,1,0,1,1,1,1,1,0]
[1,"11-050080",1,0,0,1,1,0,1,0,1,1,1,0,0,1,0,1,0,1,1,1,1,1,1,1,1,0,0,0,0,0,0,0,0,0,1,1,1,0,1,1,1,1,1,0]
[1,"11-050090",1,0,0,1,1,0,1,0,1,1,1,0,0,1,0,1,0,1,1,1,1,1,1,1,1,0,0,0,0,0,0,0,0,0,1,1,1,0,1,1,1,1,1,0]
[1,"11-050100",1,0,0,1,1,0,1,0,1,1,1,0,0,1,0,1,0,1,1,1,1,1,1,1,1,0,0,0,0,0,0,0,0,0,1,1,1,0,1,1,1,1,1,0]
[1,"11-050110",1,0,0,1,1,0,1,0,1,1,1,0,0,1,0,1,0,1,1,1,1,1,1,1,1,0,0,0,0,0,0,0,0,0,1,1,1,0,1,1,1,1,1,0]
[1,"11-050120",1,0,0,1,1,0,1,0,1,1,1,0,0,1,0,1,0,1,1,1,1,1,1,1,1,0,0,0,0,0,0,0,0,0,1,1,1,0,1,1,1,1,1,0]
[1,"11-050140",1,0,0,1,1,0,1,0,1,1,1,0,0,1,0,1,0,1,1,1,1,1,1,1,1,0,0,0,0,0,0,0,0,0,1,1,1,0,1,1,1,1,1,0]
[1,"11-050160",1,0,0,1,1,0,1,0,1,1,1,0,0,1,0,1,0,1,1,1,1,1,1,1,1,0,0,0,0,0,0,0,0,0,1,1,1,0,1,1,1,1,1,0]
[1,"11-050180",1,0,0,1,1,0,1,0,1,1,1,0,0,1,0,1,0,1,1,1,1,1,1,1,1,0,0,0,0,0,0,0,0,0,1,1,1,0,1,1,1,1,1,0]
[1,"11-050200",1,0,0,1,1,0,1,0,1,1,1,0,0,1,0,1,0,1,1,1,1,1,1,1,1,0,0,0,0,0,0,0,0,0,1,1,1,0,1,1,1,1,1,0]
[0,"11-050230",1,0,0,0,1,0,1,0,0,1,1,0,0,0,0,0,0,0,0,0,0,0,0,0,0,0,0,0,0,0,0,0,0,0,1,1,1,0,1,1,1,1,1,0]
[0,"11-050260",1,0,0,0,1,0,1,0,0,0,0,0,0,0,0,0,0,0,0,0,0,0,0,0,0,0,0,0,0,0,0,0,0,0,1,1,1,0,1,1,1,0,1,0]
[0,"11-050300",1,0,0,0,1,0,1,0,0,0,0,0,0,0,0,0,0,0,0,0,0,0,0,0,0,0,0,0,0,0,0,0,0,0,1,1,1,0,1,1,1,0,1,0]
[0,"11-060040",1,0,0,1,1,0,1,0,1,1,0,0,0,1,0,1,0,1,1,1,1,1,1,0,0,0,0,0,0,1,1,1,0,0,1,1,1,1,1,1,1,1,1,0]
[1,"11-060050",1,0,0,1,1,0,1,0,1,1,1,0,0,1,0,1,0,1,1,1,1,1,1,1,1,0,0,0,0,1,1,1,0,0,1,1,1,1,1,1,1,1,1,0]
[1,"11-060060",1,0,0,1,1,0,1,0,1,1,1,0,0,1,0,1,0,1,1,1,1,1,1,1,1,0,0,0,0,1,1,1,0,0,1,1,1,1,1,1,1,1,1,0]
[1,"11-060070",1,0,0,1,1,0,1,0,1,1,1,0,0,1,0,1,0,1,1,1,1,1,1,1,1,0,0,0,0,1,1,1,0,0,1,1,1,1,1,1,1,1,1,0]
[1,"11-060080",1,0,0,1,1,0,1,0,1,1,1,0,0,1,0,1,0,1,1,1,1,1,1,1,1,0,0,0,0,0,0,0,0,0,1,1,1,1,1,1,1,1,1,0]
[1,"11-060090",1,0,0,1,1,0,1,0,1,1,1,0,0,1,0,1,0,1,1,1,1,1,1,1,1,0,0,0,0,0,0,0,0,0,1,1,1,1,1,1,1,1,1,0]
[1,"11-060100",1,0,0,1,1,0,1,0,1,1,1,0,0,1,0,1,0,1,1,1,1,1,1,1,1,0,0,0,0,0,0,0,0,0,1,1,1,1,1,1,1,1,1,0]
[1,"11-060110",1,0,0,1,1,0,1,0,1,1,1,0,0,1,0,1,0,1,1,1,1,1,1,1,1,0,0,0,0,0,0,0,0,0,1,1,1,1,1,1,1,1,1,0]
[1,"11-060120",1,0,0,1,1,0,1,0,1,1,1,0,0,1,0,1,0,1,1,1,1,1,1,1,1,0,0,0,0,0,0,0,0,0,1,1,1,1,1,1,1,1,1,0]
[1,"11-060140",1,0,0,1,1,0,1,0,1,1,1,0,0,1,0,1,0,1,1,1,1,1,1,1,1,0,0,0,0,0,0,0,0,0,1,1,1,1,1,1,1,1,1,0]
[1,"11-060160",1,0,0,1,1,0,1,0,1,1,1,0,0,1,0,1,0,1,1,1,1,1,1,1,1,0,0,0,0,0,0,0,0,0,1,1,1,1,1,1,1,1,1,0]
[1,"11-060180",1,0,0,1,1,0,1,0,1,1,1,0,0,1,0,1,0,1,1,1,1,1,1,1,1,0,0,0,0,0,0,0,0,0,1,1,1,1,1,1,1,1,1,0]
[1,"11-060200",1,0,0,1,1,0,1,0,1,1,1,0,0,1,0,1,0,1,1,1,1,1,1,1,1,0,0,0,0,0,0,0,0,0,1,1,1,1,1,1,1,1,1,0]
[0,"11-060230",1,0,0,0,1,0,1,0,0,1,1,0,0,0,0,0,0,0,0,0,0,0,0,0,0,0,0,0,0,0,0,0,0,0,1,1,1,0,1,1,1,1,1,0]
[0,"11-060260",1,0,0,0,1,0,1,0,0,0,0,0,0,0,0,0,0,0,0,0,0,0,0,0,0,0,0,0,0,0,0,0,0,0,1,1,1,0,1,1,1,0,1,0]
[0,"11-060300",1,0,0,0,1,0,1,0,0,0,0,0,0,0,0,0,0,0,0,0,0,0,0,0,0,0,0,0,0,0,0,0,0,0,1,1,1,0,1,1,1,0,1,0]
[{"$f":"SUMIF($C$5:$BE$5,$A$7,$C200:$BE200)","v":0},"11-070040",1,0,0,1,1,0,1,0,1,1,0,0,0,1,0,1,0,1,1,1,1,1,1,0,0,0,0,0,0,0,0,0,0,0,0,0,0,0,0,0,0,1,0,0]
[1,"11-070050",1,0,0,1,1,0,1,0,1,1,1,0,0,1,0,1,0,1,1,1,1,1,1,1,1,0,0,0,0,0,0,0,0,0,0,0,0,0,0,0,0,1,0,0]
[1,"11-070060",1,0,0,1,1,0,1,0,1,1,1,0,0,1,0,1,0,1,1,1,1,1,1,1,1,0,0,0,0,0,0,0,0,0,0,0,0,0,0,0,0,1,0,0]
[1,"11-070070",1,0,0,1,1,0,1,0,1,1,1,0,0,1,0,1,0,1,1,1,1,1,1,1,1,0,0,0,0,0,0,0,0,0,0,0,0,0,0,0,0,1,0,0]
[1,"11-070080",1,0,0,1,1,0,1,0,1,1,1,0,0,1,0,1,0,1,1,1,1,1,1,1,1,0,0,0,0,0,0,0,0,0,0,0,0,0,0,0,0,1,0,0]
[1,"11-070090",1,0,0,1,1,0,1,0,1,1,1,0,0,1,0,1,0,1,1,1,1,1,1,1,1,0,0,0,0,0,0,0,0,0,0,0,0,0,0,0,0,1,0,0]
[1,"11-070100",1,0,0,1,1,0,1,0,1,1,1,0,0,1,0,1,0,1,1,1,1,1,1,1,1,0,0,0,0,0,0,0,0,0,0,0,0,0,0,0,0,1,0,0]
[1,"11-070110",1,0,0,1,1,0,1,0,1,1,1,0,0,1,0,1,0,1,1,1,1,1,1,1,1,0,0,0,0,0,0,0,0,0,0,0,0,0,0,0,0,1,0,0]
[1,"11-070120",1,0,0,1,1,0,1,0,1,1,1,0,0,1,0,1,0,1,1,1,1,1,1,1,1,0,0,0,0,0,0,0,0,0,0,0,0,0,0,0,0,1,0,0]
[1,"11-070140",1,0,0,1,1,0,1,0,1,1,1,0,0,1,0,1,0,1,1,1,1,1,1,1,1,0,0,0,0,0,0,0,0,0,0,0,0,0,0,0,0,1,0,0]
[1,"11-070160",1,0,0,1,1,0,1,0,1,1,1,0,0,1,0,1,0,1,1,1,1,1,1,1,1,0,0,0,0,0,0,0,0,0,0,0,0,0,0,0,0,1,0,0]
[1,"11-070180",1,0,0,1,1,0,1,0,1,1,1,0,0,1,0,1,0,1,1,1,1,1,1,1,1,0,0,0,0,0,0,0,0,0,0,0,0,0,0,0,0,1,0,0]
[1,"11-070200",1,0,0,1,1,0,1,0,1,1,1,0,0,1,0,1,0,1,1,1,1,1,1,1,1,0,0,0,0,0,0,0,0,0,0,0,0,0,0,0,0,1,0,0]
[0,"11-070230",1,0,0,0,1,0,1,0,0,1,1,0,0,0,0,0,0,0,0,0,0,0,0,0,0,0,0,0,0,0,0,0,0,0,0,0,0,0,0,0,0,1,0,0]
[0,"11-070260",1,0,0,0,1,0,1,0,0,0,0,0,0,0,0,0,0,0,0,0,0,0,0,0,0,0,0,0,0,0,0,0,0,0,0,0,0,0,0,0,0,0,0,0]
[0,"11-070300",1,0,0,0,1,0,1,0,0,0,0,0,0,0,0,0,0,0,0,0,0,0,0,0,0,0,0,0,0,0,0,0,0,0,0,0,0,0,0,0,0,0,0,0]
[0,"11-090040",1,0,0,1,1,0,1,0,1,1,0,0,0,1,0,1,0,1,1,1,1,1,1,0,0,0,0,0,0,0,0,0,0,0,1,1,1,0,1,1,1,1,1,0]
[1,"11-090050",1,0,0,1,1,0,1,0,1,1,1,0,0,1,0,1,0,1,1,1,1,1,1,1,1,0,0,0,0,0,0,0,0,0,1,1,1,0,1,1,1,1,1,0]
[1,"11-090060",1,0,0,1,1,0,1,0,1,1,1,0,0,1,0,1,0,1,1,1,1,1,1,1,1,0,0,0,0,0,0,0,0,0,1,1,1,0,1,1,1,1,1,0]
[1,"11-090070",1,0,0,1,1,0,1,0,1,1,1,0,0,1,0,1,0,1,1,1,1,1,1,1,1,0,0,0,0,0,0,0,0,0,1,1,1,0,1,1,1,1,1,0]
[1,"11-090080",1,0,0,1,1,0,1,0,1,1,1,0,0,1,0,1,0,1,1,1,1,1,1,1,1,0,0,0,0,0,0,0,0,0,1,1,1,0,1,1,1,1,1,0]
[1,"11-090090",1,0,0,1,1,0,1,0,1,1,1,0,0,1,0,1,0,1,1,1,1,1,1,1,1,0,0,0,0,0,0,0,0,0,1,1,1,0,1,1,1,1,1,0]
[1,"11-090100",1,0,0,1,1,0,1,0,1,1,1,0,0,1,0,1,0,1,1,1,1,1,1,1,1,0,0,0,0,0,0,0,0,0,1,1,1,0,1,1,1,1,1,0]
[1,"11-090110",1,0,0,1,1,0,1,0,1,1,1,0,0,1,0,1,0,1,1,1,1,1,1,1,1,0,0,0,0,0,0,0,0,0,1,1,1,0,1,1,1,1,1,0]
[1,"11-090120",1,0,0,1,1,0,1,0,1,1,1,0,0,1,0,1,0,1,1,1,1,1,1,1,1,0,0,0,0,0,0,0,0,0,1,1,1,0,1,1,1,1,1,0]
[1,"11-090140",1,0,0,1,1,0,1,0,1,1,1,0,0,1,0,1,0,1,1,1,1,1,1,1,1,0,0,0,0,0,0,0,0,0,1,1,1,0,1,1,1,1,1,0]
[1,"11-090160",1,0,0,1,1,0,1,0,1,1,1,0,0,1,0,1,0,1,1,1,1,1,1,1,1,0,0,0,0,0,0,0,0,0,1,1,1,0,1,1,1,1,1,0]
[0,"11-090180",0,0,0,0,0,0,0,0,0,0,0,0,0,0,0,0,0,0,0,0,0,0,0,0,0,0,0,0,0,0,0,0,0,0,0,0,0,0,0,0,0,1,0,0]
[0,"11-090200",0,0,0,0,0,0,0,0,0,0,0,0,0,0,0,0,0,0,0,0,0,0,0,0,0,0,0,0,0,0,0,0,0,0,0,0,0,0,0,0,0,1,0,0]
[0,"11-090230",0,0,0,0,0,0,0,0,0,0,0,0,0,0,0,0,0,0,0,0,0,0,0,0,0,0,0,0,0,0,0,0,0,0,0,0,0,0,0,0,0,0,0,0]
[0,"11-090260",0,0,0,0,0,0,0,0,0,0,0,0,0,0,0,0,0,0,0,0,0,0,0,0,0,0,0,0,0,0,0,0,0,0,0,0,0,0,0,0,0,0,0,0]
[0,"11-090300",0,0,0,0,0,0,0,0,0,0,0,0,0,0,0,0,0,0,0,0,0,0,0,0,0,0,0,0,0,0,0,0,0,0,0,0,0,0,0,0,0,0,0,0]
[0,"20-020040",0,0,0,0,0,0,0,0,0,0,0,0,0,0,0,0,0,0,0,0,0,0,0,0,0,0,0,0,0,0,0,0,0,0,0,0,0,0,0,0,0,0,0,0]
[0,"20-020050",0,0,0,0,0,0,0,0,0,0,0,0,0,0,0,0,0,0,0,0,0,0,0,0,0,0,0,0,0,0,0,0,0,0,0,0,0,0,0,0,0,0,0,0]
[0,"20-020060",0,0,0,0,0,0,0,0,0,0,0,0,0,0,0,0,0,0,0,0,0,0,0,0,0,0,0,0,0,0,0,0,0,0,0,0,0,0,0,0,0,0,0,0]
[0,"20-020070",0,0,0,0,0,0,0,0,0,0,0,0,0,0,0,0,0,0,0,0,0,0,0,0,0,0,0,0,0,0,0,0,0,0,0,0,0,0,0,0,0,0,0,0]
[0,"20-020080",0,0,0,0,0,0,0,0,0,0,0,0,0,0,0,0,0,0,0,0,0,0,0,0,0,0,0,0,0,0,0,0,0,0,0,0,0,0,0,0,0,0,0,0]
[0,"20-020090",0,0,0,0,0,0,0,0,0,0,0,0,0,0,0,0,0,0,0,0,0,0,0,0,0,0,0,0,0,0,0,0,0,0,0,0,0,0,0,0,0,0,0,0]
[0,"20-020100",0,0,0,0,0,0,0,0,0,0,0,0,0,0,0,0,0,0,0,0,0,0,0,0,0,0,0,0,0,0,0,0,0,0,0,0,0,0,0,0,0,0,0,0]
[0,"20-020110",0,0,0,0,0,0,0,0,0,0,0,0,0,0,0,0,0,0,0,0,0,0,0,0,0,0,0,0,0,0,0,0,0,0,0,0,0,0,0,0,0,0,0,0]
[0,"20-020120",0,0,0,0,0,0,0,0,0,0,0,0,0,0,0,0,0,0,0,0,0,0,0,0,0,0,0,0,0,0,0,0,0,0,0,0,0,0,0,0,0,0,0,0]
[0,"20-020140",0,0,0,0,0,0,0,0,0,0,0,0,0,0,0,0,0,0,0,0,0,0,0,0,0,0,0,0,0,0,0,0,0,0,0,0,0,0,0,0,0,0,0,0]
[0,"20-020160",0,0,0,0,0,0,0,0,0,0,0,0,0,0,0,0,0,0,0,0,0,0,0,0,0,0,0,0,0,0,0,0,0,0,0,0,0,0,0,0,0,0,0,0]
[0,"20-020180",0,0,0,0,0,0,0,0,0,0,0,0,0,0,0,0,0,0,0,0,0,0,0,0,0,0,0,0,0,0,0,0,0,0,0,0,0,0,0,0,0,0,0,0]
[0,"20-020200",0,0,0,0,0,0,0,0,0,0,0,0,0,0,0,0,0,0,0,0,0,0,0,0,0,0,0,0,0,0,0,0,0,0,0,0,0,0,0,0,0,0,0,0]
[0,"20-020230",0,0,0,0,0,0,0,0,0,0,0,0,0,0,0,0,0,0,0,0,0,0,0,0,0,0,0,0,0,0,0,0,0,0,0,0,0,0,0,0,0,0,0,0]
[0,"20-020260",0,0,0,0,0,0,0,0,0,0,0,0,0,0,0,0,0,0,0,0,0,0,0,0,0,0,0,0,0,0,0,0,0,0,0,0,0,0,0,0,0,0,0,0]
[0,"20-020300",0,0,0,0,0,0,0,0,0,0,0,0,0,0,0,0,0,0,0,0,0,0,0,0,0,0,0,0,0,0,0,0,0,0,0,0,0,0,0,0,0,0,0,0]
[0,"20-030040",0,0,0,0,0,0,0,0,0,0,0,0,0,0,0,0,0,0,0,0,0,0,0,0,0,0,0,1,1,1,1,1,0,0,0,0,0,0,0,0,0,0,0,0]
[0,"20-030050",0,0,0,0,0,0,0,0,0,0,0,1,0,0,0,0,0,0,0,0,0,0,0,0,0,0,0,0,0,1,1,1,0,0,0,0,0,0,0,0,0,0,0,0]
[0,"20-030060",0,0,0,0,0,0,0,0,0,0,0,1,0,0,0,0,0,0,0,0,0,0,0,0,0,0,0,1,1,1,1,1,0,0,0,0,0,0,0,0,0,0,0,0]
[0,"20-030070",0,0,0,0,0,0,0,0,0,0,0,1,0,0,0,0,0,0,0,0,0,0,0,0,0,0,0,0,0,1,1,1,0,0,0,0,0,0,0,0,0,0,0,0]
[0,"20-030080",0,0,0,0,0,0,0,0,0,0,0,1,0,0,0,0,0,0,0,0,0,0,0,0,0,0,0,0,0,0,0,0,0,0,0,0,0,0,0,0,0,0,0,0]
[0,"20-030090",0,0,0,0,0,0,0,0,0,0,0,1,0,0,0,0,0,0,0,0,0,0,0,0,0,0,0,1,1,0,0,0,0,0,0,0,0,0,0,0,0,0,0,0]
[0,"20-030100",0,0,0,0,0,0,0,0,0,0,0,1,0,0,0,0,0,0,0,0,0,0,0,0,0,0,0,0,0,0,0,0,0,0,0,0,0,0,0,0,0,0,0,0]
[0,"20-030110",0,0,0,0,0,0,0,0,0,0,0,1,0,0,0,0,0,0,0,0,0,0,0,0,0,0,0,0,0,0,0,0,0,0,0,0,0,0,0,0,0,0,0,0]
[0,"20-030120",0,0,0,0,0,0,0,0,0,0,0,1,0,0,0,0,0,0,0,0,0,0,0,0,0,0,0,0,0,0,0,0,0,0,0,0,0,0,0,0,0,0,0,0]
[0,"20-030140",0,0,0,0,0,0,0,0,0,0,0,1,0,0,0,0,0,0,0,0,0,0,0,0,0,0,0,0,0,0,0,0,0,0,0,0,0,0,0,0,0,0,0,0]
[0,"20-030160",0,0,0,0,0,0,0,0,0,0,0,1,0,0,0,0,0,0,0,0,0,0,0,0,0,0,0,0,0,0,0,0,0,0,0,0,0,0,0,0,0,0,0,0]
[0,"20-030180",0,0,0,0,0,0,0,0,0,0,0,1,0,0,0,0,0,0,0,0,0,0,0,0,0,0,0,0,0,0,0,0,0,0,0,0,0,0,0,0,0,0,0,0]
[0,"20-030200",0,0,0,0,0,0,0,0,0,0,0,1,0,0,0,0,0,0,0,0,0,0,0,0,0,0,0,0,0,0,0,0,0,0,0,0,0,0,0,0,0,0,0,0]
[0,"20-030230",0,0,0,0,0,0,0,0,0,0,0,1,0,0,0,0,0,0,0,0,0,0,0,0,0,0,0,0,0,0,0,0,0,0,0,0,0,0,0,0,0,0,0,0]
[0,"20-030260",0,0,0,0,0,0,0,0,0,0,0,1,0,0,0,0,0,0,0,0,0,0,0,0,0,0,0,0,0,0,0,0,0,0,0,0,0,0,0,0,0,0,0,0]
[0,"20-030300",0,0,0,0,0,0,0,0,0,0,0,1,0,0,0,0,0,0,0,0,0,0,0,0,0,0,0,0,0,0,0,0,0,0,0,0,0,0,0,0,0,0,0,0]
[{"$f":"SUMIF($C$5:$BE$5,$A$7,$C264:$BE264)","v":0},"20-040040",0,0,0,0,0,0,0,0,0,0,0,0,0,0,0,0,0,0,0,0,0,0,0,0,0,0,0,1,1,1,1,1,0,0,0,0,0,0,0,0,0,0,0,0]
[0,"20-040050",0,0,0,0,0,0,0,0,0,0,0,1,1,0,0,0,0,0,0,0,0,0,0,0,0,0,0,0,0,1,1,1,0,0,0,0,0,0,0,0,0,0,0,0]
[0,"20-040060",0,0,0,0,0,0,0,0,0,0,0,1,1,0,0,0,0,0,0,0,0,0,0,0,0,0,0,1,1,1,1,1,0,0,0,0,0,0,0,0,0,0,0,0]
[0,"20-040070",0,0,0,0,0,0,0,0,0,0,0,1,1,0,0,0,0,0,0,0,0,0,0,0,0,0,0,0,0,1,1,1,0,0,0,0,0,0,0,0,0,0,0,0]
[0,"20-040080",0,0,0,0,0,0,0,0,0,0,0,1,1,0,0,0,0,0,0,0,0,0,0,0,0,0,0,0,0,0,0,0,0,0,0,0,0,0,0,0,0,0,0,0]
[0,"20-040090",0,0,0,0,0,0,0,0,0,0,0,1,1,0,0,0,0,0,0,0,0,0,0,0,0,0,0,1,1,0,0,0,0,0,0,0,0,0,0,0,0,0,0,0]
[0,"20-040100",0,0,0,0,0,0,0,0,0,0,0,1,1,0,0,0,0,0,0,0,0,0,0,0,0,0,0,0,0,0,0,0,0,0,0,0,0,0,0,0,0,0,0,0]
[0,"20-040110",0,0,0,0,0,0,0,0,0,0,0,1,1,0,0,0,0,0,0,0,0,0,0,0,0,0,0,0,0,0,0,0,0,0,0,0,0,0,0,0,0,0,0,0]
[0,"20-040120",0,0,0,0,0,0,0,0,0,0,0,1,1,0,0,0,0,0,0,0,0,0,0,0,0,0,0,0,0,0,0,0,0,0,0,0,0,0,0,0,0,0,0,0]
[0,"20-040140",0,0,0,0,0,0,0,0,0,0,0,1,1,0,0,0,0,0,0,0,0,0,0,0,0,0,0,0,0,0,0,0,0,0,0,0,0,0,0,0,0,0,0,0]
[0,"20-040160",0,0,0,0,0,0,0,0,0,0,0,1,1,0,0,0,0,0,0,0,0,0,0,0,0,0,0,0,0,0,0,0,0,0,0,0,0,0,0,0,0,0,0,0]
[0,"20-040180",0,0,0,0,0,0,0,0,0,0,0,1,1,0,0,0,0,0,0,0,0,0,0,0,0,0,0,0,0,0,0,0,0,0,0,0,0,0,0,0,0,0,0,0]
[0,"20-040200",0,0,0,0,0,0,0,0,0,0,0,1,1,0,0,0,0,0,0,0,0,0,0,0,0,0,0,0,0,0,0,0,0,0,0,0,0,0,0,0,0,0,0,0]
[0,"20-040230",0,0,0,0,0,0,0,0,0,0,0,1,0,0,0,0,0,0,0,0,0,0,0,0,0,0,0,0,0,0,0,0,0,0,0,0,0,0,0,0,0,0,0,0]
[0,"20-040260",0,0,0,0,0,0,0,0,0,0,0,1,0,0,0,0,0,0,0,0,0,0,0,0,0,0,0,0,0,0,0,0,0,0,0,0,0,0,0,0,0,0,0,0]
[0,"20-040300",0,0,0,0,0,0,0,0,0,0,0,1,0,0,0,0,0,0,0,0,0,0,0,0,0,0,0,0,0,0,0,0,0,0,0,0,0,0,0,0,0,0,0,0]
[0,"20-050040",1,1,1,0,1,0,0,1,0,1,0,1,0,0,1,0,1,0,0,0,0,1,1,0,0,1,1,1,1,1,1,1,0,0,0,0,1,0,0,0,0,0,0,0]
[1,"20-050050",1,1,1,0,1,0,0,1,0,1,1,1,1,0,1,0,1,0,0,0,0,1,1,1,1,1,1,0,0,1,1,1,0,0,0,0,1,0,0,0,0,0,0,1]
[1,"20-050060",1,1,1,0,1,0,0,1,0,1,1,1,1,0,1,0,1,0,0,0,0,1,1,1,1,1,1,1,1,1,1,1,0,0,0,0,1,0,0,0,0,0,0,1]
[1,"20-050070",1,1,1,0,1,0,0,1,0,1,1,1,1,0,1,0,1,0,0,0,0,1,1,1,1,1,1,0,0,1,1,1,0,0,0,0,1,0,0,0,0,0,0,1]
[1,"20-050080",1,1,1,0,1,0,0,1,0,1,1,1,1,0,1,0,1,0,0,0,0,1,1,1,1,1,1,0,0,0,0,0,0,0,0,0,1,0,0,0,0,0,0,1]
[1,"20-050090",1,1,1,0,1,0,0,1,0,1,1,1,1,0,1,0,1,0,0,0,0,1,1,1,1,1,1,1,1,0,0,0,0,0,0,0,1,0,0,0,0,0,0,1]
[1,"20-050100",1,1,1,0,1,0,0,1,0,1,1,1,1,0,1,0,1,0,0,0,0,1,1,1,1,1,1,0,0,0,0,0,0,0,0,0,1,0,0,0,0,0,0,1]
[1,"20-050110",1,1,1,0,1,0,0,1,0,1,1,1,1,0,1,0,1,0,0,0,0,1,1,1,1,1,1,0,0,0,0,0,0,0,0,0,1,0,0,0,0,0,0,1]
[1,"20-050120",1,1,1,0,1,0,0,1,0,1,1,1,1,0,1,0,1,0,0,0,0,1,1,1,1,1,1,0,0,0,0,0,0,0,0,0,1,0,0,0,0,0,0,1]
[1,"20-050140",1,1,1,0,1,0,0,1,0,1,1,1,1,0,1,0,1,0,0,0,0,1,1,1,1,1,1,0,0,0,0,0,0,0,0,0,1,0,0,0,0,0,0,1]
[1,"20-050160",1,1,1,0,1,0,0,1,0,1,1,1,1,0,1,0,1,0,0,0,0,1,1,1,1,1,1,0,0,0,0,0,0,0,0,0,1,0,0,0,0,0,0,1]
[1,"20-050180",1,1,1,0,1,0,0,1,0,1,1,1,1,0,1,0,1,0,0,0,0,1,1,1,1,1,1,0,0,0,0,0,0,0,0,0,1,0,0,0,0,0,0,1]
[1,"20-050200",1,1,1,0,1,0,0,1,0,1,1,1,1,0,1,0,1,0,0,0,0,1,1,1,1,1,1,0,0,0,0,0,0,0,0,0,1,0,0,0,0,0,0,1]
[0,"20-050230",1,0,0,0,1,0,0,0,0,1,1,1,0,0,0,0,0,0,0,0,0,0,0,0,0,0,0,0,0,0,0,0,0,0,0,0,1,0,0,0,0,0,0,0]
[0,"20-050260",1,0,0,0,1,0,0,0,0,0,0,0,0,0,0,0,0,0,0,0,0,0,0,0,0,0,0,0,0,0,0,0,0,0,0,0,1,0,0,0,0,0,0,0]
[0,"20-050300",1,0,0,0,1,0,0,0,0,0,0,0,0,0,0,0,0,0,0,0,0,0,0,0,0,0,0,0,0,0,0,0,0,0,0,0,1,0,0,0,0,0,0,0]
[0,"20-060040",1,1,0,0,1,0,0,1,0,1,0,1,0,0,0,0,0,0,0,0,0,1,1,0,0,1,1,0,0,1,1,1,0,0,0,0,1,0,0,0,0,0,0,0]
[1,"20-060050",1,1,0,0,1,0,0,1,0,1,1,1,1,0,0,0,0,0,0,0,0,1,1,1,1,1,1,0,0,1,1,1,0,0,0,0,1,0,0,0,0,0,0,1]
[1,"20-060060",1,1,0,0,1,0,0,1,0,1,1,1,1,0,0,0,0,0,0,0,0,1,1,1,1,1,1,0,0,1,1,1,0,0,0,0,1,0,0,0,0,0,0,1]
[1,"20-060070",1,1,0,0,1,0,0,1,0,1,1,1,1,0,0,0,0,0,0,0,0,1,1,1,1,1,1,0,0,1,1,1,0,0,0,0,1,0,0,0,0,0,0,1]
[1,"20-060080",1,1,0,0,1,0,0,1,0,1,1,1,1,0,0,0,0,0,0,0,0,1,1,1,1,1,1,0,0,0,0,0,0,0,0,0,1,0,0,0,0,0,0,1]
[1,"20-060090",1,1,0,0,1,0,0,1,0,1,1,1,1,0,0,0,0,0,0,0,0,1,1,1,1,1,1,0,0,0,0,0,0,0,0,0,1,0,0,0,0,0,0,1]
[1,"20-060100",1,1,0,0,1,0,0,1,0,1,1,1,1,0,0,0,0,0,0,0,0,1,1,1,1,1,1,0,0,0,0,0,0,0,0,0,1,0,0,0,0,0,0,1]
[1,"20-060110",1,1,0,0,1,0,0,1,0,1,1,1,1,0,0,0,0,0,0,0,0,1,1,1,1,1,1,0,0,0,0,0,0,0,0,0,1,0,0,0,0,0,0,1]
[1,"20-060120",1,1,0,0,1,0,0,1,0,1,1,1,1,0,0,0,0,0,0,0,0,1,1,1,1,1,1,0,0,0,0,0,0,0,0,0,1,0,0,0,0,0,0,1]
[1,"20-060140",1,1,0,0,1,0,0,1,0,1,1,1,1,0,0,0,0,0,0,0,0,1,1,1,1,1,1,0,0,0,0,0,0,0,0,0,1,0,0,0,0,0,0,1]
[1,"20-060160",1,1,0,0,1,0,0,1,0,1,1,1,1,0,0,0,0,0,0,0,0,1,1,1,1,1,1,0,0,0,0,0,0,0,0,0,1,0,0,0,0,0,0,1]
[1,"20-060180",1,1,0,0,1,0,0,1,0,1,1,1,1,0,0,0,0,0,0,0,0,1,1,1,1,1,1,0,0,0,0,0,0,0,0,0,1,0,0,0,0,0,0,1]
[1,"20-060200",1,1,0,0,1,0,0,1,0,1,1,1,1,0,0,0,0,0,0,0,0,1,1,1,1,1,1,0,0,0,0,0,0,0,0,0,1,0,0,0,0,0,0,1]
[0,"20-060230",1,0,0,0,1,0,0,0,0,1,1,1,0,0,0,0,0,0,0,0,0,0,0,0,0,0,0,0,0,0,0,0,0,0,0,0,1,0,0,0,0,0,0,0]
[0,"20-060260",1,0,0,0,1,0,0,0,0,0,0,0,0,0,0,0,0,0,0,0,0,0,0,0,0,0,0,0,0,0,0,0,0,0,0,0,1,0,0,0,0,0,0,0]
[0,"20-060300",1,0,0,0,1,0,0,0,0,0,0,0,0,0,0,0,0,0,0,0,0,0,0,0,0,0,0,0,0,0,0,0,0,0,0,0,1,0,0,0,0,0,0,0]
[0,"20-070040",1,1,0,0,1,0,0,1,0,1,0,1,0,0,0,0,0,0,0,0,0,1,1,0,0,1,1,0,0,0,0,0,0,0,0,0,0,0,0,0,0,0,0,0]
[1,"20-070050",1,1,0,0,1,0,0,1,0,1,1,1,0,0,0,0,0,0,0,0,0,1,1,1,1,1,1,0,0,0,0,0,0,0,0,0,0,0,0,0,0,0,0,0]
[1,"20-070060",1,1,0,0,1,0,0,1,0,1,1,1,0,0,0,0,0,0,0,0,0,1,1,1,1,1,1,0,0,0,0,0,0,0,0,0,0,0,0,0,0,0,0,0]
[1,"20-070070",1,1,0,0,1,0,0,1,0,1,1,1,0,0,0,0,0,0,0,0,0,1,1,1,1,1,1,0,0,0,0,0,0,0,0,0,0,0,0,0,0,0,0,0]
[1,"20-070080",1,1,0,0,1,0,0,1,0,1,1,1,0,0,0,0,0,0,0,0,0,1,1,1,1,1,1,0,0,0,0,0,0,0,0,0,0,0,0,0,0,0,0,0]
[1,"20-070090",1,1,0,0,1,0,0,1,0,1,1,1,0,0,0,0,0,0,0,0,0,1,1,1,1,1,1,0,0,0,0,0,0,0,0,0,0,0,0,0,0,0,0,0]
[1,"20-070100",1,1,0,0,1,0,0,1,0,1,1,1,0,0,0,0,0,0,0,0,0,1,1,1,1,1,1,0,0,0,0,0,0,0,0,0,0,0,0,0,0,0,0,0]
[1,"20-070110",1,1,0,0,1,0,0,1,0,1,1,1,0,0,0,0,0,0,0,0,0,1,1,1,1,1,1,0,0,0,0,0,0,0,0,0,0,0,0,0,0,0,0,0]
[1,"20-070120",1,1,0,0,1,0,0,1,0,1,1,1,0,0,0,0,0,0,0,0,0,1,1,1,1,1,1,0,0,0,0,0,0,0,0,0,0,0,0,0,0,0,0,0]
[1,"20-070140",1,1,0,0,1,0,0,1,0,1,1,1,0,0,0,0,0,0,0,0,0,1,1,1,1,1,1,0,0,0,0,0,0,0,0,0,0,0,0,0,0,0,0,0]
[1,"20-070160",1,1,0,0,1,0,0,1,0,1,1,1,0,0,0,0,0,0,0,0,0,1,1,1,1,1,1,0,0,0,0,0,0,0,0,0,0,0,0,0,0,0,0,0]
[1,"20-070180",1,1,0,0,1,0,0,1,0,1,1,1,0,0,0,0,0,0,0,0,0,1,1,1,1,1,1,0,0,0,0,0,0,0,0,0,0,0,0,0,0,0,0,0]
[1,"20-070200",1,1,0,0,1,0,0,1,0,1,1,1,0,0,0,0,0,0,0,0,0,1,1,1,1,1,1,0,0,0,0,0,0,0,0,0,0,0,0,0,0,0,0,0]
[0,"20-070230",1,0,0,0,1,0,0,0,0,1,1,1,0,0,0,0,0,0,0,0,0,0,0,0,0,0,0,0,0,0,0,0,0,0,0,0,0,0,0,0,0,0,0,0]
[0,"20-070260",1,0,0,0,1,0,0,0,0,0,0,0,0,0,0,0,0,0,0,0,0,0,0,0,0,0,0,0,0,0,0,0,0,0,0,0,0,0,0,0,0,0,0,0]
[0,"20-070300",1,0,0,0,1,0,0,0,0,0,0,0,0,0,0,0,0,0,0,0,0,0,0,0,0,0,0,0,0,0,0,0,0,0,0,0,0,0,0,0,0,0,0,0]
[{"$f":"SUMIF($C$5:$BE$5,$A$7,$C328:$BE328)","v":0},"20-090040",0,1,1,0,0,0,0,1,0,0,0,0,0,0,0,0,0,0,0,0,0,0,0,0,0,0,0,0,0,0,0,0,0,0,0,0,0,0,0,0,0,0,0,0]
[0,"20-090050",0,1,1,0,0,0,0,1,0,0,0,1,1,0,0,0,0,0,0,0,0,0,0,0,0,0,0,0,0,0,0,0,0,0,0,0,0,0,0,0,0,0,0,1]
[0,"20-090060",0,1,1,0,0,0,0,1,0,0,0,1,1,0,0,0,0,0,0,0,0,0,0,0,0,0,0,0,0,0,0,0,0,0,0,0,0,0,0,0,0,0,0,1]
[0,"20-090070",0,1,1,0,0,0,0,1,0,0,0,1,1,0,0,0,0,0,0,0,0,0,0,0,0,0,0,0,0,0,0,0,0,0,0,0,0,0,0,0,0,0,0,1]
[0,"20-090080",0,1,1,0,0,0,0,1,0,0,0,1,1,0,0,0,0,0,0,0,0,0,0,0,0,0,0,0,0,0,0,0,0,0,0,0,0,0,0,0,0,0,0,1]
[0,"20-090090",0,1,1,0,0,0,0,1,0,0,0,1,1,0,0,0,0,0,0,0,0,0,0,0,0,0,0,0,0,0,0,0,0,0,0,0,0,0,0,0,0,0,0,1]
[0,"20-090100",0,1,1,0,0,0,0,1,0,0,0,1,1,0,0,0,0,0,0,0,0,0,0,0,0,0,0,0,0,0,0,0,0,0,0,0,0,0,0,0,0,0,0,1]
[0,"20-090110",0,1,1,0,0,0,0,1,0,0,0,1,0,0,0,0,0,0,0,0,0,0,0,0,0,0,0,0,0,0,0,0,0,0,0,0,0,0,0,0,0,0,0,0]
[0,"20-090120",0,1,1,0,0,0,0,1,0,0,0,1,0,0,0,0,0,0,0,0,0,0,0,0,0,0,0,0,0,0,0,0,0,0,0,0,0,0,0,0,0,0,0,0]
[0,"20-090140",0,1,1,0,0,0,0,1,0,0,0,1,0,0,0,0,0,0,0,0,0,0,0,0,0,0,0,0,0,0,0,0,0,0,0,0,0,0,0,0,0,0,0,0]
[0,"20-090160",0,1,1,0,0,0,0,1,0,0,0,1,0,0,0,0,0,0,0,0,0,0,0,0,0,0,0,0,0,0,0,0,0,0,0,0,0,0,0,0,0,0,0,0]
[0,"20-090180",0,0,0,0,0,0,0,0,0,0,0,1,0,0,0,0,0,0,0,0,0,0,0,0,0,0,0,0,0,0,0,0,0,0,0,0,0,0,0,0,0,0,0,0]
[0,"20-090200",0,0,0,0,0,0,0,0,0,0,0,1,0,0,0,0,0,0,0,0,0,0,0,0,0,0,0,0,0,0,0,0,0,0,0,0,0,0,0,0,0,0,0,0]
[0,"20-090230",0,0,0,0,0,0,0,0,0,0,0,1,0,0,0,0,0,0,0,0,0,0,0,0,0,0,0,0,0,0,0,0,0,0,0,0,0,0,0,0,0,0,0,0]
[0,"20-090260",0,0,0,0,0,0,0,0,0,0,0,1,0,0,0,0,0,0,0,0,0,0,0,0,0,0,0,0,0,0,0,0,0,0,0,0,0,0,0,0,0,0,0,0]
[0,"20-090300",0,0,0,0,0,0,0,0,0,0,0,1,0,0,0,0,0,0,0,0,0,0,0,0,0,0,0,0,0,0,0,0,0,0,0,0,0,0,0,0,0,0,0,0]
[0,"21-020040",0,0,0,0,0,0,0,0,0,0,0,0,0,0,0,0,0,0,0,0,0,0,0,0,0,0,0,0,0,0,0,0,0,0,0,0,0,0,0,0,0,0,0,0]
[0,"21-020050",0,0,0,0,0,0,0,0,0,0,0,0,0,0,0,0,0,0,0,0,0,0,0,0,0,0,0,0,0,0,0,0,0,0,0,0,0,0,0,0,0,0,0,0]
[0,"21-020060",0,0,0,0,0,0,0,0,0,0,0,0,0,0,0,0,0,0,0,0,0,0,0,0,0,0,0,0,0,0,0,0,0,0,0,0,0,0,0,0,0,0,0,0]
[0,"21-020070",0,0,0,0,0,0,0,0,0,0,0,0,0,0,0,0,0,0,0,0,0,0,0,0,0,0,0,0,0,0,0,0,0,0,0,0,0,0,0,0,0,0,0,0]
[0,"21-020080",0,0,0,0,0,0,0,0,0,0,0,0,0,0,0,0,0,0,0,0,0,0,0,0,0,0,0,0,0,0,0,0,0,0,0,0,0,0,0,0,0,0,0,0]
[0,"21-020090",0,0,0,0,0,0,0,0,0,0,0,0,0,0,0,0,0,0,0,0,0,0,0,0,0,0,0,0,0,0,0,0,0,0,0,0,0,0,0,0,0,0,0,0]
[0,"21-020100",0,0,0,0,0,0,0,0,0,0,0,0,0,0,0,0,0,0,0,0,0,0,0,0,0,0,0,0,0,0,0,0,0,0,0,0,0,0,0,0,0,0,0,0]
[0,"21-020110",0,0,0,0,0,0,0,0,0,0,0,0,0,0,0,0,0,0,0,0,0,0,0,0,0,0,0,0,0,0,0,0,0,0,0,0,0,0,0,0,0,0,0,0]
[0,"21-020120",0,0,0,0,0,0,0,0,0,0,0,0,0,0,0,0,0,0,0,0,0,0,0,0,0,0,0,0,0,0,0,0,0,0,0,0,0,0,0,0,0,0,0,0]
[0,"21-020140",0,0,0,0,0,0,0,0,0,0,0,0,0,0,0,0,0,0,0,0,0,0,0,0,0,0,0,0,0,0,0,0,0,0,0,0,0,0,0,0,0,0,0,0]
[0,"21-020160",0,0,0,0,0,0,0,0,0,0,0,0,0,0,0,0,0,0,0,0,0,0,0,0,0,0,0,0,0,0,0,0,0,0,0,0,0,0,0,0,0,0,0,0]
[0,"21-020180",0,0,0,0,0,0,0,0,0,0,0,0,0,0,0,0,0,0,0,0,0,0,0,0,0,0,0,0,0,0,0,0,0,0,0,0,0,0,0,0,0,0,0,0]
[0,"21-020200",0,0,0,0,0,0,0,0,0,0,0,0,0,0,0,0,0,0,0,0,0,0,0,0,0,0,0,0,0,0,0,0,0,0,0,0,0,0,0,0,0,0,0,0]
[0,"21-020230",0,0,0,0,0,0,0,0,0,0,0,0,0,0,0,0,0,0,0,0,0,0,0,0,0,0,0,0,0,0,0,0,0,0,0,0,0,0,0,0,0,0,0,0]
[0,"21-020260",0,0,0,0,0,0,0,0,0,0,0,0,0,0,0,0,0,0,0,0,0,0,0,0,0,0,0,0,0,0,0,0,0,0,0,0,0,0,0,0,0,0,0,0]
[0,"21-020300",0,0,0,0,0,0,0,0,0,0,0,0,0,0,0,0,0,0,0,0,0,0,0,0,0,0,0,0,0,0,0,0,0,0,0,0,0,0,0,0,0,0,0,0]
[0,"21-030040",1,0,0,1,1,0,1,0,1,1,0,1,0,1,0,1,0,1,1,1,1,1,1,0,0,0,0,0,0,1,1,1,0,0,1,1,1,0,1,1,1,1,0,0]
[1,"21-030050",1,0,0,1,1,0,1,0,1,1,1,1,0,1,0,1,0,1,1,1,1,1,1,1,1,0,0,0,0,1,1,1,0,0,1,1,1,0,1,1,1,1,0,0]
[1,"21-030060",1,0,0,1,1,0,1,0,1,1,1,1,0,1,0,1,0,1,1,1,1,1,1,1,1,0,0,0,0,1,1,1,0,0,1,1,1,0,1,1,1,1,0,0]
[1,"21-030070",1,0,0,1,1,0,1,0,1,1,1,1,0,1,0,1,0,1,1,1,1,1,1,1,1,0,0,0,0,1,1,1,0,0,1,1,1,0,1,1,1,1,0,0]
[1,"21-030080",1,0,0,1,1,0,1,0,1,1,1,1,0,1,0,1,0,1,1,1,1,1,1,1,1,0,0,0,0,0,0,0,0,0,1,1,1,0,1,1,1,1,0,0]
[1,"21-030090",1,0,0,1,1,0,1,0,1,1,1,1,0,1,0,1,0,1,1,1,1,1,1,1,1,0,0,0,0,0,0,0,0,0,1,1,1,0,1,1,1,1,0,0]
[1,"21-030100",1,0,0,1,1,0,1,0,1,1,1,1,0,1,0,1,0,1,1,1,1,1,1,1,1,0,0,0,0,0,0,0,0,0,1,1,1,0,1,1,1,1,0,0]
[1,"21-030110",1,0,0,1,1,0,1,0,1,1,1,1,0,1,0,1,0,1,1,1,1,1,1,1,1,0,0,0,0,0,0,0,0,0,1,1,1,0,1,1,1,1,0,0]
[1,"21-030120",1,0,0,1,1,0,1,0,1,1,1,1,0,1,0,1,0,1,1,1,1,1,1,1,1,0,0,0,0,0,0,0,0,0,1,1,1,0,1,1,1,1,0,0]
[1,"21-030140",1,0,0,1,1,0,1,0,1,1,1,1,0,1,0,1,0,1,1,1,1,1,1,1,1,0,0,0,0,0,0,0,0,0,1,1,1,0,1,1,1,1,0,0]
[1,"21-030160",1,0,0,1,1,0,1,0,1,1,1,1,0,1,0,1,0,1,1,1,1,1,1,1,1,0,0,0,0,0,0,0,0,0,1,1,1,0,1,1,1,1,0,0]
[1,"21-030180",1,0,0,1,1,0,1,0,1,1,1,1,0,1,0,1,0,1,1,1,1,1,1,1,1,0,0,0,0,0,0,0,0,0,1,1,1,0,1,1,1,1,0,0]
[1,"21-030200",1,0,0,1,1,0,1,0,1,1,1,1,0,1,0,1,0,1,1,1,1,1,1,1,1,0,0,0,0,0,0,0,0,0,1,1,1,0,1,1,1,1,0,0]
[0,"21-030230",0,0,0,0,0,0,0,0,0,0,0,0,0,0,0,0,0,0,0,0,0,0,0,0,0,0,0,0,0,0,0,0,0,0,0,0,0,0,0,0,0,0,0,0]
[0,"21-030260",0,0,0,0,0,0,0,0,0,0,0,0,0,0,0,0,0,0,0,0,0,0,0,0,0,0,0,0,0,0,0,0,0,0,0,0,0,0,0,0,0,0,0,0]
[0,"21-030300",0,0,0,0,0,0,0,0,0,0,0,0,0,0,0,0,0,0,0,0,0,0,0,0,0,0,0,0,0,0,0,0,0,0,0,0,0,0,0,0,0,0,0,0]
[0,"21-040040",1,0,0,1,1,0,1,0,1,1,0,1,0,1,0,1,0,1,1,1,1,1,1,0,0,0,0,0,0,1,1,1,0,0,1,1,1,0,1,1,1,1,0,0]
[1,"21-040050",1,0,0,1,1,0,1,0,1,1,1,1,0,1,0,1,0,1,1,1,1,1,1,1,1,0,0,0,0,1,1,1,0,0,1,1,1,0,1,1,1,1,0,0]
[1,"21-040060",1,0,0,1,1,0,1,0,1,1,1,1,0,1,0,1,0,1,1,1,1,1,1,1,1,0,0,0,0,1,1,1,0,0,1,1,1,0,1,1,1,1,0,0]
[1,"21-040070",1,0,0,1,1,0,1,0,1,1,1,1,0,1,0,1,0,1,1,1,1,1,1,1,1,0,0,0,0,1,1,1,0,0,1,1,1,0,1,1,1,1,0,0]
[1,"21-040080",1,0,0,1,1,0,1,0,1,1,1,1,0,1,0,1,0,1,1,1,1,1,1,1,1,0,0,0,0,0,0,0,0,0,1,1,1,0,1,1,1,1,0,0]
[1,"21-040090",1,0,0,1,1,0,1,0,1,1,1,1,0,1,0,1,0,1,1,1,1,1,1,1,1,0,0,0,0,0,0,0,0,0,1,1,1,0,1,1,1,1,0,0]
[1,"21-040100",1,0,0,1,1,0,1,0,1,1,1,1,0,1,0,1,0,1,1,1,1,1,1,1,1,0,0,0,0,0,0,0,0,0,1,1,1,0,1,1,1,1,0,0]
[1,"21-040110",1,0,0,1,1,0,1,0,1,1,1,1,0,1,0,1,0,1,1,1,1,1,1,1,1,0,0,0,0,0,0,0,0,0,1,1,1,0,1,1,1,1,0,0]
[1,"21-040120",1,0,0,1,1,0,1,0,1,1,1,1,0,1,0,1,0,1,1,1,1,1,1,1,1,0,0,0,0,0,0,0,0,0,1,1,1,0,1,1,1,1,0,0]
[1,"21-040140",1,0,0,1,1,0,1,0,1,1,1,1,0,1,0,1,0,1,1,1,1,1,1,1,1,0,0,0,0,0,0,0,0,0,1,1,1,0,1,1,1,1,0,0]
[1,"21-040160",1,0,0,1,1,0,1,0,1,1,1,1,0,1,0,1,0,1,1,1,1,1,1,1,1,0,0,0,0,0,0,0,0,0,1,1,1,0,1,1,1,1,0,0]
[1,"21-040180",1,0,0,1,1,0,1,0,1,1,1,1,0,1,0,1,0,1,1,1,1,1,1,1,1,0,0,0,0,0,0,0,0,0,1,1,1,0,1,1,1,1,0,0]
[1,"21-040200",1,0,0,1,1,0,1,0,1,1,1,1,0,1,0,1,0,1,1,1,1,1,1,1,1,0,0,0,0,0,0,0,0,0,1,1,1,0,1,1,1,1,0,0]
[0,"21-040230",0,0,0,0,0,0,0,0,0,0,0,0,0,0,0,0,0,0,0,0,0,0,0,0,0,0,0,0,0,0,0,0,0,0,0,0,0,0,0,0,0,0,0,0]
[0,"21-040260",0,0,0,0,0,0,0,0,0,0,0,0,0,0,0,0,0,0,0,0,0,0,0,0,0,0,0,0,0,0,0,0,0,0,0,0,0,0,0,0,0,0,0,0]
[0,"21-040300",0,0,0,0,0,0,0,0,0,0,0,0,0,0,0,0,0,0,0,0,0,0,0,0,0,0,0,0,0,0,0,0,0,0,0,0,0,0,0,0,0,0,0,0]
[{"$f":"SUMIF($C$5:$BE$5,$A$7,$C392:$BE392)","v":0},"21-050040",1,0,1,1,1,1,1,0,1,1,0,1,0,1,1,1,1,1,1,1,1,1,1,0,0,0,0,0,0,1,1,1,0,0,1,1,1,0,1,1,1,1,1,0]
[1,"21-050050",1,0,1,1,1,1,1,0,1,1,1,1,0,1,1,1,1,1,1,1,1,1,1,1,1,0,0,0,0,1,1,1,0,0,1,1,1,0,1,1,1,1,1,0]
[1,"21-050060",1,0,1,1,1,1,1,0,1,1,1,1,0,1,1,1,1,1,1,1,1,1,1,1,1,0,0,0,0,1,1,1,0,0,1,1,1,0,1,1,1,1,1,0]
[1,"21-050070",1,0,1,1,1,1,1,0,1,1,1,1,0,1,1,1,1,1,1,1,1,1,1,1,1,0,0,0,0,1,1,1,0,0,1,1,1,0,1,1,1,1,1,0]
[1,"21-050080",1,0,1,1,1,1,1,0,1,1,1,1,0,1,1,1,1,1,1,1,1,1,1,1,1,0,0,0,0,0,0,0,0,0,1,1,1,0,1,1,1,1,1,0]
[1,"21-050090",1,0,1,1,1,1,1,0,1,1,1,1,0,1,1,1,1,1,1,1,1,1,1,1,1,0,0,0,0,0,0,0,0,0,1,1,1,0,1,1,1,1,1,0]
[1,"21-050100",1,0,1,1,1,1,1,0,1,1,1,1,0,1,1,1,1,1,1,1,1,1,1,1,1,0,0,0,0,0,0,0,0,0,1,1,1,0,1,1,1,1,1,0]
[1,"21-050110",1,0,1,1,1,1,1,0,1,1,1,1,0,1,1,1,1,1,1,1,1,1,1,1,1,0,0,0,0,0,0,0,0,0,1,1,1,0,1,1,1,1,1,0]
[1,"21-050120",1,0,1,1,1,1,1,0,1,1,1,1,0,1,1,1,1,1,1,1,1,1,1,1,1,0,0,0,0,0,0,0,0,0,1,1,1,0,1,1,1,1,1,0]
[1,"21-050140",1,0,1,1,1,1,1,0,1,1,1,1,0,1,1,1,1,1,1,1,1,1,1,1,1,0,0,0,0,0,0,0,0,0,1,1,1,0,1,1,1,1,1,0]
[1,"21-050160",1,0,1,1,1,1,1,0,1,1,1,1,0,1,1,1,1,1,1,1,1,1,1,1,1,0,0,0,0,0,0,0,0,0,1,1,1,0,1,1,1,1,1,0]
[1,"21-050180",1,0,1,1,1,1,1,0,1,1,1,1,0,1,1,1,1,1,1,1,1,1,1,1,1,0,0,0,0,0,0,0,0,0,1,1,1,0,1,1,1,1,1,0]
[1,"21-050200",1,0,1,1,1,1,1,0,1,1,1,1,0,1,1,1,1,1,1,1,1,1,1,1,1,0,0,0,0,0,0,0,0,0,1,1,1,0,1,1,1,1,1,0]
[0,"21-050230",1,0,0,0,1,0,1,0,0,1,1,1,0,0,0,0,0,0,0,0,0,0,0,0,0,0,0,0,0,0,0,0,0,0,1,1,1,0,1,1,1,1,0,0]
[0,"21-050260",1,0,0,0,1,0,1,0,0,0,0,0,0,0,0,0,0,0,0,0,0,0,0,0,0,0,0,0,0,0,0,0,0,0,1,1,1,0,1,1,1,0,0,0]
[0,"21-050300",1,0,0,0,1,0,1,0,0,0,0,0,0,0,0,0,0,0,0,0,0,0,0,0,0,0,0,0,0,0,0,0,0,0,1,1,1,0,1,1,1,0,0,0]
[0,"21-060040",1,0,0,1,1,1,1,0,1,1,0,1,0,1,0,1,0,1,1,1,1,1,1,0,0,0,0,0,0,1,1,1,0,0,1,1,1,0,1,1,1,1,1,0]
[1,"21-060050",1,0,0,1,1,1,1,0,1,1,1,1,0,1,0,1,0,1,1,1,1,1,1,1,1,0,0,0,0,1,1,1,0,0,1,1,1,0,1,1,1,1,1,0]
[1,"21-060060",1,0,0,1,1,1,1,0,1,1,1,1,0,1,0,1,0,1,1,1,1,1,1,1,1,0,0,0,0,1,1,1,0,0,1,1,1,0,1,1,1,1,1,0]
[1,"21-060070",1,0,0,1,1,1,1,0,1,1,1,1,0,1,0,1,0,1,1,1,1,1,1,1,1,0,0,0,0,1,1,1,0,0,1,1,1,0,1,1,1,1,1,0]
[1,"21-060080",1,0,0,1,1,1,1,0,1,1,1,1,0,1,0,1,0,1,1,1,1,1,1,1,1,0,0,0,0,0,0,0,0,0,1,1,1,0,1,1,1,1,1,0]
[1,"21-060090",1,0,0,1,1,1,1,0,1,1,1,1,0,1,0,1,0,1,1,1,1,1,1,1,1,0,0,0,0,0,0,0,0,0,1,1,1,0,1,1,1,1,1,0]
[1,"21-060100",1,0,0,1,1,1,1,0,1,1,1,1,0,1,0,1,0,1,1,1,1,1,1,1,1,0,0,0,0,0,0,0,0,0,1,1,1,0,1,1,1,1,1,0]
[1,"21-060110",1,0,0,1,1,1,1,0,1,1,1,1,0,1,0,1,0,1,1,1,1,1,1,1,1,0,0,0,0,0,0,0,0,0,1,1,1,0,1,1,1,1,1,0]
[1,"21-060120",1,0,0,1,1,1,1,0,1,1,1,1,0,1,0,1,0,1,1,1,1,1,1,1,1,0,0,0,0,0,0,0,0,0,1,1,1,0,1,1,1,1,1,0]
[1,"21-060140",1,0,0,1,1,1,1,0,1,1,1,1,0,1,0,1,0,1,1,1,1,1,1,1,1,0,0,0,0,0,0,0,0,0,1,1,1,0,1,1,1,1,1,0]
[1,"21-060160",1,0,0,1,1,1,1,0,1,1,1,1,0,1,0,1,0,1,1,1,1,1,1,1,1,0,0,0,0,0,0,0,0,0,1,1,1,0,1,1,1,1,1,0]
[1,"21-060180",1,0,0,1,1,1,1,0,1,1,1,1,0,1,0,1,0,1,1,1,1,1,1,1,1,0,0,0,0,0,0,0,0,0,1,1,1,0,1,1,1,1,1,0]
[1,"21-060200",1,0,0,1,1,1,1,0,1,1,1,1,0,1,0,1,0,1,1,1,1,1,1,1,1,0,0,0,0,0,0,0,0,0,1,1,1,0,1,1,1,1,1,0]
[0,"21-060230",1,0,0,0,1,0,1,0,0,1,1,1,0,0,0,0,0,0,0,0,0,0,0,0,0,0,0,0,0,0,0,0,0,0,1,1,1,0,1,1,1,1,0,0]
[0,"21-060260",1,0,0,0,1,0,1,0,0,0,0,0,0,0,0,0,0,0,0,0,0,0,0,0,0,0,0,0,0,0,0,0,0,0,1,1,1,0,1,1,1,0,0,0]
[0,"21-060300",1,0,0,0,1,0,1,0,0,0,0,0,0,0,0,0,0,0,0,0,0,0,0,0,0,0,0,0,0,0,0,0,0,0,1,1,1,0,1,1,1,0,0,0]
[0,"21-070040",1,0,0,1,1,1,1,0,1,1,0,1,0,1,0,1,0,1,1,1,1,1,1,0,0,0,0,0,0,0,0,0,0,0,0,0,0,0,0,0,0,1,0,0]
[1,"21-070050",1,0,0,1,1,1,1,0,1,1,1,1,0,1,0,1,0,1,1,1,1,1,1,1,1,0,0,0,0,0,0,0,0,0,0,0,0,0,0,0,0,1,0,0]
[1,"21-070060",1,0,0,1,1,1,1,0,1,1,1,1,0,1,0,1,0,1,1,1,1,1,1,1,1,0,0,0,0,0,0,0,0,0,0,0,0,0,0,0,0,1,0,0]
[1,"21-070070",1,0,0,1,1,1,1,0,1,1,1,1,0,1,0,1,0,1,1,1,1,1,1,1,1,0,0,0,0,0,0,0,0,0,0,0,0,0,0,0,0,1,0,0]
[1,"21-070080",1,0,0,1,1,1,1,0,1,1,1,1,0,1,0,1,0,1,1,1,1,1,1,1,1,0,0,0,0,0,0,0,0,0,0,0,0,0,0,0,0,1,0,0]
[1,"21-070090",1,0,0,1,1,1,1,0,1,1,1,1,0,1,0,1,0,1,1,1,1,1,1,1,1,0,0,0,0,0,0,0,0,0,0,0,0,0,0,0,0,1,0,0]
[1,"21-070100",1,0,0,1,1,1,1,0,1,1,1,1,0,1,0,1,0,1,1,1,1,1,1,1,1,0,0,0,0,0,0,0,0,0,0,0,0,0,0,0,0,1,0,0]
[1,"21-070110",1,0,0,1,1,1,1,0,1,1,1,1,0,1,0,1,0,1,1,1,1,1,1,1,1,0,0,0,0,0,0,0,0,0,0,0,0,0,0,0,0,1,0,0]
[1,"21-070120",1,0,0,1,1,1,1,0,1,1,1,1,0,1,0,1,0,1,1,1,1,1,1,1,1,0,0,0,0,0,0,0,0,0,0,0,0,0,0,0,0,1,0,0]
[1,"21-070140",1,0,0,1,1,1,1,0,1,1,1,1,0,1,0,1,0,1,1,1,1,1,1,1,1,0,0,0,0,0,0,0,0,0,0,0,0,0,0,0,0,1,0,0]
[1,"21-070160",1,0,0,1,1,1,1,0,1,1,1,1,0,1,0,1,0,1,1,1,1,1,1,1,1,0,0,0,0,0,0,0,0,0,0,0,0,0,0,0,0,1,0,0]
[1,"21-070180",1,0,0,1,1,1,1,0,1,1,1,1,0,1,0,1,0,1,1,1,1,1,1,1,1,0,0,0,0,0,0,0,0,0,0,0,0,0,0,0,0,1,0,0]
[1,"21-070200",1,0,0,1,1,1,1,0,1,1,1,1,0,1,0,1,0,1,1,1,1,1,1,1,1,0,0,0,0,0,0,0,0,0,0,0,0,0,0,0,0,1,0,0]
[0,"21-070230",1,0,0,0,1,0,1,0,0,1,1,1,0,0,0,0,0,0,0,0,0,0,0,0,0,0,0,0,0,0,0,0,0,0,0,0,0,0,0,0,0,1,0,0]
[0,"21-070260",1,0,0,0,1,0,1,0,0,0,0,0,0,0,0,0,0,0,0,0,0,0,0,0,0,0,0,0,0,0,0,0,0,0,0,0,0,0,0,0,0,0,0,0]
[0,"21-070300",1,0,0,0,1,0,1,0,0,0,0,0,0,0,0,0,0,0,0,0,0,0,0,0,0,0,0,0,0,0,0,0,0,0,0,0,0,0,0,0,0,0,0,0]
[0,"21-090040",1,0,1,1,1,1,1,0,1,1,0,1,0,1,0,1,0,1,1,1,1,1,1,0,0,0,0,0,0,0,0,0,0,0,1,1,1,0,1,1,1,1,1,0]
[1,"21-090050",1,0,1,1,1,1,1,0,1,1,1,1,0,1,0,1,0,1,1,1,1,1,1,1,1,0,0,0,0,0,0,0,0,0,1,1,1,0,1,1,1,1,1,0]
[1,"21-090060",1,0,1,1,1,1,1,0,1,1,1,1,0,1,0,1,0,1,1,1,1,1,1,1,1,0,0,0,0,0,0,0,0,0,1,1,1,0,1,1,1,1,1,0]
[1,"21-090070",1,0,1,1,1,1,1,0,1,1,1,1,0,1,0,1,0,1,1,1,1,1,1,1,1,0,0,0,0,0,0,0,0,0,1,1,1,0,1,1,1,1,1,0]
[1,"21-090080",1,0,1,1,1,1,1,0,1,1,1,1,0,1,0,1,0,1,1,1,1,1,1,1,1,0,0,0,0,0,0,0,0,0,1,1,1,0,1,1,1,1,1,0]
[1,"21-090090",1,0,1,1,1,1,1,0,1,1,1,1,0,1,0,1,0,1,1,1,1,1,1,1,1,0,0,0,0,0,0,0,0,0,1,1,1,0,1,1,1,1,1,0]
[1,"21-090100",1,0,1,1,1,1,1,0,1,1,1,1,0,1,0,1,0,1,1,1,1,1,1,1,1,0,0,0,0,0,0,0,0,0,1,1,1,0,1,1,1,1,1,0]
[1,"21-090110",1,0,1,1,1,1,1,0,1,1,1,1,0,1,0,1,0,1,1,1,1,1,1,1,1,0,0,0,0,0,0,0,0,0,1,1,1,0,1,1,1,1,1,0]
[1,"21-090120",1,0,1,1,1,1,1,0,1,1,1,1,0,1,0,1,0,1,1,1,1,1,1,1,1,0,0,0,0,0,0,0,0,0,1,1,1,0,1,1,1,1,1,0]
[1,"21-090140",1,0,1,1,1,1,1,0,1,1,1,1,0,1,0,1,0,1,1,1,1,1,1,1,1,0,0,0,0,0,0,0,0,0,1,1,1,0,1,1,1,1,1,0]
[1,"21-090160",1,0,1,1,1,1,1,0,1,1,1,1,0,1,0,1,0,1,1,1,1,1,1,1,1,0,0,0,0,0,0,0,0,0,1,1,1,0,1,1,1,1,1,0]
[0,"21-090180",1,0,0,1,1,1,1,0,1,0,0,0,0,0,0,0,0,0,0,0,0,0,0,0,0,0,0,0,0,0,0,0,0,0,1,1,1,0,1,1,1,1,1,0]
[0,"21-090200",1,0,0,1,1,1,1,0,1,0,0,0,0,0,0,0,0,0,0,0,0,0,0,0,0,0,0,0,0,0,0,0,0,0,1,1,1,0,1,1,1,1,1,0]
[0,"21-090230",0,0,0,0,0,0,0,0,0,0,0,0,0,0,0,0,0,0,0,0,0,0,0,0,0,0,0,0,0,0,0,0,0,0,0,0,0,0,0,0,0,0,0,0]
[0,"21-090260",0,0,0,0,0,0,0,0,0,0,0,0,0,0,0,0,0,0,0,0,0,0,0,0,0,0,0,0,0,0,0,0,0,0,0,0,0,0,0,0,0,0,0,0]
[0,"21-090300",0,0,0,0,0,0,0,0,0,0,0,0,0,0,0,0,0,0,0,0,0,0,0,0,0,0,0,0,0,0,0,0,0,0,0,0,0,0,0,0,0,0,0,0]
[{"$f":"SUMIF($C$5:$BE$5,$A$7,$C456:$BE456)","v":0},"22-020040",0,0,0,0,0,0,0,0,0,0,0,0,0,0,0,0,0,0,0,0,0,0,0,0,0,0,0,0,0,0,0,0,0,0,0,0,0,0,0,0,0,0,0,0]
[0,"22-020050",0,0,0,0,0,0,0,0,0,0,0,0,0,0,0,0,0,0,0,0,0,0,0,0,0,0,0,0,0,0,0,0,0,0,0,0,0,0,0,0,0,0,0,0]
[0,"22-020060",0,0,0,0,0,0,0,0,0,0,0,0,0,0,0,0,0,0,0,0,0,0,0,0,0,0,0,0,0,0,0,0,0,0,0,0,0,0,0,0,0,0,0,0]
[0,"22-020070",0,0,0,0,0,0,0,0,0,0,0,0,0,0,0,0,0,0,0,0,0,0,0,0,0,0,0,0,0,0,0,0,0,0,0,0,0,0,0,0,0,0,0,0]
[0,"22-020080",1,0,0,1,0,1,0,0,0,0,0,0,0,1,0,1,0,1,1,0,0,0,0,0,0,0,0,0,0,0,0,0,0,0,0,0,1,0,0,0,0,0,0,0]
[0,"22-020090",1,0,0,1,0,1,0,0,0,0,0,0,0,1,0,1,0,1,1,0,0,0,0,0,0,0,0,0,0,0,0,0,0,0,0,0,1,0,0,0,0,0,0,0]
[0,"22-020100",1,0,0,1,0,1,0,0,0,0,0,0,0,1,0,1,0,1,1,0,0,0,0,0,0,0,0,0,0,0,0,0,0,0,0,0,1,0,0,0,0,0,0,0]
[0,"22-020110",1,0,0,1,0,1,0,0,0,0,0,0,0,1,0,1,0,1,1,0,0,0,0,0,0,0,0,0,0,0,0,0,0,0,0,0,1,0,0,0,0,0,0,0]
[0,"22-020120",1,0,0,1,0,1,0,0,0,0,0,0,0,1,0,1,0,1,1,0,0,0,0,0,0,0,0,0,0,0,0,0,0,0,0,0,1,0,0,0,0,0,0,0]
[0,"22-020140",1,0,0,1,0,1,0,0,0,0,0,0,0,1,0,1,0,1,1,0,0,0,0,0,0,0,0,0,0,0,0,0,0,0,0,0,1,0,0,0,0,0,0,0]
[0,"22-020160",1,0,0,1,0,1,0,0,0,0,0,0,0,1,0,1,0,1,1,0,0,0,0,0,0,0,0,0,0,0,0,0,0,0,0,0,1,0,0,0,0,0,0,0]
[0,"22-020180",1,0,0,1,0,1,0,0,0,0,0,0,0,1,0,1,0,1,1,0,0,0,0,0,0,0,0,0,0,0,0,0,0,0,0,0,1,0,0,0,0,0,0,0]
[0,"22-020200",1,0,0,1,0,1,0,0,0,0,0,0,0,1,0,1,0,1,1,0,0,0,0,0,0,0,0,0,0,0,0,0,0,0,0,0,1,0,0,0,0,0,0,0]
[0,"22-020230",1,0,0,0,0,1,0,0,0,0,0,0,0,0,0,0,0,0,0,0,0,0,0,0,0,0,0,0,0,0,0,0,0,0,0,0,1,0,0,0,0,0,0,0]
[0,"22-020260",1,0,0,0,0,1,0,0,0,0,0,0,0,0,0,0,0,0,0,0,0,0,0,0,0,0,0,0,0,0,0,0,0,0,0,0,1,0,0,0,0,0,0,0]
[0,"22-020300",1,0,0,0,0,1,0,0,0,0,0,0,0,0,0,0,0,0,0,0,0,0,0,0,0,0,0,0,0,0,0,0,0,0,0,0,1,0,0,0,0,0,0,0]
[0,"22-030040",1,0,0,1,1,1,1,0,1,1,0,1,0,1,0,1,0,1,1,1,1,1,1,0,0,0,0,0,0,1,1,1,0,0,1,1,1,0,1,1,1,1,1,0]
[1,"22-030050",1,0,0,1,1,1,1,0,1,1,1,1,0,1,0,1,0,1,1,1,1,1,1,1,1,0,0,0,0,1,1,1,0,0,1,1,1,1,1,1,1,1,1,0]
[1,"22-030060",1,0,0,1,1,1,1,0,1,1,1,1,0,1,0,1,0,1,1,1,1,1,1,1,1,0,0,0,0,1,1,1,0,0,1,1,1,1,1,1,1,1,1,0]
[1,"22-030070",1,0,0,1,1,1,1,0,1,1,1,1,0,1,0,1,0,1,1,1,1,1,1,1,1,0,0,0,0,1,1,1,0,0,1,1,1,1,1,1,1,1,1,0]
[1,"22-030080",1,0,0,1,1,1,1,0,1,1,1,1,0,1,0,1,0,1,1,1,1,1,1,1,1,0,0,0,0,0,0,0,0,0,1,1,1,1,1,1,1,1,1,0]
[1,"22-030090",1,0,0,1,1,1,1,0,1,1,1,1,0,1,0,1,0,1,1,1,1,1,1,1,1,0,0,0,0,0,0,0,0,0,1,1,1,1,1,1,1,1,1,0]
[1,"22-030100",1,0,0,1,1,1,1,0,1,1,1,1,0,1,0,1,0,1,1,1,1,1,1,1,1,0,0,0,0,0,0,0,0,0,1,1,1,1,1,1,1,1,1,0]
[1,"22-030110",1,0,0,1,1,1,1,0,1,1,1,1,0,1,0,1,0,1,1,1,1,1,1,1,1,0,0,0,0,0,0,0,0,0,1,1,1,1,1,1,1,1,1,0]
[1,"22-030120",1,0,0,1,1,1,1,0,1,1,1,1,0,1,0,1,0,1,1,1,1,1,1,1,1,0,0,0,0,0,0,0,0,0,1,1,1,1,1,1,1,1,1,0]
[1,"22-030140",1,0,0,1,1,1,1,0,1,1,1,1,0,1,0,1,0,1,1,1,1,1,1,1,1,0,0,0,0,0,0,0,0,0,1,1,1,1,1,1,1,1,1,0]
[1,"22-030160",1,0,0,1,1,1,1,0,1,1,1,1,0,1,0,1,0,1,1,1,1,1,1,1,1,0,0,0,0,0,0,0,0,0,1,1,1,1,1,1,1,1,1,0]
[1,"22-030180",1,0,0,1,1,1,1,0,1,1,1,1,0,1,0,1,0,1,1,1,1,1,1,1,1,0,0,0,0,0,0,0,0,0,1,1,1,0,1,1,1,1,1,0]
[1,"22-030200",1,0,0,1,1,1,1,0,1,1,1,1,0,1,0,1,0,1,1,1,1,1,1,1,1,0,0,0,0,0,0,0,0,0,1,1,1,0,1,1,1,1,1,0]
[0,"22-030230",1,0,0,0,1,1,1,0,0,1,1,1,0,0,0,0,0,0,0,0,0,0,0,0,0,0,0,0,0,0,0,0,0,0,1,1,1,0,1,1,1,1,1,0]
[0,"22-030260",1,0,0,0,1,1,1,0,0,1,1,1,0,0,0,0,0,0,0,0,0,0,0,0,0,0,0,0,0,0,0,0,0,0,1,1,1,0,1,1,1,1,1,0]
[0,"22-030300",1,0,0,0,1,1,1,0,0,1,1,1,0,0,0,0,0,0,0,0,0,0,0,0,0,0,0,0,0,0,0,0,0,0,1,1,1,0,1,1,1,1,1,0]
[0,"22-040040",1,0,0,1,1,1,1,0,1,1,0,1,0,1,0,1,0,1,1,1,1,1,1,0,0,0,0,0,0,1,1,1,0,0,1,1,1,0,1,1,1,1,1,0]
[1,"22-040050",1,0,0,1,1,1,1,0,1,1,1,1,1,1,0,1,0,1,1,1,1,1,1,1,1,0,0,0,0,1,1,1,0,0,1,1,1,0,1,1,1,1,1,0]
[1,"22-040060",1,0,0,1,1,1,1,0,1,1,1,1,1,1,0,1,0,1,1,1,1,1,1,1,1,0,0,0,0,1,1,1,0,0,1,1,1,0,1,1,1,1,1,0]
[1,"22-040070",1,0,0,1,1,1,1,0,1,1,1,1,1,1,0,1,0,1,1,1,1,1,1,1,1,0,0,0,0,1,1,1,0,0,1,1,1,0,1,1,1,1,1,0]
[1,"22-040080",1,0,0,1,1,1,1,0,1,1,1,1,1,1,0,1,0,1,1,1,1,1,1,1,1,0,0,0,0,0,0,0,0,0,1,1,1,1,1,1,1,1,1,0]
[1,"22-040090",1,0,0,1,1,1,1,0,1,1,1,1,1,1,0,1,0,1,1,1,1,1,1,1,1,0,0,0,0,0,0,0,0,0,1,1,1,1,1,1,1,1,1,0]
[1,"22-040100",1,0,0,1,1,1,1,0,1,1,1,1,1,1,0,1,0,1,1,1,1,1,1,1,1,0,0,0,0,0,0,0,0,0,1,1,1,1,1,1,1,1,1,0]
[1,"22-040110",1,0,0,1,1,1,1,0,1,1,1,1,1,1,0,1,0,1,1,1,1,1,1,1,1,0,0,0,0,0,0,0,0,0,1,1,1,1,1,1,1,1,1,0]
[1,"22-040120",1,0,0,1,1,1,1,0,1,1,1,1,1,1,0,1,0,1,1,1,1,1,1,1,1,0,0,0,0,0,0,0,0,0,1,1,1,1,1,1,1,1,1,0]
[1,"22-040140",1,0,0,1,1,1,1,0,1,1,1,1,1,1,0,1,0,1,1,1,1,1,1,1,1,0,0,0,0,0,0,0,0,0,1,1,1,1,1,1,1,1,1,0]
[1,"22-040160",1,0,0,1,1,1,1,0,1,1,1,1,1,1,0,1,0,1,1,1,1,1,1,1,1,0,0,0,0,0,0,0,0,0,1,1,1,1,1,1,1,1,1,0]
[1,"22-040180",1,0,0,1,1,1,1,0,1,1,1,1,1,1,0,1,0,1,1,1,1,1,1,1,1,0,0,0,0,0,0,0,0,0,1,1,1,0,1,1,1,1,1,0]
[1,"22-040200",1,0,0,1,1,1,1,0,1,1,1,1,1,1,0,1,0,1,1,1,1,1,1,1,1,0,0,0,0,0,0,0,0,0,1,1,1,0,1,1,1,1,1,0]
[0,"22-040230",1,0,0,0,1,1,1,0,0,1,1,1,0,0,0,0,0,0,0,0,0,0,0,0,0,0,0,0,0,0,0,0,0,0,1,1,1,0,1,1,1,1,1,0]
[0,"22-040260",1,0,0,0,1,1,1,0,0,1,1,1,0,0,0,0,0,0,0,0,0,0,0,0,0,0,0,0,0,0,0,0,0,0,1,1,1,0,1,1,1,1,1,0]
[0,"22-040300",1,0,0,0,1,1,1,0,0,1,1,1,0,0,0,0,0,0,0,0,0,0,0,0,0,0,0,0,0,0,0,0,0,0,1,1,1,0,1,1,1,1,1,0]
[0,"22-050040",1,1,1,1,1,1,1,1,1,1,0,1,0,1,1,1,1,1,1,1,1,1,1,0,0,1,1,0,0,1,1,1,0,0,1,1,1,1,1,1,1,1,1,0]
[1,"22-050050",1,1,1,1,1,1,1,1,1,1,1,1,1,1,1,1,1,1,1,1,1,1,1,1,1,1,1,0,0,1,1,1,0,0,1,1,1,1,1,1,1,1,1,1]
[1,"22-050060",1,1,1,1,1,1,1,1,1,1,1,1,1,1,1,1,1,1,1,1,1,1,1,1,1,1,1,0,0,1,1,1,0,0,1,1,1,1,1,1,1,1,1,1]
[1,"22-050070",1,1,1,1,1,1,1,1,1,1,1,1,1,1,1,1,1,1,1,1,1,1,1,1,1,1,1,0,0,1,1,1,0,0,1,1,1,1,1,1,1,1,1,1]
[1,"22-050080",1,1,1,1,1,1,1,1,1,1,1,1,1,1,1,1,1,1,1,1,1,1,1,1,1,1,1,0,0,0,0,0,0,0,1,1,1,1,1,1,1,1,1,1]
[1,"22-050090",1,1,1,1,1,1,1,1,1,1,1,1,1,1,1,1,1,1,1,1,1,1,1,1,1,1,1,0,0,0,0,0,0,0,1,1,1,1,1,1,1,1,1,1]
[1,"22-050100",1,1,1,1,1,1,1,1,1,1,1,1,1,1,1,1,1,1,1,1,1,1,1,1,1,1,1,0,0,0,0,0,0,0,1,1,1,1,1,1,1,1,1,1]
[1,"22-050110",1,1,1,1,1,1,1,1,1,1,1,1,1,1,1,1,1,1,1,1,1,1,1,1,1,1,1,0,0,0,0,0,0,0,1,1,1,1,1,1,1,1,1,1]
[1,"22-050120",1,1,1,1,1,1,1,1,1,1,1,1,1,1,1,1,1,1,1,1,1,1,1,1,1,1,1,0,0,0,0,0,0,0,1,1,1,1,1,1,1,1,1,1]
[1,"22-050140",1,1,1,1,1,1,1,1,1,1,1,1,1,1,1,1,1,1,1,1,1,1,1,1,1,1,1,0,0,0,0,0,0,0,1,1,1,1,1,1,1,1,1,1]
[1,"22-050160",1,1,1,1,1,1,1,1,1,1,1,1,1,1,1,1,1,1,1,1,1,1,1,1,1,1,1,0,0,0,0,0,0,0,1,1,1,1,1,1,1,1,1,1]
[1,"22-050180",1,1,1,1,1,1,1,1,1,1,1,1,1,1,1,1,1,1,1,1,1,1,1,1,1,1,1,0,0,0,0,0,0,0,1,1,1,1,1,1,1,1,1,1]
[1,"22-050200",1,1,1,1,1,1,1,1,1,1,1,1,1,1,1,1,1,1,1,1,1,1,1,1,1,1,1,0,0,0,0,0,0,0,1,1,1,1,1,1,1,1,1,1]
[0,"22-050230",1,0,0,0,1,1,1,0,0,1,1,1,0,0,0,0,0,0,0,0,0,0,0,0,0,0,0,0,0,0,0,0,0,0,1,1,1,1,1,1,1,1,1,0]
[0,"22-050260",1,0,0,0,1,1,1,0,0,1,1,1,0,0,0,0,0,0,0,0,0,0,0,0,0,0,0,0,0,0,0,0,0,0,1,1,1,1,1,1,1,1,1,0]
[0,"22-050300",1,0,0,0,1,1,1,0,0,1,1,1,0,0,0,0,0,0,0,0,0,0,0,0,0,0,0,0,0,0,0,0,0,0,1,1,1,1,1,1,1,1,1,0]
[{"$f":"SUMIF($C$5:$BE$5,$A$7,$C520:$BE520)","v":0},"22-060040",1,1,0,1,1,1,1,1,1,1,0,1,0,1,0,1,0,1,1,1,1,1,1,0,0,1,1,0,0,1,1,1,0,0,1,1,1,1,1,1,1,1,1,0]
[1,"22-060050",1,1,0,1,1,1,1,1,1,1,1,1,1,1,0,1,0,1,1,1,1,1,1,1,1,1,1,0,0,1,1,1,0,0,1,1,1,1,1,1,1,1,1,1]
[1,"22-060060",1,1,0,1,1,1,1,1,1,1,1,1,1,1,0,1,0,1,1,1,1,1,1,1,1,1,1,0,0,1,1,1,0,0,1,1,1,1,1,1,1,1,1,1]
[1,"22-060070",1,1,0,1,1,1,1,1,1,1,1,1,1,1,0,1,0,1,1,1,1,1,1,1,1,1,1,0,0,1,1,1,0,0,1,1,1,1,1,1,1,1,1,1]
[1,"22-060080",1,1,0,1,1,1,1,1,1,1,1,1,1,1,0,1,0,1,1,1,1,1,1,1,1,1,1,0,0,0,0,0,0,0,1,1,1,1,1,1,1,1,1,1]
[1,"22-060090",1,1,0,1,1,1,1,1,1,1,1,1,1,1,0,1,0,1,1,1,1,1,1,1,1,1,1,0,0,0,0,0,0,0,1,1,1,1,1,1,1,1,1,1]
[1,"22-060100",1,1,0,1,1,1,1,1,1,1,1,1,1,1,0,1,0,1,1,1,1,1,1,1,1,1,1,0,0,0,0,0,0,0,1,1,1,1,1,1,1,1,1,1]
[1,"22-060110",1,1,0,1,1,1,1,1,1,1,1,1,1,1,0,1,0,1,1,1,1,1,1,1,1,1,1,0,0,0,0,0,0,0,1,1,1,1,1,1,1,1,1,1]
[1,"22-060120",1,1,0,1,1,1,1,1,1,1,1,1,1,1,0,1,0,1,1,1,1,1,1,1,1,1,1,0,0,0,0,0,0,0,1,1,1,1,1,1,1,1,1,1]
[1,"22-060140",1,1,0,1,1,1,1,1,1,1,1,1,1,1,0,1,0,1,1,1,1,1,1,1,1,1,1,0,0,0,0,0,0,0,1,1,1,1,1,1,1,1,1,1]
[1,"22-060160",1,1,0,1,1,1,1,1,1,1,1,1,1,1,0,1,0,1,1,1,1,1,1,1,1,1,1,0,0,0,0,0,0,0,1,1,1,1,1,1,1,1,1,1]
[1,"22-060180",1,1,0,1,1,1,1,1,1,1,1,1,1,1,0,1,0,1,1,1,1,1,1,1,1,1,1,0,0,0,0,0,0,0,1,1,1,1,1,1,1,1,1,1]
[1,"22-060200",1,1,0,1,1,1,1,1,1,1,1,1,1,1,0,1,0,1,1,1,1,1,1,1,1,1,1,0,0,0,0,0,0,0,1,1,1,1,1,1,1,1,1,1]
[0,"22-060230",1,0,0,0,1,1,1,0,0,1,1,1,0,0,0,0,0,0,0,0,0,0,0,0,0,0,0,0,0,0,0,0,0,0,1,1,1,1,1,1,1,1,1,0]
[0,"22-060260",1,0,0,0,1,1,1,0,0,1,1,1,0,0,0,0,0,0,0,0,0,0,0,0,0,0,0,0,0,0,0,0,0,0,1,1,1,1,1,1,1,1,1,0]
[0,"22-060300",1,0,0,0,1,1,1,0,0,1,1,1,0,0,0,0,0,0,0,0,0,0,0,0,0,0,0,0,0,0,0,0,0,0,1,1,1,1,1,1,1,1,1,0]
[0,"22-070040",1,1,0,1,1,1,1,1,1,1,0,1,0,1,0,1,0,1,1,1,1,1,1,0,0,1,1,0,0,0,0,0,0,0,0,0,0,0,0,0,0,1,0,0]
[1,"22-070050",1,1,0,1,1,1,1,1,1,1,1,1,0,1,0,1,0,1,1,1,1,1,1,1,1,1,1,0,0,0,0,0,0,0,0,0,0,0,0,0,0,1,0,0]
[1,"22-070060",1,1,0,1,1,1,1,1,1,1,1,1,0,1,0,1,0,1,1,1,1,1,1,1,1,1,1,0,0,0,0,0,0,0,0,0,0,0,0,0,0,1,0,0]
[1,"22-070070",1,1,0,1,1,1,1,1,1,1,1,1,0,1,0,1,0,1,1,1,1,1,1,1,1,1,1,0,0,0,0,0,0,0,0,0,0,0,0,0,0,1,0,0]
[1,"22-070080",1,1,0,1,1,1,1,1,1,1,1,1,0,1,0,1,0,1,1,1,1,1,1,1,1,1,1,0,0,0,0,0,0,0,0,0,0,0,0,0,0,1,0,0]
[1,"22-070090",1,1,0,1,1,1,1,1,1,1,1,1,0,1,0,1,0,1,1,1,1,1,1,1,1,1,1,0,0,0,0,0,0,0,0,0,0,0,0,0,0,1,0,0]
[1,"22-070100",1,1,0,1,1,1,1,1,1,1,1,1,0,1,0,1,0,1,1,1,1,1,1,1,1,1,1,0,0,0,0,0,0,0,0,0,0,0,0,0,0,1,0,0]
[1,"22-070110",1,1,0,1,1,1,1,1,1,1,1,1,0,1,0,1,0,1,1,1,1,1,1,1,1,1,1,0,0,0,0,0,0,0,0,0,0,0,0,0,0,1,0,0]
[1,"22-070120",1,1,0,1,1,1,1,1,1,1,1,1,0,1,0,1,0,1,1,1,1,1,1,1,1,1,1,0,0,0,0,0,0,0,0,0,0,0,0,0,0,1,0,0]
[1,"22-070140",1,1,0,1,1,1,1,1,1,1,1,1,0,1,0,1,0,1,1,1,1,1,1,1,1,1,1,0,0,0,0,0,0,0,0,0,0,0,0,0,0,1,0,0]
[1,"22-070160",1,1,0,1,1,1,1,1,1,1,1,1,0,1,0,1,0,1,1,1,1,1,1,1,1,1,1,0,0,0,0,0,0,0,0,0,0,0,0,0,0,1,0,0]
[1,"22-070180",1,1,0,1,1,1,1,1,1,1,1,1,0,1,0,1,0,1,1,1,1,1,1,1,1,1,1,0,0,0,0,0,0,0,0,0,0,0,0,0,0,1,0,0]
[1,"22-070200",1,1,0,1,1,1,1,1,1,1,1,1,0,1,0,1,0,1,1,1,1,1,1,1,1,1,1,0,0,0,0,0,0,0,0,0,0,0,0,0,0,1,0,0]
[0,"22-070230",1,0,0,0,1,1,1,0,0,1,1,1,0,0,0,0,0,0,0,0,0,0,0,0,0,0,0,0,0,0,0,0,0,0,0,0,0,0,0,0,0,1,0,0]
[0,"22-070260",1,0,0,0,1,1,1,0,0,1,1,1,0,0,0,0,0,0,0,0,0,0,0,0,0,0,0,0,0,0,0,0,0,0,0,0,0,0,0,0,0,1,0,0]
[0,"22-070300",1,0,0,0,1,1,1,0,0,1,1,1,0,0,0,0,0,0,0,0,0,0,0,0,0,0,0,0,0,0,0,0,0,0,0,0,0,0,0,0,0,1,0,0]
[0,"22-090040",1,1,1,1,1,1,1,1,1,1,0,1,0,1,0,1,0,1,1,1,1,1,1,0,0,0,0,0,0,0,0,0,0,0,1,1,1,1,1,1,1,1,1,0]
[1,"22-090050",1,1,1,1,1,1,1,1,1,1,1,1,1,1,0,1,0,1,1,1,1,1,1,1,1,0,0,0,0,0,0,0,0,0,1,1,1,1,1,1,1,1,1,1]
[1,"22-090060",1,1,1,1,1,1,1,1,1,1,1,1,1,1,0,1,0,1,1,1,1,1,1,1,1,0,0,0,0,0,0,0,0,0,1,1,1,1,1,1,1,1,1,1]
[1,"22-090070",1,1,1,1,1,1,1,1,1,1,1,1,1,1,0,1,0,1,1,1,1,1,1,1,1,0,0,0,0,0,0,0,0,0,1,1,1,1,1,1,1,1,1,1]
[1,"22-090080",1,1,1,1,1,1,1,1,1,1,1,1,1,1,0,1,0,1,1,1,1,1,1,1,1,0,0,0,0,0,0,0,0,0,1,1,1,1,1,1,1,1,1,1]
[1,"22-090090",1,1,1,1,1,1,1,1,1,1,1,1,1,1,0,1,0,1,1,1,1,1,1,1,1,0,0,0,0,0,0,0,0,0,1,1,1,1,1,1,1,1,1,1]
[1,"22-090100",1,1,1,1,1,1,1,1,1,1,1,1,1,1,0,1,0,1,1,1,1,1,1,1,1,0,0,0,0,0,0,0,0,0,1,1,1,1,1,1,1,1,1,1]
[1,"22-090110",1,1,1,1,1,1,1,1,1,1,1,1,0,1,0,1,0,1,1,1,1,1,1,1,1,0,0,0,0,0,0,0,0,0,1,1,1,1,1,1,1,1,1,0]
[1,"22-090120",1,1,1,1,1,1,1,1,1,1,1,1,0,1,0,1,0,1,1,1,1,1,1,1,1,0,0,0,0,0,0,0,0,0,1,1,1,1,1,1,1,1,1,0]
[1,"22-090140",1,1,1,1,1,1,1,1,1,1,1,1,0,1,0,1,0,1,1,1,1,1,1,1,1,0,0,0,0,0,0,0,0,0,1,1,1,1,1,1,1,1,1,0]
[1,"22-090160",1,1,1,1,1,1,1,1,1,1,1,1,0,1,0,1,0,1,1,1,1,1,1,1,1,0,0,0,0,0,0,0,0,0,1,1,1,1,1,1,1,1,1,0]
[0,"22-090180",1,0,0,1,1,1,1,0,1,0,0,0,0,0,0,0,0,0,0,0,0,0,0,0,0,0,0,0,0,0,0,0,0,0,1,1,1,1,1,1,1,1,1,0]
[0,"22-090200",1,0,0,1,1,1,1,0,1,0,0,0,0,0,0,0,0,0,0,0,0,0,0,0,0,0,0,0,0,0,0,0,0,0,1,1,1,1,1,1,1,1,1,0]
[0,"22-090230",0,0,0,0,0,0,0,0,0,0,0,0,0,0,0,0,0,0,0,0,0,0,0,0,0,0,0,0,0,0,0,0,0,0,0,0,0,0,0,0,0,0,0,0]
[0,"22-090260",0,0,0,0,0,0,0,0,0,0,0,0,0,0,0,0,0,0,0,0,0,0,0,0,0,0,0,0,0,0,0,0,0,0,0,0,0,0,0,0,0,0,0,0]
[0,"22-090300",0,0,0,0,0,0,0,0,0,0,0,0,0,0,0,0,0,0,0,0,0,0,0,0,0,0,0,0,0,0,0,0,0,0,0,0,0,0,0,0,0,0,0,0]
[0,"33-020040",0,0,0,0,0,0,0,0,0,0,0,0,0,0,0,0,0,0,0,0,0,0,0,0,0,0,0,0,0,0,0,0,0,0,0,0,0,0,0,0,0,0,0,0]
[0,"33-020050",0,0,0,0,0,0,0,0,0,0,0,0,0,0,0,0,0,0,0,0,0,0,0,0,0,0,0,0,0,0,0,0,0,0,0,0,0,0,0,0,0,0,0,0]
[0,"33-020060",0,0,0,0,0,0,0,0,0,0,0,0,0,0,0,0,0,0,0,0,0,0,0,0,0,0,0,0,0,0,0,0,0,0,0,0,0,0,0,0,0,0,0,0]
[0,"33-020070",0,0,0,0,0,0,0,0,0,0,0,0,0,0,0,0,0,0,0,0,0,0,0,0,0,0,0,0,0,0,0,0,0,0,0,0,0,0,0,0,0,0,0,0]
[0,"33-020080",1,0,0,1,0,1,0,0,0,0,0,0,0,1,0,1,0,1,1,0,0,0,0,0,0,0,0,0,0,0,0,0,0,0,0,0,1,0,0,0,0,0,0,0]
[0,"33-020090",1,0,0,1,0,1,0,0,0,0,0,0,0,1,0,1,0,1,1,0,0,0,0,0,0,0,0,0,0,0,0,0,0,0,0,0,1,0,0,0,0,0,0,0]
[0,"33-020100",1,0,0,1,0,1,0,0,0,0,0,0,0,1,0,1,0,1,1,0,0,0,0,0,0,0,0,0,0,0,0,0,0,0,0,0,1,0,0,0,0,0,0,0]
[0,"33-020110",1,0,0,1,0,1,0,0,0,0,0,0,0,1,0,1,0,1,1,0,0,0,0,0,0,0,0,0,0,0,0,0,0,0,0,0,1,0,0,0,0,0,0,0]
[0,"33-020120",1,0,0,1,0,1,0,0,0,0,0,0,0,1,0,1,0,1,1,0,0,0,0,0,0,0,0,0,0,0,0,0,0,0,0,0,1,0,0,0,0,0,0,0]
[0,"33-020140",1,0,0,1,0,1,0,0,0,0,0,0,0,1,0,1,0,1,1,0,0,0,0,0,0,0,0,0,0,0,0,0,0,0,0,0,1,0,0,0,0,0,0,0]
[0,"33-020160",1,0,0,1,0,1,0,0,0,0,0,0,0,1,0,1,0,1,1,0,0,0,0,0,0,0,0,0,0,0,0,0,0,0,0,0,1,0,0,0,0,0,0,0]
[0,"33-020180",1,0,0,1,0,1,0,0,0,0,0,0,0,1,0,1,0,1,1,0,0,0,0,0,0,0,0,0,0,0,0,0,0,0,0,0,1,0,0,0,0,0,0,0]
[0,"33-020200",1,0,0,1,0,1,0,0,0,0,0,0,0,1,0,1,0,1,1,0,0,0,0,0,0,0,0,0,0,0,0,0,0,0,0,0,1,0,0,0,0,0,0,0]
[0,"33-020230",1,0,0,0,0,1,0,0,0,0,0,0,0,0,0,0,0,0,0,0,0,0,0,0,0,0,0,0,0,0,0,0,0,0,0,0,1,0,0,0,0,0,0,0]
[0,"33-020260",1,0,0,0,0,1,0,0,0,0,0,0,0,0,0,0,0,0,0,0,0,0,0,0,0,0,0,0,0,0,0,0,0,0,0,0,1,0,0,0,0,0,0,0]
[0,"33-020300",1,0,0,0,0,1,0,0,0,0,0,0,0,0,0,0,0,0,0,0,0,0,0,0,0,0,0,0,0,0,0,0,0,0,0,0,1,0,0,0,0,0,0,0]
[{"$f":"SUMIF($C$5:$BE$5,$A$7,$C584:$BE584)","v":0},"33-030040",1,0,0,1,1,0,1,0,1,0,0,0,0,1,0,1,0,1,1,1,1,0,0,0,0,0,0,0,0,1,1,1,1,1,1,1,1,1,1,1,1,0,1,0]
[0,"33-030050",1,0,0,1,1,0,1,0,1,0,0,0,0,1,0,1,0,1,1,1,1,0,0,0,0,0,0,0,0,1,1,1,1,1,1,1,1,1,1,1,1,0,1,0]
[0,"33-030060",1,0,0,1,1,0,1,0,1,0,0,0,0,1,0,1,0,1,1,1,1,0,0,0,0,0,0,0,0,1,1,1,1,1,1,1,1,1,1,1,1,0,1,0]
[0,"33-030070",1,0,0,1,1,0,1,0,1,0,0,0,0,1,0,1,0,1,1,1,1,0,0,0,0,0,0,0,0,1,1,1,1,1,1,1,1,1,1,1,1,0,1,0]
[1,"33-030080",1,0,0,1,1,1,1,0,1,1,1,1,0,1,0,1,0,1,1,1,1,1,1,1,1,0,0,0,0,0,0,0,1,1,1,1,1,1,1,1,1,1,1,0]
[1,"33-030090",1,0,0,1,1,1,1,0,1,1,1,1,0,1,0,1,0,1,1,1,1,1,1,1,1,0,0,0,0,0,0,0,1,1,1,1,1,1,1,1,1,1,1,0]
[1,"33-030100",1,0,0,1,1,1,1,0,1,1,1,1,0,1,0,1,0,1,1,1,1,1,1,1,1,0,0,0,0,0,0,0,1,1,1,1,1,1,1,1,1,1,1,0]
[1,"33-030110",1,0,0,1,1,1,1,0,1,1,1,1,0,1,0,1,0,1,1,1,1,1,1,1,1,0,0,0,0,0,0,0,1,1,1,1,1,1,1,1,1,1,1,0]
[1,"33-030120",1,0,0,1,1,1,1,0,1,1,1,1,0,1,0,1,0,1,1,1,1,1,1,1,1,0,0,0,0,0,0,0,1,1,1,1,1,1,1,1,1,1,1,0]
[1,"33-030140",1,0,0,1,1,1,1,0,1,1,1,1,0,1,0,1,0,1,1,1,1,1,1,1,1,0,0,0,0,0,0,0,1,1,1,1,1,1,1,1,1,1,1,0]
[1,"33-030160",1,0,0,1,1,1,1,0,1,1,1,1,0,1,0,1,0,1,1,1,1,1,1,1,1,0,0,0,0,0,0,0,1,1,1,1,1,1,1,1,1,1,1,0]
[1,"33-030180",1,0,0,1,1,1,1,0,1,1,1,1,0,1,0,1,0,1,1,1,1,1,1,1,1,0,0,0,0,0,0,0,1,1,1,1,1,1,1,1,1,1,1,0]
[1,"33-030200",1,0,0,1,1,1,1,0,1,1,1,1,0,1,0,1,0,1,1,1,1,1,1,1,1,0,0,0,0,0,0,0,1,1,1,1,1,1,1,1,1,1,1,0]
[0,"33-030230",1,0,0,0,1,1,1,0,0,1,1,1,0,0,0,0,0,0,0,0,0,0,0,0,0,0,0,0,0,0,0,0,1,1,1,1,1,0,1,1,1,1,1,0]
[0,"33-030260",1,0,0,0,1,1,1,0,0,1,1,1,0,0,0,0,0,0,0,0,0,0,0,0,0,0,0,0,0,0,0,0,1,1,1,1,1,0,1,1,1,1,1,0]
[0,"33-030300",1,0,0,0,1,1,1,0,0,1,1,1,0,0,0,0,0,0,0,0,0,0,0,0,0,0,0,0,0,0,0,0,1,1,1,1,1,0,1,1,1,1,1,0]
[0,"33-040040",1,0,0,1,1,0,1,0,1,0,0,0,0,1,0,1,0,1,1,1,1,0,0,0,0,0,0,0,0,1,1,1,1,1,1,1,1,0,1,1,1,0,1,0]
[0,"33-040050",1,0,0,1,1,0,1,0,1,0,0,0,0,1,0,1,0,1,1,1,1,0,0,0,0,0,0,0,0,1,1,1,1,1,1,1,1,0,1,1,1,0,1,0]
[0,"33-040060",1,0,0,1,1,0,1,0,1,0,0,0,0,1,0,1,0,1,1,1,1,0,0,0,0,0,0,0,0,1,1,1,1,1,1,1,1,0,1,1,1,0,1,0]
[0,"33-040070",1,0,0,1,1,0,1,0,1,0,0,0,0,1,0,1,0,1,1,1,1,0,0,0,0,0,0,0,0,1,1,1,1,1,1,1,1,0,1,1,1,0,1,0]
[1,"33-040080",1,0,0,1,1,1,1,0,1,1,1,1,0,1,0,1,0,1,1,1,1,1,1,1,1,0,0,0,0,0,0,0,1,1,1,1,1,0,1,1,1,1,1,0]
[1,"33-040090",1,0,0,1,1,1,1,0,1,1,1,1,0,1,0,1,0,1,1,1,1,1,1,1,1,0,0,0,0,0,0,0,1,1,1,1,1,0,1,1,1,1,1,0]
[1,"33-040100",1,0,0,1,1,1,1,0,1,1,1,1,0,1,0,1,0,1,1,1,1,1,1,1,1,0,0,0,0,0,0,0,1,1,1,1,1,0,1,1,1,1,1,0]
[1,"33-040110",1,0,0,1,1,1,1,0,1,1,1,1,0,1,0,1,0,1,1,1,1,1,1,1,1,0,0,0,0,0,0,0,1,1,1,1,1,0,1,1,1,1,1,0]
[1,"33-040120",1,0,0,1,1,1,1,0,1,1,1,1,0,1,0,1,0,1,1,1,1,1,1,1,1,0,0,0,0,0,0,0,1,1,1,1,1,0,1,1,1,1,1,0]
[1,"33-040140",1,0,0,1,1,1,1,0,1,1,1,1,0,1,0,1,0,1,1,1,1,1,1,1,1,0,0,0,0,0,0,0,1,1,1,1,1,0,1,1,1,1,1,0]
[1,"33-040160",1,0,0,1,1,1,1,0,1,1,1,1,0,1,0,1,0,1,1,1,1,1,1,1,1,0,0,0,0,0,0,0,1,1,1,1,1,0,1,1,1,1,1,0]
[1,"33-040180",1,0,0,1,1,1,1,0,1,1,1,1,0,1,0,1,0,1,1,1,1,1,1,1,1,0,0,0,0,0,0,0,1,1,1,1,1,0,1,1,1,1,1,0]
[1,"33-040200",1,0,0,1,1,1,1,0,1,1,1,1,0,1,0,1,0,1,1,1,1,1,1,1,1,0,0,0,0,0,0,0,1,1,1,1,1,0,1,1,1,1,1,0]
[0,"33-040230",1,0,0,0,1,1,1,0,0,1,1,1,0,0,0,0,0,0,0,0,0,0,0,0,0,0,0,0,0,0,0,0,1,1,1,1,1,0,1,1,1,1,1,0]
[0,"33-040260",1,0,0,0,1,1,1,0,0,1,1,1,0,0,0,0,0,0,0,0,0,0,0,0,0,0,0,0,0,0,0,0,1,1,1,1,1,0,1,1,1,1,1,0]
[0,"33-040300",1,0,0,0,1,1,1,0,0,1,1,1,0,0,0,0,0,0,0,0,0,0,0,0,0,0,0,0,0,0,0,0,1,1,1,1,1,0,1,1,1,1,1,0]
[0,"33-050040",1,0,1,1,1,1,1,0,1,1,0,1,0,1,1,1,1,1,1,1,1,1,1,0,0,0,0,0,0,1,1,1,1,1,1,1,1,0,1,1,1,0,1,0]
[1,"33-050050",1,0,1,1,1,1,1,0,1,1,1,1,0,1,1,1,1,1,1,1,1,1,1,1,1,0,0,0,0,1,1,1,1,1,1,1,1,0,1,1,1,1,1,0]
[1,"33-050060",1,0,1,1,1,1,1,0,1,1,1,1,0,1,1,1,1,1,1,1,1,1,1,1,1,0,0,0,0,1,1,1,1,1,1,1,1,0,1,1,1,1,1,0]
[1,"33-050070",1,0,1,1,1,1,1,0,1,1,1,1,0,1,1,1,1,1,1,1,1,1,1,1,1,0,0,0,0,1,1,1,1,1,1,1,1,0,1,1,1,1,1,0]
[1,"33-050080",1,0,1,1,1,1,1,0,1,1,1,1,0,1,1,1,1,1,1,1,1,1,1,1,1,0,0,0,0,0,0,0,1,1,1,1,1,0,1,1,1,1,1,0]
[1,"33-050090",1,0,1,1,1,1,1,0,1,1,1,1,0,1,1,1,1,1,1,1,1,1,1,1,1,0,0,0,0,0,0,0,1,1,1,1,1,0,1,1,1,1,1,0]
[1,"33-050100",1,0,1,1,1,1,1,0,1,1,1,1,0,1,1,1,1,1,1,1,1,1,1,1,1,0,0,0,0,0,0,0,1,1,1,1,1,0,1,1,1,1,1,0]
[1,"33-050110",1,0,1,1,1,1,1,0,1,1,1,1,0,1,1,1,1,1,1,1,1,1,1,1,1,0,0,0,0,0,0,0,1,1,1,1,1,0,1,1,1,1,1,0]
[1,"33-050120",1,0,1,1,1,1,1,0,1,1,1,1,0,1,1,1,1,1,1,1,1,1,1,1,1,0,0,0,0,0,0,0,1,1,1,1,1,0,1,1,1,1,1,0]
[1,"33-050140",1,0,1,1,1,1,1,0,1,1,1,1,0,1,1,1,1,1,1,1,1,1,1,1,1,0,0,0,0,0,0,0,1,1,1,1,1,0,1,1,1,1,1,0]
[1,"33-050160",1,0,1,1,1,1,1,0,1,1,1,1,0,1,1,1,1,1,1,1,1,1,1,1,1,0,0,0,0,0,0,0,1,1,1,1,1,0,1,1,1,1,1,0]
[1,"33-050180",1,0,1,1,1,1,1,0,1,1,1,1,0,1,1,1,1,1,1,1,1,1,1,1,1,0,0,0,0,0,0,0,1,1,1,1,1,0,1,1,1,1,1,0]
[1,"33-050200",1,0,1,1,1,1,1,0,1,1,1,1,0,1,1,1,1,1,1,1,1,1,1,1,1,0,0,0,0,0,0,0,1,1,1,1,1,0,1,1,1,1,1,0]
[0,"33-050230",1,0,0,0,1,1,1,0,0,0,0,0,0,0,0,0,0,0,0,0,0,0,0,0,0,0,0,0,0,0,0,0,1,1,1,1,1,0,1,1,1,1,1,0]
[0,"33-050260",1,0,0,0,1,1,1,0,0,0,0,0,0,0,0,0,0,0,0,0,0,0,0,0,0,0,0,0,0,0,0,0,1,1,1,1,1,0,1,1,1,1,1,0]
[0,"33-050300",1,0,0,0,1,1,1,0,0,0,0,0,0,0,0,0,0,0,0,0,0,0,0,0,0,0,0,0,0,0,0,0,1,1,1,1,1,0,1,1,1,1,1,0]
[0,"33-060040",1,0,0,1,1,1,1,0,1,1,0,1,0,1,0,1,0,1,1,1,1,1,1,0,0,0,0,0,0,1,1,1,1,1,1,1,1,1,1,1,1,0,1,0]
[1,"33-060050",1,0,0,1,1,1,1,0,1,1,1,1,0,1,0,1,0,1,1,1,1,1,1,1,1,0,0,0,0,1,1,1,1,1,1,1,1,1,1,1,1,1,1,0]
[1,"33-060060",1,0,0,1,1,1,1,0,1,1,1,1,0,1,0,1,0,1,1,1,1,1,1,1,1,0,0,0,0,1,1,1,1,1,1,1,1,1,1,1,1,1,1,0]
[1,"33-060070",1,0,0,1,1,1,1,0,1,1,1,1,0,1,0,1,0,1,1,1,1,1,1,1,1,0,0,0,0,1,1,1,1,1,1,1,1,1,1,1,1,1,1,0]
[1,"33-060080",1,0,0,1,1,1,1,0,1,1,1,1,0,1,0,1,0,1,1,1,1,1,1,1,1,0,0,0,0,0,0,0,1,1,1,1,1,1,1,1,1,1,1,0]
[1,"33-060090",1,0,0,1,1,1,1,0,1,1,1,1,0,1,0,1,0,1,1,1,1,1,1,1,1,0,0,0,0,0,0,0,1,1,1,1,1,1,1,1,1,1,1,0]
[1,"33-060100",1,0,0,1,1,1,1,0,1,1,1,1,0,1,0,1,0,1,1,1,1,1,1,1,1,0,0,0,0,0,0,0,1,1,1,1,1,1,1,1,1,1,1,0]
[1,"33-060110",1,0,0,1,1,1,1,0,1,1,1,1,0,1,0,1,0,1,1,1,1,1,1,1,1,0,0,0,0,0,0,0,1,1,1,1,1,1,1,1,1,1,1,0]
[1,"33-060120",1,0,0,1,1,1,1,0,1,1,1,1,0,1,0,1,0,1,1,1,1,1,1,1,1,0,0,0,0,0,0,0,1,1,1,1,1,1,1,1,1,1,1,0]
[1,"33-060140",1,0,0,1,1,1,1,0,1,1,1,1,0,1,0,1,0,1,1,1,1,1,1,1,1,0,0,0,0,0,0,0,1,1,1,1,1,1,1,1,1,1,1,0]
[1,"33-060160",1,0,0,1,1,1,1,0,1,1,1,1,0,1,0,1,0,1,1,1,1,1,1,1,1,0,0,0,0,0,0,0,1,1,1,1,1,1,1,1,1,1,1,0]
[1,"33-060180",1,0,0,1,1,1,1,0,1,1,1,1,0,1,0,1,0,1,1,1,1,1,1,1,1,0,0,0,0,0,0,0,1,1,1,1,1,1,1,1,1,1,1,0]
[1,"33-060200",1,0,0,1,1,1,1,0,1,1,1,1,0,1,0,1,0,1,1,1,1,1,1,1,1,0,0,0,0,0,0,0,1,1,1,1,1,1,1,1,1,1,1,0]
[0,"33-060230",1,0,0,0,1,1,1,0,0,0,0,0,0,0,0,0,0,0,0,0,0,0,0,0,0,0,0,0,0,0,0,0,1,1,1,1,1,0,1,1,1,1,1,0]
[0,"33-060260",1,0,0,0,1,1,1,0,0,0,0,0,0,0,0,0,0,0,0,0,0,0,0,0,0,0,0,0,0,0,0,0,1,1,1,1,1,0,1,1,1,1,1,0]
[0,"33-060300",1,0,0,0,1,1,1,0,0,0,0,0,0,0,0,0,0,0,0,0,0,0,0,0,0,0,0,0,0,0,0,0,1,1,1,1,1,0,1,1,1,1,1,0]
[{"$f":"SUMIF($C$5:$BE$5,$A$7,$C648:$BE648)","v":0},"33-070040",1,0,0,1,1,1,1,0,1,1,0,1,0,1,0,1,0,1,1,1,1,1,1,0,0,0,0,0,0,0,0,0,1,1,0,0,0,0,0,0,0,0,0,0]
[1,"33-070050",1,0,0,1,1,1,1,0,1,1,1,1,0,1,0,1,0,1,1,1,1,1,1,1,1,0,0,0,0,0,0,0,1,1,0,0,0,0,0,0,0,1,0,0]
[1,"33-070060",1,0,0,1,1,1,1,0,1,1,1,1,0,1,0,1,0,1,1,1,1,1,1,1,1,0,0,0,0,0,0,0,1,1,0,0,0,0,0,0,0,1,0,0]
[1,"33-070070",1,0,0,1,1,1,1,0,1,1,1,1,0,1,0,1,0,1,1,1,1,1,1,1,1,0,0,0,0,0,0,0,1,1,0,0,0,0,0,0,0,1,0,0]
[1,"33-070080",1,0,0,1,1,1,1,0,1,1,1,1,0,1,0,1,0,1,1,1,1,1,1,1,1,0,0,0,0,0,0,0,1,1,0,0,0,0,0,0,0,1,0,0]
[1,"33-070090",1,0,0,1,1,1,1,0,1,1,1,1,0,1,0,1,0,1,1,1,1,1,1,1,1,0,0,0,0,0,0,0,1,1,0,0,0,0,0,0,0,1,0,0]
[1,"33-070100",1,0,0,1,1,1,1,0,1,1,1,1,0,1,0,1,0,1,1,1,1,1,1,1,1,0,0,0,0,0,0,0,1,1,0,0,0,0,0,0,0,1,0,0]
[1,"33-070110",1,0,0,1,1,1,1,0,1,1,1,1,0,1,0,1,0,1,1,1,1,1,1,1,1,0,0,0,0,0,0,0,1,1,0,0,0,0,0,0,0,1,0,0]
[1,"33-070120",1,0,0,1,1,1,1,0,1,1,1,1,0,1,0,1,0,1,1,1,1,1,1,1,1,0,0,0,0,0,0,0,1,1,0,0,0,0,0,0,0,1,0,0]
[1,"33-070140",1,0,0,1,1,1,1,0,1,1,1,1,0,1,0,1,0,1,1,1,1,1,1,1,1,0,0,0,0,0,0,0,1,1,0,0,0,0,0,0,0,1,0,0]
[1,"33-070160",1,0,0,1,1,1,1,0,1,1,1,1,0,1,0,1,0,1,1,1,1,1,1,1,1,0,0,0,0,0,0,0,1,1,0,0,0,0,0,0,0,1,0,0]
[1,"33-070180",1,0,0,1,1,1,1,0,1,1,1,1,0,1,0,1,0,1,1,1,1,1,1,1,1,0,0,0,0,0,0,0,1,1,0,0,0,0,0,0,0,1,0,0]
[1,"33-070200",1,0,0,1,1,1,1,0,1,1,1,1,0,1,0,1,0,1,1,1,1,1,1,1,1,0,0,0,0,0,0,0,1,1,0,0,0,0,0,0,0,1,0,0]
[0,"33-070230",1,0,0,0,1,1,1,0,0,0,0,0,0,0,0,0,0,0,0,0,0,0,0,0,0,0,0,0,0,0,0,0,1,1,0,0,0,0,0,0,0,1,0,0]
[0,"33-070260",1,0,0,0,1,1,1,0,0,0,0,0,0,0,0,0,0,0,0,0,0,0,0,0,0,0,0,0,0,0,0,0,1,1,0,0,0,0,0,0,0,1,0,0]
[0,"33-070300",1,0,0,0,1,1,1,0,0,0,0,0,0,0,0,0,0,0,0,0,0,0,0,0,0,0,0,0,0,0,0,0,1,1,0,0,0,0,0,0,0,1,0,0]
[0,"33-090040",1,0,1,1,1,1,1,0,1,1,0,1,0,1,0,1,0,1,1,1,1,1,1,0,0,0,0,0,0,0,0,0,1,1,1,1,1,0,1,1,1,0,1,0]
[1,"33-090050",1,0,1,1,1,1,1,0,1,1,1,1,0,1,0,1,0,1,1,1,1,1,1,1,1,0,0,0,0,0,0,0,1,1,1,1,1,0,1,1,1,1,1,0]
[1,"33-090060",1,0,1,1,1,1,1,0,1,1,1,1,0,1,0,1,0,1,1,1,1,1,1,1,1,0,0,0,0,0,0,0,1,1,1,1,1,0,1,1,1,1,1,0]
[1,"33-090070",1,0,1,1,1,1,1,0,1,1,1,1,0,1,0,1,0,1,1,1,1,1,1,1,1,0,0,0,0,0,0,0,1,1,1,1,1,0,1,1,1,1,1,0]
[1,"33-090080",1,0,1,1,1,1,1,0,1,1,1,1,0,1,0,1,0,1,1,1,1,1,1,1,1,0,0,0,0,0,0,0,1,1,1,1,1,0,1,1,1,1,1,0]
[1,"33-090090",1,0,1,1,1,1,1,0,1,1,1,1,0,1,0,1,0,1,1,1,1,1,1,1,1,0,0,0,0,0,0,0,1,1,1,1,1,0,1,1,1,1,1,0]
[1,"33-090100",1,0,1,1,1,1,1,0,1,1,1,1,0,1,0,1,0,1,1,1,1,1,1,1,1,0,0,0,0,0,0,0,1,1,1,1,1,0,1,1,1,1,1,0]
[1,"33-090110",1,0,1,1,1,1,1,0,1,1,1,1,0,1,0,1,0,1,1,1,1,1,1,1,1,0,0,0,0,0,0,0,1,1,1,1,1,0,1,1,1,1,1,0]
[1,"33-090120",1,0,1,1,1,1,1,0,1,1,1,1,0,1,0,1,0,1,1,1,1,1,1,1,1,0,0,0,0,0,0,0,1,1,1,1,1,0,1,1,1,1,1,0]
[1,"33-090140",1,0,1,1,1,1,1,0,1,1,1,1,0,1,0,1,0,1,1,1,1,1,1,1,1,0,0,0,0,0,0,0,1,1,1,1,1,0,1,1,1,1,1,0]
[1,"33-090160",1,0,1,1,1,1,1,0,1,1,1,1,0,1,0,1,0,1,1,1,1,1,1,1,1,0,0,0,0,0,0,0,1,1,1,1,1,0,1,1,1,1,1,0]
[0,"33-090180",1,0,0,1,1,1,1,0,1,0,0,0,0,0,0,0,0,0,0,0,0,0,0,0,0,0,0,0,0,0,0,0,1,1,1,1,1,0,1,1,1,1,1,0]
[0,"33-090200",1,0,0,1,1,1,1,0,1,0,0,0,0,0,0,0,0,0,0,0,0,0,0,0,0,0,0,0,0,0,0,0,1,1,1,1,1,0,1,1,1,1,1,0]
[0,"33-090230",0,0,0,0,0,0,0,0,0,0,0,0,0,0,0,0,0,0,0,0,0,0,0,0,0,0,0,0,0,0,0,0,0,0,0,0,0,0,0,0,0,0,0,0]
[0,"33-090260",0,0,0,0,0,0,0,0,0,0,0,0,0,0,0,0,0,0,0,0,0,0,0,0,0,0,0,0,0,0,0,0,0,0,0,0,0,0,0,0,0,0,0,0]
[0,"33-090300",0,0,0,0,0,0,0,0,0,0,0,0,0,0,0,0,0,0,0,0,0,0,0,0,0,0,0,0,0,0,0,0,0,0,0,0,0,0,0,0,0,0,0,0]

{"sheet":"Logic","index":7,"n_rows":128,"n_cols":34,"rows_kept":128,"cut":false,"hidden":true,"merged":[[0,4,0,19],[21,4,21,8],[22,5,22,6],[43,4,43,14],[65,4,65,14]]}
["heslojeheslo",null,null,null,"Naplnění listu Výstup"]
[null,null,null,null,null,2,{"$f":"F2+1","v":3},4,5,6,7,8,9,10,11,12,13,14,15,16,17,18,19,20,21,22,23,24,25,26,27,28,29,30]
[25,{"$f":"VLOOKUP($A3,$A$4:$C$64,2,FALSE)","v":"RADIK LINE VKM8-L"},{"$f":"VLOOKUP($A3,$A$4:$C$64,3,FALSE)","v":"T0L00"},null,1,{"$f":"VLOOKUP($E$3,$E$4:F20,F2)","v":"Česky"},{"$f":"VLOOKUP($E$3,$E$4:G20,G2)","v":"vše"},{"$f":"VLOOKUP($E$3,$E$4:H20,H2)","v":"Tepelné výkony podle EN 442"},{"$f":"VLOOKUP($E$3,$E$4:I20,I2)","v":"Výška"},{"$f":"VLOOKUP($E$3,$E$4:J20,J2)","v":"Délka"},{"$f":"VLOOKUP($E$3,$E$4:K20,K2)","v":"od"},{"$f":"VLOOKUP($E$3,$E$4:L20,L2)","v":"do"},{"$f":"VLOOKUP($E$3,$E$4:M20,M2)","v":"Výběr modelu:"},{"$f":"VLOOKUP($E$3,$E$4:N20,N2)","v":"Tepelný výkon"},{"$f":"VLOOKUP($E$3,$E$4:O20,O2)","v":"Teplota:"},{"$f":"VLOOKUP($E$3,$E$4:P20,P2)","v":"Typ"},{"$f":"VLOOKUP($E$3,$E$4:Q20,Q2)","v":"Výběr jazyka"},{"$f":"VLOOKUP($E$3,$E$4:R20,R2)","v":"Chybný teplotní spád !!!"},{"$f":"VLOOKUP($E$3,$E$4:S20,S2)","v":"Detailní výběr"},{"$f":"VLOOKUP($E$3,$E$4:T20,T2)","v":"Zadání hodnot"},{"$f":"VLOOKUP($E$3,$E$4:U20,U2)","v":"Chybně zadané hodnoty !!!"},{"$f":"VLOOKUP($E$3,$E$4:V20,V2)","v":"verze"},{"$f":"VLOOKUP($E$3,$E$4:W20,W2)","v":"Vybraná oblast neobsahuje správná data!!!"},{"$f":"VLOOKUP($E$3,$E$4:X20,X2)","v":"Přidat do databáze"},{"$f":"VLOOKUP($E$3,$E$4:Y20,Y2)","v":0},{"$f":"VLOOKUP($E$3,$E$4:Z20,Z2)","v":"Mám opravdu smazat databázi?"},{"$f":"VLOOKUP($E$3,$E$4:AA20,AA2)","v":"OK"},{"$f":"VLOOKUP($E$3,$E$4:AB20,AB2)","v":"Počet záznamů v databázi:"},{"$f":"VLOOKUP($E$3,$E$4:AC20,AC2)","v":"Zobrazit databázi"},{"$f":"VLOOKUP($E$3,$E$4:AD20,AD2)","v":"Zpět na výběr"},{"$f":"VLOOKUP($E$3,$E$4:AE20,AE2)","v":"Export databáze"},{"$f":"VLOOKUP($E$3,$E$4:AF20,AF2)","v":"Cena (Kč)"},{"$f":"VLOOKUP($E$3,$E$4:AG20,AG2)","v":"Stupeň nastavení ventilu"},{"$f":"VLOOKUP($E$3,$E$4:AH20,AH2)","v":"Zobrazit nastavení ventilu"}]
[{"$f":"SUMIF(Sortiment!$6:$6,C4,Sortiment!$5:$5)","v":1},{"$f":"IF(Sortiment!$C7=0,\"\",Sortiment!$C7)","v":"RADIK KLASIK"},{"$f":"IF(Sortiment!$C7=0,\"\",Sortiment!$C6)","v":"50-00"},null,1,"Česky","vše","Tepelné výkony podle EN 442","Výška","Délka","od","do","Výběr modelu:","Tepelný výkon","Teplota:","Typ","Výběr jazyka","Chybný teplotní spád !!!","Detailní výběr","Zadání hodnot","Chybně zadané hodnoty !!!","verze","Vybraná oblast neobsahuje správná data!!!","Přidat do databáze",null,"Mám opravdu smazat databázi?","OK","Počet záznamů v databázi:","Zobrazit databázi","Zpět na výběr","Export databáze","Cena (Kč)","Stupeň nastavení ventilu","Zobrazit nastavení ventilu"]
[{"$f":"SUMIF(Sortiment!$6:$6,C5,Sortiment!$5:$5)","v":2},{"$f":"IF(Sortiment!$D7=0,\"\",Sortiment!$D7)","v":"RADIK CLEAN"},{"$f":"IF(Sortiment!$D7=0,\"\",Sortiment!$D6)","v":"5C-00"},null,2,"Anglicky","all","Heat outputs according to EN 442","Height","Length","from","up to","Overview of models:","Heat output","Temperature:","Type","Language","Wrong temperature gradient !!!","Detailed selection","Select conditions","Wrong values input !!!","version","Selected area does not content right data !!!","Add into database",null,"Shall the database really be deleted?","OK","No. of articles in database:","Display the database","Back to menu","Database export","Price (€)","Level of valve setting","See the valve setting"]
[{"$f":"SUMIF(Sortiment!$6:$6,C6,Sortiment!$5:$5)","v":3},{"$f":"IF(Sortiment!$E7=0,\"\",Sortiment!$E7)","v":"RADIK KLASIK - R"},{"$f":"IF(Sortiment!$E7=0,\"\",Sortiment!$E6)","v":"R0-00"},null,3,"Německy","alles","Wärmeleistungen nach EN 442","Bauhöhe","Baulänge","von","bis","Modellauswahl:","Wärmeleistungen","Temperatur:","Typ","Sprache","Falscher Temperaturgradient","Detailauswahl","Auswahlkriterien","Falsche Dateneingabe !!!","version","Ausgewählter Bereich beinhaltet nicht die richtigen Daten !!!","In die Database hinzufügen",null,"Soll die Database wirklich gelöscht werden?","OK","Anzahl der Aufnahmen in der Database:","Database abbilden","Zurück zur Auswahl","Database exportieren","Preis (€)","Stufe der Ventileinstellung","Ventileinstellung abbilden"]
[{"$f":"SUMIF(Sortiment!$6:$6,C7,Sortiment!$5:$5)","v":4},{"$f":"IF(Sortiment!$F7=0,\"\",Sortiment!$F7)","v":"RADIK KLASIK - Z"},{"$f":"IF(Sortiment!$F7=0,\"\",Sortiment!$F6)","v":"50Z00"},null,4,"Rusky","всё","Тепловые мощности согл. EN 442","Высота","Длина","от","до","Выбор модели","Тепловая мощность","Температура","Тип","Выбор языка","Неправильный перепад температуры","Тип радиатора","Параметры","Неправильно заданые значения!!!","Версия","В выбранной области имеется неправильная информация!!!","Добавить в базу данных",null,"Хотите сбросить базу данных??","OK","Количество записей в базе данный:","Изобразить колонки из перечня","Вернуться на выбор","Перевод избранных типов","Цена (€)","Позиция насторойки вентиля","Показать позицию настройки вентиля"]
[{"$f":"SUMIF(Sortiment!$6:$6,C8,Sortiment!$5:$5)","v":5},{"$f":"IF(Sortiment!$G7=0,\"\",Sortiment!$G7)","v":"RADIK VK"},{"$f":"IF(Sortiment!$G7=0,\"\",Sortiment!$G6)","v":"60-00"},null,5,"Polsky","wszystko","Wydajność cieplna wedlug EN 442","Wysokość","Długość","od","do","Wybór modela:","Wydajność cieplna ","Temperatura:","Typ","Wybór języku","Błędny spadek cieplny !!!","Wybór detaliczny","Zadanie wartości","Błędne zadanie wartości !!!","wersja","Wybrany zakres nie zawiera prawiedlowe dane!!!","Dołożyć do wykazu",null,"Mam faktycznie stuszować wykaz??","OK","Liczba zapisów w wykazie:","Wyobrazić wykaz","Z powrotem na wybór","Eksport wykazu","Cena (PLN)","Stopień nastawienia wkładki termostatycznej","Pokazać nastawienie wkładki"]
[{"$f":"SUMIF(Sortiment!$6:$6,C9,Sortiment!$5:$5)","v":6},{"$f":"IF(Sortiment!$H7=0,\"\",Sortiment!$H7)","v":"RADIK VKU"},{"$f":"IF(Sortiment!$H7=0,\"\",Sortiment!$H6)","v":"6U-00"},null,6,"Francouzsky","tout","Puissances thermiques selon EN 442","Hauteur","Longueur","de","à","Choix du modèle:","Puissance thermique","Température:","Type","Choix de langue","Fausse cadence de température","Choix en détail","Introduction des valeurs","Valeurs mal introduites","Version","La zone marquée ne contient pas de données correctes!!!","Ajouter dans la base de données",null,"Etes-vous sur d´annulation de la base de données?","OK","No. d´inscriptions dans la base de données:","Montrer la base de données","Retour au choix","Export de la base de données",null,"Degré de réglage de  la vanne","Voir le réglage de la vanne"]
[{"$f":"SUMIF(Sortiment!$6:$6,C10,Sortiment!$5:$5)","v":7},{"$f":"IF(Sortiment!$I7=0,\"\",Sortiment!$I7)","v":"RADIK VKL"},{"$f":"IF(Sortiment!$I7=0,\"\",Sortiment!$I6)","v":"E0-00"},null,7,"Maďarsky","mind","Hőteljesítmény az EN 442 szerint","Magasság","Hossz"," "," ","Modell kiválasztása:","Hőteljesítmény","Hőmérséklet:","Típus","Nyelv kiválasztása","Hibás hőmérséklet csökkenés !!!","Részletes kiválasztás","Értékek megadása","Hibásan megadott értékek !!!","verzió","A kiválasztott terület nem tartalmaz valós adatokat !!!","Adatbázisba küldés",null,"Valóban törölni az adatbázist?","OK","Azt adatbázis tételeinek száma:","Adatbázis megjelenítése","Vissza a kiválasztáshoz","Adatbázis exportja",null,"Szelep beállítás szintje","Nézze a szelep beállítást"]
[{"$f":"SUMIF(Sortiment!$6:$6,C11,Sortiment!$5:$5)","v":8},{"$f":"IF(Sortiment!$J7=0,\"\",Sortiment!$J7)","v":"RADIK CLEAN VK"},{"$f":"IF(Sortiment!$J7=0,\"\",Sortiment!$J6)","v":"6C-00"},null,8,"Švédsky","alla","Värmeavgivning enligt EN 442","Höjd","Längd","från","till","Överblick av modellerna:","Värmeavgivning ","Temperatur:","Typ","Språk","Fel temperaturfall !!!","Detaljerat urval","välj temperaturfall","Fel värde inskrivet !!!","version","Vald ruta inehåller inte rätt data !!!","Lägg till i databasen",null,"Ska du verkligen tömma databasen?","OK","Antal artiklar i databasen:","Visa databasen","Tillbaka till meny","Exportera värde",null,"Förinställning av ventil","Se förinställt värde på ventil"]
[{"$f":"SUMIF(Sortiment!$6:$6,C12,Sortiment!$5:$5)","v":9},{"$f":"IF(Sortiment!$K7=0,\"\",Sortiment!$K7)","v":"RADIK VK - Z"},{"$f":"IF(Sortiment!$K7=0,\"\",Sortiment!$K6)","v":"60Z00"},null,9,"Rumunsky","toate","Puteri termice conform EN442","Înălţime","Lungime","de la","până la","tipuri de radiator","Putere termică","Temperatură:","Tip:","Limba","Gradient de temperatură greşit !!!","Căutare avansată","Selectaţi condiţiile","Parametrii greşiţi de intrare","versiune","Câmpul selectat nu conţine date corecte !!","Adăugare la baza de date",null,"Sigur doriţi să ştergeţi baza de date?","OK","Nr. articolelor din baza de date","Afişare bază de date","Înapoi la meniu","Exportare bază de date",null,"Nivelul de reglare al robinetului","Vezi reglarea robinetului"]
[{"$f":"SUMIF(Sortiment!$6:$6,C13,Sortiment!$5:$5)","v":10},{"$f":"IF(Sortiment!$L7=0,\"\",Sortiment!$L7)","v":"RADIK VKM8"},{"$f":"IF(Sortiment!$L7=0,\"\",Sortiment!$L6)","v":"S0-00"},null,10,"Bulharsky","всички","Топлинни мощности според ЕН 442","Височина","Дължина","от","до","Избор на модел:","Топлинна мощност ","Температура:","Тип","Избор на език","Грешно температурно спадане !!!","Детайлен избор","Въвеждане на стойности","Грешно въведени стойности !!!","версия","Избраната област не съдържа правилни данни!!!","Допълни в базата данни",null,"Наистина ли да изтрия базата данни?","OK","Брой записвания в база данни:","Покажи база данни","Обратно към избор","Експорт на база данни"]
[{"$f":"SUMIF(Sortiment!$6:$6,C14,Sortiment!$5:$5)","v":11},{"$f":"IF(Sortiment!$M7=0,\"\",Sortiment!$M7)","v":"RADIK VKM8-L"},{"$f":"IF(Sortiment!$M7=0,\"\",Sortiment!$M6)","v":"T0-00"},null,11,"Holandsky","alles","Warmteafgiftes volgens EN 442","Hoogte","Lengte","van","tot","Overzicht van de modellen:","Warmteafgifte","Temperatuur:","Type","Taalkeuze","Verkeerde temperatuur verhouding !!!","Gedetailleerde selectie","Ingeven van waarden","Waarden foutief ingegeven !!!","Versie","De selectie heeft geen correcte data !!!","Toevoegen in database",null,"Bent u zeker om de database te verwijderen ?","OK","Aantal artikelen in de database:","Toon de database","Terug naar menu","Exporteer database",null,"Positie insert ","Bekijk de positie van de insert"]
[{"$f":"SUMIF(Sortiment!$6:$6,C15,Sortiment!$5:$5)","v":12},{"$f":"IF(Sortiment!$N7=0,\"\",Sortiment!$N7)","v":"RADIK VKM8-U"},{"$f":"IF(Sortiment!$N7=0,\"\",Sortiment!$N6)","v":"SU-00"},null,12,"Norsky","alle","Effekt avgivelse iht EN442","Høyde","Lengde","fra","til","Oversikt modelltyper","Effekt avgivelse","Temperatur :","Type","Språk","Feil temperatur fall !!!","Detaljert valg","velg temperaturfall","Feil verdi innskrevet !!!","versjon","Valgt celle inneholder feil data  !!!","Legg til i databaseb ?",null,"Ønsker virkelig du å tømme databasen ?","OK","Antal artikler i databasen","Vis databasen","Tilbake til menyen","Eksporterte verdier",null,"Forinnstilling av ventil","Se forinnstilt verdi på ventil"]
[{"$f":"SUMIF(Sortiment!$6:$6,C16,Sortiment!$5:$5)","v":13},{"$f":"IF(Sortiment!$O7=0,\"\",Sortiment!$O7)","v":"RADIK CLEAN VKM8"},{"$f":"IF(Sortiment!$O7=0,\"\",Sortiment!$O6)","v":"SC-00"},null,13]
[{"$f":"SUMIF(Sortiment!$6:$6,C17,Sortiment!$5:$5)","v":14},{"$f":"IF(Sortiment!$P7=0,\"\",Sortiment!$P7)","v":"RADIK PLAN KLASIK"},{"$f":"IF(Sortiment!$P7=0,\"\",Sortiment!$P6)","v":"50P00"},null,14]
[{"$f":"SUMIF(Sortiment!$6:$6,C18,Sortiment!$5:$5)","v":15},{"$f":"IF(Sortiment!$Q7=0,\"\",Sortiment!$Q7)","v":"RADIK PLAN KLASIK - R"},{"$f":"IF(Sortiment!$Q7=0,\"\",Sortiment!$Q6)","v":"R0P00"},null,15]
[{"$f":"SUMIF(Sortiment!$6:$6,C19,Sortiment!$5:$5)","v":16},{"$f":"IF(Sortiment!$R7=0,\"\",Sortiment!$R7)","v":"RADIK LINE KLASIK"},{"$f":"IF(Sortiment!$R7=0,\"\",Sortiment!$R6)","v":"50L00"},null,16]
[{"$f":"SUMIF(Sortiment!$6:$6,C20,Sortiment!$5:$5)","v":17},{"$f":"IF(Sortiment!$S7=0,\"\",Sortiment!$S7)","v":"RADIK LINE KLASIK - R"},{"$f":"IF(Sortiment!$S7=0,\"\",Sortiment!$S6)","v":"R0L00"},null,17]
[{"$f":"SUMIF(Sortiment!$6:$6,C21,Sortiment!$5:$5)","v":18},{"$f":"IF(Sortiment!$T7=0,\"\",Sortiment!$T7)","v":"RADIK PLAN VK"},{"$f":"IF(Sortiment!$T7=0,\"\",Sortiment!$T6)","v":"60P00"}]
[{"$f":"SUMIF(Sortiment!$6:$6,C22,Sortiment!$5:$5)","v":19},{"$f":"IF(Sortiment!$U7=0,\"\",Sortiment!$U7)","v":"RADIK LINE VK"},{"$f":"IF(Sortiment!$U7=0,\"\",Sortiment!$U6)","v":"60L00"},null,"Číslování verzí"]
[{"$f":"SUMIF(Sortiment!$6:$6,C23,Sortiment!$5:$5)","v":20},{"$f":"IF(Sortiment!$V7=0,\"\",Sortiment!$V7)","v":"RADIK PLAN VKL"},{"$f":"IF(Sortiment!$V7=0,\"\",Sortiment!$V6)","v":"E0P00"},null,"kód země","číslo verze",null,"datum sort.","makra",null,null,2,{"$f":"L23+1","v":3},{"$f":"M23+1","v":4},{"$f":"N23+1","v":5}]
[{"$f":"SUMIF(Sortiment!$6:$6,C24,Sortiment!$5:$5)","v":21},{"$f":"IF(Sortiment!$W7=0,\"\",Sortiment!$W7)","v":"RADIK LINE VKL"},{"$f":"IF(Sortiment!$W7=0,\"\",Sortiment!$W6)","v":"E0L00"},null,"CZ","5","01","2016-01-01","M",null,{"$f":"E3","v":1},null,{"$f":"VLOOKUP($E$3,$K$25:U41,M23)","v":"Technické změny vyhrazeny."},{"$f":"VLOOKUP($E$3,$K$25:V41,N23)","v":"Uvedené výkony jsou platné pouze pro zemi:"},{"$f":"VLOOKUP($E$3,$K$25:W41,O23)","v":"Česká republika"}]
[{"$f":"SUMIF(Sortiment!$6:$6,C25,Sortiment!$5:$5)","v":22},{"$f":"IF(Sortiment!$X7=0,\"\",Sortiment!$X7)","v":"RADIK PLAN VKM8"},{"$f":"IF(Sortiment!$X7=0,\"\",Sortiment!$X6)","v":"S0P00"},null,null,null,null,null,null,null,1,{"$f":"F4","v":"Česky"},"Technické změny vyhrazeny.","Uvedené výkony jsou platné pouze pro zemi:","Česká republika"]
[{"$f":"SUMIF(Sortiment!$6:$6,C26,Sortiment!$5:$5)","v":23},{"$f":"IF(Sortiment!$Y7=0,\"\",Sortiment!$Y7)","v":"RADIK LINE VKM8"},{"$f":"IF(Sortiment!$Y7=0,\"\",Sortiment!$Y6)","v":"S0L00"},null,"AT",1,"01",null,"M",null,2,{"$f":"F5","v":"Anglicky"},"Technical changes reserved.","The quoted outputs are valid only for the country:","Chile"]
[{"$f":"SUMIF(Sortiment!$6:$6,C27,Sortiment!$5:$5)","v":24},{"$f":"IF(Sortiment!$Z7=0,\"\",Sortiment!$Z7)","v":"RADIK PLAN VKM8-L"},{"$f":"IF(Sortiment!$Z7=0,\"\",Sortiment!$Z6)","v":"T0P00"},null,"CZ",2,"02",null,null,null,3,"Německy","Technische Änderungen vorbehalten.","Die angegebenen Leistungen sind gültig nur für das Land:","Deutschland","Österreich"]
[{"$f":"SUMIF(Sortiment!$6:$6,C28,Sortiment!$5:$5)","v":25},{"$f":"IF(Sortiment!$AA7=0,\"\",Sortiment!$AA7)","v":"RADIK LINE VKM8-L"},{"$f":"IF(Sortiment!$AA7=0,\"\",Sortiment!$AA6)","v":"T0L00"},null,"DE",3,"03",null,null,null,4,"Rusky","Призводитель оставляет за собой право на изменения.","Данные действительны только для","России.","России","Украина"]
[{"$f":"SUMIF(Sortiment!$6:$6,C29,Sortiment!$5:$5)","v":26},{"$f":"IF(Sortiment!$AB7=0,\"\",Sortiment!$AB7)","v":"RADIK HYGIENE"},{"$f":"IF(Sortiment!$AB7=0,\"\",Sortiment!$AB6)","v":"5CH00"},null,"PL",4,"04",null,null,null,5,"Polsky","Zmiany techniczne zastrzeżone.","Wprowadzene moce są platne tylko dla kraje:","Polska"]
[{"$f":"SUMIF(Sortiment!$6:$6,C30,Sortiment!$5:$5)","v":27},{"$f":"IF(Sortiment!$AC7=0,\"\",Sortiment!$AC7)","v":"RADIK HYGIENE VK"},{"$f":"IF(Sortiment!$AC7=0,\"\",Sortiment!$AC6)","v":"6CH00"},null,"UA",5,"05","výsledný kód verze",null,null,6,"Francouzsky","Tous droits de modifi cation technique réservés."]
[{"$f":"SUMIF(Sortiment!$6:$6,C31,Sortiment!$5:$5)","v":28},{"$f":"IF(Sortiment!$AD7=0,\"\",Sortiment!$AD7)","v":"RADIK PLAN VERTIKAL - M"},{"$f":"IF(Sortiment!$AD7=0,\"\",Sortiment!$AD6)","v":"V0P00"},null,"RU",6,"06",{"$f":"E24&\" ODT \"&F24&\".\"&G24&\"-\"&TEXT(H24,\"mm/rr\")&\" \"&I24","v":"CZ ODT 5.01-01/16 M"},null,null,7,"Maďarsky","Műszaki adatok megváltoztatásának joga fenntartva.","A feltüntetett teljesítmények csak a következő országra érvényesek:","HU","Magyarország"]
[{"$f":"SUMIF(Sortiment!$6:$6,C32,Sortiment!$5:$5)","v":29},{"$f":"IF(Sortiment!$AE7=0,\"\",Sortiment!$AE7)","v":"RADIK LINE VERTIKAL - M"},{"$f":"IF(Sortiment!$AE7=0,\"\",Sortiment!$AE6)","v":"V0L00"},null,"HU",7,"07",null,null,null,8,"Švédsky","Med reservation för tekniska förändringar.","Nämnda effekter är giltiga endast i landet:","Sverige"]
[{"$f":"SUMIF(Sortiment!$6:$6,C33,Sortiment!$5:$5)","v":30},{"$f":"IF(Sortiment!$AF7=0,\"\",Sortiment!$AF7)","v":"RADIK PREMIUM"},{"$f":"IF(Sortiment!$AF7=0,\"\",Sortiment!$AF6)","v":"WU-00"},null,"SE",8,"08",null,null,null,9,"Rumunsky","Producătorul îşi rezervă dreptul de a efectua modificări tehnice","Puterile termice menţionate sunt valabile pentru:","România"]
[{"$f":"SUMIF(Sortiment!$6:$6,C34,Sortiment!$5:$5)","v":31},{"$f":"IF(Sortiment!$AG7=0,\"\",Sortiment!$AG7)","v":"RADIK PLAN PREMIUM"},{"$f":"IF(Sortiment!$AG7=0,\"\",Sortiment!$AG6)","v":"WUP00"},null,"RO",9,"09",null,null,null,10,"Bulharsky","Право на технически промени.","Посочените мощности са валидни само за държава:","България"]
[{"$f":"SUMIF(Sortiment!$6:$6,C35,Sortiment!$5:$5)","v":32},{"$f":"IF(Sortiment!$AH7=0,\"\",Sortiment!$AH7)","v":"RADIK LINE PREMIUM"},{"$f":"IF(Sortiment!$AH7=0,\"\",Sortiment!$AH6)","v":"WUL00"},null,"CL",10,"10",null,null,null,11,"Holandsky","Het recht blijft behouden op technische wijzigingen.","De weergegeven warmteafgiftes zijn enkel geldig in volgende landen:","België / Nederland"]
[{"$f":"SUMIF(Sortiment!$6:$6,C36,Sortiment!$5:$5)","v":33},{"$f":"IF(Sortiment!$AI7=0,\"\",Sortiment!$AI7)","v":"RADIK MATERNELLE VK"},{"$f":"IF(Sortiment!$AI7=0,\"\",Sortiment!$AI6)","v":"6S-00"},null,"FR",null,null,null,null,null,12,"Norsky","Med reservasjon for tekniske endringer.","Nevnte effekter er gyldig bare i Norge."]
[{"$f":"SUMIF(Sortiment!$6:$6,C37,Sortiment!$5:$5)","v":34},{"$f":"IF(Sortiment!$AJ7=0,\"\",Sortiment!$AJ7)","v":"RADIK MATERNELLE VKL"},{"$f":"IF(Sortiment!$AJ7=0,\"\",Sortiment!$AJ6)","v":"ES-00"},null,"NL",null,null,null,null,null,13,0]
[{"$f":"SUMIF(Sortiment!$6:$6,C38,Sortiment!$5:$5)","v":35},{"$f":"IF(Sortiment!$AK7=0,\"\",Sortiment!$AK7)","v":"KINGRAD COMPACT"},{"$f":"IF(Sortiment!$AK7=0,\"\",Sortiment!$AK6)","v":"30-00"},null,"BE",null,null,null,null,null,14,0]
[{"$f":"SUMIF(Sortiment!$6:$6,C39,Sortiment!$5:$5)","v":36},{"$f":"IF(Sortiment!$AL7=0,\"\",Sortiment!$AL7)","v":"KINGRAD VENTIL COMPACT"},{"$f":"IF(Sortiment!$AL7=0,\"\",Sortiment!$AL6)","v":"40-00"},null,null,null,null,null,null,null,15,0]
[{"$f":"SUMIF(Sortiment!$6:$6,C40,Sortiment!$5:$5)","v":37},{"$f":"IF(Sortiment!$AM7=0,\"\",Sortiment!$AM7)","v":"RADIK KLASIK (DIN)"},{"$f":"IF(Sortiment!$AM7=0,\"\",Sortiment!$AM6)","v":"5D-00"},null,null,null,null,null,null,null,16,0]
[{"$f":"SUMIF(Sortiment!$6:$6,C41,Sortiment!$5:$5)","v":38},{"$f":"IF(Sortiment!$AN7=0,\"\",Sortiment!$AN7)","v":"KINGRAD COMPACT S"},{"$f":"IF(Sortiment!$AN7=0,\"\",Sortiment!$AN6)","v":"30-17"},null,null,null,null,null,null,null,17,0]
[{"$f":"SUMIF(Sortiment!$6:$6,C42,Sortiment!$5:$5)","v":39},{"$f":"IF(Sortiment!$AO7=0,\"\",Sortiment!$AO7)","v":"LICON CLASIC C"},{"$f":"IF(Sortiment!$AO7=0,\"\",Sortiment!$AO6)","v":"30-05"}]
[{"$f":"SUMIF(Sortiment!$6:$6,C43,Sortiment!$5:$5)","v":40},{"$f":"IF(Sortiment!$AP7=0,\"\",Sortiment!$AP7)","v":"LICON CLASIC V"},{"$f":"IF(Sortiment!$AP7=0,\"\",Sortiment!$AP6)","v":"40-05"}]
[{"$f":"SUMIF(Sortiment!$6:$6,C44,Sortiment!$5:$5)","v":41},{"$f":"IF(Sortiment!$AQ7=0,\"\",Sortiment!$AQ7)","v":"DUNATERM"},{"$f":"IF(Sortiment!$AQ7=0,\"\",Sortiment!$AQ6)","v":"30-02"},null,"Naplnění přidávacího a mazacího formuláře"]
[{"$f":"SUMIF(Sortiment!$6:$6,C45,Sortiment!$5:$5)","v":42},{"$f":"IF(Sortiment!$AR7=0,\"\",Sortiment!$AR7)","v":"Uni.8"},{"$f":"IF(Sortiment!$AR7=0,\"\",Sortiment!$AR6)","v":"SP-08"},null,null,2,{"$f":"F45+1","v":3},4,5,6,7,8,9,10,11,12,13,14,15,16,17,18,19]
[{"$f":"SUMIF(Sortiment!$6:$6,C46,Sortiment!$5:$5)","v":43},{"$f":"IF(Sortiment!$AS7=0,\"\",Sortiment!$AS7)","v":"DUNATERM VK-UNI"},{"$f":"IF(Sortiment!$AS7=0,\"\",Sortiment!$AS6)","v":"4P-02"},null,"položka","Přidání položky do databáze","Provedení","lblTypPopis","lblVýškaPopis","lblDélka Popis","lblVýkonPopis","lblKodArtikluPopis","lblPoznámka","cmdZrusit","cmdOK",null,"zapis proveden"]
[{"$f":"SUMIF(Sortiment!$6:$6,C47,Sortiment!$5:$5)","v":44},{"$f":"IF(Sortiment!$AT7=0,\"\",Sortiment!$AT7)","v":"RADIK CLEAN VKM"},{"$f":"IF(Sortiment!$AT7=0,\"\",Sortiment!$AT6)","v":"GC-00"},null,{"$f":"E3","v":1},{"$f":"VLOOKUP($E$47,$E$48:F$64,F45,FALSE)","v":"Přidání položky do databáze"},{"$f":"VLOOKUP($E$47,$E$48:G$64,G45,FALSE)","v":"Model"},{"$f":"VLOOKUP($E$47,$E$48:H$64,H45,FALSE)","v":"Typ"},{"$f":"VLOOKUP($E$47,$E$48:I$64,I45,FALSE)","v":"Výška [mm]"},{"$f":"VLOOKUP($E$47,$E$48:J$64,J45,FALSE)","v":"Délka [mm]"},{"$f":"VLOOKUP($E$47,$E$48:K$64,K45,FALSE)&\" [\"&$F$101&\"]\"","v":"Tepelný výkon [W]"},{"$f":"VLOOKUP($E$47,$E$48:L$64,L45,FALSE)","v":"Objednací číslo"},{"$f":"VLOOKUP($E$47,$E$48:M$64,M45,FALSE)","v":"Poznámka (maximum 50 znaků):"},{"$f":"VLOOKUP($E$47,$E$48:N$64,N45,FALSE)","v":"Zrušit"},{"$f":"VLOOKUP($E$47,$E$48:O$64,O45,FALSE)","v":"Vložit"},{"$f":"VLOOKUP($E$47,$E$48:P$64,P45,FALSE)","v":"Formulář nelze zavřít tímto způsobem !!!"},{"$f":"VLOOKUP($E$47,$E$48:Q$64,Q45,FALSE)","v":"Zápis úspěšně proveden"},{"$f":"VLOOKUP($E$47,$E$48:R$64,R45,FALSE)","v":"Vymazat"},{"$f":"VLOOKUP($E$47,$E$48:S$64,S45,FALSE)","v":"Databáze"},{"$f":"VLOOKUP($E$47,$E$48:T$64,T45,FALSE)","v":"Výmaz položky z databáze"},{"$f":"VLOOKUP($E$47,$E$48:U$64,U45,FALSE)","v":"Výmaz databáze"},{"$f":"VLOOKUP($E$47,$E$48:V$64,V45,FALSE)","v":"Tlaková ztráta"},{"$f":"VLOOKUP($E$47,$E$48:W$64,W45,FALSE)","v":"Ventil stupeň"}]
[{"$f":"SUMIF(Sortiment!$6:$6,C48,Sortiment!$5:$5)","v":0},{"$f":"IF(Sortiment!$AU7=0,\"\",Sortiment!$AU7)","v":""},{"$f":"IF(Sortiment!$AU7=0,\"\",Sortiment!$AU6)","v":""},null,1,"Přidání položky do databáze","Model","Typ","Výška [mm]","Délka [mm]","Tepelný výkon","Objednací číslo","Poznámka (maximum 50 znaků):","Zrušit","Vložit","Formulář nelze zavřít tímto způsobem !!!","Zápis úspěšně proveden","Vymazat","Databáze","Výmaz položky z databáze","Výmaz databáze","Tlaková ztráta","Ventil stupeň"]
[{"$f":"SUMIF(Sortiment!$6:$6,C49,Sortiment!$5:$5)","v":0},{"$f":"IF(Sortiment!$AV7=0,\"\",Sortiment!$AV7)","v":""},{"$f":"IF(Sortiment!$AV7=0,\"\",Sortiment!$AV6)","v":""},null,2,"Add item into the database","Model","Type","Height [mm]","Length [mm]","Heat output","Order No.","Note (up to 50 characters)","Cancel","Add","The form cannot be closed in this way !!!","Entry successfully processed ","Delete","Database","Delete an item from the database","Database erase","Pressure loss","Valve level"]
[{"$f":"SUMIF(Sortiment!$6:$6,C50,Sortiment!$5:$5)","v":0},{"$f":"IF(Sortiment!$AW7=0,\"\",Sortiment!$AW7)","v":""},{"$f":"IF(Sortiment!$AW7=0,\"\",Sortiment!$AW6)","v":""},null,3,"Den Posten in die Database hinzufügen","Modell","Typ","Bauhöhe [mm]","Baulänge [mm]","Wärmeleistungen","Bestellnummer","Bemerkung (max. 50 Zeichen)","Aufheben","Einfügen","Das Formular kann nicht auf diese Art geschlossen werden !!!","Eingabe erfolgreich durchgeführt","Löschen","Database","Den Posten aus der Database löschen","Database löschen","Druckverlust","Ventil Stufe"]
[{"$f":"SUMIF(Sortiment!$6:$6,C51,Sortiment!$5:$5)","v":0},{"$f":"IF(Sortiment!$AX7=0,\"\",Sortiment!$AX7)","v":""},{"$f":"IF(Sortiment!$AX7=0,\"\",Sortiment!$AX6)","v":""},null,4," Добавить в базу данных","Модель","Тип","Высота (мм)","Длина (мм)","Тепловая мощность","Код изделия","Примечание (макс 50 знаков)","Отменить","Добавить","Документ не возможно закрыть в таком формате!!!","Запись успешно сделана","Смазать","База данных","Исключение позиции из базы данных","Сброс базы данных","Потеря давления ","Позиция вентиля"]
[{"$f":"SUMIF(Sortiment!$6:$6,C52,Sortiment!$5:$5)","v":0},{"$f":"IF(Sortiment!$AY7=0,\"\",Sortiment!$AY7)","v":""},{"$f":"IF(Sortiment!$AY7=0,\"\",Sortiment!$AY6)","v":""},null,5,"Dorzucanie pozycje do wykazu","Model","Typ","Wysokość [mm]","Długość [mm]","Wydajność cieplna","Numer zamówienia","Notatka (maksymalnie 50 znaków)","Anulować","Włożyć","Formularz nie można w ten sposób zamknąć!!!","Zapis dokonan z powodzeniem","Wykreślać","Wykaz","Wykreślać pozycje z wykazu","Wykreślić z wykazu","Spadek ciśnienia","Stopień wkładki termostatycznej "]
[{"$f":"SUMIF(Sortiment!$6:$6,C53,Sortiment!$5:$5)","v":0},{"$f":"IF(Sortiment!$AZ7=0,\"\",Sortiment!$AZ7)","v":""},{"$f":"IF(Sortiment!$AZ7=0,\"\",Sortiment!$AZ6)","v":""},null,6,"Adjonction d´un article dans la base de données","Modèle","Type","Hauteur [mm]","Longueur [mm]","Puissance thermique","Indication de l´article","Note (50 caractères au maximum)","Annuler","Insérer","Il n´est pas possible de fermer le formulaire de cette façon !!!","Inscription réalisée avec succès","Effacer","Base de données","Effacement d´un article","Effacer la base de données","Perte de pression","Degré vanne"]
[{"$f":"SUMIF(Sortiment!$6:$6,C54,Sortiment!$5:$5)","v":0},{"$f":"IF(Sortiment!$BA7=0,\"\",Sortiment!$BA7)","v":""},{"$f":"IF(Sortiment!$BA7=0,\"\",Sortiment!$BA6)","v":""},null,7,"Tétel hozzáadása az adatbázishoz","Modell","Típus","Magasság [mm]","Hosszúság [mm]","Hőteljesítmény","Megrendelési szám","Megjegyzés (maximum 50 karakter):","Mégse","Beszúr","Így nem lehet bezárni a programot !!!","A beírás sikeres volt","Töröl","Adatbázis","Tétel törlése az adatbázisból","Adatbázis törlése","Nyomás esés","Szelepállás"]
[{"$f":"SUMIF(Sortiment!$6:$6,C55,Sortiment!$5:$5)","v":0},{"$f":"IF(Sortiment!$BB7=0,\"\",Sortiment!$BB7)","v":""},{"$f":"IF(Sortiment!$BB7=0,\"\",Sortiment!$BB6)","v":""},null,8,"Lägg objekt i databasen","Model","Typ","Höjd (mm)","Längd (mm)","Värmeavgivning (W)","Order Nr.","Notering (upp till 50 tecken)","Ångra","Lägg till","fel !!!","Invärde korrekta","Ta bort","Databas","Ta bort ett objekt från databas","Radera data","Tryckfall","Förinställt värde"]
[{"$f":"SUMIF(Sortiment!$6:$6,C56,Sortiment!$5:$5)","v":0},{"$f":"IF(Sortiment!$BC7=0,\"\",Sortiment!$BC7)","v":""},{"$f":"IF(Sortiment!$BC7=0,\"\",Sortiment!$BC6)","v":""},null,9,"Adăugare articol în baza de date","Model","Tip","Înălţime [mm]","Lungime [mm]","Putere termică","Comanda nr.","Observaţii (până la 50 de caractere)","Anulare","Adăugare ","Fereastra nu poate fi închisă în acest  mod !!!","Valorile de intrare au fost procesate cu succes","Şterge","Bază de date","Ştergerea unui articol din baza de date","Ştergere baza de date","Pierderea de presiune","Nivelul robinetului"]
[{"$f":"SUMIF(Sortiment!$6:$6,C57,Sortiment!$5:$5)","v":0},{"$f":"IF(Sortiment!$BD7=0,\"\",Sortiment!$BD7)","v":""},{"$f":"IF(Sortiment!$BD7=0,\"\",Sortiment!$BD6)","v":""},null,10,"Допълване на позиции в базата данни","Модел","Тип","Височина [mm]","Дължина [mm]","Топлинна мощност","Номер за поръчка","Забележка (максимално 50 знака):","Анулирай","Въведи","Формулярът не може да се затвори по този начин !!!","Успешно извършено записване","Изтрий","База данни","Изтрий позиции в база данни","Изтрий база данни"]
[{"$f":"SUMIF(Sortiment!$6:$6,C58,Sortiment!$5:$5)","v":0},{"$f":"IF(Sortiment!$BE7=0,\"\",Sortiment!$BE7)","v":""},{"$f":"IF(Sortiment!$BE7=0,\"\",Sortiment!$BE6)","v":""},null,11,"Toevoegen van artikel in database","Model","Type","Hoogte [mm]","Lengte [mm]","Warmteafgifte","Bestelnummer","Opmerking (maximum 50 karakters)","Annuleren","Toevoegen","Afsluiten van het document niet mogelijk !!!","Ingave succesvol beëindigd","Verwijder","Database","Verwijder een artikel uit de database","Verwijder de database","Drukverlies","Positie insert"]
[{"$f":"SUMIF(Sortiment!$6:$6,C59,Sortiment!$5:$5)","v":0},{"$f":"IF(Sortiment!$BF7=0,\"\",Sortiment!$BF7)","v":""},{"$f":"IF(Sortiment!$BF7=0,\"\",Sortiment!$BF6)","v":""},null,12,"Legg til i databasen","Modell","Type","Høyde (mm)","Lengde (mm)","Effekt avgivelse (W)","Ordre nr. ","Tekst (maks 50 tegn)","Angre","Legg til","Feil !!!","Inndata er korrekt","Ta bort","Database","Ta bort en enhet fra databasen","Slett inndata","Trykkfall","Forinnstilt verdi"]
[{"$f":"SUMIF(Sortiment!$6:$6,C60,Sortiment!$5:$5)","v":0},{"$f":"IF(Sortiment!$BG7=0,\"\",Sortiment!$BG7)","v":""},{"$f":"IF(Sortiment!$BG7=0,\"\",Sortiment!$BG6)","v":""},null,13]
[{"$f":"SUMIF(Sortiment!$6:$6,C61,Sortiment!$5:$5)","v":0},{"$f":"IF(Sortiment!$BH7=0,\"\",Sortiment!$BH7)","v":""},{"$f":"IF(Sortiment!$BH7=0,\"\",Sortiment!$BH6)","v":""},null,14]
[{"$f":"SUMIF(Sortiment!$6:$6,C62,Sortiment!$5:$5)","v":0},{"$f":"IF(Sortiment!$BI7=0,\"\",Sortiment!$BI7)","v":""},{"$f":"IF(Sortiment!$BI7=0,\"\",Sortiment!$BI6)","v":""},null,15]
[{"$f":"SUMIF(Sortiment!$6:$6,C63,Sortiment!$5:$5)","v":0},{"$f":"IF(Sortiment!$BJ7=0,\"\",Sortiment!$BJ7)","v":""},{"$f":"IF(Sortiment!$BJ7=0,\"\",Sortiment!$BJ6)","v":""},null,16]
[{"$f":"SUMIF(Sortiment!$6:$6,C64,Sortiment!$5:$5)","v":0},{"$f":"IF(Sortiment!$BK7=0,\"\",Sortiment!$BK7)","v":""},{"$f":"IF(Sortiment!$BK7=0,\"\",Sortiment!$BK6)","v":""},null,17]
[]
[null,null,null,null,"Hlavička databáze"]
[null,null,null,null,null,2,{"$f":"F67+1","v":3},4,5,6,7,8,9,10,11,12,13]
[1,{"$f":"VLOOKUP(A68,A69:B76,2,FALSE)","v":"vše"},null,null,"položka","Číslo","Model","Objednací číslo","Typ","Výška [mm]","Délka [mm]","t1","t2","ti","Výkon","Poznámka","Poznámka"]
[1,{"$f":"$G$3","v":"vše"},null,null,{"$f":"E3","v":1},{"$f":"VLOOKUP($E$69,$E$70:F$86,F67,FALSE)","v":"Číslo"},{"$f":"VLOOKUP($E$69,$E$70:G$86,G67,FALSE)","v":"Model"},{"$f":"VLOOKUP($E$69,$E$70:H$86,H67,FALSE)","v":"Objednací číslo"},{"$f":"VLOOKUP($E$69,$E$70:I$86,I67,FALSE)","v":"Typ"},{"$f":"VLOOKUP($E$69,$E$70:J$86,J67,FALSE)","v":"Výška [mm]"},{"$f":"VLOOKUP($E$69,$E$70:K$86,K67,FALSE)","v":"Délka [mm]"},{"$f":"VLOOKUP($E$69,$E$70:L$86,L67,FALSE)","v":"t1"},{"$f":"VLOOKUP($E$69,$E$70:M$86,M67,FALSE)","v":"t2"},{"$f":"VLOOKUP($E$69,$E$70:N$86,N67,FALSE)","v":"ti"},{"$f":"VLOOKUP($E$69,$E$70:O$86,O67,FALSE)","v":"Tepelný výkon"},{"$f":"VLOOKUP($E$69,$E$70:P$86,P67,FALSE)","v":"Poznámka"},{"$f":"VLOOKUP($E$69,$E$70:Q$86,Q67,FALSE)","v":"Identifikace:"}]
[2,{"$f":"IF(Qn!$D$12=0,\"\",Qn!$D$12)","v":200},null,{"$f":"F4","v":"Česky"},1,"Číslo","Model","Objednací číslo",{"$f":"H48","v":"Typ"},{"$f":"I48","v":"Výška [mm]"},{"$f":"J48","v":"Délka [mm]"},"t1","t2","ti",{"$f":"K48","v":"Tepelný výkon"},"Poznámka","Identifikace:"]
[3,{"$f":"IF(Qn!$E$12=0,\"\",Qn!$E$12)","v":300},null,{"$f":"F5","v":"Anglicky"},2,"No.","Model","Order No.","TYPE","Height [mm]","Length [mm]","t1","t2","ti",{"$f":"K49","v":"Heat output"},"Note","Identification:"]
[4,{"$f":"IF(Qn!$F$12=0,\"\",Qn!$F$12)","v":400},null,"Německy",3,"No.","Modell","Bestellnummer","TYP","Bauhöhe [mm]","Baulänge [mm]","t1","t2","ti","Wärmeleistungen","Bemerkung","Identifikation:"]
[5,{"$f":"IF(Qn!$G$12=0,\"\",Qn!$G$12)","v":500},null,"Rusky",4,"Ном.","Модель","Код изделия","Тип","Высота (мм)","Длина (мм)","Т1","Т2","ti","Тепловая мощность","Примечание","Идентификация:"]
[6,{"$f":"IF(Qn!$H$12=0,\"\",Qn!$H$12)","v":600},null,"Polsky",5,"Num","Model","Numer zamówienia",{"$f":"H52","v":"Typ"},{"$f":"I52","v":"Wysokość [mm]"},{"$f":"J52","v":"Długość [mm]"},"t1","t2","ti","Wydajność cieplna","Notatka","Identyfikacja:"]
[7,{"$f":"IF(Qn!$I$12=0,\"\",Qn!$I$12)","v":700},null,"Francouzsky",6,"No.","Modèle","No. De commande","TYPE","Hauteur [mm]","Longueur [mm]","t1","t2","ti","Puissance thermique","Nota","Identification:"]
[8,{"$f":"IF(Qn!$J$12=0,\"\",Qn!$J$12)","v":900},null,"Maďarsky",7,"Sz.","Modell","Megrend. szám","Típus","Magasság [mm]","Hosszúság [mm]","t1","t2","ti","Hőteljesítmény","Megjegyzés","Azonosító:"]
[null,null,null,"Švédsky",8,"Nr.","Model","Order Nr.","TYP","Höjd (mm)","Längd (mm)","t1","t2","ti","Värmeavgivning (W)","Notering  ","Identifikation:"]
[null,null,null,"Rumunsky",9,"Nr.","Model.","Comanda nr.","Tip","Înălţime [mm]","Lungime [mm]","t1","t2","ti ","Putere termică","Notă","Identificare:"]
[1,{"$f":"VLOOKUP(A79,A80:B87,2,FALSE)","v":"vše"},null,"Bulharsky",10,"Номер","Модел","Номер за поръчка","Тип","Височина [mm]","Дължина [mm]","t1","t2","ti","Топлинна мощност","Забележка","Идентификация:"]
[1,{"$f":"$G$3","v":"vše"},null,"Holandsky",11,"Nr.","Model","Bestelbonnr.","TYPE","Hoogte [mm]","Lengte [mm]","t1","t2","ti","Warmteafgifte","Opmerking","Identificatie:"]
[2,{"$f":"B70","v":200},null,"Norsky",12,"Nr.","Modell","Ordre nr.","Type","Høyde (mm)","Lengde (mm)","t1","t2","ti","Effekt avgivelse (W)","Tekst","Identifikasjon :"]
[3,{"$f":"B71","v":300},null,0,13]
[4,400,null,0,14]
[5,500,null,0,15]
[6,600,null,0,16]
[7,700,null,0,17]
[8,900]
[]
[]
[1,{"$f":"VLOOKUP(A90,A91:B107,2,FALSE)","v":"vše"}]
[1,{"$f":"$G$3","v":"vše"}]
[2,400]
[3,500]
[4,600]
[5,700]
[6,800]
[7,900]
[8,1000]
[9,1100]
[10,1200]
[11,1400,null,1,{"$f":"VLOOKUP(D101,D102:E103,2,FALSE)","v":"Watt"},{"$f":"VLOOKUP(D101,D102:F103,3,FALSE)","v":"W"},{"$f":"VLOOKUP(D101,D102:G103,4,FALSE)","v":1}]
[12,1600,null,1,"Watt","W",1]
[13,1800,null,2,"BTU","BTU",3.4119999999999999]
[14,2000]
[15,2300]
[16,2600,null,1,{"$f":"VLOOKUP(D106,D107:E108,2,FALSE)","v":"kPa"}]
[17,3000,null,1,"kPa"]
[null,null,null,2,"mbar"]
[]
[]
[1,{"$f":"VLOOKUP(A111,A112:B128,2,FALSE)","v":"vše"}]
[1,{"$f":"$G$3","v":"vše"}]
[2,400,null,49.832886545639703]
[3,500]
[4,600]
[5,700]
[6,800]
[7,900]
[8,1000]
[9,1100]
[10,1200]
[11,1400]
[12,1600]
[13,1800]
[14,2000]
[15,2300]
[16,2600]
[17,3000]