{"text_format":"1","workbook":"xlsx","n_sheets":14,"sheets":["KORADO","Horizontal","Vertikal","Reflex","Databaze","Predek KH","Predek KV","Predek KR","Qn H","Qn V","Qn R","Sortiment","logic","Jazyk"],"not_rendered":{"charts":0,"images":29,"macros":1,"external_links":0,"defined_names":12,"comments":0,"pivot_tables":0},"unopened":[],"bounds":{"document_bytes":16777216,"sheet_cells":100000,"rows_first":2000,"rows_last":500,"rows_between":2000,"halvings":0,"cell_chars":16384,"cell_head_chars":4096},"cells_cut":0,"cells_raw":0,"read":"whole","date_system":"1900"}

{"sheet":"KORADO","index":0,"n_rows":31,"n_cols":12,"rows_kept":31,"cut":false,"hidden":true,"merged":[[13,9,13,10],[13,11,13,12],[14,0,14,1],[13,1,13,2],[13,3,13,4],[13,7,13,8],[13,5,13,6]]}
[]
[]
[]
[]
[]
[]
[]
[]
[null,{"$f":"Jazyk!D74","v":"ИЗЧИСЛЯВАНЕ НА ТОПЛИННАТА МОЩНОСТ НА КОРАТЕРМ"}]
[]
[]
[]
[]
[null,"KORATHERM HORIZONTAL",null,"KORATHERM HORIZONTAL - M",null,"KORATHERM HORIZONTAL VKM",null,"KORATHERM          VERTIKAL",null,"KORATHERM          VERTIKAL - M",null,"KORATHERM             REFLEX"]
[]
[]
[]
[]
[]
[]
[]
[]
[]
[]
[]
[]
[]
[]
[]
[]
["(c) KORADO "]

{"sheet":"Horizontal","index":1,"n_rows":90,"n_cols":24,"rows_kept":90,"cut":false,"hidden":false,"merged":[]}
[null,{"$f":"logic!$B$2","v":"KORATHERM HORIZONTAL"}]
[]
[null,{"$f":"Jazyk!J4","v":"Избор на модел:"},null,null,null,null,{"$f":"Jazyk!P4","v":"Детайлен избор"},null,null,null,null,null,null,null,null,null," "]
[null,null,null,null,null,null,null,null,null,null,null,{"$f":"Jazyk!K4&\" \"&Jazyk!H4","v":"Топлинна мощност  от"},null,{"$f":"\"W \"&Jazyk!I4","v":"W до"},null," W"]
[null,null,null,null,null,null,null,null,null,null,null,{"$f":"Jazyk!F4&\" \"&Jazyk!H4","v":"Височина от"},{"$f":"logic!B23","v":"всичко"},{"$f":"\"mm \"&Jazyk!I4","v":"mm до"},{"$f":"logic!B35","v":"всичко"}," mm"]
[null,null,{"$f":"Jazyk!Q4","v":"Въвеждане на стойности"},null,null,null,null,null,null,null,null,{"$f":"Jazyk!G4&\" \"&Jazyk!H4","v":"Дължина от"},{"$f":"logic!B47","v":"всичко"},{"$f":"\"mm \"&Jazyk!I4","v":"mm до"},{"$f":"logic!B66","v":"всичко"}," mm"]
[null,null,null,"t 1","t 2","t i"," D T",null,null,null,null,null,null,null,null,null,null,null,null,null,null,null,{"$f":"IF(X7=0,0,Jazyk!X4)","v":0},{"$f":"MAX(Databaze!A:A)","v":0}]
[null,null,{"$f":"Jazyk!L4","v":"Температура:"},75,65,20,{"$f":"(D8+E8)/2-F8","v":50}]
[null,null,null,{"$f":"Jazyk!E4","v":"Топлинни мощности според ЕН 442"}]
[null,null,null,{"$f":"IF(AND($M$5=Jazyk!$D$4,$O$5=Jazyk!$D$4),1,IF(AND(D11>=$M$5,D11<=$O$5),1,0))","v":1},{"$f":"IF(AND($M$5=Jazyk!$D$4,$O$5=Jazyk!$D$4),1,IF(AND(E11>=$M$5,E11<=$O$5),1,0))","v":1},{"$f":"IF(AND($M$5=Jazyk!$D$4,$O$5=Jazyk!$D$4),1,IF(AND(F11>=$M$5,F11<=$O$5),1,0))","v":1},{"$f":"IF(AND($M$5=Jazyk!$D$4,$O$5=Jazyk!$D$4),1,IF(AND(G11>=$M$5,G11<=$O$5),1,0))","v":1},{"$f":"IF(AND($M$5=Jazyk!$D$4,$O$5=Jazyk!$D$4),1,IF(AND(H11>=$M$5,H11<=$O$5),1,0))","v":1},{"$f":"IF(AND($M$5=Jazyk!$D$4,$O$5=Jazyk!$D$4),1,IF(AND(I11>=$M$5,I11<=$O$5),1,0))","v":1},{"$f":"IF(AND($M$5=Jazyk!$D$4,$O$5=Jazyk!$D$4),1,IF(AND(J11>=$M$5,J11<=$O$5),1,0))","v":1},{"$f":"IF(AND($M$5=Jazyk!$D$4,$O$5=Jazyk!$D$4),1,IF(AND(K11>=$M$5,K11<=$O$5),1,0))","v":1},{"$f":"IF(AND($M$5=Jazyk!$D$4,$O$5=Jazyk!$D$4),1,IF(AND(L11>=$M$5,L11<=$O$5),1,0))","v":1},{"$f":"IF(AND($M$5=Jazyk!$D$4,$O$5=Jazyk!$D$4),1,IF(AND(M11>=$M$5,M11<=$O$5),1,0))","v":1},{"$f":"IF(AND($M$5=Jazyk!$D$4,$O$5=Jazyk!$D$4),1,IF(AND(N11>=$M$5,N11<=$O$5),1,0))","v":1},{"$f":"IF(AND($M$5=Jazyk!$D$4,$O$5=Jazyk!$D$4),1,IF(AND(O11>=$M$5,O11<=$O$5),1,0))","v":1},{"$f":"IF(AND($M$5=Jazyk!$D$4,$O$5=Jazyk!$D$4),1,IF(AND(P11>=$M$5,P11<=$O$5),1,0))","v":1},{"$f":"IF(AND($M$5=Jazyk!$D$4,$O$5=Jazyk!$D$4),1,IF(AND(Q11>=$M$5,Q11<=$O$5),1,0))","v":1},{"$f":"IF(AND($M$5=Jazyk!$D$4,$O$5=Jazyk!$D$4),1,IF(AND(R11>=$M$5,R11<=$O$5),1,0))","v":1},{"$f":"IF(AND($M$5=Jazyk!$D$4,$O$5=Jazyk!$D$4),1,IF(AND(S11>=$M$5,S11<=$O$5),1,0))","v":1}]
[null,{"$f":"Jazyk!$G$27","v":"Височина [mm]"},null,{"$f":"F11","v":144},{"$f":"F11","v":144},{"$f":"'Qn H'!$G$3","v":144},{"$f":"F11","v":144},{"$f":"F11","v":144},{"$f":"F11","v":144},{"$f":"F11","v":144},{"$f":"F11","v":144},{"$f":"N11","v":218},{"$f":"N11","v":218},{"$f":"'Qn H'!$O$3","v":218},{"$f":"N11","v":218},{"$f":"N11","v":218},{"$f":"N11","v":218},{"$f":"N11","v":218},{"$f":"N11","v":218}]
[null,{"$f":"Jazyk!$H$27","v":"Дължина [mm]"},null,{"$f":"'Qn H'!E4","v":"K10H"},{"$f":"'Qn H'!F4","v":"K11H"},{"$f":"'Qn H'!G4","v":"K20H"},{"$f":"'Qn H'!H4","v":"K21H"},{"$f":"'Qn H'!I4","v":"K22H"},{"$f":"'Qn H'!J4","v":"K23H"},{"$f":"'Qn H'!K4","v":"K44H"},{"$f":"'Qn H'!L4","v":"K46H"},{"$f":"'Qn H'!M4","v":"K10H"},{"$f":"'Qn H'!N4","v":"K11H"},{"$f":"'Qn H'!O4","v":"K20H"},{"$f":"'Qn H'!P4","v":"K21H"},{"$f":"'Qn H'!Q4","v":"K22H"},{"$f":"'Qn H'!R4","v":"K23H"},{"$f":"'Qn H'!S4","v":"K44H"},{"$f":"'Qn H'!T4","v":"K46H"}]
[{"$f":"IF(AND($M$6=Jazyk!$D$4,$O$6=Jazyk!$D$4),1,IF(AND(B13>=$M$6,B13<=$O$6),1,0))","v":1},500,null,{"$f":"IF(OR(D$10=0,$A13=0),0,IF('Predek KH'!Y9=0,0,IF(logic!$A$88=0,0,ROUND('Predek KH'!D9,0))))","v":100},{"$f":"IF(OR(E$10=0,$A13=0),0,IF('Predek KH'!Z9=0,0,IF(logic!$A$88=0,0,ROUND('Predek KH'!E9,0))))","v":145},{"$f":"IF(OR(F$10=0,$A13=0),0,IF('Predek KH'!AA9=0,0,IF(logic!$A$88=0,0,ROUND('Predek KH'!F9,0))))","v":159},{"$f":"IF(OR(G$10=0,$A13=0),0,IF('Predek KH'!AB9=0,0,IF(logic!$A$88=0,0,ROUND('Predek KH'!G9,0))))","v":209},{"$f":"IF(OR(H$10=0,$A13=0),0,IF('Predek KH'!AC9=0,0,IF(logic!$A$88=0,0,ROUND('Predek KH'!H9,0))))","v":267},{"$f":"IF(OR(I$10=0,$A13=0),0,IF('Predek KH'!AD9=0,0,IF(logic!$A$88=0,0,ROUND('Predek KH'!I9,0))))","v":290},{"$f":"IF(OR(J$10=0,$A13=0),0,IF('Predek KH'!AE9=0,0,IF(logic!$A$88=0,0,ROUND('Predek KH'!J9,0))))","v":496},{"$f":"IF(OR(K$10=0,$A13=0),0,IF('Predek KH'!AF9=0,0,IF(logic!$A$88=0,0,ROUND('Predek KH'!K9,0))))","v":584},{"$f":"IF(OR(L$10=0,$A13=0),0,IF('Predek KH'!AG9=0,0,IF(logic!$A$88=0,0,ROUND('Predek KH'!L9,0))))","v":133},{"$f":"IF(OR(M$10=0,$A13=0),0,IF('Predek KH'!AH9=0,0,IF(logic!$A$88=0,0,ROUND('Predek KH'!M9,0))))","v":206},{"$f":"IF(OR(N$10=0,$A13=0),0,IF('Predek KH'!AI9=0,0,IF(logic!$A$88=0,0,ROUND('Predek KH'!N9,0))))","v":220},{"$f":"IF(OR(O$10=0,$A13=0),0,IF('Predek KH'!AJ9=0,0,IF(logic!$A$88=0,0,ROUND('Predek KH'!O9,0))))","v":291},{"$f":"IF(OR(P$10=0,$A13=0),0,IF('Predek KH'!AK9=0,0,IF(logic!$A$88=0,0,ROUND('Predek KH'!P9,0))))","v":375},{"$f":"IF(OR(Q$10=0,$A13=0),0,IF('Predek KH'!AL9=0,0,IF(logic!$A$88=0,0,ROUND('Predek KH'!Q9,0))))","v":432},{"$f":"IF(OR(R$10=0,$A13=0),0,IF('Predek KH'!AM9=0,0,IF(logic!$A$88=0,0,ROUND('Predek KH'!R9,0))))","v":705},{"$f":"IF(OR(S$10=0,$A13=0),0,IF('Predek KH'!AN9=0,0,IF(logic!$A$88=0,0,ROUND('Predek KH'!S9,0))))","v":853}]
[{"$f":"IF(AND($M$6=Jazyk!$D$4,$O$6=Jazyk!$D$4),1,IF(AND(B14>=$M$6,B14<=$O$6),1,0))","v":1},600,null,{"$f":"IF(OR(D$10=0,$A14=0),0,IF('Predek KH'!Y10=0,0,IF(logic!$A$88=0,0,ROUND('Predek KH'!D10,0))))","v":119},{"$f":"IF(OR(E$10=0,$A14=0),0,IF('Predek KH'!Z10=0,0,IF(logic!$A$88=0,0,ROUND('Predek KH'!E10,0))))","v":173},{"$f":"IF(OR(F$10=0,$A14=0),0,IF('Predek KH'!AA10=0,0,IF(logic!$A$88=0,0,ROUND('Predek KH'!F10,0))))","v":191},{"$f":"IF(OR(G$10=0,$A14=0),0,IF('Predek KH'!AB10=0,0,IF(logic!$A$88=0,0,ROUND('Predek KH'!G10,0))))","v":250},{"$f":"IF(OR(H$10=0,$A14=0),0,IF('Predek KH'!AC10=0,0,IF(logic!$A$88=0,0,ROUND('Predek KH'!H10,0))))","v":320},{"$f":"IF(OR(I$10=0,$A14=0),0,IF('Predek KH'!AD10=0,0,IF(logic!$A$88=0,0,ROUND('Predek KH'!I10,0))))","v":347},{"$f":"IF(OR(J$10=0,$A14=0),0,IF('Predek KH'!AE10=0,0,IF(logic!$A$88=0,0,ROUND('Predek KH'!J10,0))))","v":595},{"$f":"IF(OR(K$10=0,$A14=0),0,IF('Predek KH'!AF10=0,0,IF(logic!$A$88=0,0,ROUND('Predek KH'!K10,0))))","v":700},{"$f":"IF(OR(L$10=0,$A14=0),0,IF('Predek KH'!AG10=0,0,IF(logic!$A$88=0,0,ROUND('Predek KH'!L10,0))))","v":160},{"$f":"IF(OR(M$10=0,$A14=0),0,IF('Predek KH'!AH10=0,0,IF(logic!$A$88=0,0,ROUND('Predek KH'!M10,0))))","v":247},{"$f":"IF(OR(N$10=0,$A14=0),0,IF('Predek KH'!AI10=0,0,IF(logic!$A$88=0,0,ROUND('Predek KH'!N10,0))))","v":263},{"$f":"IF(OR(O$10=0,$A14=0),0,IF('Predek KH'!AJ10=0,0,IF(logic!$A$88=0,0,ROUND('Predek KH'!O10,0))))","v":349},{"$f":"IF(OR(P$10=0,$A14=0),0,IF('Predek KH'!AK10=0,0,IF(logic!$A$88=0,0,ROUND('Predek KH'!P10,0))))","v":449},{"$f":"IF(OR(Q$10=0,$A14=0),0,IF('Predek KH'!AL10=0,0,IF(logic!$A$88=0,0,ROUND('Predek KH'!Q10,0))))","v":518},{"$f":"IF(OR(R$10=0,$A14=0),0,IF('Predek KH'!AM10=0,0,IF(logic!$A$88=0,0,ROUND('Predek KH'!R10,0))))","v":845},{"$f":"IF(OR(S$10=0,$A14=0),0,IF('Predek KH'!AN10=0,0,IF(logic!$A$88=0,0,ROUND('Predek KH'!S10,0))))","v":1023}]
[{"$f":"IF(AND($M$6=Jazyk!$D$4,$O$6=Jazyk!$D$4),1,IF(AND(B15>=$M$6,B15<=$O$6),1,0))","v":1},700,null,{"$f":"IF(OR(D$10=0,$A15=0),0,IF('Predek KH'!Y11=0,0,IF(logic!$A$88=0,0,ROUND('Predek KH'!D11,0))))","v":139},{"$f":"IF(OR(E$10=0,$A15=0),0,IF('Predek KH'!Z11=0,0,IF(logic!$A$88=0,0,ROUND('Predek KH'!E11,0))))","v":202},{"$f":"IF(OR(F$10=0,$A15=0),0,IF('Predek KH'!AA11=0,0,IF(logic!$A$88=0,0,ROUND('Predek KH'!F11,0))))","v":223},{"$f":"IF(OR(G$10=0,$A15=0),0,IF('Predek KH'!AB11=0,0,IF(logic!$A$88=0,0,ROUND('Predek KH'!G11,0))))","v":292},{"$f":"IF(OR(H$10=0,$A15=0),0,IF('Predek KH'!AC11=0,0,IF(logic!$A$88=0,0,ROUND('Predek KH'!H11,0))))","v":374},{"$f":"IF(OR(I$10=0,$A15=0),0,IF('Predek KH'!AD11=0,0,IF(logic!$A$88=0,0,ROUND('Predek KH'!I11,0))))","v":405},{"$f":"IF(OR(J$10=0,$A15=0),0,IF('Predek KH'!AE11=0,0,IF(logic!$A$88=0,0,ROUND('Predek KH'!J11,0))))","v":694},{"$f":"IF(OR(K$10=0,$A15=0),0,IF('Predek KH'!AF11=0,0,IF(logic!$A$88=0,0,ROUND('Predek KH'!K11,0))))","v":817},{"$f":"IF(OR(L$10=0,$A15=0),0,IF('Predek KH'!AG11=0,0,IF(logic!$A$88=0,0,ROUND('Predek KH'!L11,0))))","v":186},{"$f":"IF(OR(M$10=0,$A15=0),0,IF('Predek KH'!AH11=0,0,IF(logic!$A$88=0,0,ROUND('Predek KH'!M11,0))))","v":288},{"$f":"IF(OR(N$10=0,$A15=0),0,IF('Predek KH'!AI11=0,0,IF(logic!$A$88=0,0,ROUND('Predek KH'!N11,0))))","v":307},{"$f":"IF(OR(O$10=0,$A15=0),0,IF('Predek KH'!AJ11=0,0,IF(logic!$A$88=0,0,ROUND('Predek KH'!O11,0))))","v":407},{"$f":"IF(OR(P$10=0,$A15=0),0,IF('Predek KH'!AK11=0,0,IF(logic!$A$88=0,0,ROUND('Predek KH'!P11,0))))","v":524},{"$f":"IF(OR(Q$10=0,$A15=0),0,IF('Predek KH'!AL11=0,0,IF(logic!$A$88=0,0,ROUND('Predek KH'!Q11,0))))","v":604},{"$f":"IF(OR(R$10=0,$A15=0),0,IF('Predek KH'!AM11=0,0,IF(logic!$A$88=0,0,ROUND('Predek KH'!R11,0))))","v":986},{"$f":"IF(OR(S$10=0,$A15=0),0,IF('Predek KH'!AN11=0,0,IF(logic!$A$88=0,0,ROUND('Predek KH'!S11,0))))","v":1194}]
[{"$f":"IF(AND($M$6=Jazyk!$D$4,$O$6=Jazyk!$D$4),1,IF(AND(B16>=$M$6,B16<=$O$6),1,0))","v":1},800,null,{"$f":"IF(OR(D$10=0,$A16=0),0,IF('Predek KH'!Y12=0,0,IF(logic!$A$88=0,0,ROUND('Predek KH'!D12,0))))","v":159},{"$f":"IF(OR(E$10=0,$A16=0),0,IF('Predek KH'!Z12=0,0,IF(logic!$A$88=0,0,ROUND('Predek KH'!E12,0))))","v":231},{"$f":"IF(OR(F$10=0,$A16=0),0,IF('Predek KH'!AA12=0,0,IF(logic!$A$88=0,0,ROUND('Predek KH'!F12,0))))","v":254},{"$f":"IF(OR(G$10=0,$A16=0),0,IF('Predek KH'!AB12=0,0,IF(logic!$A$88=0,0,ROUND('Predek KH'!G12,0))))","v":334},{"$f":"IF(OR(H$10=0,$A16=0),0,IF('Predek KH'!AC12=0,0,IF(logic!$A$88=0,0,ROUND('Predek KH'!H12,0))))","v":427},{"$f":"IF(OR(I$10=0,$A16=0),0,IF('Predek KH'!AD12=0,0,IF(logic!$A$88=0,0,ROUND('Predek KH'!I12,0))))","v":463},{"$f":"IF(OR(J$10=0,$A16=0),0,IF('Predek KH'!AE12=0,0,IF(logic!$A$88=0,0,ROUND('Predek KH'!J12,0))))","v":794},{"$f":"IF(OR(K$10=0,$A16=0),0,IF('Predek KH'!AF12=0,0,IF(logic!$A$88=0,0,ROUND('Predek KH'!K12,0))))","v":934},{"$f":"IF(OR(L$10=0,$A16=0),0,IF('Predek KH'!AG12=0,0,IF(logic!$A$88=0,0,ROUND('Predek KH'!L12,0))))","v":213},{"$f":"IF(OR(M$10=0,$A16=0),0,IF('Predek KH'!AH12=0,0,IF(logic!$A$88=0,0,ROUND('Predek KH'!M12,0))))","v":329},{"$f":"IF(OR(N$10=0,$A16=0),0,IF('Predek KH'!AI12=0,0,IF(logic!$A$88=0,0,ROUND('Predek KH'!N12,0))))","v":351},{"$f":"IF(OR(O$10=0,$A16=0),0,IF('Predek KH'!AJ12=0,0,IF(logic!$A$88=0,0,ROUND('Predek KH'!O12,0))))","v":465},{"$f":"IF(OR(P$10=0,$A16=0),0,IF('Predek KH'!AK12=0,0,IF(logic!$A$88=0,0,ROUND('Predek KH'!P12,0))))","v":599},{"$f":"IF(OR(Q$10=0,$A16=0),0,IF('Predek KH'!AL12=0,0,IF(logic!$A$88=0,0,ROUND('Predek KH'!Q12,0))))","v":690},{"$f":"IF(OR(R$10=0,$A16=0),0,IF('Predek KH'!AM12=0,0,IF(logic!$A$88=0,0,ROUND('Predek KH'!R12,0))))","v":1127},{"$f":"IF(OR(S$10=0,$A16=0),0,IF('Predek KH'!AN12=0,0,IF(logic!$A$88=0,0,ROUND('Predek KH'!S12,0))))","v":1364}]
[{"$f":"IF(AND($M$6=Jazyk!$D$4,$O$6=Jazyk!$D$4),1,IF(AND(B17>=$M$6,B17<=$O$6),1,0))","v":1},900,null,{"$f":"IF(OR(D$10=0,$A17=0),0,IF('Predek KH'!Y13=0,0,IF(logic!$A$88=0,0,ROUND('Predek KH'!D13,0))))","v":179},{"$f":"IF(OR(E$10=0,$A17=0),0,IF('Predek KH'!Z13=0,0,IF(logic!$A$88=0,0,ROUND('Predek KH'!E13,0))))","v":260},{"$f":"IF(OR(F$10=0,$A17=0),0,IF('Predek KH'!AA13=0,0,IF(logic!$A$88=0,0,ROUND('Predek KH'!F13,0))))","v":286},{"$f":"IF(OR(G$10=0,$A17=0),0,IF('Predek KH'!AB13=0,0,IF(logic!$A$88=0,0,ROUND('Predek KH'!G13,0))))","v":375},{"$f":"IF(OR(H$10=0,$A17=0),0,IF('Predek KH'!AC13=0,0,IF(logic!$A$88=0,0,ROUND('Predek KH'!H13,0))))","v":481},{"$f":"IF(OR(I$10=0,$A17=0),0,IF('Predek KH'!AD13=0,0,IF(logic!$A$88=0,0,ROUND('Predek KH'!I13,0))))","v":521},{"$f":"IF(OR(J$10=0,$A17=0),0,IF('Predek KH'!AE13=0,0,IF(logic!$A$88=0,0,ROUND('Predek KH'!J13,0))))","v":893},{"$f":"IF(OR(K$10=0,$A17=0),0,IF('Predek KH'!AF13=0,0,IF(logic!$A$88=0,0,ROUND('Predek KH'!K13,0))))","v":1050},{"$f":"IF(OR(L$10=0,$A17=0),0,IF('Predek KH'!AG13=0,0,IF(logic!$A$88=0,0,ROUND('Predek KH'!L13,0))))","v":239},{"$f":"IF(OR(M$10=0,$A17=0),0,IF('Predek KH'!AH13=0,0,IF(logic!$A$88=0,0,ROUND('Predek KH'!M13,0))))","v":370},{"$f":"IF(OR(N$10=0,$A17=0),0,IF('Predek KH'!AI13=0,0,IF(logic!$A$88=0,0,ROUND('Predek KH'!N13,0))))","v":395},{"$f":"IF(OR(O$10=0,$A17=0),0,IF('Predek KH'!AJ13=0,0,IF(logic!$A$88=0,0,ROUND('Predek KH'!O13,0))))","v":523},{"$f":"IF(OR(P$10=0,$A17=0),0,IF('Predek KH'!AK13=0,0,IF(logic!$A$88=0,0,ROUND('Predek KH'!P13,0))))","v":674},{"$f":"IF(OR(Q$10=0,$A17=0),0,IF('Predek KH'!AL13=0,0,IF(logic!$A$88=0,0,ROUND('Predek KH'!Q13,0))))","v":777},{"$f":"IF(OR(R$10=0,$A17=0),0,IF('Predek KH'!AM13=0,0,IF(logic!$A$88=0,0,ROUND('Predek KH'!R13,0))))","v":1268},{"$f":"IF(OR(S$10=0,$A17=0),0,IF('Predek KH'!AN13=0,0,IF(logic!$A$88=0,0,ROUND('Predek KH'!S13,0))))","v":1535}]
[{"$f":"IF(AND($M$6=Jazyk!$D$4,$O$6=Jazyk!$D$4),1,IF(AND(B18>=$M$6,B18<=$O$6),1,0))","v":1},1000,null,{"$f":"IF(OR(D$10=0,$A18=0),0,IF('Predek KH'!Y14=0,0,IF(logic!$A$88=0,0,ROUND('Predek KH'!D14,0))))","v":199},{"$f":"IF(OR(E$10=0,$A18=0),0,IF('Predek KH'!Z14=0,0,IF(logic!$A$88=0,0,ROUND('Predek KH'!E14,0))))","v":289},{"$f":"IF(OR(F$10=0,$A18=0),0,IF('Predek KH'!AA14=0,0,IF(logic!$A$88=0,0,ROUND('Predek KH'!F14,0))))","v":318},{"$f":"IF(OR(G$10=0,$A18=0),0,IF('Predek KH'!AB14=0,0,IF(logic!$A$88=0,0,ROUND('Predek KH'!G14,0))))","v":417},{"$f":"IF(OR(H$10=0,$A18=0),0,IF('Predek KH'!AC14=0,0,IF(logic!$A$88=0,0,ROUND('Predek KH'!H14,0))))","v":534},{"$f":"IF(OR(I$10=0,$A18=0),0,IF('Predek KH'!AD14=0,0,IF(logic!$A$88=0,0,ROUND('Predek KH'!I14,0))))","v":579},{"$f":"IF(OR(J$10=0,$A18=0),0,IF('Predek KH'!AE14=0,0,IF(logic!$A$88=0,0,ROUND('Predek KH'!J14,0))))","v":992},{"$f":"IF(OR(K$10=0,$A18=0),0,IF('Predek KH'!AF14=0,0,IF(logic!$A$88=0,0,ROUND('Predek KH'!K14,0))))","v":1167},{"$f":"IF(OR(L$10=0,$A18=0),0,IF('Predek KH'!AG14=0,0,IF(logic!$A$88=0,0,ROUND('Predek KH'!L14,0))))","v":266},{"$f":"IF(OR(M$10=0,$A18=0),0,IF('Predek KH'!AH14=0,0,IF(logic!$A$88=0,0,ROUND('Predek KH'!M14,0))))","v":411},{"$f":"IF(OR(N$10=0,$A18=0),0,IF('Predek KH'!AI14=0,0,IF(logic!$A$88=0,0,ROUND('Predek KH'!N14,0))))","v":439},{"$f":"IF(OR(O$10=0,$A18=0),0,IF('Predek KH'!AJ14=0,0,IF(logic!$A$88=0,0,ROUND('Predek KH'!O14,0))))","v":581},{"$f":"IF(OR(P$10=0,$A18=0),0,IF('Predek KH'!AK14=0,0,IF(logic!$A$88=0,0,ROUND('Predek KH'!P14,0))))","v":749},{"$f":"IF(OR(Q$10=0,$A18=0),0,IF('Predek KH'!AL14=0,0,IF(logic!$A$88=0,0,ROUND('Predek KH'!Q14,0))))","v":863},{"$f":"IF(OR(R$10=0,$A18=0),0,IF('Predek KH'!AM14=0,0,IF(logic!$A$88=0,0,ROUND('Predek KH'!R14,0))))","v":1409},{"$f":"IF(OR(S$10=0,$A18=0),0,IF('Predek KH'!AN14=0,0,IF(logic!$A$88=0,0,ROUND('Predek KH'!S14,0))))","v":1705}]
[{"$f":"IF(AND($M$6=Jazyk!$D$4,$O$6=Jazyk!$D$4),1,IF(AND(B19>=$M$6,B19<=$O$6),1,0))","v":1},1100,null,{"$f":"IF(OR(D$10=0,$A19=0),0,IF('Predek KH'!Y15=0,0,IF(logic!$A$88=0,0,ROUND('Predek KH'!D15,0))))","v":219},{"$f":"IF(OR(E$10=0,$A19=0),0,IF('Predek KH'!Z15=0,0,IF(logic!$A$88=0,0,ROUND('Predek KH'!E15,0))))","v":318},{"$f":"IF(OR(F$10=0,$A19=0),0,IF('Predek KH'!AA15=0,0,IF(logic!$A$88=0,0,ROUND('Predek KH'!F15,0))))","v":350},{"$f":"IF(OR(G$10=0,$A19=0),0,IF('Predek KH'!AB15=0,0,IF(logic!$A$88=0,0,ROUND('Predek KH'!G15,0))))","v":459},{"$f":"IF(OR(H$10=0,$A19=0),0,IF('Predek KH'!AC15=0,0,IF(logic!$A$88=0,0,ROUND('Predek KH'!H15,0))))","v":587},{"$f":"IF(OR(I$10=0,$A19=0),0,IF('Predek KH'!AD15=0,0,IF(logic!$A$88=0,0,ROUND('Predek KH'!I15,0))))","v":637},{"$f":"IF(OR(J$10=0,$A19=0),0,IF('Predek KH'!AE15=0,0,IF(logic!$A$88=0,0,ROUND('Predek KH'!J15,0))))","v":1091},{"$f":"IF(OR(K$10=0,$A19=0),0,IF('Predek KH'!AF15=0,0,IF(logic!$A$88=0,0,ROUND('Predek KH'!K15,0))))","v":1284},{"$f":"IF(OR(L$10=0,$A19=0),0,IF('Predek KH'!AG15=0,0,IF(logic!$A$88=0,0,ROUND('Predek KH'!L15,0))))","v":293},{"$f":"IF(OR(M$10=0,$A19=0),0,IF('Predek KH'!AH15=0,0,IF(logic!$A$88=0,0,ROUND('Predek KH'!M15,0))))","v":452},{"$f":"IF(OR(N$10=0,$A19=0),0,IF('Predek KH'!AI15=0,0,IF(logic!$A$88=0,0,ROUND('Predek KH'!N15,0))))","v":483},{"$f":"IF(OR(O$10=0,$A19=0),0,IF('Predek KH'!AJ15=0,0,IF(logic!$A$88=0,0,ROUND('Predek KH'!O15,0))))","v":639},{"$f":"IF(OR(P$10=0,$A19=0),0,IF('Predek KH'!AK15=0,0,IF(logic!$A$88=0,0,ROUND('Predek KH'!P15,0))))","v":824},{"$f":"IF(OR(Q$10=0,$A19=0),0,IF('Predek KH'!AL15=0,0,IF(logic!$A$88=0,0,ROUND('Predek KH'!Q15,0))))","v":949},{"$f":"IF(OR(R$10=0,$A19=0),0,IF('Predek KH'!AM15=0,0,IF(logic!$A$88=0,0,ROUND('Predek KH'!R15,0))))","v":1550},{"$f":"IF(OR(S$10=0,$A19=0),0,IF('Predek KH'!AN15=0,0,IF(logic!$A$88=0,0,ROUND('Predek KH'!S15,0))))","v":1876}]
[{"$f":"IF(AND($M$6=Jazyk!$D$4,$O$6=Jazyk!$D$4),1,IF(AND(B20>=$M$6,B20<=$O$6),1,0))","v":1},1200,null,{"$f":"IF(OR(D$10=0,$A20=0),0,IF('Predek KH'!Y16=0,0,IF(logic!$A$88=0,0,ROUND('Predek KH'!D16,0))))","v":239},{"$f":"IF(OR(E$10=0,$A20=0),0,IF('Predek KH'!Z16=0,0,IF(logic!$A$88=0,0,ROUND('Predek KH'!E16,0))))","v":347},{"$f":"IF(OR(F$10=0,$A20=0),0,IF('Predek KH'!AA16=0,0,IF(logic!$A$88=0,0,ROUND('Predek KH'!F16,0))))","v":382},{"$f":"IF(OR(G$10=0,$A20=0),0,IF('Predek KH'!AB16=0,0,IF(logic!$A$88=0,0,ROUND('Predek KH'!G16,0))))","v":500},{"$f":"IF(OR(H$10=0,$A20=0),0,IF('Predek KH'!AC16=0,0,IF(logic!$A$88=0,0,ROUND('Predek KH'!H16,0))))","v":641},{"$f":"IF(OR(I$10=0,$A20=0),0,IF('Predek KH'!AD16=0,0,IF(logic!$A$88=0,0,ROUND('Predek KH'!I16,0))))","v":695},{"$f":"IF(OR(J$10=0,$A20=0),0,IF('Predek KH'!AE16=0,0,IF(logic!$A$88=0,0,ROUND('Predek KH'!J16,0))))","v":1190},{"$f":"IF(OR(K$10=0,$A20=0),0,IF('Predek KH'!AF16=0,0,IF(logic!$A$88=0,0,ROUND('Predek KH'!K16,0))))","v":1400},{"$f":"IF(OR(L$10=0,$A20=0),0,IF('Predek KH'!AG16=0,0,IF(logic!$A$88=0,0,ROUND('Predek KH'!L16,0))))","v":319},{"$f":"IF(OR(M$10=0,$A20=0),0,IF('Predek KH'!AH16=0,0,IF(logic!$A$88=0,0,ROUND('Predek KH'!M16,0))))","v":493},{"$f":"IF(OR(N$10=0,$A20=0),0,IF('Predek KH'!AI16=0,0,IF(logic!$A$88=0,0,ROUND('Predek KH'!N16,0))))","v":527},{"$f":"IF(OR(O$10=0,$A20=0),0,IF('Predek KH'!AJ16=0,0,IF(logic!$A$88=0,0,ROUND('Predek KH'!O16,0))))","v":697},{"$f":"IF(OR(P$10=0,$A20=0),0,IF('Predek KH'!AK16=0,0,IF(logic!$A$88=0,0,ROUND('Predek KH'!P16,0))))","v":899},{"$f":"IF(OR(Q$10=0,$A20=0),0,IF('Predek KH'!AL16=0,0,IF(logic!$A$88=0,0,ROUND('Predek KH'!Q16,0))))","v":1036},{"$f":"IF(OR(R$10=0,$A20=0),0,IF('Predek KH'!AM16=0,0,IF(logic!$A$88=0,0,ROUND('Predek KH'!R16,0))))","v":1691},{"$f":"IF(OR(S$10=0,$A20=0),0,IF('Predek KH'!AN16=0,0,IF(logic!$A$88=0,0,ROUND('Predek KH'!S16,0))))","v":2046}]
[{"$f":"IF(AND($M$6=Jazyk!$D$4,$O$6=Jazyk!$D$4),1,IF(AND(B21>=$M$6,B21<=$O$6),1,0))","v":1},1400,null,{"$f":"IF(OR(D$10=0,$A21=0),0,IF('Predek KH'!Y17=0,0,IF(logic!$A$88=0,0,ROUND('Predek KH'!D17,0))))","v":279},{"$f":"IF(OR(E$10=0,$A21=0),0,IF('Predek KH'!Z17=0,0,IF(logic!$A$88=0,0,ROUND('Predek KH'!E17,0))))","v":405},{"$f":"IF(OR(F$10=0,$A21=0),0,IF('Predek KH'!AA17=0,0,IF(logic!$A$88=0,0,ROUND('Predek KH'!F17,0))))","v":445},{"$f":"IF(OR(G$10=0,$A21=0),0,IF('Predek KH'!AB17=0,0,IF(logic!$A$88=0,0,ROUND('Predek KH'!G17,0))))","v":584},{"$f":"IF(OR(H$10=0,$A21=0),0,IF('Predek KH'!AC17=0,0,IF(logic!$A$88=0,0,ROUND('Predek KH'!H17,0))))","v":748},{"$f":"IF(OR(I$10=0,$A21=0),0,IF('Predek KH'!AD17=0,0,IF(logic!$A$88=0,0,ROUND('Predek KH'!I17,0))))","v":811},{"$f":"IF(OR(J$10=0,$A21=0),0,IF('Predek KH'!AE17=0,0,IF(logic!$A$88=0,0,ROUND('Predek KH'!J17,0))))","v":1389},{"$f":"IF(OR(K$10=0,$A21=0),0,IF('Predek KH'!AF17=0,0,IF(logic!$A$88=0,0,ROUND('Predek KH'!K17,0))))","v":1634},{"$f":"IF(OR(L$10=0,$A21=0),0,IF('Predek KH'!AG17=0,0,IF(logic!$A$88=0,0,ROUND('Predek KH'!L17,0))))","v":372},{"$f":"IF(OR(M$10=0,$A21=0),0,IF('Predek KH'!AH17=0,0,IF(logic!$A$88=0,0,ROUND('Predek KH'!M17,0))))","v":575},{"$f":"IF(OR(N$10=0,$A21=0),0,IF('Predek KH'!AI17=0,0,IF(logic!$A$88=0,0,ROUND('Predek KH'!N17,0))))","v":615},{"$f":"IF(OR(O$10=0,$A21=0),0,IF('Predek KH'!AJ17=0,0,IF(logic!$A$88=0,0,ROUND('Predek KH'!O17,0))))","v":813},{"$f":"IF(OR(P$10=0,$A21=0),0,IF('Predek KH'!AK17=0,0,IF(logic!$A$88=0,0,ROUND('Predek KH'!P17,0))))","v":1049},{"$f":"IF(OR(Q$10=0,$A21=0),0,IF('Predek KH'!AL17=0,0,IF(logic!$A$88=0,0,ROUND('Predek KH'!Q17,0))))","v":1208},{"$f":"IF(OR(R$10=0,$A21=0),0,IF('Predek KH'!AM17=0,0,IF(logic!$A$88=0,0,ROUND('Predek KH'!R17,0))))","v":1973},{"$f":"IF(OR(S$10=0,$A21=0),0,IF('Predek KH'!AN17=0,0,IF(logic!$A$88=0,0,ROUND('Predek KH'!S17,0))))","v":2387}]
[{"$f":"IF(AND($M$6=Jazyk!$D$4,$O$6=Jazyk!$D$4),1,IF(AND(B22>=$M$6,B22<=$O$6),1,0))","v":1},1600,null,{"$f":"IF(OR(D$10=0,$A22=0),0,IF('Predek KH'!Y18=0,0,IF(logic!$A$88=0,0,ROUND('Predek KH'!D18,0))))","v":318},{"$f":"IF(OR(E$10=0,$A22=0),0,IF('Predek KH'!Z18=0,0,IF(logic!$A$88=0,0,ROUND('Predek KH'!E18,0))))","v":462},{"$f":"IF(OR(F$10=0,$A22=0),0,IF('Predek KH'!AA18=0,0,IF(logic!$A$88=0,0,ROUND('Predek KH'!F18,0))))","v":509},{"$f":"IF(OR(G$10=0,$A22=0),0,IF('Predek KH'!AB18=0,0,IF(logic!$A$88=0,0,ROUND('Predek KH'!G18,0))))","v":667},{"$f":"IF(OR(H$10=0,$A22=0),0,IF('Predek KH'!AC18=0,0,IF(logic!$A$88=0,0,ROUND('Predek KH'!H18,0))))","v":854},{"$f":"IF(OR(I$10=0,$A22=0),0,IF('Predek KH'!AD18=0,0,IF(logic!$A$88=0,0,ROUND('Predek KH'!I18,0))))","v":926},{"$f":"IF(OR(J$10=0,$A22=0),0,IF('Predek KH'!AE18=0,0,IF(logic!$A$88=0,0,ROUND('Predek KH'!J18,0))))","v":1587},{"$f":"IF(OR(K$10=0,$A22=0),0,IF('Predek KH'!AF18=0,0,IF(logic!$A$88=0,0,ROUND('Predek KH'!K18,0))))","v":1867},{"$f":"IF(OR(L$10=0,$A22=0),0,IF('Predek KH'!AG18=0,0,IF(logic!$A$88=0,0,ROUND('Predek KH'!L18,0))))","v":426},{"$f":"IF(OR(M$10=0,$A22=0),0,IF('Predek KH'!AH18=0,0,IF(logic!$A$88=0,0,ROUND('Predek KH'!M18,0))))","v":658},{"$f":"IF(OR(N$10=0,$A22=0),0,IF('Predek KH'!AI18=0,0,IF(logic!$A$88=0,0,ROUND('Predek KH'!N18,0))))","v":702},{"$f":"IF(OR(O$10=0,$A22=0),0,IF('Predek KH'!AJ18=0,0,IF(logic!$A$88=0,0,ROUND('Predek KH'!O18,0))))","v":930},{"$f":"IF(OR(P$10=0,$A22=0),0,IF('Predek KH'!AK18=0,0,IF(logic!$A$88=0,0,ROUND('Predek KH'!P18,0))))","v":1198},{"$f":"IF(OR(Q$10=0,$A22=0),0,IF('Predek KH'!AL18=0,0,IF(logic!$A$88=0,0,ROUND('Predek KH'!Q18,0))))","v":1381},{"$f":"IF(OR(R$10=0,$A22=0),0,IF('Predek KH'!AM18=0,0,IF(logic!$A$88=0,0,ROUND('Predek KH'!R18,0))))","v":2254},{"$f":"IF(OR(S$10=0,$A22=0),0,IF('Predek KH'!AN18=0,0,IF(logic!$A$88=0,0,ROUND('Predek KH'!S18,0))))","v":2728}]
[{"$f":"IF(AND($M$6=Jazyk!$D$4,$O$6=Jazyk!$D$4),1,IF(AND(B23>=$M$6,B23<=$O$6),1,0))","v":1},1800,null,{"$f":"IF(OR(D$10=0,$A23=0),0,IF('Predek KH'!Y19=0,0,IF(logic!$A$88=0,0,ROUND('Predek KH'!D19,0))))","v":358},{"$f":"IF(OR(E$10=0,$A23=0),0,IF('Predek KH'!Z19=0,0,IF(logic!$A$88=0,0,ROUND('Predek KH'!E19,0))))","v":520},{"$f":"IF(OR(F$10=0,$A23=0),0,IF('Predek KH'!AA19=0,0,IF(logic!$A$88=0,0,ROUND('Predek KH'!F19,0))))","v":572},{"$f":"IF(OR(G$10=0,$A23=0),0,IF('Predek KH'!AB19=0,0,IF(logic!$A$88=0,0,ROUND('Predek KH'!G19,0))))","v":751},{"$f":"IF(OR(H$10=0,$A23=0),0,IF('Predek KH'!AC19=0,0,IF(logic!$A$88=0,0,ROUND('Predek KH'!H19,0))))","v":961},{"$f":"IF(OR(I$10=0,$A23=0),0,IF('Predek KH'!AD19=0,0,IF(logic!$A$88=0,0,ROUND('Predek KH'!I19,0))))","v":1042},{"$f":"IF(OR(J$10=0,$A23=0),0,IF('Predek KH'!AE19=0,0,IF(logic!$A$88=0,0,ROUND('Predek KH'!J19,0))))","v":1786},{"$f":"IF(OR(K$10=0,$A23=0),0,IF('Predek KH'!AF19=0,0,IF(logic!$A$88=0,0,ROUND('Predek KH'!K19,0))))","v":2101},{"$f":"IF(OR(L$10=0,$A23=0),0,IF('Predek KH'!AG19=0,0,IF(logic!$A$88=0,0,ROUND('Predek KH'!L19,0))))","v":479},{"$f":"IF(OR(M$10=0,$A23=0),0,IF('Predek KH'!AH19=0,0,IF(logic!$A$88=0,0,ROUND('Predek KH'!M19,0))))","v":740},{"$f":"IF(OR(N$10=0,$A23=0),0,IF('Predek KH'!AI19=0,0,IF(logic!$A$88=0,0,ROUND('Predek KH'!N19,0))))","v":790},{"$f":"IF(OR(O$10=0,$A23=0),0,IF('Predek KH'!AJ19=0,0,IF(logic!$A$88=0,0,ROUND('Predek KH'!O19,0))))","v":1046},{"$f":"IF(OR(P$10=0,$A23=0),0,IF('Predek KH'!AK19=0,0,IF(logic!$A$88=0,0,ROUND('Predek KH'!P19,0))))","v":1348},{"$f":"IF(OR(Q$10=0,$A23=0),0,IF('Predek KH'!AL19=0,0,IF(logic!$A$88=0,0,ROUND('Predek KH'!Q19,0))))","v":1553},{"$f":"IF(OR(R$10=0,$A23=0),0,IF('Predek KH'!AM19=0,0,IF(logic!$A$88=0,0,ROUND('Predek KH'!R19,0))))","v":2536},{"$f":"IF(OR(S$10=0,$A23=0),0,IF('Predek KH'!AN19=0,0,IF(logic!$A$88=0,0,ROUND('Predek KH'!S19,0))))","v":3069}]
[{"$f":"IF(AND($M$6=Jazyk!$D$4,$O$6=Jazyk!$D$4),1,IF(AND(B24>=$M$6,B24<=$O$6),1,0))","v":1},2000,null,{"$f":"IF(OR(D$10=0,$A24=0),0,IF('Predek KH'!Y20=0,0,IF(logic!$A$88=0,0,ROUND('Predek KH'!D20,0))))","v":398},{"$f":"IF(OR(E$10=0,$A24=0),0,IF('Predek KH'!Z20=0,0,IF(logic!$A$88=0,0,ROUND('Predek KH'!E20,0))))","v":578},{"$f":"IF(OR(F$10=0,$A24=0),0,IF('Predek KH'!AA20=0,0,IF(logic!$A$88=0,0,ROUND('Predek KH'!F20,0))))","v":636},{"$f":"IF(OR(G$10=0,$A24=0),0,IF('Predek KH'!AB20=0,0,IF(logic!$A$88=0,0,ROUND('Predek KH'!G20,0))))","v":834},{"$f":"IF(OR(H$10=0,$A24=0),0,IF('Predek KH'!AC20=0,0,IF(logic!$A$88=0,0,ROUND('Predek KH'!H20,0))))","v":1068},{"$f":"IF(OR(I$10=0,$A24=0),0,IF('Predek KH'!AD20=0,0,IF(logic!$A$88=0,0,ROUND('Predek KH'!I20,0))))","v":1158},{"$f":"IF(OR(J$10=0,$A24=0),0,IF('Predek KH'!AE20=0,0,IF(logic!$A$88=0,0,ROUND('Predek KH'!J20,0))))","v":1984},{"$f":"IF(OR(K$10=0,$A24=0),0,IF('Predek KH'!AF20=0,0,IF(logic!$A$88=0,0,ROUND('Predek KH'!K20,0))))","v":2334},{"$f":"IF(OR(L$10=0,$A24=0),0,IF('Predek KH'!AG20=0,0,IF(logic!$A$88=0,0,ROUND('Predek KH'!L20,0))))","v":532},{"$f":"IF(OR(M$10=0,$A24=0),0,IF('Predek KH'!AH20=0,0,IF(logic!$A$88=0,0,ROUND('Predek KH'!M20,0))))","v":822},{"$f":"IF(OR(N$10=0,$A24=0),0,IF('Predek KH'!AI20=0,0,IF(logic!$A$88=0,0,ROUND('Predek KH'!N20,0))))","v":878},{"$f":"IF(OR(O$10=0,$A24=0),0,IF('Predek KH'!AJ20=0,0,IF(logic!$A$88=0,0,ROUND('Predek KH'!O20,0))))","v":1162},{"$f":"IF(OR(P$10=0,$A24=0),0,IF('Predek KH'!AK20=0,0,IF(logic!$A$88=0,0,ROUND('Predek KH'!P20,0))))","v":1498},{"$f":"IF(OR(Q$10=0,$A24=0),0,IF('Predek KH'!AL20=0,0,IF(logic!$A$88=0,0,ROUND('Predek KH'!Q20,0))))","v":1726},{"$f":"IF(OR(R$10=0,$A24=0),0,IF('Predek KH'!AM20=0,0,IF(logic!$A$88=0,0,ROUND('Predek KH'!R20,0))))","v":2818},{"$f":"IF(OR(S$10=0,$A24=0),0,IF('Predek KH'!AN20=0,0,IF(logic!$A$88=0,0,ROUND('Predek KH'!S20,0))))","v":3410}]
[{"$f":"IF(AND($M$6=Jazyk!$D$4,$O$6=Jazyk!$D$4),1,IF(AND(B25>=$M$6,B25<=$O$6),1,0))","v":1},2300,null,{"$f":"IF(OR(D$10=0,$A25=0),0,IF('Predek KH'!Y21=0,0,IF(logic!$A$88=0,0,ROUND('Predek KH'!D21,0))))","v":458},{"$f":"IF(OR(E$10=0,$A25=0),0,IF('Predek KH'!Z21=0,0,IF(logic!$A$88=0,0,ROUND('Predek KH'!E21,0))))","v":665},{"$f":"IF(OR(F$10=0,$A25=0),0,IF('Predek KH'!AA21=0,0,IF(logic!$A$88=0,0,ROUND('Predek KH'!F21,0))))","v":731},{"$f":"IF(OR(G$10=0,$A25=0),0,IF('Predek KH'!AB21=0,0,IF(logic!$A$88=0,0,ROUND('Predek KH'!G21,0))))","v":959},{"$f":"IF(OR(H$10=0,$A25=0),0,IF('Predek KH'!AC21=0,0,IF(logic!$A$88=0,0,ROUND('Predek KH'!H21,0))))","v":1228},{"$f":"IF(OR(I$10=0,$A25=0),0,IF('Predek KH'!AD21=0,0,IF(logic!$A$88=0,0,ROUND('Predek KH'!I21,0))))","v":1332},{"$f":"IF(OR(J$10=0,$A25=0),0,IF('Predek KH'!AE21=0,0,IF(logic!$A$88=0,0,ROUND('Predek KH'!J21,0))))","v":2282},{"$f":"IF(OR(K$10=0,$A25=0),0,IF('Predek KH'!AF21=0,0,IF(logic!$A$88=0,0,ROUND('Predek KH'!K21,0))))","v":2684},{"$f":"IF(OR(L$10=0,$A25=0),0,IF('Predek KH'!AG21=0,0,IF(logic!$A$88=0,0,ROUND('Predek KH'!L21,0))))","v":612},{"$f":"IF(OR(M$10=0,$A25=0),0,IF('Predek KH'!AH21=0,0,IF(logic!$A$88=0,0,ROUND('Predek KH'!M21,0))))","v":945},{"$f":"IF(OR(N$10=0,$A25=0),0,IF('Predek KH'!AI21=0,0,IF(logic!$A$88=0,0,ROUND('Predek KH'!N21,0))))","v":1010},{"$f":"IF(OR(O$10=0,$A25=0),0,IF('Predek KH'!AJ21=0,0,IF(logic!$A$88=0,0,ROUND('Predek KH'!O21,0))))","v":1336},{"$f":"IF(OR(P$10=0,$A25=0),0,IF('Predek KH'!AK21=0,0,IF(logic!$A$88=0,0,ROUND('Predek KH'!P21,0))))","v":1723},{"$f":"IF(OR(Q$10=0,$A25=0),0,IF('Predek KH'!AL21=0,0,IF(logic!$A$88=0,0,ROUND('Predek KH'!Q21,0))))","v":1985},{"$f":"IF(OR(R$10=0,$A25=0),0,IF('Predek KH'!AM21=0,0,IF(logic!$A$88=0,0,ROUND('Predek KH'!R21,0))))","v":3241},{"$f":"IF(OR(S$10=0,$A25=0),0,IF('Predek KH'!AN21=0,0,IF(logic!$A$88=0,0,ROUND('Predek KH'!S21,0))))","v":3922}]
[{"$f":"IF(AND($M$6=Jazyk!$D$4,$O$6=Jazyk!$D$4),1,IF(AND(B26>=$M$6,B26<=$O$6),1,0))","v":1},2600,null,{"$f":"IF(OR(D$10=0,$A26=0),0,IF('Predek KH'!Y22=0,0,IF(logic!$A$88=0,0,ROUND('Predek KH'!D22,0))))","v":517},{"$f":"IF(OR(E$10=0,$A26=0),0,IF('Predek KH'!Z22=0,0,IF(logic!$A$88=0,0,ROUND('Predek KH'!E22,0))))","v":751},{"$f":"IF(OR(F$10=0,$A26=0),0,IF('Predek KH'!AA22=0,0,IF(logic!$A$88=0,0,ROUND('Predek KH'!F22,0))))","v":827},{"$f":"IF(OR(G$10=0,$A26=0),0,IF('Predek KH'!AB22=0,0,IF(logic!$A$88=0,0,ROUND('Predek KH'!G22,0))))","v":1084},{"$f":"IF(OR(H$10=0,$A26=0),0,IF('Predek KH'!AC22=0,0,IF(logic!$A$88=0,0,ROUND('Predek KH'!H22,0))))","v":1388},{"$f":"IF(OR(I$10=0,$A26=0),0,IF('Predek KH'!AD22=0,0,IF(logic!$A$88=0,0,ROUND('Predek KH'!I22,0))))","v":1505},{"$f":"IF(OR(J$10=0,$A26=0),0,IF('Predek KH'!AE22=0,0,IF(logic!$A$88=0,0,ROUND('Predek KH'!J22,0))))","v":2579},{"$f":"IF(OR(K$10=0,$A26=0),0,IF('Predek KH'!AF22=0,0,IF(logic!$A$88=0,0,ROUND('Predek KH'!K22,0))))","v":3034},{"$f":"IF(OR(L$10=0,$A26=0),0,IF('Predek KH'!AG22=0,0,IF(logic!$A$88=0,0,ROUND('Predek KH'!L22,0))))","v":692},{"$f":"IF(OR(M$10=0,$A26=0),0,IF('Predek KH'!AH22=0,0,IF(logic!$A$88=0,0,ROUND('Predek KH'!M22,0))))","v":1069},{"$f":"IF(OR(N$10=0,$A26=0),0,IF('Predek KH'!AI22=0,0,IF(logic!$A$88=0,0,ROUND('Predek KH'!N22,0))))","v":1141},{"$f":"IF(OR(O$10=0,$A26=0),0,IF('Predek KH'!AJ22=0,0,IF(logic!$A$88=0,0,ROUND('Predek KH'!O22,0))))","v":1511},{"$f":"IF(OR(P$10=0,$A26=0),0,IF('Predek KH'!AK22=0,0,IF(logic!$A$88=0,0,ROUND('Predek KH'!P22,0))))","v":1947},{"$f":"IF(OR(Q$10=0,$A26=0),0,IF('Predek KH'!AL22=0,0,IF(logic!$A$88=0,0,ROUND('Predek KH'!Q22,0))))","v":2244},{"$f":"IF(OR(R$10=0,$A26=0),0,IF('Predek KH'!AM22=0,0,IF(logic!$A$88=0,0,ROUND('Predek KH'!R22,0))))","v":3663},{"$f":"IF(OR(S$10=0,$A26=0),0,IF('Predek KH'!AN22=0,0,IF(logic!$A$88=0,0,ROUND('Predek KH'!S22,0))))","v":4433}]
[{"$f":"IF(AND($M$6=Jazyk!$D$4,$O$6=Jazyk!$D$4),1,IF(AND(B27>=$M$6,B27<=$O$6),1,0))","v":1},3000,null,{"$f":"IF(OR(D$10=0,$A27=0),0,IF('Predek KH'!Y23=0,0,IF(logic!$A$88=0,0,ROUND('Predek KH'!D23,0))))","v":597},{"$f":"IF(OR(E$10=0,$A27=0),0,IF('Predek KH'!Z23=0,0,IF(logic!$A$88=0,0,ROUND('Predek KH'!E23,0))))","v":867},{"$f":"IF(OR(F$10=0,$A27=0),0,IF('Predek KH'!AA23=0,0,IF(logic!$A$88=0,0,ROUND('Predek KH'!F23,0))))","v":954},{"$f":"IF(OR(G$10=0,$A27=0),0,IF('Predek KH'!AB23=0,0,IF(logic!$A$88=0,0,ROUND('Predek KH'!G23,0))))","v":1251},{"$f":"IF(OR(H$10=0,$A27=0),0,IF('Predek KH'!AC23=0,0,IF(logic!$A$88=0,0,ROUND('Predek KH'!H23,0))))","v":1602},{"$f":"IF(OR(I$10=0,$A27=0),0,IF('Predek KH'!AD23=0,0,IF(logic!$A$88=0,0,ROUND('Predek KH'!I23,0))))","v":1737},{"$f":"IF(OR(J$10=0,$A27=0),0,IF('Predek KH'!AE23=0,0,IF(logic!$A$88=0,0,ROUND('Predek KH'!J23,0))))","v":2976},{"$f":"IF(OR(K$10=0,$A27=0),0,IF('Predek KH'!AF23=0,0,IF(logic!$A$88=0,0,ROUND('Predek KH'!K23,0))))","v":3501},{"$f":"IF(OR(L$10=0,$A27=0),0,IF('Predek KH'!AG23=0,0,IF(logic!$A$88=0,0,ROUND('Predek KH'!L23,0))))","v":798},{"$f":"IF(OR(M$10=0,$A27=0),0,IF('Predek KH'!AH23=0,0,IF(logic!$A$88=0,0,ROUND('Predek KH'!M23,0))))","v":1233},{"$f":"IF(OR(N$10=0,$A27=0),0,IF('Predek KH'!AI23=0,0,IF(logic!$A$88=0,0,ROUND('Predek KH'!N23,0))))","v":1317},{"$f":"IF(OR(O$10=0,$A27=0),0,IF('Predek KH'!AJ23=0,0,IF(logic!$A$88=0,0,ROUND('Predek KH'!O23,0))))","v":1743},{"$f":"IF(OR(P$10=0,$A27=0),0,IF('Predek KH'!AK23=0,0,IF(logic!$A$88=0,0,ROUND('Predek KH'!P23,0))))","v":2247},{"$f":"IF(OR(Q$10=0,$A27=0),0,IF('Predek KH'!AL23=0,0,IF(logic!$A$88=0,0,ROUND('Predek KH'!Q23,0))))","v":2589},{"$f":"IF(OR(R$10=0,$A27=0),0,IF('Predek KH'!AM23=0,0,IF(logic!$A$88=0,0,ROUND('Predek KH'!R23,0))))","v":4227},{"$f":"IF(OR(S$10=0,$A27=0),0,IF('Predek KH'!AN23=0,0,IF(logic!$A$88=0,0,ROUND('Predek KH'!S23,0))))","v":5115}]
[]
[null,null,null,{"$f":"IF(AND($M$5=Jazyk!$D$4,$O$5=Jazyk!$D$4),1,IF(AND(D30>=$M$5,D30<=$O$5),1,0))","v":1},{"$f":"IF(AND($M$5=Jazyk!$D$4,$O$5=Jazyk!$D$4),1,IF(AND(E30>=$M$5,E30<=$O$5),1,0))","v":1},{"$f":"IF(AND($M$5=Jazyk!$D$4,$O$5=Jazyk!$D$4),1,IF(AND(F30>=$M$5,F30<=$O$5),1,0))","v":1},{"$f":"IF(AND($M$5=Jazyk!$D$4,$O$5=Jazyk!$D$4),1,IF(AND(G30>=$M$5,G30<=$O$5),1,0))","v":1},{"$f":"IF(AND($M$5=Jazyk!$D$4,$O$5=Jazyk!$D$4),1,IF(AND(H30>=$M$5,H30<=$O$5),1,0))","v":1},{"$f":"IF(AND($M$5=Jazyk!$D$4,$O$5=Jazyk!$D$4),1,IF(AND(I30>=$M$5,I30<=$O$5),1,0))","v":1},{"$f":"IF(AND($M$5=Jazyk!$D$4,$O$5=Jazyk!$D$4),1,IF(AND(J30>=$M$5,J30<=$O$5),1,0))","v":1},{"$f":"IF(AND($M$5=Jazyk!$D$4,$O$5=Jazyk!$D$4),1,IF(AND(K30>=$M$5,K30<=$O$5),1,0))","v":1},{"$f":"IF(AND($M$5=Jazyk!$D$4,$O$5=Jazyk!$D$4),1,IF(AND(L30>=$M$5,L30<=$O$5),1,0))","v":1},{"$f":"IF(AND($M$5=Jazyk!$D$4,$O$5=Jazyk!$D$4),1,IF(AND(M30>=$M$5,M30<=$O$5),1,0))","v":1},{"$f":"IF(AND($M$5=Jazyk!$D$4,$O$5=Jazyk!$D$4),1,IF(AND(N30>=$M$5,N30<=$O$5),1,0))","v":1},{"$f":"IF(AND($M$5=Jazyk!$D$4,$O$5=Jazyk!$D$4),1,IF(AND(O30>=$M$5,O30<=$O$5),1,0))","v":1},{"$f":"IF(AND($M$5=Jazyk!$D$4,$O$5=Jazyk!$D$4),1,IF(AND(P30>=$M$5,P30<=$O$5),1,0))","v":1},{"$f":"IF(AND($M$5=Jazyk!$D$4,$O$5=Jazyk!$D$4),1,IF(AND(Q30>=$M$5,Q30<=$O$5),1,0))","v":1},{"$f":"IF(AND($M$5=Jazyk!$D$4,$O$5=Jazyk!$D$4),1,IF(AND(R30>=$M$5,R30<=$O$5),1,0))","v":1},{"$f":"IF(AND($M$5=Jazyk!$D$4,$O$5=Jazyk!$D$4),1,IF(AND(S30>=$M$5,S30<=$O$5),1,0))","v":1}]
[null,{"$f":"Jazyk!$G$27","v":"Височина [mm]"},null,{"$f":"F30","v":366},{"$f":"F30","v":366},{"$f":"'Qn H'!$G$7","v":366},{"$f":"F30","v":366},{"$f":"F30","v":366},{"$f":"F30","v":366},{"$f":"F30","v":366},{"$f":"F30","v":366},{"$f":"N30","v":514},{"$f":"N30","v":514},{"$f":"'Qn H'!$O$7","v":514},{"$f":"N30","v":514},{"$f":"N30","v":514},{"$f":"N30","v":514},{"$f":"N30","v":514},{"$f":"N30","v":514}]
[null,{"$f":"Jazyk!$H$27","v":"Дължина [mm]"},null,{"$f":"'Qn H'!E8","v":"K10H"},{"$f":"'Qn H'!F8","v":"K11H"},{"$f":"'Qn H'!G8","v":"K20H"},{"$f":"'Qn H'!H8","v":"K21H"},{"$f":"'Qn H'!I8","v":"K22H"},{"$f":"'Qn H'!J8","v":0},{"$f":"'Qn H'!K8","v":0},{"$f":"'Qn H'!L8","v":0},{"$f":"'Qn H'!M8","v":"K10H"},{"$f":"'Qn H'!N8","v":"K11H"},{"$f":"'Qn H'!O8","v":"K20H"},{"$f":"'Qn H'!P8","v":"K21H"},{"$f":"'Qn H'!Q8","v":"K22H"},{"$f":"'Qn H'!R8","v":0},{"$f":"'Qn H'!S8","v":0},{"$f":"'Qn H'!T8","v":0}]
[{"$f":"IF(AND($M$6=Jazyk!$D$4,$O$6=Jazyk!$D$4),1,IF(AND(B32>=$M$6,B32<=$O$6),1,0))","v":1},500,null,{"$f":"IF(OR(D$29=0,$A32=0),0,IF('Predek KH'!Y28=0,0,IF(logic!$A$88=0,0,ROUND('Predek KH'!D28,0))))","v":198},{"$f":"IF(OR(E$29=0,$A32=0),0,IF('Predek KH'!Z28=0,0,IF(logic!$A$88=0,0,ROUND('Predek KH'!E28,0))))","v":319},{"$f":"IF(OR(F$29=0,$A32=0),0,IF('Predek KH'!AA28=0,0,IF(logic!$A$88=0,0,ROUND('Predek KH'!F28,0))))","v":334},{"$f":"IF(OR(G$29=0,$A32=0),0,IF('Predek KH'!AB28=0,0,IF(logic!$A$88=0,0,ROUND('Predek KH'!G28,0))))","v":436},{"$f":"IF(OR(H$29=0,$A32=0),0,IF('Predek KH'!AC28=0,0,IF(logic!$A$88=0,0,ROUND('Predek KH'!H28,0))))","v":604},{"$f":"IF(OR(I$29=0,$A32=0),0,IF('Predek KH'!AD28=0,0,IF(logic!$A$88=0,0,ROUND('Predek KH'!I28,0))))","v":0},{"$f":"IF(OR(J$29=0,$A32=0),0,IF('Predek KH'!AE28=0,0,IF(logic!$A$88=0,0,ROUND('Predek KH'!J28,0))))","v":0},{"$f":"IF(OR(K$29=0,$A32=0),0,IF('Predek KH'!AF28=0,0,IF(logic!$A$88=0,0,ROUND('Predek KH'!K28,0))))","v":0},{"$f":"IF(OR(L$29=0,$A32=0),0,IF('Predek KH'!AG28=0,0,IF(logic!$A$88=0,0,ROUND('Predek KH'!L28,0))))","v":264},{"$f":"IF(OR(M$29=0,$A32=0),0,IF('Predek KH'!AH28=0,0,IF(logic!$A$88=0,0,ROUND('Predek KH'!M28,0))))","v":424},{"$f":"IF(OR(N$29=0,$A32=0),0,IF('Predek KH'!AI28=0,0,IF(logic!$A$88=0,0,ROUND('Predek KH'!N28,0))))","v":446},{"$f":"IF(OR(O$29=0,$A32=0),0,IF('Predek KH'!AJ28=0,0,IF(logic!$A$88=0,0,ROUND('Predek KH'!O28,0))))","v":564},{"$f":"IF(OR(P$29=0,$A32=0),0,IF('Predek KH'!AK28=0,0,IF(logic!$A$88=0,0,ROUND('Predek KH'!P28,0))))","v":777},{"$f":"IF(OR(Q$29=0,$A32=0),0,IF('Predek KH'!AL28=0,0,IF(logic!$A$88=0,0,ROUND('Predek KH'!Q28,0))))","v":0},{"$f":"IF(OR(R$29=0,$A32=0),0,IF('Predek KH'!AM28=0,0,IF(logic!$A$88=0,0,ROUND('Predek KH'!R28,0))))","v":0},{"$f":"IF(OR(S$29=0,$A32=0),0,IF('Predek KH'!AN28=0,0,IF(logic!$A$88=0,0,ROUND('Predek KH'!S28,0))))","v":0}]
[{"$f":"IF(AND($M$6=Jazyk!$D$4,$O$6=Jazyk!$D$4),1,IF(AND(B33>=$M$6,B33<=$O$6),1,0))","v":1},600,null,{"$f":"IF(OR(D$29=0,$A33=0),0,IF('Predek KH'!Y29=0,0,IF(logic!$A$88=0,0,ROUND('Predek KH'!D29,0))))","v":237},{"$f":"IF(OR(E$29=0,$A33=0),0,IF('Predek KH'!Z29=0,0,IF(logic!$A$88=0,0,ROUND('Predek KH'!E29,0))))","v":383},{"$f":"IF(OR(F$29=0,$A33=0),0,IF('Predek KH'!AA29=0,0,IF(logic!$A$88=0,0,ROUND('Predek KH'!F29,0))))","v":400},{"$f":"IF(OR(G$29=0,$A33=0),0,IF('Predek KH'!AB29=0,0,IF(logic!$A$88=0,0,ROUND('Predek KH'!G29,0))))","v":523},{"$f":"IF(OR(H$29=0,$A33=0),0,IF('Predek KH'!AC29=0,0,IF(logic!$A$88=0,0,ROUND('Predek KH'!H29,0))))","v":724},{"$f":"IF(OR(I$29=0,$A33=0),0,IF('Predek KH'!AD29=0,0,IF(logic!$A$88=0,0,ROUND('Predek KH'!I29,0))))","v":0},{"$f":"IF(OR(J$29=0,$A33=0),0,IF('Predek KH'!AE29=0,0,IF(logic!$A$88=0,0,ROUND('Predek KH'!J29,0))))","v":0},{"$f":"IF(OR(K$29=0,$A33=0),0,IF('Predek KH'!AF29=0,0,IF(logic!$A$88=0,0,ROUND('Predek KH'!K29,0))))","v":0},{"$f":"IF(OR(L$29=0,$A33=0),0,IF('Predek KH'!AG29=0,0,IF(logic!$A$88=0,0,ROUND('Predek KH'!L29,0))))","v":316},{"$f":"IF(OR(M$29=0,$A33=0),0,IF('Predek KH'!AH29=0,0,IF(logic!$A$88=0,0,ROUND('Predek KH'!M29,0))))","v":509},{"$f":"IF(OR(N$29=0,$A33=0),0,IF('Predek KH'!AI29=0,0,IF(logic!$A$88=0,0,ROUND('Predek KH'!N29,0))))","v":535},{"$f":"IF(OR(O$29=0,$A33=0),0,IF('Predek KH'!AJ29=0,0,IF(logic!$A$88=0,0,ROUND('Predek KH'!O29,0))))","v":677},{"$f":"IF(OR(P$29=0,$A33=0),0,IF('Predek KH'!AK29=0,0,IF(logic!$A$88=0,0,ROUND('Predek KH'!P29,0))))","v":932},{"$f":"IF(OR(Q$29=0,$A33=0),0,IF('Predek KH'!AL29=0,0,IF(logic!$A$88=0,0,ROUND('Predek KH'!Q29,0))))","v":0},{"$f":"IF(OR(R$29=0,$A33=0),0,IF('Predek KH'!AM29=0,0,IF(logic!$A$88=0,0,ROUND('Predek KH'!R29,0))))","v":0},{"$f":"IF(OR(S$29=0,$A33=0),0,IF('Predek KH'!AN29=0,0,IF(logic!$A$88=0,0,ROUND('Predek KH'!S29,0))))","v":0}]
[{"$f":"IF(AND($M$6=Jazyk!$D$4,$O$6=Jazyk!$D$4),1,IF(AND(B34>=$M$6,B34<=$O$6),1,0))","v":1},700,null,{"$f":"IF(OR(D$29=0,$A34=0),0,IF('Predek KH'!Y30=0,0,IF(logic!$A$88=0,0,ROUND('Predek KH'!D30,0))))","v":277},{"$f":"IF(OR(E$29=0,$A34=0),0,IF('Predek KH'!Z30=0,0,IF(logic!$A$88=0,0,ROUND('Predek KH'!E30,0))))","v":447},{"$f":"IF(OR(F$29=0,$A34=0),0,IF('Predek KH'!AA30=0,0,IF(logic!$A$88=0,0,ROUND('Predek KH'!F30,0))))","v":467},{"$f":"IF(OR(G$29=0,$A34=0),0,IF('Predek KH'!AB30=0,0,IF(logic!$A$88=0,0,ROUND('Predek KH'!G30,0))))","v":610},{"$f":"IF(OR(H$29=0,$A34=0),0,IF('Predek KH'!AC30=0,0,IF(logic!$A$88=0,0,ROUND('Predek KH'!H30,0))))","v":845},{"$f":"IF(OR(I$29=0,$A34=0),0,IF('Predek KH'!AD30=0,0,IF(logic!$A$88=0,0,ROUND('Predek KH'!I30,0))))","v":0},{"$f":"IF(OR(J$29=0,$A34=0),0,IF('Predek KH'!AE30=0,0,IF(logic!$A$88=0,0,ROUND('Predek KH'!J30,0))))","v":0},{"$f":"IF(OR(K$29=0,$A34=0),0,IF('Predek KH'!AF30=0,0,IF(logic!$A$88=0,0,ROUND('Predek KH'!K30,0))))","v":0},{"$f":"IF(OR(L$29=0,$A34=0),0,IF('Predek KH'!AG30=0,0,IF(logic!$A$88=0,0,ROUND('Predek KH'!L30,0))))","v":369},{"$f":"IF(OR(M$29=0,$A34=0),0,IF('Predek KH'!AH30=0,0,IF(logic!$A$88=0,0,ROUND('Predek KH'!M30,0))))","v":594},{"$f":"IF(OR(N$29=0,$A34=0),0,IF('Predek KH'!AI30=0,0,IF(logic!$A$88=0,0,ROUND('Predek KH'!N30,0))))","v":624},{"$f":"IF(OR(O$29=0,$A34=0),0,IF('Predek KH'!AJ30=0,0,IF(logic!$A$88=0,0,ROUND('Predek KH'!O30,0))))","v":790},{"$f":"IF(OR(P$29=0,$A34=0),0,IF('Predek KH'!AK30=0,0,IF(logic!$A$88=0,0,ROUND('Predek KH'!P30,0))))","v":1088},{"$f":"IF(OR(Q$29=0,$A34=0),0,IF('Predek KH'!AL30=0,0,IF(logic!$A$88=0,0,ROUND('Predek KH'!Q30,0))))","v":0},{"$f":"IF(OR(R$29=0,$A34=0),0,IF('Predek KH'!AM30=0,0,IF(logic!$A$88=0,0,ROUND('Predek KH'!R30,0))))","v":0},{"$f":"IF(OR(S$29=0,$A34=0),0,IF('Predek KH'!AN30=0,0,IF(logic!$A$88=0,0,ROUND('Predek KH'!S30,0))))","v":0}]
[{"$f":"IF(AND($M$6=Jazyk!$D$4,$O$6=Jazyk!$D$4),1,IF(AND(B35>=$M$6,B35<=$O$6),1,0))","v":1},800,null,{"$f":"IF(OR(D$29=0,$A35=0),0,IF('Predek KH'!Y31=0,0,IF(logic!$A$88=0,0,ROUND('Predek KH'!D31,0))))","v":316},{"$f":"IF(OR(E$29=0,$A35=0),0,IF('Predek KH'!Z31=0,0,IF(logic!$A$88=0,0,ROUND('Predek KH'!E31,0))))","v":510},{"$f":"IF(OR(F$29=0,$A35=0),0,IF('Predek KH'!AA31=0,0,IF(logic!$A$88=0,0,ROUND('Predek KH'!F31,0))))","v":534},{"$f":"IF(OR(G$29=0,$A35=0),0,IF('Predek KH'!AB31=0,0,IF(logic!$A$88=0,0,ROUND('Predek KH'!G31,0))))","v":697},{"$f":"IF(OR(H$29=0,$A35=0),0,IF('Predek KH'!AC31=0,0,IF(logic!$A$88=0,0,ROUND('Predek KH'!H31,0))))","v":966},{"$f":"IF(OR(I$29=0,$A35=0),0,IF('Predek KH'!AD31=0,0,IF(logic!$A$88=0,0,ROUND('Predek KH'!I31,0))))","v":0},{"$f":"IF(OR(J$29=0,$A35=0),0,IF('Predek KH'!AE31=0,0,IF(logic!$A$88=0,0,ROUND('Predek KH'!J31,0))))","v":0},{"$f":"IF(OR(K$29=0,$A35=0),0,IF('Predek KH'!AF31=0,0,IF(logic!$A$88=0,0,ROUND('Predek KH'!K31,0))))","v":0},{"$f":"IF(OR(L$29=0,$A35=0),0,IF('Predek KH'!AG31=0,0,IF(logic!$A$88=0,0,ROUND('Predek KH'!L31,0))))","v":422},{"$f":"IF(OR(M$29=0,$A35=0),0,IF('Predek KH'!AH31=0,0,IF(logic!$A$88=0,0,ROUND('Predek KH'!M31,0))))","v":678},{"$f":"IF(OR(N$29=0,$A35=0),0,IF('Predek KH'!AI31=0,0,IF(logic!$A$88=0,0,ROUND('Predek KH'!N31,0))))","v":714},{"$f":"IF(OR(O$29=0,$A35=0),0,IF('Predek KH'!AJ31=0,0,IF(logic!$A$88=0,0,ROUND('Predek KH'!O31,0))))","v":902},{"$f":"IF(OR(P$29=0,$A35=0),0,IF('Predek KH'!AK31=0,0,IF(logic!$A$88=0,0,ROUND('Predek KH'!P31,0))))","v":1243},{"$f":"IF(OR(Q$29=0,$A35=0),0,IF('Predek KH'!AL31=0,0,IF(logic!$A$88=0,0,ROUND('Predek KH'!Q31,0))))","v":0},{"$f":"IF(OR(R$29=0,$A35=0),0,IF('Predek KH'!AM31=0,0,IF(logic!$A$88=0,0,ROUND('Predek KH'!R31,0))))","v":0},{"$f":"IF(OR(S$29=0,$A35=0),0,IF('Predek KH'!AN31=0,0,IF(logic!$A$88=0,0,ROUND('Predek KH'!S31,0))))","v":0}]
[{"$f":"IF(AND($M$6=Jazyk!$D$4,$O$6=Jazyk!$D$4),1,IF(AND(B36>=$M$6,B36<=$O$6),1,0))","v":1},900,null,{"$f":"IF(OR(D$29=0,$A36=0),0,IF('Predek KH'!Y32=0,0,IF(logic!$A$88=0,0,ROUND('Predek KH'!D32,0))))","v":356},{"$f":"IF(OR(E$29=0,$A36=0),0,IF('Predek KH'!Z32=0,0,IF(logic!$A$88=0,0,ROUND('Predek KH'!E32,0))))","v":574},{"$f":"IF(OR(F$29=0,$A36=0),0,IF('Predek KH'!AA32=0,0,IF(logic!$A$88=0,0,ROUND('Predek KH'!F32,0))))","v":600},{"$f":"IF(OR(G$29=0,$A36=0),0,IF('Predek KH'!AB32=0,0,IF(logic!$A$88=0,0,ROUND('Predek KH'!G32,0))))","v":784},{"$f":"IF(OR(H$29=0,$A36=0),0,IF('Predek KH'!AC32=0,0,IF(logic!$A$88=0,0,ROUND('Predek KH'!H32,0))))","v":1086},{"$f":"IF(OR(I$29=0,$A36=0),0,IF('Predek KH'!AD32=0,0,IF(logic!$A$88=0,0,ROUND('Predek KH'!I32,0))))","v":0},{"$f":"IF(OR(J$29=0,$A36=0),0,IF('Predek KH'!AE32=0,0,IF(logic!$A$88=0,0,ROUND('Predek KH'!J32,0))))","v":0},{"$f":"IF(OR(K$29=0,$A36=0),0,IF('Predek KH'!AF32=0,0,IF(logic!$A$88=0,0,ROUND('Predek KH'!K32,0))))","v":0},{"$f":"IF(OR(L$29=0,$A36=0),0,IF('Predek KH'!AG32=0,0,IF(logic!$A$88=0,0,ROUND('Predek KH'!L32,0))))","v":474},{"$f":"IF(OR(M$29=0,$A36=0),0,IF('Predek KH'!AH32=0,0,IF(logic!$A$88=0,0,ROUND('Predek KH'!M32,0))))","v":763},{"$f":"IF(OR(N$29=0,$A36=0),0,IF('Predek KH'!AI32=0,0,IF(logic!$A$88=0,0,ROUND('Predek KH'!N32,0))))","v":803},{"$f":"IF(OR(O$29=0,$A36=0),0,IF('Predek KH'!AJ32=0,0,IF(logic!$A$88=0,0,ROUND('Predek KH'!O32,0))))","v":1015},{"$f":"IF(OR(P$29=0,$A36=0),0,IF('Predek KH'!AK32=0,0,IF(logic!$A$88=0,0,ROUND('Predek KH'!P32,0))))","v":1399},{"$f":"IF(OR(Q$29=0,$A36=0),0,IF('Predek KH'!AL32=0,0,IF(logic!$A$88=0,0,ROUND('Predek KH'!Q32,0))))","v":0},{"$f":"IF(OR(R$29=0,$A36=0),0,IF('Predek KH'!AM32=0,0,IF(logic!$A$88=0,0,ROUND('Predek KH'!R32,0))))","v":0},{"$f":"IF(OR(S$29=0,$A36=0),0,IF('Predek KH'!AN32=0,0,IF(logic!$A$88=0,0,ROUND('Predek KH'!S32,0))))","v":0}]
[{"$f":"IF(AND($M$6=Jazyk!$D$4,$O$6=Jazyk!$D$4),1,IF(AND(B37>=$M$6,B37<=$O$6),1,0))","v":1},1000,null,{"$f":"IF(OR(D$29=0,$A37=0),0,IF('Predek KH'!Y33=0,0,IF(logic!$A$88=0,0,ROUND('Predek KH'!D33,0))))","v":395},{"$f":"IF(OR(E$29=0,$A37=0),0,IF('Predek KH'!Z33=0,0,IF(logic!$A$88=0,0,ROUND('Predek KH'!E33,0))))","v":638},{"$f":"IF(OR(F$29=0,$A37=0),0,IF('Predek KH'!AA33=0,0,IF(logic!$A$88=0,0,ROUND('Predek KH'!F33,0))))","v":667},{"$f":"IF(OR(G$29=0,$A37=0),0,IF('Predek KH'!AB33=0,0,IF(logic!$A$88=0,0,ROUND('Predek KH'!G33,0))))","v":871},{"$f":"IF(OR(H$29=0,$A37=0),0,IF('Predek KH'!AC33=0,0,IF(logic!$A$88=0,0,ROUND('Predek KH'!H33,0))))","v":1207},{"$f":"IF(OR(I$29=0,$A37=0),0,IF('Predek KH'!AD33=0,0,IF(logic!$A$88=0,0,ROUND('Predek KH'!I33,0))))","v":0},{"$f":"IF(OR(J$29=0,$A37=0),0,IF('Predek KH'!AE33=0,0,IF(logic!$A$88=0,0,ROUND('Predek KH'!J33,0))))","v":0},{"$f":"IF(OR(K$29=0,$A37=0),0,IF('Predek KH'!AF33=0,0,IF(logic!$A$88=0,0,ROUND('Predek KH'!K33,0))))","v":0},{"$f":"IF(OR(L$29=0,$A37=0),0,IF('Predek KH'!AG33=0,0,IF(logic!$A$88=0,0,ROUND('Predek KH'!L33,0))))","v":527},{"$f":"IF(OR(M$29=0,$A37=0),0,IF('Predek KH'!AH33=0,0,IF(logic!$A$88=0,0,ROUND('Predek KH'!M33,0))))","v":848},{"$f":"IF(OR(N$29=0,$A37=0),0,IF('Predek KH'!AI33=0,0,IF(logic!$A$88=0,0,ROUND('Predek KH'!N33,0))))","v":892},{"$f":"IF(OR(O$29=0,$A37=0),0,IF('Predek KH'!AJ33=0,0,IF(logic!$A$88=0,0,ROUND('Predek KH'!O33,0))))","v":1128},{"$f":"IF(OR(P$29=0,$A37=0),0,IF('Predek KH'!AK33=0,0,IF(logic!$A$88=0,0,ROUND('Predek KH'!P33,0))))","v":1554},{"$f":"IF(OR(Q$29=0,$A37=0),0,IF('Predek KH'!AL33=0,0,IF(logic!$A$88=0,0,ROUND('Predek KH'!Q33,0))))","v":0},{"$f":"IF(OR(R$29=0,$A37=0),0,IF('Predek KH'!AM33=0,0,IF(logic!$A$88=0,0,ROUND('Predek KH'!R33,0))))","v":0},{"$f":"IF(OR(S$29=0,$A37=0),0,IF('Predek KH'!AN33=0,0,IF(logic!$A$88=0,0,ROUND('Predek KH'!S33,0))))","v":0}]
[{"$f":"IF(AND($M$6=Jazyk!$D$4,$O$6=Jazyk!$D$4),1,IF(AND(B38>=$M$6,B38<=$O$6),1,0))","v":1},1100,null,{"$f":"IF(OR(D$29=0,$A38=0),0,IF('Predek KH'!Y34=0,0,IF(logic!$A$88=0,0,ROUND('Predek KH'!D34,0))))","v":435},{"$f":"IF(OR(E$29=0,$A38=0),0,IF('Predek KH'!Z34=0,0,IF(logic!$A$88=0,0,ROUND('Predek KH'!E34,0))))","v":702},{"$f":"IF(OR(F$29=0,$A38=0),0,IF('Predek KH'!AA34=0,0,IF(logic!$A$88=0,0,ROUND('Predek KH'!F34,0))))","v":734},{"$f":"IF(OR(G$29=0,$A38=0),0,IF('Predek KH'!AB34=0,0,IF(logic!$A$88=0,0,ROUND('Predek KH'!G34,0))))","v":958},{"$f":"IF(OR(H$29=0,$A38=0),0,IF('Predek KH'!AC34=0,0,IF(logic!$A$88=0,0,ROUND('Predek KH'!H34,0))))","v":1328},{"$f":"IF(OR(I$29=0,$A38=0),0,IF('Predek KH'!AD34=0,0,IF(logic!$A$88=0,0,ROUND('Predek KH'!I34,0))))","v":0},{"$f":"IF(OR(J$29=0,$A38=0),0,IF('Predek KH'!AE34=0,0,IF(logic!$A$88=0,0,ROUND('Predek KH'!J34,0))))","v":0},{"$f":"IF(OR(K$29=0,$A38=0),0,IF('Predek KH'!AF34=0,0,IF(logic!$A$88=0,0,ROUND('Predek KH'!K34,0))))","v":0},{"$f":"IF(OR(L$29=0,$A38=0),0,IF('Predek KH'!AG34=0,0,IF(logic!$A$88=0,0,ROUND('Predek KH'!L34,0))))","v":580},{"$f":"IF(OR(M$29=0,$A38=0),0,IF('Predek KH'!AH34=0,0,IF(logic!$A$88=0,0,ROUND('Predek KH'!M34,0))))","v":933},{"$f":"IF(OR(N$29=0,$A38=0),0,IF('Predek KH'!AI34=0,0,IF(logic!$A$88=0,0,ROUND('Predek KH'!N34,0))))","v":981},{"$f":"IF(OR(O$29=0,$A38=0),0,IF('Predek KH'!AJ34=0,0,IF(logic!$A$88=0,0,ROUND('Predek KH'!O34,0))))","v":1241},{"$f":"IF(OR(P$29=0,$A38=0),0,IF('Predek KH'!AK34=0,0,IF(logic!$A$88=0,0,ROUND('Predek KH'!P34,0))))","v":1709},{"$f":"IF(OR(Q$29=0,$A38=0),0,IF('Predek KH'!AL34=0,0,IF(logic!$A$88=0,0,ROUND('Predek KH'!Q34,0))))","v":0},{"$f":"IF(OR(R$29=0,$A38=0),0,IF('Predek KH'!AM34=0,0,IF(logic!$A$88=0,0,ROUND('Predek KH'!R34,0))))","v":0},{"$f":"IF(OR(S$29=0,$A38=0),0,IF('Predek KH'!AN34=0,0,IF(logic!$A$88=0,0,ROUND('Predek KH'!S34,0))))","v":0}]
[{"$f":"IF(AND($M$6=Jazyk!$D$4,$O$6=Jazyk!$D$4),1,IF(AND(B39>=$M$6,B39<=$O$6),1,0))","v":1},1200,null,{"$f":"IF(OR(D$29=0,$A39=0),0,IF('Predek KH'!Y35=0,0,IF(logic!$A$88=0,0,ROUND('Predek KH'!D35,0))))","v":474},{"$f":"IF(OR(E$29=0,$A39=0),0,IF('Predek KH'!Z35=0,0,IF(logic!$A$88=0,0,ROUND('Predek KH'!E35,0))))","v":766},{"$f":"IF(OR(F$29=0,$A39=0),0,IF('Predek KH'!AA35=0,0,IF(logic!$A$88=0,0,ROUND('Predek KH'!F35,0))))","v":800},{"$f":"IF(OR(G$29=0,$A39=0),0,IF('Predek KH'!AB35=0,0,IF(logic!$A$88=0,0,ROUND('Predek KH'!G35,0))))","v":1045},{"$f":"IF(OR(H$29=0,$A39=0),0,IF('Predek KH'!AC35=0,0,IF(logic!$A$88=0,0,ROUND('Predek KH'!H35,0))))","v":1448},{"$f":"IF(OR(I$29=0,$A39=0),0,IF('Predek KH'!AD35=0,0,IF(logic!$A$88=0,0,ROUND('Predek KH'!I35,0))))","v":0},{"$f":"IF(OR(J$29=0,$A39=0),0,IF('Predek KH'!AE35=0,0,IF(logic!$A$88=0,0,ROUND('Predek KH'!J35,0))))","v":0},{"$f":"IF(OR(K$29=0,$A39=0),0,IF('Predek KH'!AF35=0,0,IF(logic!$A$88=0,0,ROUND('Predek KH'!K35,0))))","v":0},{"$f":"IF(OR(L$29=0,$A39=0),0,IF('Predek KH'!AG35=0,0,IF(logic!$A$88=0,0,ROUND('Predek KH'!L35,0))))","v":632},{"$f":"IF(OR(M$29=0,$A39=0),0,IF('Predek KH'!AH35=0,0,IF(logic!$A$88=0,0,ROUND('Predek KH'!M35,0))))","v":1018},{"$f":"IF(OR(N$29=0,$A39=0),0,IF('Predek KH'!AI35=0,0,IF(logic!$A$88=0,0,ROUND('Predek KH'!N35,0))))","v":1070},{"$f":"IF(OR(O$29=0,$A39=0),0,IF('Predek KH'!AJ35=0,0,IF(logic!$A$88=0,0,ROUND('Predek KH'!O35,0))))","v":1354},{"$f":"IF(OR(P$29=0,$A39=0),0,IF('Predek KH'!AK35=0,0,IF(logic!$A$88=0,0,ROUND('Predek KH'!P35,0))))","v":1865},{"$f":"IF(OR(Q$29=0,$A39=0),0,IF('Predek KH'!AL35=0,0,IF(logic!$A$88=0,0,ROUND('Predek KH'!Q35,0))))","v":0},{"$f":"IF(OR(R$29=0,$A39=0),0,IF('Predek KH'!AM35=0,0,IF(logic!$A$88=0,0,ROUND('Predek KH'!R35,0))))","v":0},{"$f":"IF(OR(S$29=0,$A39=0),0,IF('Predek KH'!AN35=0,0,IF(logic!$A$88=0,0,ROUND('Predek KH'!S35,0))))","v":0}]
[{"$f":"IF(AND($M$6=Jazyk!$D$4,$O$6=Jazyk!$D$4),1,IF(AND(B40>=$M$6,B40<=$O$6),1,0))","v":1},1400,null,{"$f":"IF(OR(D$29=0,$A40=0),0,IF('Predek KH'!Y36=0,0,IF(logic!$A$88=0,0,ROUND('Predek KH'!D36,0))))","v":553},{"$f":"IF(OR(E$29=0,$A40=0),0,IF('Predek KH'!Z36=0,0,IF(logic!$A$88=0,0,ROUND('Predek KH'!E36,0))))","v":893},{"$f":"IF(OR(F$29=0,$A40=0),0,IF('Predek KH'!AA36=0,0,IF(logic!$A$88=0,0,ROUND('Predek KH'!F36,0))))","v":934},{"$f":"IF(OR(G$29=0,$A40=0),0,IF('Predek KH'!AB36=0,0,IF(logic!$A$88=0,0,ROUND('Predek KH'!G36,0))))","v":1219},{"$f":"IF(OR(H$29=0,$A40=0),0,IF('Predek KH'!AC36=0,0,IF(logic!$A$88=0,0,ROUND('Predek KH'!H36,0))))","v":1690},{"$f":"IF(OR(I$29=0,$A40=0),0,IF('Predek KH'!AD36=0,0,IF(logic!$A$88=0,0,ROUND('Predek KH'!I36,0))))","v":0},{"$f":"IF(OR(J$29=0,$A40=0),0,IF('Predek KH'!AE36=0,0,IF(logic!$A$88=0,0,ROUND('Predek KH'!J36,0))))","v":0},{"$f":"IF(OR(K$29=0,$A40=0),0,IF('Predek KH'!AF36=0,0,IF(logic!$A$88=0,0,ROUND('Predek KH'!K36,0))))","v":0},{"$f":"IF(OR(L$29=0,$A40=0),0,IF('Predek KH'!AG36=0,0,IF(logic!$A$88=0,0,ROUND('Predek KH'!L36,0))))","v":738},{"$f":"IF(OR(M$29=0,$A40=0),0,IF('Predek KH'!AH36=0,0,IF(logic!$A$88=0,0,ROUND('Predek KH'!M36,0))))","v":1187},{"$f":"IF(OR(N$29=0,$A40=0),0,IF('Predek KH'!AI36=0,0,IF(logic!$A$88=0,0,ROUND('Predek KH'!N36,0))))","v":1249},{"$f":"IF(OR(O$29=0,$A40=0),0,IF('Predek KH'!AJ36=0,0,IF(logic!$A$88=0,0,ROUND('Predek KH'!O36,0))))","v":1579},{"$f":"IF(OR(P$29=0,$A40=0),0,IF('Predek KH'!AK36=0,0,IF(logic!$A$88=0,0,ROUND('Predek KH'!P36,0))))","v":2176},{"$f":"IF(OR(Q$29=0,$A40=0),0,IF('Predek KH'!AL36=0,0,IF(logic!$A$88=0,0,ROUND('Predek KH'!Q36,0))))","v":0},{"$f":"IF(OR(R$29=0,$A40=0),0,IF('Predek KH'!AM36=0,0,IF(logic!$A$88=0,0,ROUND('Predek KH'!R36,0))))","v":0},{"$f":"IF(OR(S$29=0,$A40=0),0,IF('Predek KH'!AN36=0,0,IF(logic!$A$88=0,0,ROUND('Predek KH'!S36,0))))","v":0}]
[{"$f":"IF(AND($M$6=Jazyk!$D$4,$O$6=Jazyk!$D$4),1,IF(AND(B41>=$M$6,B41<=$O$6),1,0))","v":1},1600,null,{"$f":"IF(OR(D$29=0,$A41=0),0,IF('Predek KH'!Y37=0,0,IF(logic!$A$88=0,0,ROUND('Predek KH'!D37,0))))","v":632},{"$f":"IF(OR(E$29=0,$A41=0),0,IF('Predek KH'!Z37=0,0,IF(logic!$A$88=0,0,ROUND('Predek KH'!E37,0))))","v":1021},{"$f":"IF(OR(F$29=0,$A41=0),0,IF('Predek KH'!AA37=0,0,IF(logic!$A$88=0,0,ROUND('Predek KH'!F37,0))))","v":1067},{"$f":"IF(OR(G$29=0,$A41=0),0,IF('Predek KH'!AB37=0,0,IF(logic!$A$88=0,0,ROUND('Predek KH'!G37,0))))","v":1394},{"$f":"IF(OR(H$29=0,$A41=0),0,IF('Predek KH'!AC37=0,0,IF(logic!$A$88=0,0,ROUND('Predek KH'!H37,0))))","v":1931},{"$f":"IF(OR(I$29=0,$A41=0),0,IF('Predek KH'!AD37=0,0,IF(logic!$A$88=0,0,ROUND('Predek KH'!I37,0))))","v":0},{"$f":"IF(OR(J$29=0,$A41=0),0,IF('Predek KH'!AE37=0,0,IF(logic!$A$88=0,0,ROUND('Predek KH'!J37,0))))","v":0},{"$f":"IF(OR(K$29=0,$A41=0),0,IF('Predek KH'!AF37=0,0,IF(logic!$A$88=0,0,ROUND('Predek KH'!K37,0))))","v":0},{"$f":"IF(OR(L$29=0,$A41=0),0,IF('Predek KH'!AG37=0,0,IF(logic!$A$88=0,0,ROUND('Predek KH'!L37,0))))","v":843},{"$f":"IF(OR(M$29=0,$A41=0),0,IF('Predek KH'!AH37=0,0,IF(logic!$A$88=0,0,ROUND('Predek KH'!M37,0))))","v":1357},{"$f":"IF(OR(N$29=0,$A41=0),0,IF('Predek KH'!AI37=0,0,IF(logic!$A$88=0,0,ROUND('Predek KH'!N37,0))))","v":1427},{"$f":"IF(OR(O$29=0,$A41=0),0,IF('Predek KH'!AJ37=0,0,IF(logic!$A$88=0,0,ROUND('Predek KH'!O37,0))))","v":1805},{"$f":"IF(OR(P$29=0,$A41=0),0,IF('Predek KH'!AK37=0,0,IF(logic!$A$88=0,0,ROUND('Predek KH'!P37,0))))","v":2486},{"$f":"IF(OR(Q$29=0,$A41=0),0,IF('Predek KH'!AL37=0,0,IF(logic!$A$88=0,0,ROUND('Predek KH'!Q37,0))))","v":0},{"$f":"IF(OR(R$29=0,$A41=0),0,IF('Predek KH'!AM37=0,0,IF(logic!$A$88=0,0,ROUND('Predek KH'!R37,0))))","v":0},{"$f":"IF(OR(S$29=0,$A41=0),0,IF('Predek KH'!AN37=0,0,IF(logic!$A$88=0,0,ROUND('Predek KH'!S37,0))))","v":0}]
[{"$f":"IF(AND($M$6=Jazyk!$D$4,$O$6=Jazyk!$D$4),1,IF(AND(B42>=$M$6,B42<=$O$6),1,0))","v":1},1800,null,{"$f":"IF(OR(D$29=0,$A42=0),0,IF('Predek KH'!Y38=0,0,IF(logic!$A$88=0,0,ROUND('Predek KH'!D38,0))))","v":711},{"$f":"IF(OR(E$29=0,$A42=0),0,IF('Predek KH'!Z38=0,0,IF(logic!$A$88=0,0,ROUND('Predek KH'!E38,0))))","v":1148},{"$f":"IF(OR(F$29=0,$A42=0),0,IF('Predek KH'!AA38=0,0,IF(logic!$A$88=0,0,ROUND('Predek KH'!F38,0))))","v":1201},{"$f":"IF(OR(G$29=0,$A42=0),0,IF('Predek KH'!AB38=0,0,IF(logic!$A$88=0,0,ROUND('Predek KH'!G38,0))))","v":1568},{"$f":"IF(OR(H$29=0,$A42=0),0,IF('Predek KH'!AC38=0,0,IF(logic!$A$88=0,0,ROUND('Predek KH'!H38,0))))","v":2173},{"$f":"IF(OR(I$29=0,$A42=0),0,IF('Predek KH'!AD38=0,0,IF(logic!$A$88=0,0,ROUND('Predek KH'!I38,0))))","v":0},{"$f":"IF(OR(J$29=0,$A42=0),0,IF('Predek KH'!AE38=0,0,IF(logic!$A$88=0,0,ROUND('Predek KH'!J38,0))))","v":0},{"$f":"IF(OR(K$29=0,$A42=0),0,IF('Predek KH'!AF38=0,0,IF(logic!$A$88=0,0,ROUND('Predek KH'!K38,0))))","v":0},{"$f":"IF(OR(L$29=0,$A42=0),0,IF('Predek KH'!AG38=0,0,IF(logic!$A$88=0,0,ROUND('Predek KH'!L38,0))))","v":949},{"$f":"IF(OR(M$29=0,$A42=0),0,IF('Predek KH'!AH38=0,0,IF(logic!$A$88=0,0,ROUND('Predek KH'!M38,0))))","v":1526},{"$f":"IF(OR(N$29=0,$A42=0),0,IF('Predek KH'!AI38=0,0,IF(logic!$A$88=0,0,ROUND('Predek KH'!N38,0))))","v":1606},{"$f":"IF(OR(O$29=0,$A42=0),0,IF('Predek KH'!AJ38=0,0,IF(logic!$A$88=0,0,ROUND('Predek KH'!O38,0))))","v":2030},{"$f":"IF(OR(P$29=0,$A42=0),0,IF('Predek KH'!AK38=0,0,IF(logic!$A$88=0,0,ROUND('Predek KH'!P38,0))))","v":2797},{"$f":"IF(OR(Q$29=0,$A42=0),0,IF('Predek KH'!AL38=0,0,IF(logic!$A$88=0,0,ROUND('Predek KH'!Q38,0))))","v":0},{"$f":"IF(OR(R$29=0,$A42=0),0,IF('Predek KH'!AM38=0,0,IF(logic!$A$88=0,0,ROUND('Predek KH'!R38,0))))","v":0},{"$f":"IF(OR(S$29=0,$A42=0),0,IF('Predek KH'!AN38=0,0,IF(logic!$A$88=0,0,ROUND('Predek KH'!S38,0))))","v":0}]
[{"$f":"IF(AND($M$6=Jazyk!$D$4,$O$6=Jazyk!$D$4),1,IF(AND(B43>=$M$6,B43<=$O$6),1,0))","v":1},2000,null,{"$f":"IF(OR(D$29=0,$A43=0),0,IF('Predek KH'!Y39=0,0,IF(logic!$A$88=0,0,ROUND('Predek KH'!D39,0))))","v":790},{"$f":"IF(OR(E$29=0,$A43=0),0,IF('Predek KH'!Z39=0,0,IF(logic!$A$88=0,0,ROUND('Predek KH'!E39,0))))","v":1276},{"$f":"IF(OR(F$29=0,$A43=0),0,IF('Predek KH'!AA39=0,0,IF(logic!$A$88=0,0,ROUND('Predek KH'!F39,0))))","v":1334},{"$f":"IF(OR(G$29=0,$A43=0),0,IF('Predek KH'!AB39=0,0,IF(logic!$A$88=0,0,ROUND('Predek KH'!G39,0))))","v":1742},{"$f":"IF(OR(H$29=0,$A43=0),0,IF('Predek KH'!AC39=0,0,IF(logic!$A$88=0,0,ROUND('Predek KH'!H39,0))))","v":2414},{"$f":"IF(OR(I$29=0,$A43=0),0,IF('Predek KH'!AD39=0,0,IF(logic!$A$88=0,0,ROUND('Predek KH'!I39,0))))","v":0},{"$f":"IF(OR(J$29=0,$A43=0),0,IF('Predek KH'!AE39=0,0,IF(logic!$A$88=0,0,ROUND('Predek KH'!J39,0))))","v":0},{"$f":"IF(OR(K$29=0,$A43=0),0,IF('Predek KH'!AF39=0,0,IF(logic!$A$88=0,0,ROUND('Predek KH'!K39,0))))","v":0},{"$f":"IF(OR(L$29=0,$A43=0),0,IF('Predek KH'!AG39=0,0,IF(logic!$A$88=0,0,ROUND('Predek KH'!L39,0))))","v":1054},{"$f":"IF(OR(M$29=0,$A43=0),0,IF('Predek KH'!AH39=0,0,IF(logic!$A$88=0,0,ROUND('Predek KH'!M39,0))))","v":1696},{"$f":"IF(OR(N$29=0,$A43=0),0,IF('Predek KH'!AI39=0,0,IF(logic!$A$88=0,0,ROUND('Predek KH'!N39,0))))","v":1784},{"$f":"IF(OR(O$29=0,$A43=0),0,IF('Predek KH'!AJ39=0,0,IF(logic!$A$88=0,0,ROUND('Predek KH'!O39,0))))","v":2256},{"$f":"IF(OR(P$29=0,$A43=0),0,IF('Predek KH'!AK39=0,0,IF(logic!$A$88=0,0,ROUND('Predek KH'!P39,0))))","v":3108},{"$f":"IF(OR(Q$29=0,$A43=0),0,IF('Predek KH'!AL39=0,0,IF(logic!$A$88=0,0,ROUND('Predek KH'!Q39,0))))","v":0},{"$f":"IF(OR(R$29=0,$A43=0),0,IF('Predek KH'!AM39=0,0,IF(logic!$A$88=0,0,ROUND('Predek KH'!R39,0))))","v":0},{"$f":"IF(OR(S$29=0,$A43=0),0,IF('Predek KH'!AN39=0,0,IF(logic!$A$88=0,0,ROUND('Predek KH'!S39,0))))","v":0}]
[{"$f":"IF(AND($M$6=Jazyk!$D$4,$O$6=Jazyk!$D$4),1,IF(AND(B44>=$M$6,B44<=$O$6),1,0))","v":1},2300,null,{"$f":"IF(OR(D$29=0,$A44=0),0,IF('Predek KH'!Y40=0,0,IF(logic!$A$88=0,0,ROUND('Predek KH'!D40,0))))","v":909},{"$f":"IF(OR(E$29=0,$A44=0),0,IF('Predek KH'!Z40=0,0,IF(logic!$A$88=0,0,ROUND('Predek KH'!E40,0))))","v":1467},{"$f":"IF(OR(F$29=0,$A44=0),0,IF('Predek KH'!AA40=0,0,IF(logic!$A$88=0,0,ROUND('Predek KH'!F40,0))))","v":1534},{"$f":"IF(OR(G$29=0,$A44=0),0,IF('Predek KH'!AB40=0,0,IF(logic!$A$88=0,0,ROUND('Predek KH'!G40,0))))","v":2003},{"$f":"IF(OR(H$29=0,$A44=0),0,IF('Predek KH'!AC40=0,0,IF(logic!$A$88=0,0,ROUND('Predek KH'!H40,0))))","v":2776},{"$f":"IF(OR(I$29=0,$A44=0),0,IF('Predek KH'!AD40=0,0,IF(logic!$A$88=0,0,ROUND('Predek KH'!I40,0))))","v":0},{"$f":"IF(OR(J$29=0,$A44=0),0,IF('Predek KH'!AE40=0,0,IF(logic!$A$88=0,0,ROUND('Predek KH'!J40,0))))","v":0},{"$f":"IF(OR(K$29=0,$A44=0),0,IF('Predek KH'!AF40=0,0,IF(logic!$A$88=0,0,ROUND('Predek KH'!K40,0))))","v":0},{"$f":"IF(OR(L$29=0,$A44=0),0,IF('Predek KH'!AG40=0,0,IF(logic!$A$88=0,0,ROUND('Predek KH'!L40,0))))","v":1212},{"$f":"IF(OR(M$29=0,$A44=0),0,IF('Predek KH'!AH40=0,0,IF(logic!$A$88=0,0,ROUND('Predek KH'!M40,0))))","v":1950},{"$f":"IF(OR(N$29=0,$A44=0),0,IF('Predek KH'!AI40=0,0,IF(logic!$A$88=0,0,ROUND('Predek KH'!N40,0))))","v":2052},{"$f":"IF(OR(O$29=0,$A44=0),0,IF('Predek KH'!AJ40=0,0,IF(logic!$A$88=0,0,ROUND('Predek KH'!O40,0))))","v":2594},{"$f":"IF(OR(P$29=0,$A44=0),0,IF('Predek KH'!AK40=0,0,IF(logic!$A$88=0,0,ROUND('Predek KH'!P40,0))))","v":3574},{"$f":"IF(OR(Q$29=0,$A44=0),0,IF('Predek KH'!AL40=0,0,IF(logic!$A$88=0,0,ROUND('Predek KH'!Q40,0))))","v":0},{"$f":"IF(OR(R$29=0,$A44=0),0,IF('Predek KH'!AM40=0,0,IF(logic!$A$88=0,0,ROUND('Predek KH'!R40,0))))","v":0},{"$f":"IF(OR(S$29=0,$A44=0),0,IF('Predek KH'!AN40=0,0,IF(logic!$A$88=0,0,ROUND('Predek KH'!S40,0))))","v":0}]
[{"$f":"IF(AND($M$6=Jazyk!$D$4,$O$6=Jazyk!$D$4),1,IF(AND(B45>=$M$6,B45<=$O$6),1,0))","v":1},2600,null,{"$f":"IF(OR(D$29=0,$A45=0),0,IF('Predek KH'!Y41=0,0,IF(logic!$A$88=0,0,ROUND('Predek KH'!D41,0))))","v":1027},{"$f":"IF(OR(E$29=0,$A45=0),0,IF('Predek KH'!Z41=0,0,IF(logic!$A$88=0,0,ROUND('Predek KH'!E41,0))))","v":1659},{"$f":"IF(OR(F$29=0,$A45=0),0,IF('Predek KH'!AA41=0,0,IF(logic!$A$88=0,0,ROUND('Predek KH'!F41,0))))","v":1734},{"$f":"IF(OR(G$29=0,$A45=0),0,IF('Predek KH'!AB41=0,0,IF(logic!$A$88=0,0,ROUND('Predek KH'!G41,0))))","v":2265},{"$f":"IF(OR(H$29=0,$A45=0),0,IF('Predek KH'!AC41=0,0,IF(logic!$A$88=0,0,ROUND('Predek KH'!H41,0))))","v":3138},{"$f":"IF(OR(I$29=0,$A45=0),0,IF('Predek KH'!AD41=0,0,IF(logic!$A$88=0,0,ROUND('Predek KH'!I41,0))))","v":0},{"$f":"IF(OR(J$29=0,$A45=0),0,IF('Predek KH'!AE41=0,0,IF(logic!$A$88=0,0,ROUND('Predek KH'!J41,0))))","v":0},{"$f":"IF(OR(K$29=0,$A45=0),0,IF('Predek KH'!AF41=0,0,IF(logic!$A$88=0,0,ROUND('Predek KH'!K41,0))))","v":0},{"$f":"IF(OR(L$29=0,$A45=0),0,IF('Predek KH'!AG41=0,0,IF(logic!$A$88=0,0,ROUND('Predek KH'!L41,0))))","v":1370},{"$f":"IF(OR(M$29=0,$A45=0),0,IF('Predek KH'!AH41=0,0,IF(logic!$A$88=0,0,ROUND('Predek KH'!M41,0))))","v":2205},{"$f":"IF(OR(N$29=0,$A45=0),0,IF('Predek KH'!AI41=0,0,IF(logic!$A$88=0,0,ROUND('Predek KH'!N41,0))))","v":2319},{"$f":"IF(OR(O$29=0,$A45=0),0,IF('Predek KH'!AJ41=0,0,IF(logic!$A$88=0,0,ROUND('Predek KH'!O41,0))))","v":2933},{"$f":"IF(OR(P$29=0,$A45=0),0,IF('Predek KH'!AK41=0,0,IF(logic!$A$88=0,0,ROUND('Predek KH'!P41,0))))","v":4040},{"$f":"IF(OR(Q$29=0,$A45=0),0,IF('Predek KH'!AL41=0,0,IF(logic!$A$88=0,0,ROUND('Predek KH'!Q41,0))))","v":0},{"$f":"IF(OR(R$29=0,$A45=0),0,IF('Predek KH'!AM41=0,0,IF(logic!$A$88=0,0,ROUND('Predek KH'!R41,0))))","v":0},{"$f":"IF(OR(S$29=0,$A45=0),0,IF('Predek KH'!AN41=0,0,IF(logic!$A$88=0,0,ROUND('Predek KH'!S41,0))))","v":0}]
[{"$f":"IF(AND($M$6=Jazyk!$D$4,$O$6=Jazyk!$D$4),1,IF(AND(B46>=$M$6,B46<=$O$6),1,0))","v":1},3000,null,{"$f":"IF(OR(D$29=0,$A46=0),0,IF('Predek KH'!Y42=0,0,IF(logic!$A$88=0,0,ROUND('Predek KH'!D42,0))))","v":1185},{"$f":"IF(OR(E$29=0,$A46=0),0,IF('Predek KH'!Z42=0,0,IF(logic!$A$88=0,0,ROUND('Predek KH'!E42,0))))","v":1914},{"$f":"IF(OR(F$29=0,$A46=0),0,IF('Predek KH'!AA42=0,0,IF(logic!$A$88=0,0,ROUND('Predek KH'!F42,0))))","v":2001},{"$f":"IF(OR(G$29=0,$A46=0),0,IF('Predek KH'!AB42=0,0,IF(logic!$A$88=0,0,ROUND('Predek KH'!G42,0))))","v":2613},{"$f":"IF(OR(H$29=0,$A46=0),0,IF('Predek KH'!AC42=0,0,IF(logic!$A$88=0,0,ROUND('Predek KH'!H42,0))))","v":3621},{"$f":"IF(OR(I$29=0,$A46=0),0,IF('Predek KH'!AD42=0,0,IF(logic!$A$88=0,0,ROUND('Predek KH'!I42,0))))","v":0},{"$f":"IF(OR(J$29=0,$A46=0),0,IF('Predek KH'!AE42=0,0,IF(logic!$A$88=0,0,ROUND('Predek KH'!J42,0))))","v":0},{"$f":"IF(OR(K$29=0,$A46=0),0,IF('Predek KH'!AF42=0,0,IF(logic!$A$88=0,0,ROUND('Predek KH'!K42,0))))","v":0},{"$f":"IF(OR(L$29=0,$A46=0),0,IF('Predek KH'!AG42=0,0,IF(logic!$A$88=0,0,ROUND('Predek KH'!L42,0))))","v":1581},{"$f":"IF(OR(M$29=0,$A46=0),0,IF('Predek KH'!AH42=0,0,IF(logic!$A$88=0,0,ROUND('Predek KH'!M42,0))))","v":2544},{"$f":"IF(OR(N$29=0,$A46=0),0,IF('Predek KH'!AI42=0,0,IF(logic!$A$88=0,0,ROUND('Predek KH'!N42,0))))","v":2676},{"$f":"IF(OR(O$29=0,$A46=0),0,IF('Predek KH'!AJ42=0,0,IF(logic!$A$88=0,0,ROUND('Predek KH'!O42,0))))","v":3384},{"$f":"IF(OR(P$29=0,$A46=0),0,IF('Predek KH'!AK42=0,0,IF(logic!$A$88=0,0,ROUND('Predek KH'!P42,0))))","v":0},{"$f":"IF(OR(Q$29=0,$A46=0),0,IF('Predek KH'!AL42=0,0,IF(logic!$A$88=0,0,ROUND('Predek KH'!Q42,0))))","v":0},{"$f":"IF(OR(R$29=0,$A46=0),0,IF('Predek KH'!AM42=0,0,IF(logic!$A$88=0,0,ROUND('Predek KH'!R42,0))))","v":0},{"$f":"IF(OR(S$29=0,$A46=0),0,IF('Predek KH'!AN42=0,0,IF(logic!$A$88=0,0,ROUND('Predek KH'!S42,0))))","v":0}]
[]
[null,null,null,{"$f":"IF(AND($M$5=Jazyk!$D$4,$O$5=Jazyk!$D$4),1,IF(AND(D49>=$M$5,D49<=$O$5),1,0))","v":1},{"$f":"IF(AND($M$5=Jazyk!$D$4,$O$5=Jazyk!$D$4),1,IF(AND(E49>=$M$5,E49<=$O$5),1,0))","v":1},{"$f":"IF(AND($M$5=Jazyk!$D$4,$O$5=Jazyk!$D$4),1,IF(AND(F49>=$M$5,F49<=$O$5),1,0))","v":1},{"$f":"IF(AND($M$5=Jazyk!$D$4,$O$5=Jazyk!$D$4),1,IF(AND(G49>=$M$5,G49<=$O$5),1,0))","v":1},{"$f":"IF(AND($M$5=Jazyk!$D$4,$O$5=Jazyk!$D$4),1,IF(AND(H49>=$M$5,H49<=$O$5),1,0))","v":1},{"$f":"IF(AND($M$5=Jazyk!$D$4,$O$5=Jazyk!$D$4),1,IF(AND(I49>=$M$5,I49<=$O$5),1,0))","v":1},{"$f":"IF(AND($M$5=Jazyk!$D$4,$O$5=Jazyk!$D$4),1,IF(AND(J49>=$M$5,J49<=$O$5),1,0))","v":1},{"$f":"IF(AND($M$5=Jazyk!$D$4,$O$5=Jazyk!$D$4),1,IF(AND(K49>=$M$5,K49<=$O$5),1,0))","v":1},{"$f":"IF(AND($M$5=Jazyk!$D$4,$O$5=Jazyk!$D$4),1,IF(AND(L49>=$M$5,L49<=$O$5),1,0))","v":1},{"$f":"IF(AND($M$5=Jazyk!$D$4,$O$5=Jazyk!$D$4),1,IF(AND(M49>=$M$5,M49<=$O$5),1,0))","v":1},{"$f":"IF(AND($M$5=Jazyk!$D$4,$O$5=Jazyk!$D$4),1,IF(AND(N49>=$M$5,N49<=$O$5),1,0))","v":1},{"$f":"IF(AND($M$5=Jazyk!$D$4,$O$5=Jazyk!$D$4),1,IF(AND(O49>=$M$5,O49<=$O$5),1,0))","v":1},{"$f":"IF(AND($M$5=Jazyk!$D$4,$O$5=Jazyk!$D$4),1,IF(AND(P49>=$M$5,P49<=$O$5),1,0))","v":1},{"$f":"IF(AND($M$5=Jazyk!$D$4,$O$5=Jazyk!$D$4),1,IF(AND(Q49>=$M$5,Q49<=$O$5),1,0))","v":1},{"$f":"IF(AND($M$5=Jazyk!$D$4,$O$5=Jazyk!$D$4),1,IF(AND(R49>=$M$5,R49<=$O$5),1,0))","v":1},{"$f":"IF(AND($M$5=Jazyk!$D$4,$O$5=Jazyk!$D$4),1,IF(AND(S49>=$M$5,S49<=$O$5),1,0))","v":1}]
[null,{"$f":"Jazyk!$G$27","v":"Височина [mm]"},null,{"$f":"F49","v":588},{"$f":"F49","v":588},{"$f":"'Qn H'!$G$11","v":588},{"$f":"F49","v":588},{"$f":"F49","v":588},{"$f":"F49","v":588},{"$f":"F49","v":588},{"$f":"F49","v":588},{"$f":"N49","v":662},{"$f":"N49","v":662},{"$f":"'Qn H'!$O$11","v":662},{"$f":"N49","v":662},{"$f":"N49","v":662},{"$f":"N49","v":662},{"$f":"N49","v":662},{"$f":"N49","v":662}]
[null,{"$f":"Jazyk!$H$27","v":"Дължина [mm]"},null,{"$f":"'Qn H'!E12","v":"K10H"},{"$f":"'Qn H'!F12","v":"K11H"},{"$f":"'Qn H'!G12","v":"K20H"},{"$f":"'Qn H'!H12","v":"K21H"},{"$f":"'Qn H'!I12","v":"K22H"},{"$f":"'Qn H'!J12","v":0},{"$f":"'Qn H'!K12","v":0},{"$f":"'Qn H'!L12","v":0},{"$f":"'Qn H'!M12","v":"K10H"},{"$f":"'Qn H'!N12","v":"K11H"},{"$f":"'Qn H'!O12","v":"K20H"},{"$f":"'Qn H'!P12","v":"K21H"},{"$f":"'Qn H'!Q12","v":"K22H"},{"$f":"'Qn H'!R12","v":0},{"$f":"'Qn H'!S12","v":0},{"$f":"'Qn H'!T12","v":0}]
[{"$f":"IF(AND($M$6=Jazyk!$D$4,$O$6=Jazyk!$D$4),1,IF(AND(B51>=$M$6,B51<=$O$6),1,0))","v":1},500,null,{"$f":"IF(OR(D$48=0,$A51=0),0,IF('Predek KH'!Y47=0,0,IF(logic!$A$88=0,0,ROUND('Predek KH'!D47,0))))","v":298},{"$f":"IF(OR(E$48=0,$A51=0),0,IF('Predek KH'!Z47=0,0,IF(logic!$A$88=0,0,ROUND('Predek KH'!E47,0))))","v":475},{"$f":"IF(OR(F$48=0,$A51=0),0,IF('Predek KH'!AA47=0,0,IF(logic!$A$88=0,0,ROUND('Predek KH'!F47,0))))","v":503},{"$f":"IF(OR(G$48=0,$A51=0),0,IF('Predek KH'!AB47=0,0,IF(logic!$A$88=0,0,ROUND('Predek KH'!G47,0))))","v":624},{"$f":"IF(OR(H$48=0,$A51=0),0,IF('Predek KH'!AC47=0,0,IF(logic!$A$88=0,0,ROUND('Predek KH'!H47,0))))","v":854},{"$f":"IF(OR(I$48=0,$A51=0),0,IF('Predek KH'!AD47=0,0,IF(logic!$A$88=0,0,ROUND('Predek KH'!I47,0))))","v":0},{"$f":"IF(OR(J$48=0,$A51=0),0,IF('Predek KH'!AE47=0,0,IF(logic!$A$88=0,0,ROUND('Predek KH'!J47,0))))","v":0},{"$f":"IF(OR(K$48=0,$A51=0),0,IF('Predek KH'!AF47=0,0,IF(logic!$A$88=0,0,ROUND('Predek KH'!K47,0))))","v":0},{"$f":"IF(OR(L$48=0,$A51=0),0,IF('Predek KH'!AG47=0,0,IF(logic!$A$88=0,0,ROUND('Predek KH'!L47,0))))","v":333},{"$f":"IF(OR(M$48=0,$A51=0),0,IF('Predek KH'!AH47=0,0,IF(logic!$A$88=0,0,ROUND('Predek KH'!M47,0))))","v":524},{"$f":"IF(OR(N$48=0,$A51=0),0,IF('Predek KH'!AI47=0,0,IF(logic!$A$88=0,0,ROUND('Predek KH'!N47,0))))","v":560},{"$f":"IF(OR(O$48=0,$A51=0),0,IF('Predek KH'!AJ47=0,0,IF(logic!$A$88=0,0,ROUND('Predek KH'!O47,0))))","v":680},{"$f":"IF(OR(P$48=0,$A51=0),0,IF('Predek KH'!AK47=0,0,IF(logic!$A$88=0,0,ROUND('Predek KH'!P47,0))))","v":927},{"$f":"IF(OR(Q$48=0,$A51=0),0,IF('Predek KH'!AL47=0,0,IF(logic!$A$88=0,0,ROUND('Predek KH'!Q47,0))))","v":0},{"$f":"IF(OR(R$48=0,$A51=0),0,IF('Predek KH'!AM47=0,0,IF(logic!$A$88=0,0,ROUND('Predek KH'!R47,0))))","v":0},{"$f":"IF(OR(S$48=0,$A51=0),0,IF('Predek KH'!AN47=0,0,IF(logic!$A$88=0,0,ROUND('Predek KH'!S47,0))))","v":0}]
[{"$f":"IF(AND($M$6=Jazyk!$D$4,$O$6=Jazyk!$D$4),1,IF(AND(B52>=$M$6,B52<=$O$6),1,0))","v":1},600,null,{"$f":"IF(OR(D$48=0,$A52=0),0,IF('Predek KH'!Y48=0,0,IF(logic!$A$88=0,0,ROUND('Predek KH'!D48,0))))","v":357},{"$f":"IF(OR(E$48=0,$A52=0),0,IF('Predek KH'!Z48=0,0,IF(logic!$A$88=0,0,ROUND('Predek KH'!E48,0))))","v":569},{"$f":"IF(OR(F$48=0,$A52=0),0,IF('Predek KH'!AA48=0,0,IF(logic!$A$88=0,0,ROUND('Predek KH'!F48,0))))","v":604},{"$f":"IF(OR(G$48=0,$A52=0),0,IF('Predek KH'!AB48=0,0,IF(logic!$A$88=0,0,ROUND('Predek KH'!G48,0))))","v":748},{"$f":"IF(OR(H$48=0,$A52=0),0,IF('Predek KH'!AC48=0,0,IF(logic!$A$88=0,0,ROUND('Predek KH'!H48,0))))","v":1025},{"$f":"IF(OR(I$48=0,$A52=0),0,IF('Predek KH'!AD48=0,0,IF(logic!$A$88=0,0,ROUND('Predek KH'!I48,0))))","v":0},{"$f":"IF(OR(J$48=0,$A52=0),0,IF('Predek KH'!AE48=0,0,IF(logic!$A$88=0,0,ROUND('Predek KH'!J48,0))))","v":0},{"$f":"IF(OR(K$48=0,$A52=0),0,IF('Predek KH'!AF48=0,0,IF(logic!$A$88=0,0,ROUND('Predek KH'!K48,0))))","v":0},{"$f":"IF(OR(L$48=0,$A52=0),0,IF('Predek KH'!AG48=0,0,IF(logic!$A$88=0,0,ROUND('Predek KH'!L48,0))))","v":400},{"$f":"IF(OR(M$48=0,$A52=0),0,IF('Predek KH'!AH48=0,0,IF(logic!$A$88=0,0,ROUND('Predek KH'!M48,0))))","v":629},{"$f":"IF(OR(N$48=0,$A52=0),0,IF('Predek KH'!AI48=0,0,IF(logic!$A$88=0,0,ROUND('Predek KH'!N48,0))))","v":672},{"$f":"IF(OR(O$48=0,$A52=0),0,IF('Predek KH'!AJ48=0,0,IF(logic!$A$88=0,0,ROUND('Predek KH'!O48,0))))","v":816},{"$f":"IF(OR(P$48=0,$A52=0),0,IF('Predek KH'!AK48=0,0,IF(logic!$A$88=0,0,ROUND('Predek KH'!P48,0))))","v":1112},{"$f":"IF(OR(Q$48=0,$A52=0),0,IF('Predek KH'!AL48=0,0,IF(logic!$A$88=0,0,ROUND('Predek KH'!Q48,0))))","v":0},{"$f":"IF(OR(R$48=0,$A52=0),0,IF('Predek KH'!AM48=0,0,IF(logic!$A$88=0,0,ROUND('Predek KH'!R48,0))))","v":0},{"$f":"IF(OR(S$48=0,$A52=0),0,IF('Predek KH'!AN48=0,0,IF(logic!$A$88=0,0,ROUND('Predek KH'!S48,0))))","v":0}]
[{"$f":"IF(AND($M$6=Jazyk!$D$4,$O$6=Jazyk!$D$4),1,IF(AND(B53>=$M$6,B53<=$O$6),1,0))","v":1},700,null,{"$f":"IF(OR(D$48=0,$A53=0),0,IF('Predek KH'!Y49=0,0,IF(logic!$A$88=0,0,ROUND('Predek KH'!D49,0))))","v":417},{"$f":"IF(OR(E$48=0,$A53=0),0,IF('Predek KH'!Z49=0,0,IF(logic!$A$88=0,0,ROUND('Predek KH'!E49,0))))","v":664},{"$f":"IF(OR(F$48=0,$A53=0),0,IF('Predek KH'!AA49=0,0,IF(logic!$A$88=0,0,ROUND('Predek KH'!F49,0))))","v":704},{"$f":"IF(OR(G$48=0,$A53=0),0,IF('Predek KH'!AB49=0,0,IF(logic!$A$88=0,0,ROUND('Predek KH'!G49,0))))","v":873},{"$f":"IF(OR(H$48=0,$A53=0),0,IF('Predek KH'!AC49=0,0,IF(logic!$A$88=0,0,ROUND('Predek KH'!H49,0))))","v":1196},{"$f":"IF(OR(I$48=0,$A53=0),0,IF('Predek KH'!AD49=0,0,IF(logic!$A$88=0,0,ROUND('Predek KH'!I49,0))))","v":0},{"$f":"IF(OR(J$48=0,$A53=0),0,IF('Predek KH'!AE49=0,0,IF(logic!$A$88=0,0,ROUND('Predek KH'!J49,0))))","v":0},{"$f":"IF(OR(K$48=0,$A53=0),0,IF('Predek KH'!AF49=0,0,IF(logic!$A$88=0,0,ROUND('Predek KH'!K49,0))))","v":0},{"$f":"IF(OR(L$48=0,$A53=0),0,IF('Predek KH'!AG49=0,0,IF(logic!$A$88=0,0,ROUND('Predek KH'!L49,0))))","v":466},{"$f":"IF(OR(M$48=0,$A53=0),0,IF('Predek KH'!AH49=0,0,IF(logic!$A$88=0,0,ROUND('Predek KH'!M49,0))))","v":734},{"$f":"IF(OR(N$48=0,$A53=0),0,IF('Predek KH'!AI49=0,0,IF(logic!$A$88=0,0,ROUND('Predek KH'!N49,0))))","v":784},{"$f":"IF(OR(O$48=0,$A53=0),0,IF('Predek KH'!AJ49=0,0,IF(logic!$A$88=0,0,ROUND('Predek KH'!O49,0))))","v":952},{"$f":"IF(OR(P$48=0,$A53=0),0,IF('Predek KH'!AK49=0,0,IF(logic!$A$88=0,0,ROUND('Predek KH'!P49,0))))","v":1297},{"$f":"IF(OR(Q$48=0,$A53=0),0,IF('Predek KH'!AL49=0,0,IF(logic!$A$88=0,0,ROUND('Predek KH'!Q49,0))))","v":0},{"$f":"IF(OR(R$48=0,$A53=0),0,IF('Predek KH'!AM49=0,0,IF(logic!$A$88=0,0,ROUND('Predek KH'!R49,0))))","v":0},{"$f":"IF(OR(S$48=0,$A53=0),0,IF('Predek KH'!AN49=0,0,IF(logic!$A$88=0,0,ROUND('Predek KH'!S49,0))))","v":0}]
[{"$f":"IF(AND($M$6=Jazyk!$D$4,$O$6=Jazyk!$D$4),1,IF(AND(B54>=$M$6,B54<=$O$6),1,0))","v":1},800,null,{"$f":"IF(OR(D$48=0,$A54=0),0,IF('Predek KH'!Y50=0,0,IF(logic!$A$88=0,0,ROUND('Predek KH'!D50,0))))","v":476},{"$f":"IF(OR(E$48=0,$A54=0),0,IF('Predek KH'!Z50=0,0,IF(logic!$A$88=0,0,ROUND('Predek KH'!E50,0))))","v":759},{"$f":"IF(OR(F$48=0,$A54=0),0,IF('Predek KH'!AA50=0,0,IF(logic!$A$88=0,0,ROUND('Predek KH'!F50,0))))","v":805},{"$f":"IF(OR(G$48=0,$A54=0),0,IF('Predek KH'!AB50=0,0,IF(logic!$A$88=0,0,ROUND('Predek KH'!G50,0))))","v":998},{"$f":"IF(OR(H$48=0,$A54=0),0,IF('Predek KH'!AC50=0,0,IF(logic!$A$88=0,0,ROUND('Predek KH'!H50,0))))","v":1366},{"$f":"IF(OR(I$48=0,$A54=0),0,IF('Predek KH'!AD50=0,0,IF(logic!$A$88=0,0,ROUND('Predek KH'!I50,0))))","v":0},{"$f":"IF(OR(J$48=0,$A54=0),0,IF('Predek KH'!AE50=0,0,IF(logic!$A$88=0,0,ROUND('Predek KH'!J50,0))))","v":0},{"$f":"IF(OR(K$48=0,$A54=0),0,IF('Predek KH'!AF50=0,0,IF(logic!$A$88=0,0,ROUND('Predek KH'!K50,0))))","v":0},{"$f":"IF(OR(L$48=0,$A54=0),0,IF('Predek KH'!AG50=0,0,IF(logic!$A$88=0,0,ROUND('Predek KH'!L50,0))))","v":533},{"$f":"IF(OR(M$48=0,$A54=0),0,IF('Predek KH'!AH50=0,0,IF(logic!$A$88=0,0,ROUND('Predek KH'!M50,0))))","v":838},{"$f":"IF(OR(N$48=0,$A54=0),0,IF('Predek KH'!AI50=0,0,IF(logic!$A$88=0,0,ROUND('Predek KH'!N50,0))))","v":896},{"$f":"IF(OR(O$48=0,$A54=0),0,IF('Predek KH'!AJ50=0,0,IF(logic!$A$88=0,0,ROUND('Predek KH'!O50,0))))","v":1088},{"$f":"IF(OR(P$48=0,$A54=0),0,IF('Predek KH'!AK50=0,0,IF(logic!$A$88=0,0,ROUND('Predek KH'!P50,0))))","v":1482},{"$f":"IF(OR(Q$48=0,$A54=0),0,IF('Predek KH'!AL50=0,0,IF(logic!$A$88=0,0,ROUND('Predek KH'!Q50,0))))","v":0},{"$f":"IF(OR(R$48=0,$A54=0),0,IF('Predek KH'!AM50=0,0,IF(logic!$A$88=0,0,ROUND('Predek KH'!R50,0))))","v":0},{"$f":"IF(OR(S$48=0,$A54=0),0,IF('Predek KH'!AN50=0,0,IF(logic!$A$88=0,0,ROUND('Predek KH'!S50,0))))","v":0}]
[{"$f":"IF(AND($M$6=Jazyk!$D$4,$O$6=Jazyk!$D$4),1,IF(AND(B55>=$M$6,B55<=$O$6),1,0))","v":1},900,null,{"$f":"IF(OR(D$48=0,$A55=0),0,IF('Predek KH'!Y51=0,0,IF(logic!$A$88=0,0,ROUND('Predek KH'!D51,0))))","v":536},{"$f":"IF(OR(E$48=0,$A55=0),0,IF('Predek KH'!Z51=0,0,IF(logic!$A$88=0,0,ROUND('Predek KH'!E51,0))))","v":854},{"$f":"IF(OR(F$48=0,$A55=0),0,IF('Predek KH'!AA51=0,0,IF(logic!$A$88=0,0,ROUND('Predek KH'!F51,0))))","v":905},{"$f":"IF(OR(G$48=0,$A55=0),0,IF('Predek KH'!AB51=0,0,IF(logic!$A$88=0,0,ROUND('Predek KH'!G51,0))))","v":1122},{"$f":"IF(OR(H$48=0,$A55=0),0,IF('Predek KH'!AC51=0,0,IF(logic!$A$88=0,0,ROUND('Predek KH'!H51,0))))","v":1537},{"$f":"IF(OR(I$48=0,$A55=0),0,IF('Predek KH'!AD51=0,0,IF(logic!$A$88=0,0,ROUND('Predek KH'!I51,0))))","v":0},{"$f":"IF(OR(J$48=0,$A55=0),0,IF('Predek KH'!AE51=0,0,IF(logic!$A$88=0,0,ROUND('Predek KH'!J51,0))))","v":0},{"$f":"IF(OR(K$48=0,$A55=0),0,IF('Predek KH'!AF51=0,0,IF(logic!$A$88=0,0,ROUND('Predek KH'!K51,0))))","v":0},{"$f":"IF(OR(L$48=0,$A55=0),0,IF('Predek KH'!AG51=0,0,IF(logic!$A$88=0,0,ROUND('Predek KH'!L51,0))))","v":599},{"$f":"IF(OR(M$48=0,$A55=0),0,IF('Predek KH'!AH51=0,0,IF(logic!$A$88=0,0,ROUND('Predek KH'!M51,0))))","v":943},{"$f":"IF(OR(N$48=0,$A55=0),0,IF('Predek KH'!AI51=0,0,IF(logic!$A$88=0,0,ROUND('Predek KH'!N51,0))))","v":1008},{"$f":"IF(OR(O$48=0,$A55=0),0,IF('Predek KH'!AJ51=0,0,IF(logic!$A$88=0,0,ROUND('Predek KH'!O51,0))))","v":1224},{"$f":"IF(OR(P$48=0,$A55=0),0,IF('Predek KH'!AK51=0,0,IF(logic!$A$88=0,0,ROUND('Predek KH'!P51,0))))","v":1668},{"$f":"IF(OR(Q$48=0,$A55=0),0,IF('Predek KH'!AL51=0,0,IF(logic!$A$88=0,0,ROUND('Predek KH'!Q51,0))))","v":0},{"$f":"IF(OR(R$48=0,$A55=0),0,IF('Predek KH'!AM51=0,0,IF(logic!$A$88=0,0,ROUND('Predek KH'!R51,0))))","v":0},{"$f":"IF(OR(S$48=0,$A55=0),0,IF('Predek KH'!AN51=0,0,IF(logic!$A$88=0,0,ROUND('Predek KH'!S51,0))))","v":0}]
[{"$f":"IF(AND($M$6=Jazyk!$D$4,$O$6=Jazyk!$D$4),1,IF(AND(B56>=$M$6,B56<=$O$6),1,0))","v":1},1000,null,{"$f":"IF(OR(D$48=0,$A56=0),0,IF('Predek KH'!Y52=0,0,IF(logic!$A$88=0,0,ROUND('Predek KH'!D52,0))))","v":595},{"$f":"IF(OR(E$48=0,$A56=0),0,IF('Predek KH'!Z52=0,0,IF(logic!$A$88=0,0,ROUND('Predek KH'!E52,0))))","v":949},{"$f":"IF(OR(F$48=0,$A56=0),0,IF('Predek KH'!AA52=0,0,IF(logic!$A$88=0,0,ROUND('Predek KH'!F52,0))))","v":1006},{"$f":"IF(OR(G$48=0,$A56=0),0,IF('Predek KH'!AB52=0,0,IF(logic!$A$88=0,0,ROUND('Predek KH'!G52,0))))","v":1247},{"$f":"IF(OR(H$48=0,$A56=0),0,IF('Predek KH'!AC52=0,0,IF(logic!$A$88=0,0,ROUND('Predek KH'!H52,0))))","v":1708},{"$f":"IF(OR(I$48=0,$A56=0),0,IF('Predek KH'!AD52=0,0,IF(logic!$A$88=0,0,ROUND('Predek KH'!I52,0))))","v":0},{"$f":"IF(OR(J$48=0,$A56=0),0,IF('Predek KH'!AE52=0,0,IF(logic!$A$88=0,0,ROUND('Predek KH'!J52,0))))","v":0},{"$f":"IF(OR(K$48=0,$A56=0),0,IF('Predek KH'!AF52=0,0,IF(logic!$A$88=0,0,ROUND('Predek KH'!K52,0))))","v":0},{"$f":"IF(OR(L$48=0,$A56=0),0,IF('Predek KH'!AG52=0,0,IF(logic!$A$88=0,0,ROUND('Predek KH'!L52,0))))","v":666},{"$f":"IF(OR(M$48=0,$A56=0),0,IF('Predek KH'!AH52=0,0,IF(logic!$A$88=0,0,ROUND('Predek KH'!M52,0))))","v":1048},{"$f":"IF(OR(N$48=0,$A56=0),0,IF('Predek KH'!AI52=0,0,IF(logic!$A$88=0,0,ROUND('Predek KH'!N52,0))))","v":1120},{"$f":"IF(OR(O$48=0,$A56=0),0,IF('Predek KH'!AJ52=0,0,IF(logic!$A$88=0,0,ROUND('Predek KH'!O52,0))))","v":1360},{"$f":"IF(OR(P$48=0,$A56=0),0,IF('Predek KH'!AK52=0,0,IF(logic!$A$88=0,0,ROUND('Predek KH'!P52,0))))","v":1853},{"$f":"IF(OR(Q$48=0,$A56=0),0,IF('Predek KH'!AL52=0,0,IF(logic!$A$88=0,0,ROUND('Predek KH'!Q52,0))))","v":0},{"$f":"IF(OR(R$48=0,$A56=0),0,IF('Predek KH'!AM52=0,0,IF(logic!$A$88=0,0,ROUND('Predek KH'!R52,0))))","v":0},{"$f":"IF(OR(S$48=0,$A56=0),0,IF('Predek KH'!AN52=0,0,IF(logic!$A$88=0,0,ROUND('Predek KH'!S52,0))))","v":0}]
[{"$f":"IF(AND($M$6=Jazyk!$D$4,$O$6=Jazyk!$D$4),1,IF(AND(B57>=$M$6,B57<=$O$6),1,0))","v":1},1100,null,{"$f":"IF(OR(D$48=0,$A57=0),0,IF('Predek KH'!Y53=0,0,IF(logic!$A$88=0,0,ROUND('Predek KH'!D53,0))))","v":655},{"$f":"IF(OR(E$48=0,$A57=0),0,IF('Predek KH'!Z53=0,0,IF(logic!$A$88=0,0,ROUND('Predek KH'!E53,0))))","v":1044},{"$f":"IF(OR(F$48=0,$A57=0),0,IF('Predek KH'!AA53=0,0,IF(logic!$A$88=0,0,ROUND('Predek KH'!F53,0))))","v":1107},{"$f":"IF(OR(G$48=0,$A57=0),0,IF('Predek KH'!AB53=0,0,IF(logic!$A$88=0,0,ROUND('Predek KH'!G53,0))))","v":1372},{"$f":"IF(OR(H$48=0,$A57=0),0,IF('Predek KH'!AC53=0,0,IF(logic!$A$88=0,0,ROUND('Predek KH'!H53,0))))","v":1879},{"$f":"IF(OR(I$48=0,$A57=0),0,IF('Predek KH'!AD53=0,0,IF(logic!$A$88=0,0,ROUND('Predek KH'!I53,0))))","v":0},{"$f":"IF(OR(J$48=0,$A57=0),0,IF('Predek KH'!AE53=0,0,IF(logic!$A$88=0,0,ROUND('Predek KH'!J53,0))))","v":0},{"$f":"IF(OR(K$48=0,$A57=0),0,IF('Predek KH'!AF53=0,0,IF(logic!$A$88=0,0,ROUND('Predek KH'!K53,0))))","v":0},{"$f":"IF(OR(L$48=0,$A57=0),0,IF('Predek KH'!AG53=0,0,IF(logic!$A$88=0,0,ROUND('Predek KH'!L53,0))))","v":733},{"$f":"IF(OR(M$48=0,$A57=0),0,IF('Predek KH'!AH53=0,0,IF(logic!$A$88=0,0,ROUND('Predek KH'!M53,0))))","v":1153},{"$f":"IF(OR(N$48=0,$A57=0),0,IF('Predek KH'!AI53=0,0,IF(logic!$A$88=0,0,ROUND('Predek KH'!N53,0))))","v":1232},{"$f":"IF(OR(O$48=0,$A57=0),0,IF('Predek KH'!AJ53=0,0,IF(logic!$A$88=0,0,ROUND('Predek KH'!O53,0))))","v":1496},{"$f":"IF(OR(P$48=0,$A57=0),0,IF('Predek KH'!AK53=0,0,IF(logic!$A$88=0,0,ROUND('Predek KH'!P53,0))))","v":2038},{"$f":"IF(OR(Q$48=0,$A57=0),0,IF('Predek KH'!AL53=0,0,IF(logic!$A$88=0,0,ROUND('Predek KH'!Q53,0))))","v":0},{"$f":"IF(OR(R$48=0,$A57=0),0,IF('Predek KH'!AM53=0,0,IF(logic!$A$88=0,0,ROUND('Predek KH'!R53,0))))","v":0},{"$f":"IF(OR(S$48=0,$A57=0),0,IF('Predek KH'!AN53=0,0,IF(logic!$A$88=0,0,ROUND('Predek KH'!S53,0))))","v":0}]
[{"$f":"IF(AND($M$6=Jazyk!$D$4,$O$6=Jazyk!$D$4),1,IF(AND(B58>=$M$6,B58<=$O$6),1,0))","v":1},1200,null,{"$f":"IF(OR(D$48=0,$A58=0),0,IF('Predek KH'!Y54=0,0,IF(logic!$A$88=0,0,ROUND('Predek KH'!D54,0))))","v":714},{"$f":"IF(OR(E$48=0,$A58=0),0,IF('Predek KH'!Z54=0,0,IF(logic!$A$88=0,0,ROUND('Predek KH'!E54,0))))","v":1139},{"$f":"IF(OR(F$48=0,$A58=0),0,IF('Predek KH'!AA54=0,0,IF(logic!$A$88=0,0,ROUND('Predek KH'!F54,0))))","v":1207},{"$f":"IF(OR(G$48=0,$A58=0),0,IF('Predek KH'!AB54=0,0,IF(logic!$A$88=0,0,ROUND('Predek KH'!G54,0))))","v":1496},{"$f":"IF(OR(H$48=0,$A58=0),0,IF('Predek KH'!AC54=0,0,IF(logic!$A$88=0,0,ROUND('Predek KH'!H54,0))))","v":2050},{"$f":"IF(OR(I$48=0,$A58=0),0,IF('Predek KH'!AD54=0,0,IF(logic!$A$88=0,0,ROUND('Predek KH'!I54,0))))","v":0},{"$f":"IF(OR(J$48=0,$A58=0),0,IF('Predek KH'!AE54=0,0,IF(logic!$A$88=0,0,ROUND('Predek KH'!J54,0))))","v":0},{"$f":"IF(OR(K$48=0,$A58=0),0,IF('Predek KH'!AF54=0,0,IF(logic!$A$88=0,0,ROUND('Predek KH'!K54,0))))","v":0},{"$f":"IF(OR(L$48=0,$A58=0),0,IF('Predek KH'!AG54=0,0,IF(logic!$A$88=0,0,ROUND('Predek KH'!L54,0))))","v":799},{"$f":"IF(OR(M$48=0,$A58=0),0,IF('Predek KH'!AH54=0,0,IF(logic!$A$88=0,0,ROUND('Predek KH'!M54,0))))","v":1258},{"$f":"IF(OR(N$48=0,$A58=0),0,IF('Predek KH'!AI54=0,0,IF(logic!$A$88=0,0,ROUND('Predek KH'!N54,0))))","v":1344},{"$f":"IF(OR(O$48=0,$A58=0),0,IF('Predek KH'!AJ54=0,0,IF(logic!$A$88=0,0,ROUND('Predek KH'!O54,0))))","v":1632},{"$f":"IF(OR(P$48=0,$A58=0),0,IF('Predek KH'!AK54=0,0,IF(logic!$A$88=0,0,ROUND('Predek KH'!P54,0))))","v":2224},{"$f":"IF(OR(Q$48=0,$A58=0),0,IF('Predek KH'!AL54=0,0,IF(logic!$A$88=0,0,ROUND('Predek KH'!Q54,0))))","v":0},{"$f":"IF(OR(R$48=0,$A58=0),0,IF('Predek KH'!AM54=0,0,IF(logic!$A$88=0,0,ROUND('Predek KH'!R54,0))))","v":0},{"$f":"IF(OR(S$48=0,$A58=0),0,IF('Predek KH'!AN54=0,0,IF(logic!$A$88=0,0,ROUND('Predek KH'!S54,0))))","v":0}]
[{"$f":"IF(AND($M$6=Jazyk!$D$4,$O$6=Jazyk!$D$4),1,IF(AND(B59>=$M$6,B59<=$O$6),1,0))","v":1},1400,null,{"$f":"IF(OR(D$48=0,$A59=0),0,IF('Predek KH'!Y55=0,0,IF(logic!$A$88=0,0,ROUND('Predek KH'!D55,0))))","v":833},{"$f":"IF(OR(E$48=0,$A59=0),0,IF('Predek KH'!Z55=0,0,IF(logic!$A$88=0,0,ROUND('Predek KH'!E55,0))))","v":1329},{"$f":"IF(OR(F$48=0,$A59=0),0,IF('Predek KH'!AA55=0,0,IF(logic!$A$88=0,0,ROUND('Predek KH'!F55,0))))","v":1408},{"$f":"IF(OR(G$48=0,$A59=0),0,IF('Predek KH'!AB55=0,0,IF(logic!$A$88=0,0,ROUND('Predek KH'!G55,0))))","v":1746},{"$f":"IF(OR(H$48=0,$A59=0),0,IF('Predek KH'!AC55=0,0,IF(logic!$A$88=0,0,ROUND('Predek KH'!H55,0))))","v":2391},{"$f":"IF(OR(I$48=0,$A59=0),0,IF('Predek KH'!AD55=0,0,IF(logic!$A$88=0,0,ROUND('Predek KH'!I55,0))))","v":0},{"$f":"IF(OR(J$48=0,$A59=0),0,IF('Predek KH'!AE55=0,0,IF(logic!$A$88=0,0,ROUND('Predek KH'!J55,0))))","v":0},{"$f":"IF(OR(K$48=0,$A59=0),0,IF('Predek KH'!AF55=0,0,IF(logic!$A$88=0,0,ROUND('Predek KH'!K55,0))))","v":0},{"$f":"IF(OR(L$48=0,$A59=0),0,IF('Predek KH'!AG55=0,0,IF(logic!$A$88=0,0,ROUND('Predek KH'!L55,0))))","v":932},{"$f":"IF(OR(M$48=0,$A59=0),0,IF('Predek KH'!AH55=0,0,IF(logic!$A$88=0,0,ROUND('Predek KH'!M55,0))))","v":1467},{"$f":"IF(OR(N$48=0,$A59=0),0,IF('Predek KH'!AI55=0,0,IF(logic!$A$88=0,0,ROUND('Predek KH'!N55,0))))","v":1568},{"$f":"IF(OR(O$48=0,$A59=0),0,IF('Predek KH'!AJ55=0,0,IF(logic!$A$88=0,0,ROUND('Predek KH'!O55,0))))","v":1904},{"$f":"IF(OR(P$48=0,$A59=0),0,IF('Predek KH'!AK55=0,0,IF(logic!$A$88=0,0,ROUND('Predek KH'!P55,0))))","v":2594},{"$f":"IF(OR(Q$48=0,$A59=0),0,IF('Predek KH'!AL55=0,0,IF(logic!$A$88=0,0,ROUND('Predek KH'!Q55,0))))","v":0},{"$f":"IF(OR(R$48=0,$A59=0),0,IF('Predek KH'!AM55=0,0,IF(logic!$A$88=0,0,ROUND('Predek KH'!R55,0))))","v":0},{"$f":"IF(OR(S$48=0,$A59=0),0,IF('Predek KH'!AN55=0,0,IF(logic!$A$88=0,0,ROUND('Predek KH'!S55,0))))","v":0}]
[{"$f":"IF(AND($M$6=Jazyk!$D$4,$O$6=Jazyk!$D$4),1,IF(AND(B60>=$M$6,B60<=$O$6),1,0))","v":1},1600,null,{"$f":"IF(OR(D$48=0,$A60=0),0,IF('Predek KH'!Y56=0,0,IF(logic!$A$88=0,0,ROUND('Predek KH'!D56,0))))","v":952},{"$f":"IF(OR(E$48=0,$A60=0),0,IF('Predek KH'!Z56=0,0,IF(logic!$A$88=0,0,ROUND('Predek KH'!E56,0))))","v":1518},{"$f":"IF(OR(F$48=0,$A60=0),0,IF('Predek KH'!AA56=0,0,IF(logic!$A$88=0,0,ROUND('Predek KH'!F56,0))))","v":1610},{"$f":"IF(OR(G$48=0,$A60=0),0,IF('Predek KH'!AB56=0,0,IF(logic!$A$88=0,0,ROUND('Predek KH'!G56,0))))","v":1995},{"$f":"IF(OR(H$48=0,$A60=0),0,IF('Predek KH'!AC56=0,0,IF(logic!$A$88=0,0,ROUND('Predek KH'!H56,0))))","v":2733},{"$f":"IF(OR(I$48=0,$A60=0),0,IF('Predek KH'!AD56=0,0,IF(logic!$A$88=0,0,ROUND('Predek KH'!I56,0))))","v":0},{"$f":"IF(OR(J$48=0,$A60=0),0,IF('Predek KH'!AE56=0,0,IF(logic!$A$88=0,0,ROUND('Predek KH'!J56,0))))","v":0},{"$f":"IF(OR(K$48=0,$A60=0),0,IF('Predek KH'!AF56=0,0,IF(logic!$A$88=0,0,ROUND('Predek KH'!K56,0))))","v":0},{"$f":"IF(OR(L$48=0,$A60=0),0,IF('Predek KH'!AG56=0,0,IF(logic!$A$88=0,0,ROUND('Predek KH'!L56,0))))","v":1066},{"$f":"IF(OR(M$48=0,$A60=0),0,IF('Predek KH'!AH56=0,0,IF(logic!$A$88=0,0,ROUND('Predek KH'!M56,0))))","v":1677},{"$f":"IF(OR(N$48=0,$A60=0),0,IF('Predek KH'!AI56=0,0,IF(logic!$A$88=0,0,ROUND('Predek KH'!N56,0))))","v":1792},{"$f":"IF(OR(O$48=0,$A60=0),0,IF('Predek KH'!AJ56=0,0,IF(logic!$A$88=0,0,ROUND('Predek KH'!O56,0))))","v":2176},{"$f":"IF(OR(P$48=0,$A60=0),0,IF('Predek KH'!AK56=0,0,IF(logic!$A$88=0,0,ROUND('Predek KH'!P56,0))))","v":2965},{"$f":"IF(OR(Q$48=0,$A60=0),0,IF('Predek KH'!AL56=0,0,IF(logic!$A$88=0,0,ROUND('Predek KH'!Q56,0))))","v":0},{"$f":"IF(OR(R$48=0,$A60=0),0,IF('Predek KH'!AM56=0,0,IF(logic!$A$88=0,0,ROUND('Predek KH'!R56,0))))","v":0},{"$f":"IF(OR(S$48=0,$A60=0),0,IF('Predek KH'!AN56=0,0,IF(logic!$A$88=0,0,ROUND('Predek KH'!S56,0))))","v":0}]
[{"$f":"IF(AND($M$6=Jazyk!$D$4,$O$6=Jazyk!$D$4),1,IF(AND(B61>=$M$6,B61<=$O$6),1,0))","v":1},1800,null,{"$f":"IF(OR(D$48=0,$A61=0),0,IF('Predek KH'!Y57=0,0,IF(logic!$A$88=0,0,ROUND('Predek KH'!D57,0))))","v":1071},{"$f":"IF(OR(E$48=0,$A61=0),0,IF('Predek KH'!Z57=0,0,IF(logic!$A$88=0,0,ROUND('Predek KH'!E57,0))))","v":1708},{"$f":"IF(OR(F$48=0,$A61=0),0,IF('Predek KH'!AA57=0,0,IF(logic!$A$88=0,0,ROUND('Predek KH'!F57,0))))","v":1811},{"$f":"IF(OR(G$48=0,$A61=0),0,IF('Predek KH'!AB57=0,0,IF(logic!$A$88=0,0,ROUND('Predek KH'!G57,0))))","v":2245},{"$f":"IF(OR(H$48=0,$A61=0),0,IF('Predek KH'!AC57=0,0,IF(logic!$A$88=0,0,ROUND('Predek KH'!H57,0))))","v":3074},{"$f":"IF(OR(I$48=0,$A61=0),0,IF('Predek KH'!AD57=0,0,IF(logic!$A$88=0,0,ROUND('Predek KH'!I57,0))))","v":0},{"$f":"IF(OR(J$48=0,$A61=0),0,IF('Predek KH'!AE57=0,0,IF(logic!$A$88=0,0,ROUND('Predek KH'!J57,0))))","v":0},{"$f":"IF(OR(K$48=0,$A61=0),0,IF('Predek KH'!AF57=0,0,IF(logic!$A$88=0,0,ROUND('Predek KH'!K57,0))))","v":0},{"$f":"IF(OR(L$48=0,$A61=0),0,IF('Predek KH'!AG57=0,0,IF(logic!$A$88=0,0,ROUND('Predek KH'!L57,0))))","v":1199},{"$f":"IF(OR(M$48=0,$A61=0),0,IF('Predek KH'!AH57=0,0,IF(logic!$A$88=0,0,ROUND('Predek KH'!M57,0))))","v":1886},{"$f":"IF(OR(N$48=0,$A61=0),0,IF('Predek KH'!AI57=0,0,IF(logic!$A$88=0,0,ROUND('Predek KH'!N57,0))))","v":2016},{"$f":"IF(OR(O$48=0,$A61=0),0,IF('Predek KH'!AJ57=0,0,IF(logic!$A$88=0,0,ROUND('Predek KH'!O57,0))))","v":2448},{"$f":"IF(OR(P$48=0,$A61=0),0,IF('Predek KH'!AK57=0,0,IF(logic!$A$88=0,0,ROUND('Predek KH'!P57,0))))","v":3335},{"$f":"IF(OR(Q$48=0,$A61=0),0,IF('Predek KH'!AL57=0,0,IF(logic!$A$88=0,0,ROUND('Predek KH'!Q57,0))))","v":0},{"$f":"IF(OR(R$48=0,$A61=0),0,IF('Predek KH'!AM57=0,0,IF(logic!$A$88=0,0,ROUND('Predek KH'!R57,0))))","v":0},{"$f":"IF(OR(S$48=0,$A61=0),0,IF('Predek KH'!AN57=0,0,IF(logic!$A$88=0,0,ROUND('Predek KH'!S57,0))))","v":0}]
[{"$f":"IF(AND($M$6=Jazyk!$D$4,$O$6=Jazyk!$D$4),1,IF(AND(B62>=$M$6,B62<=$O$6),1,0))","v":1},2000,null,{"$f":"IF(OR(D$48=0,$A62=0),0,IF('Predek KH'!Y58=0,0,IF(logic!$A$88=0,0,ROUND('Predek KH'!D58,0))))","v":1190},{"$f":"IF(OR(E$48=0,$A62=0),0,IF('Predek KH'!Z58=0,0,IF(logic!$A$88=0,0,ROUND('Predek KH'!E58,0))))","v":1898},{"$f":"IF(OR(F$48=0,$A62=0),0,IF('Predek KH'!AA58=0,0,IF(logic!$A$88=0,0,ROUND('Predek KH'!F58,0))))","v":2012},{"$f":"IF(OR(G$48=0,$A62=0),0,IF('Predek KH'!AB58=0,0,IF(logic!$A$88=0,0,ROUND('Predek KH'!G58,0))))","v":2494},{"$f":"IF(OR(H$48=0,$A62=0),0,IF('Predek KH'!AC58=0,0,IF(logic!$A$88=0,0,ROUND('Predek KH'!H58,0))))","v":3416},{"$f":"IF(OR(I$48=0,$A62=0),0,IF('Predek KH'!AD58=0,0,IF(logic!$A$88=0,0,ROUND('Predek KH'!I58,0))))","v":0},{"$f":"IF(OR(J$48=0,$A62=0),0,IF('Predek KH'!AE58=0,0,IF(logic!$A$88=0,0,ROUND('Predek KH'!J58,0))))","v":0},{"$f":"IF(OR(K$48=0,$A62=0),0,IF('Predek KH'!AF58=0,0,IF(logic!$A$88=0,0,ROUND('Predek KH'!K58,0))))","v":0},{"$f":"IF(OR(L$48=0,$A62=0),0,IF('Predek KH'!AG58=0,0,IF(logic!$A$88=0,0,ROUND('Predek KH'!L58,0))))","v":1332},{"$f":"IF(OR(M$48=0,$A62=0),0,IF('Predek KH'!AH58=0,0,IF(logic!$A$88=0,0,ROUND('Predek KH'!M58,0))))","v":2096},{"$f":"IF(OR(N$48=0,$A62=0),0,IF('Predek KH'!AI58=0,0,IF(logic!$A$88=0,0,ROUND('Predek KH'!N58,0))))","v":2240},{"$f":"IF(OR(O$48=0,$A62=0),0,IF('Predek KH'!AJ58=0,0,IF(logic!$A$88=0,0,ROUND('Predek KH'!O58,0))))","v":2720},{"$f":"IF(OR(P$48=0,$A62=0),0,IF('Predek KH'!AK58=0,0,IF(logic!$A$88=0,0,ROUND('Predek KH'!P58,0))))","v":3706},{"$f":"IF(OR(Q$48=0,$A62=0),0,IF('Predek KH'!AL58=0,0,IF(logic!$A$88=0,0,ROUND('Predek KH'!Q58,0))))","v":0},{"$f":"IF(OR(R$48=0,$A62=0),0,IF('Predek KH'!AM58=0,0,IF(logic!$A$88=0,0,ROUND('Predek KH'!R58,0))))","v":0},{"$f":"IF(OR(S$48=0,$A62=0),0,IF('Predek KH'!AN58=0,0,IF(logic!$A$88=0,0,ROUND('Predek KH'!S58,0))))","v":0}]
[{"$f":"IF(AND($M$6=Jazyk!$D$4,$O$6=Jazyk!$D$4),1,IF(AND(B63>=$M$6,B63<=$O$6),1,0))","v":1},2300,null,{"$f":"IF(OR(D$48=0,$A63=0),0,IF('Predek KH'!Y59=0,0,IF(logic!$A$88=0,0,ROUND('Predek KH'!D59,0))))","v":1369},{"$f":"IF(OR(E$48=0,$A63=0),0,IF('Predek KH'!Z59=0,0,IF(logic!$A$88=0,0,ROUND('Predek KH'!E59,0))))","v":2183},{"$f":"IF(OR(F$48=0,$A63=0),0,IF('Predek KH'!AA59=0,0,IF(logic!$A$88=0,0,ROUND('Predek KH'!F59,0))))","v":2314},{"$f":"IF(OR(G$48=0,$A63=0),0,IF('Predek KH'!AB59=0,0,IF(logic!$A$88=0,0,ROUND('Predek KH'!G59,0))))","v":2868},{"$f":"IF(OR(H$48=0,$A63=0),0,IF('Predek KH'!AC59=0,0,IF(logic!$A$88=0,0,ROUND('Predek KH'!H59,0))))","v":3928},{"$f":"IF(OR(I$48=0,$A63=0),0,IF('Predek KH'!AD59=0,0,IF(logic!$A$88=0,0,ROUND('Predek KH'!I59,0))))","v":0},{"$f":"IF(OR(J$48=0,$A63=0),0,IF('Predek KH'!AE59=0,0,IF(logic!$A$88=0,0,ROUND('Predek KH'!J59,0))))","v":0},{"$f":"IF(OR(K$48=0,$A63=0),0,IF('Predek KH'!AF59=0,0,IF(logic!$A$88=0,0,ROUND('Predek KH'!K59,0))))","v":0},{"$f":"IF(OR(L$48=0,$A63=0),0,IF('Predek KH'!AG59=0,0,IF(logic!$A$88=0,0,ROUND('Predek KH'!L59,0))))","v":1532},{"$f":"IF(OR(M$48=0,$A63=0),0,IF('Predek KH'!AH59=0,0,IF(logic!$A$88=0,0,ROUND('Predek KH'!M59,0))))","v":2410},{"$f":"IF(OR(N$48=0,$A63=0),0,IF('Predek KH'!AI59=0,0,IF(logic!$A$88=0,0,ROUND('Predek KH'!N59,0))))","v":2576},{"$f":"IF(OR(O$48=0,$A63=0),0,IF('Predek KH'!AJ59=0,0,IF(logic!$A$88=0,0,ROUND('Predek KH'!O59,0))))","v":3128},{"$f":"IF(OR(P$48=0,$A63=0),0,IF('Predek KH'!AK59=0,0,IF(logic!$A$88=0,0,ROUND('Predek KH'!P59,0))))","v":0},{"$f":"IF(OR(Q$48=0,$A63=0),0,IF('Predek KH'!AL59=0,0,IF(logic!$A$88=0,0,ROUND('Predek KH'!Q59,0))))","v":0},{"$f":"IF(OR(R$48=0,$A63=0),0,IF('Predek KH'!AM59=0,0,IF(logic!$A$88=0,0,ROUND('Predek KH'!R59,0))))","v":0},{"$f":"IF(OR(S$48=0,$A63=0),0,IF('Predek KH'!AN59=0,0,IF(logic!$A$88=0,0,ROUND('Predek KH'!S59,0))))","v":0}]
[{"$f":"IF(AND($M$6=Jazyk!$D$4,$O$6=Jazyk!$D$4),1,IF(AND(B64>=$M$6,B64<=$O$6),1,0))","v":1},2600,null,{"$f":"IF(OR(D$48=0,$A64=0),0,IF('Predek KH'!Y60=0,0,IF(logic!$A$88=0,0,ROUND('Predek KH'!D60,0))))","v":1547},{"$f":"IF(OR(E$48=0,$A64=0),0,IF('Predek KH'!Z60=0,0,IF(logic!$A$88=0,0,ROUND('Predek KH'!E60,0))))","v":2467},{"$f":"IF(OR(F$48=0,$A64=0),0,IF('Predek KH'!AA60=0,0,IF(logic!$A$88=0,0,ROUND('Predek KH'!F60,0))))","v":2616},{"$f":"IF(OR(G$48=0,$A64=0),0,IF('Predek KH'!AB60=0,0,IF(logic!$A$88=0,0,ROUND('Predek KH'!G60,0))))","v":3242},{"$f":"IF(OR(H$48=0,$A64=0),0,IF('Predek KH'!AC60=0,0,IF(logic!$A$88=0,0,ROUND('Predek KH'!H60,0))))","v":0},{"$f":"IF(OR(I$48=0,$A64=0),0,IF('Predek KH'!AD60=0,0,IF(logic!$A$88=0,0,ROUND('Predek KH'!I60,0))))","v":0},{"$f":"IF(OR(J$48=0,$A64=0),0,IF('Predek KH'!AE60=0,0,IF(logic!$A$88=0,0,ROUND('Predek KH'!J60,0))))","v":0},{"$f":"IF(OR(K$48=0,$A64=0),0,IF('Predek KH'!AF60=0,0,IF(logic!$A$88=0,0,ROUND('Predek KH'!K60,0))))","v":0},{"$f":"IF(OR(L$48=0,$A64=0),0,IF('Predek KH'!AG60=0,0,IF(logic!$A$88=0,0,ROUND('Predek KH'!L60,0))))","v":1732},{"$f":"IF(OR(M$48=0,$A64=0),0,IF('Predek KH'!AH60=0,0,IF(logic!$A$88=0,0,ROUND('Predek KH'!M60,0))))","v":2725},{"$f":"IF(OR(N$48=0,$A64=0),0,IF('Predek KH'!AI60=0,0,IF(logic!$A$88=0,0,ROUND('Predek KH'!N60,0))))","v":2912},{"$f":"IF(OR(O$48=0,$A64=0),0,IF('Predek KH'!AJ60=0,0,IF(logic!$A$88=0,0,ROUND('Predek KH'!O60,0))))","v":0},{"$f":"IF(OR(P$48=0,$A64=0),0,IF('Predek KH'!AK60=0,0,IF(logic!$A$88=0,0,ROUND('Predek KH'!P60,0))))","v":0},{"$f":"IF(OR(Q$48=0,$A64=0),0,IF('Predek KH'!AL60=0,0,IF(logic!$A$88=0,0,ROUND('Predek KH'!Q60,0))))","v":0},{"$f":"IF(OR(R$48=0,$A64=0),0,IF('Predek KH'!AM60=0,0,IF(logic!$A$88=0,0,ROUND('Predek KH'!R60,0))))","v":0},{"$f":"IF(OR(S$48=0,$A64=0),0,IF('Predek KH'!AN60=0,0,IF(logic!$A$88=0,0,ROUND('Predek KH'!S60,0))))","v":0}]
[{"$f":"IF(AND($M$6=Jazyk!$D$4,$O$6=Jazyk!$D$4),1,IF(AND(B65>=$M$6,B65<=$O$6),1,0))","v":1},3000,null,{"$f":"IF(OR(D$48=0,$A65=0),0,IF('Predek KH'!Y61=0,0,IF(logic!$A$88=0,0,ROUND('Predek KH'!D61,0))))","v":1785},{"$f":"IF(OR(E$48=0,$A65=0),0,IF('Predek KH'!Z61=0,0,IF(logic!$A$88=0,0,ROUND('Predek KH'!E61,0))))","v":2847},{"$f":"IF(OR(F$48=0,$A65=0),0,IF('Predek KH'!AA61=0,0,IF(logic!$A$88=0,0,ROUND('Predek KH'!F61,0))))","v":3018},{"$f":"IF(OR(G$48=0,$A65=0),0,IF('Predek KH'!AB61=0,0,IF(logic!$A$88=0,0,ROUND('Predek KH'!G61,0))))","v":0},{"$f":"IF(OR(H$48=0,$A65=0),0,IF('Predek KH'!AC61=0,0,IF(logic!$A$88=0,0,ROUND('Predek KH'!H61,0))))","v":0},{"$f":"IF(OR(I$48=0,$A65=0),0,IF('Predek KH'!AD61=0,0,IF(logic!$A$88=0,0,ROUND('Predek KH'!I61,0))))","v":0},{"$f":"IF(OR(J$48=0,$A65=0),0,IF('Predek KH'!AE61=0,0,IF(logic!$A$88=0,0,ROUND('Predek KH'!J61,0))))","v":0},{"$f":"IF(OR(K$48=0,$A65=0),0,IF('Predek KH'!AF61=0,0,IF(logic!$A$88=0,0,ROUND('Predek KH'!K61,0))))","v":0},{"$f":"IF(OR(L$48=0,$A65=0),0,IF('Predek KH'!AG61=0,0,IF(logic!$A$88=0,0,ROUND('Predek KH'!L61,0))))","v":1998},{"$f":"IF(OR(M$48=0,$A65=0),0,IF('Predek KH'!AH61=0,0,IF(logic!$A$88=0,0,ROUND('Predek KH'!M61,0))))","v":3144},{"$f":"IF(OR(N$48=0,$A65=0),0,IF('Predek KH'!AI61=0,0,IF(logic!$A$88=0,0,ROUND('Predek KH'!N61,0))))","v":0},{"$f":"IF(OR(O$48=0,$A65=0),0,IF('Predek KH'!AJ61=0,0,IF(logic!$A$88=0,0,ROUND('Predek KH'!O61,0))))","v":0},{"$f":"IF(OR(P$48=0,$A65=0),0,IF('Predek KH'!AK61=0,0,IF(logic!$A$88=0,0,ROUND('Predek KH'!P61,0))))","v":0},{"$f":"IF(OR(Q$48=0,$A65=0),0,IF('Predek KH'!AL61=0,0,IF(logic!$A$88=0,0,ROUND('Predek KH'!Q61,0))))","v":0},{"$f":"IF(OR(R$48=0,$A65=0),0,IF('Predek KH'!AM61=0,0,IF(logic!$A$88=0,0,ROUND('Predek KH'!R61,0))))","v":0},{"$f":"IF(OR(S$48=0,$A65=0),0,IF('Predek KH'!AN61=0,0,IF(logic!$A$88=0,0,ROUND('Predek KH'!S61,0))))","v":0}]
[]
[null,null,null,{"$f":"IF(AND($M$5=Jazyk!$D$4,$O$5=Jazyk!$D$4),1,IF(AND(D68>=$M$5,D68<=$O$5),1,0))","v":1},{"$f":"IF(AND($M$5=Jazyk!$D$4,$O$5=Jazyk!$D$4),1,IF(AND(E68>=$M$5,E68<=$O$5),1,0))","v":1},{"$f":"IF(AND($M$5=Jazyk!$D$4,$O$5=Jazyk!$D$4),1,IF(AND(F68>=$M$5,F68<=$O$5),1,0))","v":1},{"$f":"IF(AND($M$5=Jazyk!$D$4,$O$5=Jazyk!$D$4),1,IF(AND(G68>=$M$5,G68<=$O$5),1,0))","v":1},{"$f":"IF(AND($M$5=Jazyk!$D$4,$O$5=Jazyk!$D$4),1,IF(AND(H68>=$M$5,H68<=$O$5),1,0))","v":1},{"$f":"IF(AND($M$5=Jazyk!$D$4,$O$5=Jazyk!$D$4),1,IF(AND(I68>=$M$5,I68<=$O$5),1,0))","v":1},{"$f":"IF(AND($M$5=Jazyk!$D$4,$O$5=Jazyk!$D$4),1,IF(AND(J68>=$M$5,J68<=$O$5),1,0))","v":1},{"$f":"IF(AND($M$5=Jazyk!$D$4,$O$5=Jazyk!$D$4),1,IF(AND(K68>=$M$5,K68<=$O$5),1,0))","v":1},{"$f":"IF(AND($M$5=Jazyk!$D$4,$O$5=Jazyk!$D$4),1,IF(AND(L68>=$M$5,L68<=$O$5),1,0))","v":1},{"$f":"IF(AND($M$5=Jazyk!$D$4,$O$5=Jazyk!$D$4),1,IF(AND(M68>=$M$5,M68<=$O$5),1,0))","v":1},{"$f":"IF(AND($M$5=Jazyk!$D$4,$O$5=Jazyk!$D$4),1,IF(AND(N68>=$M$5,N68<=$O$5),1,0))","v":1},{"$f":"IF(AND($M$5=Jazyk!$D$4,$O$5=Jazyk!$D$4),1,IF(AND(O68>=$M$5,O68<=$O$5),1,0))","v":1},{"$f":"IF(AND($M$5=Jazyk!$D$4,$O$5=Jazyk!$D$4),1,IF(AND(P68>=$M$5,P68<=$O$5),1,0))","v":1},{"$f":"IF(AND($M$5=Jazyk!$D$4,$O$5=Jazyk!$D$4),1,IF(AND(Q68>=$M$5,Q68<=$O$5),1,0))","v":1},{"$f":"IF(AND($M$5=Jazyk!$D$4,$O$5=Jazyk!$D$4),1,IF(AND(R68>=$M$5,R68<=$O$5),1,0))","v":1},{"$f":"IF(AND($M$5=Jazyk!$D$4,$O$5=Jazyk!$D$4),1,IF(AND(S68>=$M$5,S68<=$O$5),1,0))","v":1}]
[null,{"$f":"Jazyk!$G$27","v":"Височина [mm]"},null,{"$f":"F68","v":884},{"$f":"F68","v":884},{"$f":"'Qn H'!$G$15","v":884},{"$f":"F68","v":884},{"$f":"F68","v":884},{"$f":"F68","v":884},{"$f":"F68","v":884},{"$f":"F68","v":884},{"$f":"N68","v":958},{"$f":"N68","v":958},{"$f":"'Qn H'!$O$15","v":958},{"$f":"N68","v":958},{"$f":"N68","v":958},{"$f":"N68","v":958},{"$f":"N68","v":958},{"$f":"N68","v":958}]
[null,{"$f":"Jazyk!$H$27","v":"Дължина [mm]"},null,{"$f":"'Qn H'!E16","v":"K10H"},{"$f":"'Qn H'!F16","v":"K11H"},{"$f":"'Qn H'!G16","v":"K20H"},{"$f":"'Qn H'!H16","v":"K21H"},{"$f":"'Qn H'!I16","v":"K22H"},{"$f":"'Qn H'!J16","v":0},{"$f":"'Qn H'!K16","v":0},{"$f":"'Qn H'!L16","v":0},{"$f":"'Qn H'!M16","v":"K10H"},{"$f":"'Qn H'!N16","v":"K11H"},{"$f":"'Qn H'!O16","v":"K20H"},{"$f":"'Qn H'!P16","v":"K21H"},{"$f":"'Qn H'!Q16","v":"K22H"},{"$f":"'Qn H'!R16","v":0},{"$f":"'Qn H'!S16","v":0},{"$f":"'Qn H'!T16","v":0}]
[{"$f":"IF(AND($M$6=Jazyk!$D$4,$O$6=Jazyk!$D$4),1,IF(AND(B70>=$M$6,B70<=$O$6),1,0))","v":1},500,null,{"$f":"IF(OR(D$67=0,$A70=0),0,IF('Predek KH'!Y66=0,0,IF(logic!$A$88=0,0,ROUND('Predek KH'!D66,0))))","v":449},{"$f":"IF(OR(E$67=0,$A70=0),0,IF('Predek KH'!Z66=0,0,IF(logic!$A$88=0,0,ROUND('Predek KH'!E66,0))))","v":666},{"$f":"IF(OR(F$67=0,$A70=0),0,IF('Predek KH'!AA66=0,0,IF(logic!$A$88=0,0,ROUND('Predek KH'!F66,0))))","v":738},{"$f":"IF(OR(G$67=0,$A70=0),0,IF('Predek KH'!AB66=0,0,IF(logic!$A$88=0,0,ROUND('Predek KH'!G66,0))))","v":837},{"$f":"IF(OR(H$67=0,$A70=0),0,IF('Predek KH'!AC66=0,0,IF(logic!$A$88=0,0,ROUND('Predek KH'!H66,0))))","v":1119},{"$f":"IF(OR(I$67=0,$A70=0),0,IF('Predek KH'!AD66=0,0,IF(logic!$A$88=0,0,ROUND('Predek KH'!I66,0))))","v":0},{"$f":"IF(OR(J$67=0,$A70=0),0,IF('Predek KH'!AE66=0,0,IF(logic!$A$88=0,0,ROUND('Predek KH'!J66,0))))","v":0},{"$f":"IF(OR(K$67=0,$A70=0),0,IF('Predek KH'!AF66=0,0,IF(logic!$A$88=0,0,ROUND('Predek KH'!K66,0))))","v":0},{"$f":"IF(OR(L$67=0,$A70=0),0,IF('Predek KH'!AG66=0,0,IF(logic!$A$88=0,0,ROUND('Predek KH'!L66,0))))","v":491},{"$f":"IF(OR(M$67=0,$A70=0),0,IF('Predek KH'!AH66=0,0,IF(logic!$A$88=0,0,ROUND('Predek KH'!M66,0))))","v":712},{"$f":"IF(OR(N$67=0,$A70=0),0,IF('Predek KH'!AI66=0,0,IF(logic!$A$88=0,0,ROUND('Predek KH'!N66,0))))","v":800},{"$f":"IF(OR(O$67=0,$A70=0),0,IF('Predek KH'!AJ66=0,0,IF(logic!$A$88=0,0,ROUND('Predek KH'!O66,0))))","v":886},{"$f":"IF(OR(P$67=0,$A70=0),0,IF('Predek KH'!AK66=0,0,IF(logic!$A$88=0,0,ROUND('Predek KH'!P66,0))))","v":1176},{"$f":"IF(OR(Q$67=0,$A70=0),0,IF('Predek KH'!AL66=0,0,IF(logic!$A$88=0,0,ROUND('Predek KH'!Q66,0))))","v":0},{"$f":"IF(OR(R$67=0,$A70=0),0,IF('Predek KH'!AM66=0,0,IF(logic!$A$88=0,0,ROUND('Predek KH'!R66,0))))","v":0},{"$f":"IF(OR(S$67=0,$A70=0),0,IF('Predek KH'!AN66=0,0,IF(logic!$A$88=0,0,ROUND('Predek KH'!S66,0))))","v":0}]
[{"$f":"IF(AND($M$6=Jazyk!$D$4,$O$6=Jazyk!$D$4),1,IF(AND(B71>=$M$6,B71<=$O$6),1,0))","v":1},600,null,{"$f":"IF(OR(D$67=0,$A71=0),0,IF('Predek KH'!Y67=0,0,IF(logic!$A$88=0,0,ROUND('Predek KH'!D67,0))))","v":539},{"$f":"IF(OR(E$67=0,$A71=0),0,IF('Predek KH'!Z67=0,0,IF(logic!$A$88=0,0,ROUND('Predek KH'!E67,0))))","v":799},{"$f":"IF(OR(F$67=0,$A71=0),0,IF('Predek KH'!AA67=0,0,IF(logic!$A$88=0,0,ROUND('Predek KH'!F67,0))))","v":886},{"$f":"IF(OR(G$67=0,$A71=0),0,IF('Predek KH'!AB67=0,0,IF(logic!$A$88=0,0,ROUND('Predek KH'!G67,0))))","v":1004},{"$f":"IF(OR(H$67=0,$A71=0),0,IF('Predek KH'!AC67=0,0,IF(logic!$A$88=0,0,ROUND('Predek KH'!H67,0))))","v":1343},{"$f":"IF(OR(I$67=0,$A71=0),0,IF('Predek KH'!AD67=0,0,IF(logic!$A$88=0,0,ROUND('Predek KH'!I67,0))))","v":0},{"$f":"IF(OR(J$67=0,$A71=0),0,IF('Predek KH'!AE67=0,0,IF(logic!$A$88=0,0,ROUND('Predek KH'!J67,0))))","v":0},{"$f":"IF(OR(K$67=0,$A71=0),0,IF('Predek KH'!AF67=0,0,IF(logic!$A$88=0,0,ROUND('Predek KH'!K67,0))))","v":0},{"$f":"IF(OR(L$67=0,$A71=0),0,IF('Predek KH'!AG67=0,0,IF(logic!$A$88=0,0,ROUND('Predek KH'!L67,0))))","v":589},{"$f":"IF(OR(M$67=0,$A71=0),0,IF('Predek KH'!AH67=0,0,IF(logic!$A$88=0,0,ROUND('Predek KH'!M67,0))))","v":854},{"$f":"IF(OR(N$67=0,$A71=0),0,IF('Predek KH'!AI67=0,0,IF(logic!$A$88=0,0,ROUND('Predek KH'!N67,0))))","v":959},{"$f":"IF(OR(O$67=0,$A71=0),0,IF('Predek KH'!AJ67=0,0,IF(logic!$A$88=0,0,ROUND('Predek KH'!O67,0))))","v":1063},{"$f":"IF(OR(P$67=0,$A71=0),0,IF('Predek KH'!AK67=0,0,IF(logic!$A$88=0,0,ROUND('Predek KH'!P67,0))))","v":1411},{"$f":"IF(OR(Q$67=0,$A71=0),0,IF('Predek KH'!AL67=0,0,IF(logic!$A$88=0,0,ROUND('Predek KH'!Q67,0))))","v":0},{"$f":"IF(OR(R$67=0,$A71=0),0,IF('Predek KH'!AM67=0,0,IF(logic!$A$88=0,0,ROUND('Predek KH'!R67,0))))","v":0},{"$f":"IF(OR(S$67=0,$A71=0),0,IF('Predek KH'!AN67=0,0,IF(logic!$A$88=0,0,ROUND('Predek KH'!S67,0))))","v":0}]
[{"$f":"IF(AND($M$6=Jazyk!$D$4,$O$6=Jazyk!$D$4),1,IF(AND(B72>=$M$6,B72<=$O$6),1,0))","v":1},700,null,{"$f":"IF(OR(D$67=0,$A72=0),0,IF('Predek KH'!Y68=0,0,IF(logic!$A$88=0,0,ROUND('Predek KH'!D68,0))))","v":629},{"$f":"IF(OR(E$67=0,$A72=0),0,IF('Predek KH'!Z68=0,0,IF(logic!$A$88=0,0,ROUND('Predek KH'!E68,0))))","v":932},{"$f":"IF(OR(F$67=0,$A72=0),0,IF('Predek KH'!AA68=0,0,IF(logic!$A$88=0,0,ROUND('Predek KH'!F68,0))))","v":1033},{"$f":"IF(OR(G$67=0,$A72=0),0,IF('Predek KH'!AB68=0,0,IF(logic!$A$88=0,0,ROUND('Predek KH'!G68,0))))","v":1172},{"$f":"IF(OR(H$67=0,$A72=0),0,IF('Predek KH'!AC68=0,0,IF(logic!$A$88=0,0,ROUND('Predek KH'!H68,0))))","v":1567},{"$f":"IF(OR(I$67=0,$A72=0),0,IF('Predek KH'!AD68=0,0,IF(logic!$A$88=0,0,ROUND('Predek KH'!I68,0))))","v":0},{"$f":"IF(OR(J$67=0,$A72=0),0,IF('Predek KH'!AE68=0,0,IF(logic!$A$88=0,0,ROUND('Predek KH'!J68,0))))","v":0},{"$f":"IF(OR(K$67=0,$A72=0),0,IF('Predek KH'!AF68=0,0,IF(logic!$A$88=0,0,ROUND('Predek KH'!K68,0))))","v":0},{"$f":"IF(OR(L$67=0,$A72=0),0,IF('Predek KH'!AG68=0,0,IF(logic!$A$88=0,0,ROUND('Predek KH'!L68,0))))","v":687},{"$f":"IF(OR(M$67=0,$A72=0),0,IF('Predek KH'!AH68=0,0,IF(logic!$A$88=0,0,ROUND('Predek KH'!M68,0))))","v":996},{"$f":"IF(OR(N$67=0,$A72=0),0,IF('Predek KH'!AI68=0,0,IF(logic!$A$88=0,0,ROUND('Predek KH'!N68,0))))","v":1119},{"$f":"IF(OR(O$67=0,$A72=0),0,IF('Predek KH'!AJ68=0,0,IF(logic!$A$88=0,0,ROUND('Predek KH'!O68,0))))","v":1240},{"$f":"IF(OR(P$67=0,$A72=0),0,IF('Predek KH'!AK68=0,0,IF(logic!$A$88=0,0,ROUND('Predek KH'!P68,0))))","v":1646},{"$f":"IF(OR(Q$67=0,$A72=0),0,IF('Predek KH'!AL68=0,0,IF(logic!$A$88=0,0,ROUND('Predek KH'!Q68,0))))","v":0},{"$f":"IF(OR(R$67=0,$A72=0),0,IF('Predek KH'!AM68=0,0,IF(logic!$A$88=0,0,ROUND('Predek KH'!R68,0))))","v":0},{"$f":"IF(OR(S$67=0,$A72=0),0,IF('Predek KH'!AN68=0,0,IF(logic!$A$88=0,0,ROUND('Predek KH'!S68,0))))","v":0}]
[{"$f":"IF(AND($M$6=Jazyk!$D$4,$O$6=Jazyk!$D$4),1,IF(AND(B73>=$M$6,B73<=$O$6),1,0))","v":1},800,null,{"$f":"IF(OR(D$67=0,$A73=0),0,IF('Predek KH'!Y69=0,0,IF(logic!$A$88=0,0,ROUND('Predek KH'!D69,0))))","v":718},{"$f":"IF(OR(E$67=0,$A73=0),0,IF('Predek KH'!Z69=0,0,IF(logic!$A$88=0,0,ROUND('Predek KH'!E69,0))))","v":1066},{"$f":"IF(OR(F$67=0,$A73=0),0,IF('Predek KH'!AA69=0,0,IF(logic!$A$88=0,0,ROUND('Predek KH'!F69,0))))","v":1181},{"$f":"IF(OR(G$67=0,$A73=0),0,IF('Predek KH'!AB69=0,0,IF(logic!$A$88=0,0,ROUND('Predek KH'!G69,0))))","v":1339},{"$f":"IF(OR(H$67=0,$A73=0),0,IF('Predek KH'!AC69=0,0,IF(logic!$A$88=0,0,ROUND('Predek KH'!H69,0))))","v":1790},{"$f":"IF(OR(I$67=0,$A73=0),0,IF('Predek KH'!AD69=0,0,IF(logic!$A$88=0,0,ROUND('Predek KH'!I69,0))))","v":0},{"$f":"IF(OR(J$67=0,$A73=0),0,IF('Predek KH'!AE69=0,0,IF(logic!$A$88=0,0,ROUND('Predek KH'!J69,0))))","v":0},{"$f":"IF(OR(K$67=0,$A73=0),0,IF('Predek KH'!AF69=0,0,IF(logic!$A$88=0,0,ROUND('Predek KH'!K69,0))))","v":0},{"$f":"IF(OR(L$67=0,$A73=0),0,IF('Predek KH'!AG69=0,0,IF(logic!$A$88=0,0,ROUND('Predek KH'!L69,0))))","v":786},{"$f":"IF(OR(M$67=0,$A73=0),0,IF('Predek KH'!AH69=0,0,IF(logic!$A$88=0,0,ROUND('Predek KH'!M69,0))))","v":1138},{"$f":"IF(OR(N$67=0,$A73=0),0,IF('Predek KH'!AI69=0,0,IF(logic!$A$88=0,0,ROUND('Predek KH'!N69,0))))","v":1279},{"$f":"IF(OR(O$67=0,$A73=0),0,IF('Predek KH'!AJ69=0,0,IF(logic!$A$88=0,0,ROUND('Predek KH'!O69,0))))","v":1417},{"$f":"IF(OR(P$67=0,$A73=0),0,IF('Predek KH'!AK69=0,0,IF(logic!$A$88=0,0,ROUND('Predek KH'!P69,0))))","v":1881},{"$f":"IF(OR(Q$67=0,$A73=0),0,IF('Predek KH'!AL69=0,0,IF(logic!$A$88=0,0,ROUND('Predek KH'!Q69,0))))","v":0},{"$f":"IF(OR(R$67=0,$A73=0),0,IF('Predek KH'!AM69=0,0,IF(logic!$A$88=0,0,ROUND('Predek KH'!R69,0))))","v":0},{"$f":"IF(OR(S$67=0,$A73=0),0,IF('Predek KH'!AN69=0,0,IF(logic!$A$88=0,0,ROUND('Predek KH'!S69,0))))","v":0}]
[{"$f":"IF(AND($M$6=Jazyk!$D$4,$O$6=Jazyk!$D$4),1,IF(AND(B74>=$M$6,B74<=$O$6),1,0))","v":1},900,null,{"$f":"IF(OR(D$67=0,$A74=0),0,IF('Predek KH'!Y70=0,0,IF(logic!$A$88=0,0,ROUND('Predek KH'!D70,0))))","v":808},{"$f":"IF(OR(E$67=0,$A74=0),0,IF('Predek KH'!Z70=0,0,IF(logic!$A$88=0,0,ROUND('Predek KH'!E70,0))))","v":1199},{"$f":"IF(OR(F$67=0,$A74=0),0,IF('Predek KH'!AA70=0,0,IF(logic!$A$88=0,0,ROUND('Predek KH'!F70,0))))","v":1328},{"$f":"IF(OR(G$67=0,$A74=0),0,IF('Predek KH'!AB70=0,0,IF(logic!$A$88=0,0,ROUND('Predek KH'!G70,0))))","v":1507},{"$f":"IF(OR(H$67=0,$A74=0),0,IF('Predek KH'!AC70=0,0,IF(logic!$A$88=0,0,ROUND('Predek KH'!H70,0))))","v":2014},{"$f":"IF(OR(I$67=0,$A74=0),0,IF('Predek KH'!AD70=0,0,IF(logic!$A$88=0,0,ROUND('Predek KH'!I70,0))))","v":0},{"$f":"IF(OR(J$67=0,$A74=0),0,IF('Predek KH'!AE70=0,0,IF(logic!$A$88=0,0,ROUND('Predek KH'!J70,0))))","v":0},{"$f":"IF(OR(K$67=0,$A74=0),0,IF('Predek KH'!AF70=0,0,IF(logic!$A$88=0,0,ROUND('Predek KH'!K70,0))))","v":0},{"$f":"IF(OR(L$67=0,$A74=0),0,IF('Predek KH'!AG70=0,0,IF(logic!$A$88=0,0,ROUND('Predek KH'!L70,0))))","v":884},{"$f":"IF(OR(M$67=0,$A74=0),0,IF('Predek KH'!AH70=0,0,IF(logic!$A$88=0,0,ROUND('Predek KH'!M70,0))))","v":1281},{"$f":"IF(OR(N$67=0,$A74=0),0,IF('Predek KH'!AI70=0,0,IF(logic!$A$88=0,0,ROUND('Predek KH'!N70,0))))","v":1439},{"$f":"IF(OR(O$67=0,$A74=0),0,IF('Predek KH'!AJ70=0,0,IF(logic!$A$88=0,0,ROUND('Predek KH'!O70,0))))","v":1594},{"$f":"IF(OR(P$67=0,$A74=0),0,IF('Predek KH'!AK70=0,0,IF(logic!$A$88=0,0,ROUND('Predek KH'!P70,0))))","v":2116},{"$f":"IF(OR(Q$67=0,$A74=0),0,IF('Predek KH'!AL70=0,0,IF(logic!$A$88=0,0,ROUND('Predek KH'!Q70,0))))","v":0},{"$f":"IF(OR(R$67=0,$A74=0),0,IF('Predek KH'!AM70=0,0,IF(logic!$A$88=0,0,ROUND('Predek KH'!R70,0))))","v":0},{"$f":"IF(OR(S$67=0,$A74=0),0,IF('Predek KH'!AN70=0,0,IF(logic!$A$88=0,0,ROUND('Predek KH'!S70,0))))","v":0}]
[{"$f":"IF(AND($M$6=Jazyk!$D$4,$O$6=Jazyk!$D$4),1,IF(AND(B75>=$M$6,B75<=$O$6),1,0))","v":1},1000,null,{"$f":"IF(OR(D$67=0,$A75=0),0,IF('Predek KH'!Y71=0,0,IF(logic!$A$88=0,0,ROUND('Predek KH'!D71,0))))","v":898},{"$f":"IF(OR(E$67=0,$A75=0),0,IF('Predek KH'!Z71=0,0,IF(logic!$A$88=0,0,ROUND('Predek KH'!E71,0))))","v":1332},{"$f":"IF(OR(F$67=0,$A75=0),0,IF('Predek KH'!AA71=0,0,IF(logic!$A$88=0,0,ROUND('Predek KH'!F71,0))))","v":1476},{"$f":"IF(OR(G$67=0,$A75=0),0,IF('Predek KH'!AB71=0,0,IF(logic!$A$88=0,0,ROUND('Predek KH'!G71,0))))","v":1674},{"$f":"IF(OR(H$67=0,$A75=0),0,IF('Predek KH'!AC71=0,0,IF(logic!$A$88=0,0,ROUND('Predek KH'!H71,0))))","v":2238},{"$f":"IF(OR(I$67=0,$A75=0),0,IF('Predek KH'!AD71=0,0,IF(logic!$A$88=0,0,ROUND('Predek KH'!I71,0))))","v":0},{"$f":"IF(OR(J$67=0,$A75=0),0,IF('Predek KH'!AE71=0,0,IF(logic!$A$88=0,0,ROUND('Predek KH'!J71,0))))","v":0},{"$f":"IF(OR(K$67=0,$A75=0),0,IF('Predek KH'!AF71=0,0,IF(logic!$A$88=0,0,ROUND('Predek KH'!K71,0))))","v":0},{"$f":"IF(OR(L$67=0,$A75=0),0,IF('Predek KH'!AG71=0,0,IF(logic!$A$88=0,0,ROUND('Predek KH'!L71,0))))","v":982},{"$f":"IF(OR(M$67=0,$A75=0),0,IF('Predek KH'!AH71=0,0,IF(logic!$A$88=0,0,ROUND('Predek KH'!M71,0))))","v":1423},{"$f":"IF(OR(N$67=0,$A75=0),0,IF('Predek KH'!AI71=0,0,IF(logic!$A$88=0,0,ROUND('Predek KH'!N71,0))))","v":1599},{"$f":"IF(OR(O$67=0,$A75=0),0,IF('Predek KH'!AJ71=0,0,IF(logic!$A$88=0,0,ROUND('Predek KH'!O71,0))))","v":1771},{"$f":"IF(OR(P$67=0,$A75=0),0,IF('Predek KH'!AK71=0,0,IF(logic!$A$88=0,0,ROUND('Predek KH'!P71,0))))","v":2351},{"$f":"IF(OR(Q$67=0,$A75=0),0,IF('Predek KH'!AL71=0,0,IF(logic!$A$88=0,0,ROUND('Predek KH'!Q71,0))))","v":0},{"$f":"IF(OR(R$67=0,$A75=0),0,IF('Predek KH'!AM71=0,0,IF(logic!$A$88=0,0,ROUND('Predek KH'!R71,0))))","v":0},{"$f":"IF(OR(S$67=0,$A75=0),0,IF('Predek KH'!AN71=0,0,IF(logic!$A$88=0,0,ROUND('Predek KH'!S71,0))))","v":0}]
[{"$f":"IF(AND($M$6=Jazyk!$D$4,$O$6=Jazyk!$D$4),1,IF(AND(B76>=$M$6,B76<=$O$6),1,0))","v":1},1100,null,{"$f":"IF(OR(D$67=0,$A76=0),0,IF('Predek KH'!Y72=0,0,IF(logic!$A$88=0,0,ROUND('Predek KH'!D72,0))))","v":988},{"$f":"IF(OR(E$67=0,$A76=0),0,IF('Predek KH'!Z72=0,0,IF(logic!$A$88=0,0,ROUND('Predek KH'!E72,0))))","v":1465},{"$f":"IF(OR(F$67=0,$A76=0),0,IF('Predek KH'!AA72=0,0,IF(logic!$A$88=0,0,ROUND('Predek KH'!F72,0))))","v":1624},{"$f":"IF(OR(G$67=0,$A76=0),0,IF('Predek KH'!AB72=0,0,IF(logic!$A$88=0,0,ROUND('Predek KH'!G72,0))))","v":1841},{"$f":"IF(OR(H$67=0,$A76=0),0,IF('Predek KH'!AC72=0,0,IF(logic!$A$88=0,0,ROUND('Predek KH'!H72,0))))","v":2462},{"$f":"IF(OR(I$67=0,$A76=0),0,IF('Predek KH'!AD72=0,0,IF(logic!$A$88=0,0,ROUND('Predek KH'!I72,0))))","v":0},{"$f":"IF(OR(J$67=0,$A76=0),0,IF('Predek KH'!AE72=0,0,IF(logic!$A$88=0,0,ROUND('Predek KH'!J72,0))))","v":0},{"$f":"IF(OR(K$67=0,$A76=0),0,IF('Predek KH'!AF72=0,0,IF(logic!$A$88=0,0,ROUND('Predek KH'!K72,0))))","v":0},{"$f":"IF(OR(L$67=0,$A76=0),0,IF('Predek KH'!AG72=0,0,IF(logic!$A$88=0,0,ROUND('Predek KH'!L72,0))))","v":1080},{"$f":"IF(OR(M$67=0,$A76=0),0,IF('Predek KH'!AH72=0,0,IF(logic!$A$88=0,0,ROUND('Predek KH'!M72,0))))","v":1565},{"$f":"IF(OR(N$67=0,$A76=0),0,IF('Predek KH'!AI72=0,0,IF(logic!$A$88=0,0,ROUND('Predek KH'!N72,0))))","v":1759},{"$f":"IF(OR(O$67=0,$A76=0),0,IF('Predek KH'!AJ72=0,0,IF(logic!$A$88=0,0,ROUND('Predek KH'!O72,0))))","v":1948},{"$f":"IF(OR(P$67=0,$A76=0),0,IF('Predek KH'!AK72=0,0,IF(logic!$A$88=0,0,ROUND('Predek KH'!P72,0))))","v":2586},{"$f":"IF(OR(Q$67=0,$A76=0),0,IF('Predek KH'!AL72=0,0,IF(logic!$A$88=0,0,ROUND('Predek KH'!Q72,0))))","v":0},{"$f":"IF(OR(R$67=0,$A76=0),0,IF('Predek KH'!AM72=0,0,IF(logic!$A$88=0,0,ROUND('Predek KH'!R72,0))))","v":0},{"$f":"IF(OR(S$67=0,$A76=0),0,IF('Predek KH'!AN72=0,0,IF(logic!$A$88=0,0,ROUND('Predek KH'!S72,0))))","v":0}]
[{"$f":"IF(AND($M$6=Jazyk!$D$4,$O$6=Jazyk!$D$4),1,IF(AND(B77>=$M$6,B77<=$O$6),1,0))","v":1},1200,null,{"$f":"IF(OR(D$67=0,$A77=0),0,IF('Predek KH'!Y73=0,0,IF(logic!$A$88=0,0,ROUND('Predek KH'!D73,0))))","v":1078},{"$f":"IF(OR(E$67=0,$A77=0),0,IF('Predek KH'!Z73=0,0,IF(logic!$A$88=0,0,ROUND('Predek KH'!E73,0))))","v":1598},{"$f":"IF(OR(F$67=0,$A77=0),0,IF('Predek KH'!AA73=0,0,IF(logic!$A$88=0,0,ROUND('Predek KH'!F73,0))))","v":1771},{"$f":"IF(OR(G$67=0,$A77=0),0,IF('Predek KH'!AB73=0,0,IF(logic!$A$88=0,0,ROUND('Predek KH'!G73,0))))","v":2009},{"$f":"IF(OR(H$67=0,$A77=0),0,IF('Predek KH'!AC73=0,0,IF(logic!$A$88=0,0,ROUND('Predek KH'!H73,0))))","v":2686},{"$f":"IF(OR(I$67=0,$A77=0),0,IF('Predek KH'!AD73=0,0,IF(logic!$A$88=0,0,ROUND('Predek KH'!I73,0))))","v":0},{"$f":"IF(OR(J$67=0,$A77=0),0,IF('Predek KH'!AE73=0,0,IF(logic!$A$88=0,0,ROUND('Predek KH'!J73,0))))","v":0},{"$f":"IF(OR(K$67=0,$A77=0),0,IF('Predek KH'!AF73=0,0,IF(logic!$A$88=0,0,ROUND('Predek KH'!K73,0))))","v":0},{"$f":"IF(OR(L$67=0,$A77=0),0,IF('Predek KH'!AG73=0,0,IF(logic!$A$88=0,0,ROUND('Predek KH'!L73,0))))","v":1178},{"$f":"IF(OR(M$67=0,$A77=0),0,IF('Predek KH'!AH73=0,0,IF(logic!$A$88=0,0,ROUND('Predek KH'!M73,0))))","v":1708},{"$f":"IF(OR(N$67=0,$A77=0),0,IF('Predek KH'!AI73=0,0,IF(logic!$A$88=0,0,ROUND('Predek KH'!N73,0))))","v":1919},{"$f":"IF(OR(O$67=0,$A77=0),0,IF('Predek KH'!AJ73=0,0,IF(logic!$A$88=0,0,ROUND('Predek KH'!O73,0))))","v":2125},{"$f":"IF(OR(P$67=0,$A77=0),0,IF('Predek KH'!AK73=0,0,IF(logic!$A$88=0,0,ROUND('Predek KH'!P73,0))))","v":2821},{"$f":"IF(OR(Q$67=0,$A77=0),0,IF('Predek KH'!AL73=0,0,IF(logic!$A$88=0,0,ROUND('Predek KH'!Q73,0))))","v":0},{"$f":"IF(OR(R$67=0,$A77=0),0,IF('Predek KH'!AM73=0,0,IF(logic!$A$88=0,0,ROUND('Predek KH'!R73,0))))","v":0},{"$f":"IF(OR(S$67=0,$A77=0),0,IF('Predek KH'!AN73=0,0,IF(logic!$A$88=0,0,ROUND('Predek KH'!S73,0))))","v":0}]
[{"$f":"IF(AND($M$6=Jazyk!$D$4,$O$6=Jazyk!$D$4),1,IF(AND(B78>=$M$6,B78<=$O$6),1,0))","v":1},1400,null,{"$f":"IF(OR(D$67=0,$A78=0),0,IF('Predek KH'!Y74=0,0,IF(logic!$A$88=0,0,ROUND('Predek KH'!D74,0))))","v":1257},{"$f":"IF(OR(E$67=0,$A78=0),0,IF('Predek KH'!Z74=0,0,IF(logic!$A$88=0,0,ROUND('Predek KH'!E74,0))))","v":1865},{"$f":"IF(OR(F$67=0,$A78=0),0,IF('Predek KH'!AA74=0,0,IF(logic!$A$88=0,0,ROUND('Predek KH'!F74,0))))","v":2066},{"$f":"IF(OR(G$67=0,$A78=0),0,IF('Predek KH'!AB74=0,0,IF(logic!$A$88=0,0,ROUND('Predek KH'!G74,0))))","v":2344},{"$f":"IF(OR(H$67=0,$A78=0),0,IF('Predek KH'!AC74=0,0,IF(logic!$A$88=0,0,ROUND('Predek KH'!H74,0))))","v":3133},{"$f":"IF(OR(I$67=0,$A78=0),0,IF('Predek KH'!AD74=0,0,IF(logic!$A$88=0,0,ROUND('Predek KH'!I74,0))))","v":0},{"$f":"IF(OR(J$67=0,$A78=0),0,IF('Predek KH'!AE74=0,0,IF(logic!$A$88=0,0,ROUND('Predek KH'!J74,0))))","v":0},{"$f":"IF(OR(K$67=0,$A78=0),0,IF('Predek KH'!AF74=0,0,IF(logic!$A$88=0,0,ROUND('Predek KH'!K74,0))))","v":0},{"$f":"IF(OR(L$67=0,$A78=0),0,IF('Predek KH'!AG74=0,0,IF(logic!$A$88=0,0,ROUND('Predek KH'!L74,0))))","v":1375},{"$f":"IF(OR(M$67=0,$A78=0),0,IF('Predek KH'!AH74=0,0,IF(logic!$A$88=0,0,ROUND('Predek KH'!M74,0))))","v":1992},{"$f":"IF(OR(N$67=0,$A78=0),0,IF('Predek KH'!AI74=0,0,IF(logic!$A$88=0,0,ROUND('Predek KH'!N74,0))))","v":2239},{"$f":"IF(OR(O$67=0,$A78=0),0,IF('Predek KH'!AJ74=0,0,IF(logic!$A$88=0,0,ROUND('Predek KH'!O74,0))))","v":2479},{"$f":"IF(OR(P$67=0,$A78=0),0,IF('Predek KH'!AK74=0,0,IF(logic!$A$88=0,0,ROUND('Predek KH'!P74,0))))","v":3291},{"$f":"IF(OR(Q$67=0,$A78=0),0,IF('Predek KH'!AL74=0,0,IF(logic!$A$88=0,0,ROUND('Predek KH'!Q74,0))))","v":0},{"$f":"IF(OR(R$67=0,$A78=0),0,IF('Predek KH'!AM74=0,0,IF(logic!$A$88=0,0,ROUND('Predek KH'!R74,0))))","v":0},{"$f":"IF(OR(S$67=0,$A78=0),0,IF('Predek KH'!AN74=0,0,IF(logic!$A$88=0,0,ROUND('Predek KH'!S74,0))))","v":0}]
[{"$f":"IF(AND($M$6=Jazyk!$D$4,$O$6=Jazyk!$D$4),1,IF(AND(B79>=$M$6,B79<=$O$6),1,0))","v":1},1600,null,{"$f":"IF(OR(D$67=0,$A79=0),0,IF('Predek KH'!Y75=0,0,IF(logic!$A$88=0,0,ROUND('Predek KH'!D75,0))))","v":1437},{"$f":"IF(OR(E$67=0,$A79=0),0,IF('Predek KH'!Z75=0,0,IF(logic!$A$88=0,0,ROUND('Predek KH'!E75,0))))","v":2131},{"$f":"IF(OR(F$67=0,$A79=0),0,IF('Predek KH'!AA75=0,0,IF(logic!$A$88=0,0,ROUND('Predek KH'!F75,0))))","v":2362},{"$f":"IF(OR(G$67=0,$A79=0),0,IF('Predek KH'!AB75=0,0,IF(logic!$A$88=0,0,ROUND('Predek KH'!G75,0))))","v":2678},{"$f":"IF(OR(H$67=0,$A79=0),0,IF('Predek KH'!AC75=0,0,IF(logic!$A$88=0,0,ROUND('Predek KH'!H75,0))))","v":0},{"$f":"IF(OR(I$67=0,$A79=0),0,IF('Predek KH'!AD75=0,0,IF(logic!$A$88=0,0,ROUND('Predek KH'!I75,0))))","v":0},{"$f":"IF(OR(J$67=0,$A79=0),0,IF('Predek KH'!AE75=0,0,IF(logic!$A$88=0,0,ROUND('Predek KH'!J75,0))))","v":0},{"$f":"IF(OR(K$67=0,$A79=0),0,IF('Predek KH'!AF75=0,0,IF(logic!$A$88=0,0,ROUND('Predek KH'!K75,0))))","v":0},{"$f":"IF(OR(L$67=0,$A79=0),0,IF('Predek KH'!AG75=0,0,IF(logic!$A$88=0,0,ROUND('Predek KH'!L75,0))))","v":1571},{"$f":"IF(OR(M$67=0,$A79=0),0,IF('Predek KH'!AH75=0,0,IF(logic!$A$88=0,0,ROUND('Predek KH'!M75,0))))","v":2277},{"$f":"IF(OR(N$67=0,$A79=0),0,IF('Predek KH'!AI75=0,0,IF(logic!$A$88=0,0,ROUND('Predek KH'!N75,0))))","v":2558},{"$f":"IF(OR(O$67=0,$A79=0),0,IF('Predek KH'!AJ75=0,0,IF(logic!$A$88=0,0,ROUND('Predek KH'!O75,0))))","v":2834},{"$f":"IF(OR(P$67=0,$A79=0),0,IF('Predek KH'!AK75=0,0,IF(logic!$A$88=0,0,ROUND('Predek KH'!P75,0))))","v":0},{"$f":"IF(OR(Q$67=0,$A79=0),0,IF('Predek KH'!AL75=0,0,IF(logic!$A$88=0,0,ROUND('Predek KH'!Q75,0))))","v":0},{"$f":"IF(OR(R$67=0,$A79=0),0,IF('Predek KH'!AM75=0,0,IF(logic!$A$88=0,0,ROUND('Predek KH'!R75,0))))","v":0},{"$f":"IF(OR(S$67=0,$A79=0),0,IF('Predek KH'!AN75=0,0,IF(logic!$A$88=0,0,ROUND('Predek KH'!S75,0))))","v":0}]
[{"$f":"IF(AND($M$6=Jazyk!$D$4,$O$6=Jazyk!$D$4),1,IF(AND(B80>=$M$6,B80<=$O$6),1,0))","v":1},1800,null,{"$f":"IF(OR(D$67=0,$A80=0),0,IF('Predek KH'!Y76=0,0,IF(logic!$A$88=0,0,ROUND('Predek KH'!D76,0))))","v":1616},{"$f":"IF(OR(E$67=0,$A80=0),0,IF('Predek KH'!Z76=0,0,IF(logic!$A$88=0,0,ROUND('Predek KH'!E76,0))))","v":2398},{"$f":"IF(OR(F$67=0,$A80=0),0,IF('Predek KH'!AA76=0,0,IF(logic!$A$88=0,0,ROUND('Predek KH'!F76,0))))","v":2657},{"$f":"IF(OR(G$67=0,$A80=0),0,IF('Predek KH'!AB76=0,0,IF(logic!$A$88=0,0,ROUND('Predek KH'!G76,0))))","v":3013},{"$f":"IF(OR(H$67=0,$A80=0),0,IF('Predek KH'!AC76=0,0,IF(logic!$A$88=0,0,ROUND('Predek KH'!H76,0))))","v":0},{"$f":"IF(OR(I$67=0,$A80=0),0,IF('Predek KH'!AD76=0,0,IF(logic!$A$88=0,0,ROUND('Predek KH'!I76,0))))","v":0},{"$f":"IF(OR(J$67=0,$A80=0),0,IF('Predek KH'!AE76=0,0,IF(logic!$A$88=0,0,ROUND('Predek KH'!J76,0))))","v":0},{"$f":"IF(OR(K$67=0,$A80=0),0,IF('Predek KH'!AF76=0,0,IF(logic!$A$88=0,0,ROUND('Predek KH'!K76,0))))","v":0},{"$f":"IF(OR(L$67=0,$A80=0),0,IF('Predek KH'!AG76=0,0,IF(logic!$A$88=0,0,ROUND('Predek KH'!L76,0))))","v":1768},{"$f":"IF(OR(M$67=0,$A80=0),0,IF('Predek KH'!AH76=0,0,IF(logic!$A$88=0,0,ROUND('Predek KH'!M76,0))))","v":2561},{"$f":"IF(OR(N$67=0,$A80=0),0,IF('Predek KH'!AI76=0,0,IF(logic!$A$88=0,0,ROUND('Predek KH'!N76,0))))","v":2878},{"$f":"IF(OR(O$67=0,$A80=0),0,IF('Predek KH'!AJ76=0,0,IF(logic!$A$88=0,0,ROUND('Predek KH'!O76,0))))","v":0},{"$f":"IF(OR(P$67=0,$A80=0),0,IF('Predek KH'!AK76=0,0,IF(logic!$A$88=0,0,ROUND('Predek KH'!P76,0))))","v":0},{"$f":"IF(OR(Q$67=0,$A80=0),0,IF('Predek KH'!AL76=0,0,IF(logic!$A$88=0,0,ROUND('Predek KH'!Q76,0))))","v":0},{"$f":"IF(OR(R$67=0,$A80=0),0,IF('Predek KH'!AM76=0,0,IF(logic!$A$88=0,0,ROUND('Predek KH'!R76,0))))","v":0},{"$f":"IF(OR(S$67=0,$A80=0),0,IF('Predek KH'!AN76=0,0,IF(logic!$A$88=0,0,ROUND('Predek KH'!S76,0))))","v":0}]
[{"$f":"IF(AND($M$6=Jazyk!$D$4,$O$6=Jazyk!$D$4),1,IF(AND(B81>=$M$6,B81<=$O$6),1,0))","v":1},2000,null,{"$f":"IF(OR(D$67=0,$A81=0),0,IF('Predek KH'!Y77=0,0,IF(logic!$A$88=0,0,ROUND('Predek KH'!D77,0))))","v":1796},{"$f":"IF(OR(E$67=0,$A81=0),0,IF('Predek KH'!Z77=0,0,IF(logic!$A$88=0,0,ROUND('Predek KH'!E77,0))))","v":2664},{"$f":"IF(OR(F$67=0,$A81=0),0,IF('Predek KH'!AA77=0,0,IF(logic!$A$88=0,0,ROUND('Predek KH'!F77,0))))","v":2952},{"$f":"IF(OR(G$67=0,$A81=0),0,IF('Predek KH'!AB77=0,0,IF(logic!$A$88=0,0,ROUND('Predek KH'!G77,0))))","v":0},{"$f":"IF(OR(H$67=0,$A81=0),0,IF('Predek KH'!AC77=0,0,IF(logic!$A$88=0,0,ROUND('Predek KH'!H77,0))))","v":0},{"$f":"IF(OR(I$67=0,$A81=0),0,IF('Predek KH'!AD77=0,0,IF(logic!$A$88=0,0,ROUND('Predek KH'!I77,0))))","v":0},{"$f":"IF(OR(J$67=0,$A81=0),0,IF('Predek KH'!AE77=0,0,IF(logic!$A$88=0,0,ROUND('Predek KH'!J77,0))))","v":0},{"$f":"IF(OR(K$67=0,$A81=0),0,IF('Predek KH'!AF77=0,0,IF(logic!$A$88=0,0,ROUND('Predek KH'!K77,0))))","v":0},{"$f":"IF(OR(L$67=0,$A81=0),0,IF('Predek KH'!AG77=0,0,IF(logic!$A$88=0,0,ROUND('Predek KH'!L77,0))))","v":1964},{"$f":"IF(OR(M$67=0,$A81=0),0,IF('Predek KH'!AH77=0,0,IF(logic!$A$88=0,0,ROUND('Predek KH'!M77,0))))","v":2846},{"$f":"IF(OR(N$67=0,$A81=0),0,IF('Predek KH'!AI77=0,0,IF(logic!$A$88=0,0,ROUND('Predek KH'!N77,0))))","v":0},{"$f":"IF(OR(O$67=0,$A81=0),0,IF('Predek KH'!AJ77=0,0,IF(logic!$A$88=0,0,ROUND('Predek KH'!O77,0))))","v":0},{"$f":"IF(OR(P$67=0,$A81=0),0,IF('Predek KH'!AK77=0,0,IF(logic!$A$88=0,0,ROUND('Predek KH'!P77,0))))","v":0},{"$f":"IF(OR(Q$67=0,$A81=0),0,IF('Predek KH'!AL77=0,0,IF(logic!$A$88=0,0,ROUND('Predek KH'!Q77,0))))","v":0},{"$f":"IF(OR(R$67=0,$A81=0),0,IF('Predek KH'!AM77=0,0,IF(logic!$A$88=0,0,ROUND('Predek KH'!R77,0))))","v":0},{"$f":"IF(OR(S$67=0,$A81=0),0,IF('Predek KH'!AN77=0,0,IF(logic!$A$88=0,0,ROUND('Predek KH'!S77,0))))","v":0}]
[{"$f":"IF(AND($M$6=Jazyk!$D$4,$O$6=Jazyk!$D$4),1,IF(AND(B82>=$M$6,B82<=$O$6),1,0))","v":1},2300,null,{"$f":"IF(OR(D$67=0,$A82=0),0,IF('Predek KH'!Y78=0,0,IF(logic!$A$88=0,0,ROUND('Predek KH'!D78,0))))","v":2065},{"$f":"IF(OR(E$67=0,$A82=0),0,IF('Predek KH'!Z78=0,0,IF(logic!$A$88=0,0,ROUND('Predek KH'!E78,0))))","v":3064},{"$f":"IF(OR(F$67=0,$A82=0),0,IF('Predek KH'!AA78=0,0,IF(logic!$A$88=0,0,ROUND('Predek KH'!F78,0))))","v":0},{"$f":"IF(OR(G$67=0,$A82=0),0,IF('Predek KH'!AB78=0,0,IF(logic!$A$88=0,0,ROUND('Predek KH'!G78,0))))","v":0},{"$f":"IF(OR(H$67=0,$A82=0),0,IF('Predek KH'!AC78=0,0,IF(logic!$A$88=0,0,ROUND('Predek KH'!H78,0))))","v":0},{"$f":"IF(OR(I$67=0,$A82=0),0,IF('Predek KH'!AD78=0,0,IF(logic!$A$88=0,0,ROUND('Predek KH'!I78,0))))","v":0},{"$f":"IF(OR(J$67=0,$A82=0),0,IF('Predek KH'!AE78=0,0,IF(logic!$A$88=0,0,ROUND('Predek KH'!J78,0))))","v":0},{"$f":"IF(OR(K$67=0,$A82=0),0,IF('Predek KH'!AF78=0,0,IF(logic!$A$88=0,0,ROUND('Predek KH'!K78,0))))","v":0},{"$f":"IF(OR(L$67=0,$A82=0),0,IF('Predek KH'!AG78=0,0,IF(logic!$A$88=0,0,ROUND('Predek KH'!L78,0))))","v":2259},{"$f":"IF(OR(M$67=0,$A82=0),0,IF('Predek KH'!AH78=0,0,IF(logic!$A$88=0,0,ROUND('Predek KH'!M78,0))))","v":3273},{"$f":"IF(OR(N$67=0,$A82=0),0,IF('Predek KH'!AI78=0,0,IF(logic!$A$88=0,0,ROUND('Predek KH'!N78,0))))","v":0},{"$f":"IF(OR(O$67=0,$A82=0),0,IF('Predek KH'!AJ78=0,0,IF(logic!$A$88=0,0,ROUND('Predek KH'!O78,0))))","v":0},{"$f":"IF(OR(P$67=0,$A82=0),0,IF('Predek KH'!AK78=0,0,IF(logic!$A$88=0,0,ROUND('Predek KH'!P78,0))))","v":0},{"$f":"IF(OR(Q$67=0,$A82=0),0,IF('Predek KH'!AL78=0,0,IF(logic!$A$88=0,0,ROUND('Predek KH'!Q78,0))))","v":0},{"$f":"IF(OR(R$67=0,$A82=0),0,IF('Predek KH'!AM78=0,0,IF(logic!$A$88=0,0,ROUND('Predek KH'!R78,0))))","v":0},{"$f":"IF(OR(S$67=0,$A82=0),0,IF('Predek KH'!AN78=0,0,IF(logic!$A$88=0,0,ROUND('Predek KH'!S78,0))))","v":0}]
[{"$f":"IF(AND($M$6=Jazyk!$D$4,$O$6=Jazyk!$D$4),1,IF(AND(B83>=$M$6,B83<=$O$6),1,0))","v":1},2600,null,{"$f":"IF(OR(D$67=0,$A83=0),0,IF('Predek KH'!Y79=0,0,IF(logic!$A$88=0,0,ROUND('Predek KH'!D79,0))))","v":2335},{"$f":"IF(OR(E$67=0,$A83=0),0,IF('Predek KH'!Z79=0,0,IF(logic!$A$88=0,0,ROUND('Predek KH'!E79,0))))","v":3463},{"$f":"IF(OR(F$67=0,$A83=0),0,IF('Predek KH'!AA79=0,0,IF(logic!$A$88=0,0,ROUND('Predek KH'!F79,0))))","v":0},{"$f":"IF(OR(G$67=0,$A83=0),0,IF('Predek KH'!AB79=0,0,IF(logic!$A$88=0,0,ROUND('Predek KH'!G79,0))))","v":0},{"$f":"IF(OR(H$67=0,$A83=0),0,IF('Predek KH'!AC79=0,0,IF(logic!$A$88=0,0,ROUND('Predek KH'!H79,0))))","v":0},{"$f":"IF(OR(I$67=0,$A83=0),0,IF('Predek KH'!AD79=0,0,IF(logic!$A$88=0,0,ROUND('Predek KH'!I79,0))))","v":0},{"$f":"IF(OR(J$67=0,$A83=0),0,IF('Predek KH'!AE79=0,0,IF(logic!$A$88=0,0,ROUND('Predek KH'!J79,0))))","v":0},{"$f":"IF(OR(K$67=0,$A83=0),0,IF('Predek KH'!AF79=0,0,IF(logic!$A$88=0,0,ROUND('Predek KH'!K79,0))))","v":0},{"$f":"IF(OR(L$67=0,$A83=0),0,IF('Predek KH'!AG79=0,0,IF(logic!$A$88=0,0,ROUND('Predek KH'!L79,0))))","v":2553},{"$f":"IF(OR(M$67=0,$A83=0),0,IF('Predek KH'!AH79=0,0,IF(logic!$A$88=0,0,ROUND('Predek KH'!M79,0))))","v":3700},{"$f":"IF(OR(N$67=0,$A83=0),0,IF('Predek KH'!AI79=0,0,IF(logic!$A$88=0,0,ROUND('Predek KH'!N79,0))))","v":0},{"$f":"IF(OR(O$67=0,$A83=0),0,IF('Predek KH'!AJ79=0,0,IF(logic!$A$88=0,0,ROUND('Predek KH'!O79,0))))","v":0},{"$f":"IF(OR(P$67=0,$A83=0),0,IF('Predek KH'!AK79=0,0,IF(logic!$A$88=0,0,ROUND('Predek KH'!P79,0))))","v":0},{"$f":"IF(OR(Q$67=0,$A83=0),0,IF('Predek KH'!AL79=0,0,IF(logic!$A$88=0,0,ROUND('Predek KH'!Q79,0))))","v":0},{"$f":"IF(OR(R$67=0,$A83=0),0,IF('Predek KH'!AM79=0,0,IF(logic!$A$88=0,0,ROUND('Predek KH'!R79,0))))","v":0},{"$f":"IF(OR(S$67=0,$A83=0),0,IF('Predek KH'!AN79=0,0,IF(logic!$A$88=0,0,ROUND('Predek KH'!S79,0))))","v":0}]
[{"$f":"IF(AND($M$6=Jazyk!$D$4,$O$6=Jazyk!$D$4),1,IF(AND(B84>=$M$6,B84<=$O$6),1,0))","v":1},3000,null,{"$f":"IF(OR(D$67=0,$A84=0),0,IF('Predek KH'!Y80=0,0,IF(logic!$A$88=0,0,ROUND('Predek KH'!D80,0))))","v":2694},{"$f":"IF(OR(E$67=0,$A84=0),0,IF('Predek KH'!Z80=0,0,IF(logic!$A$88=0,0,ROUND('Predek KH'!E80,0))))","v":3996},{"$f":"IF(OR(F$67=0,$A84=0),0,IF('Predek KH'!AA80=0,0,IF(logic!$A$88=0,0,ROUND('Predek KH'!F80,0))))","v":0},{"$f":"IF(OR(G$67=0,$A84=0),0,IF('Predek KH'!AB80=0,0,IF(logic!$A$88=0,0,ROUND('Predek KH'!G80,0))))","v":0},{"$f":"IF(OR(H$67=0,$A84=0),0,IF('Predek KH'!AC80=0,0,IF(logic!$A$88=0,0,ROUND('Predek KH'!H80,0))))","v":0},{"$f":"IF(OR(I$67=0,$A84=0),0,IF('Predek KH'!AD80=0,0,IF(logic!$A$88=0,0,ROUND('Predek KH'!I80,0))))","v":0},{"$f":"IF(OR(J$67=0,$A84=0),0,IF('Predek KH'!AE80=0,0,IF(logic!$A$88=0,0,ROUND('Predek KH'!J80,0))))","v":0},{"$f":"IF(OR(K$67=0,$A84=0),0,IF('Predek KH'!AF80=0,0,IF(logic!$A$88=0,0,ROUND('Predek KH'!K80,0))))","v":0},{"$f":"IF(OR(L$67=0,$A84=0),0,IF('Predek KH'!AG80=0,0,IF(logic!$A$88=0,0,ROUND('Predek KH'!L80,0))))","v":2946},{"$f":"IF(OR(M$67=0,$A84=0),0,IF('Predek KH'!AH80=0,0,IF(logic!$A$88=0,0,ROUND('Predek KH'!M80,0))))","v":0},{"$f":"IF(OR(N$67=0,$A84=0),0,IF('Predek KH'!AI80=0,0,IF(logic!$A$88=0,0,ROUND('Predek KH'!N80,0))))","v":0},{"$f":"IF(OR(O$67=0,$A84=0),0,IF('Predek KH'!AJ80=0,0,IF(logic!$A$88=0,0,ROUND('Predek KH'!O80,0))))","v":0},{"$f":"IF(OR(P$67=0,$A84=0),0,IF('Predek KH'!AK80=0,0,IF(logic!$A$88=0,0,ROUND('Predek KH'!P80,0))))","v":0},{"$f":"IF(OR(Q$67=0,$A84=0),0,IF('Predek KH'!AL80=0,0,IF(logic!$A$88=0,0,ROUND('Predek KH'!Q80,0))))","v":0},{"$f":"IF(OR(R$67=0,$A84=0),0,IF('Predek KH'!AM80=0,0,IF(logic!$A$88=0,0,ROUND('Predek KH'!R80,0))))","v":0},{"$f":"IF(OR(S$67=0,$A84=0),0,IF('Predek KH'!AN80=0,0,IF(logic!$A$88=0,0,ROUND('Predek KH'!S80,0))))","v":0}]
[null,{"$f":"Jazyk!AB4","v":"Право на технически промени."},null,null,null,null,null,null,null,null,null,null,null,null,null,null,null,null,{"$f":"logic!M5","v":"CZ KRTH 3.02-05/22"}]
[]
[]
[]
[]
[null,null,null,{"$f":"VLOOKUP('Qn H'!$C$4,'Qn H'!$C$22:$T$76,3,0)","v":"K10H"},{"$f":"VLOOKUP('Qn H'!$C$4,'Qn H'!$C$22:$T$76,4,0)","v":"K11H"},{"$f":"VLOOKUP('Qn H'!$C$4,'Qn H'!$C$22:$T$76,5,0)","v":"K20H"},{"$f":"VLOOKUP('Qn H'!$C$4,'Qn H'!$C$22:$T$76,6,0)","v":"K21H"},{"$f":"VLOOKUP('Qn H'!$C$4,'Qn H'!$C$22:$T$76,7,0)","v":"K22H"},{"$f":"VLOOKUP('Qn H'!$C$4,'Qn H'!$C$22:$T$76,8,0)","v":"K23H"},{"$f":"VLOOKUP('Qn H'!$C$4,'Qn H'!$C$22:$T$76,9,0)","v":"K44H"},{"$f":"VLOOKUP('Qn H'!$C$4,'Qn H'!$C$22:$T$76,10,0)","v":"K46H"},{"$f":"VLOOKUP('Qn H'!$C$4,'Qn H'!$C$22:$T$76,11,0)","v":"K10H"},{"$f":"VLOOKUP('Qn H'!$C$4,'Qn H'!$C$22:$T$76,12,0)","v":"K11H"},{"$f":"VLOOKUP('Qn H'!$C$4,'Qn H'!$C$22:$T$76,13,0)","v":"K20H"},{"$f":"VLOOKUP('Qn H'!$C$4,'Qn H'!$C$22:$T$76,14,0)","v":"K21H"},{"$f":"VLOOKUP('Qn H'!$C$4,'Qn H'!$C$22:$T$76,15,0)","v":"K22H"},{"$f":"VLOOKUP('Qn H'!$C$4,'Qn H'!$C$22:$T$76,16,0)","v":"K23H"},{"$f":"VLOOKUP('Qn H'!$C$4,'Qn H'!$C$22:$T$76,17,0)","v":"K44H"},{"$f":"VLOOKUP('Qn H'!$C$4,'Qn H'!$C$22:$T$76,18,0)","v":"K46H"}]

{"sheet":"Vertikal","index":2,"n_rows":57,"n_cols":18,"rows_kept":57,"cut":false,"hidden":true,"merged":[]}
[null,{"$f":"logic!$B$7","v":"KORATHERM VERTIKAL - M"}]
[]
[null,{"$f":"Jazyk!J4","v":"Избор на модел:"},null,null,null,null,{"$f":"Jazyk!P4","v":"Детайлен избор"}]
[null,null,null,null,null,null,null,null,{"$f":"Jazyk!K4&\" \"&Jazyk!H4","v":"Топлинна мощност  от"},null,{"$f":"\"W \"&Jazyk!I4","v":"W до"},null,"W"]
[null,null,null,null,null,null,null,null,{"$f":"Jazyk!F4&\" \"&Jazyk!H4","v":"Височина от"},{"$f":"logic!E23","v":"всичко"},{"$f":"\"mm \"&Jazyk!I4","v":"mm до"},{"$f":"logic!E35","v":"всичко"},"mm"]
[null,null,{"$f":"Jazyk!Q4","v":"Въвеждане на стойности"},null,null,null,null,null,{"$f":"Jazyk!G4&\" \"&Jazyk!H4","v":"Дължина от"},{"$f":"logic!E47","v":"всичко"},{"$f":"\"mm \"&Jazyk!I4","v":"mm до"},{"$f":"logic!E66","v":"всичко"},"mm"]
[null,null,null,"t 1","t 2","t i"," D T",null,null,null,null,null,null,null,null,null,{"$f":"IF(R7=0,0,Jazyk!X4)","v":0},{"$f":"MAX(Databaze!A:A)","v":0}]
[null,null,{"$f":"Jazyk!L4","v":"Температура:"},75,65,20,{"$f":"(D8+E8)/2-F8","v":50}]
[null,null,null,{"$f":"Jazyk!E4","v":"Топлинни мощности според ЕН 442"}]
[null,null,null,{"$f":"IF(AND($J$6=Jazyk!$D$4,$L$6=Jazyk!$D$4),1,IF(AND(D11>=$J$6,D11<=$L$6),1,0))","v":1},{"$f":"IF(AND($J$6=Jazyk!$D$4,$L$6=Jazyk!$D$4),1,IF(AND(E11>=$J$6,E11<=$L$6),1,0))","v":1},{"$f":"IF(AND($J$6=Jazyk!$D$4,$L$6=Jazyk!$D$4),1,IF(AND(F11>=$J$6,F11<=$L$6),1,0))","v":1},{"$f":"IF(AND($J$6=Jazyk!$D$4,$L$6=Jazyk!$D$4),1,IF(AND(G11>=$J$6,G11<=$L$6),1,0))","v":1},{"$f":"IF(AND($J$6=Jazyk!$D$4,$L$6=Jazyk!$D$4),1,IF(AND(H11>=$J$6,H11<=$L$6),1,0))","v":1},{"$f":"IF(AND($J$6=Jazyk!$D$4,$L$6=Jazyk!$D$4),1,IF(AND(I11>=$J$6,I11<=$L$6),1,0))","v":1},{"$f":"IF(AND($J$6=Jazyk!$D$4,$L$6=Jazyk!$D$4),1,IF(AND(J11>=$J$6,J11<=$L$6),1,0))","v":1},{"$f":"IF(AND($J$6=Jazyk!$D$4,$L$6=Jazyk!$D$4),1,IF(AND(K11>=$J$6,K11<=$L$6),1,0))","v":1},{"$f":"IF(AND($J$6=Jazyk!$D$4,$L$6=Jazyk!$D$4),1,IF(AND(L11>=$J$6,L11<=$L$6),1,0))","v":1}]
[null,{"$f":"Jazyk!$G$27","v":"Височина [mm]"},null,{"$f":"E11","v":500},500,{"$f":"D11","v":500},{"$f":"H11","v":600},600,{"$f":"H11","v":600},{"$f":"K11","v":700},700,{"$f":"K11","v":700}]
[null,{"$f":"Jazyk!$H$27","v":"Дължина [mm]"},null,{"$f":"IF(logic!$E$7=0,'Qn V'!D4,'Qn V'!D4)","v":"K10VM"},{"$f":"IF(logic!$E$7=0,'Qn V'!E4,'Qn V'!E4)","v":"K11VM"},{"$f":"IF(logic!$E$7=0,'Qn V'!F4,'Qn V'!F4)","v":"K20VM"},{"$f":"IF(logic!$E$7=0,'Qn V'!G4,'Qn V'!G4)","v":"K10VM"},{"$f":"IF(logic!$E$7=0,'Qn V'!H4,'Qn V'!H4)","v":"K11VM"},{"$f":"IF(logic!$E$7=0,'Qn V'!I4,'Qn V'!I4)","v":"K20VM"},{"$f":"IF(logic!$E$7=0,'Qn V'!J4,'Qn V'!J4)","v":"K10VM"},{"$f":"IF(logic!$E$7=0,'Qn V'!K4,'Qn V'!K4)","v":"K11VM"},{"$f":"IF(logic!$E$7=0,'Qn V'!L4,'Qn V'!L4)","v":"K20VM"}]
[{"$f":"IF(AND($J$5=Jazyk!$D$4,$L$5=Jazyk!$D$4),1,IF(AND(B13>=$J$5,B13<=$L$5),1,0))","v":1},144,null,{"$f":"IF(OR(D$10=0,$A13=0),0,IF('Predek KV'!R9=0,0,IF(logic!$A$89=0,0,ROUND('Predek KV'!D9,0))))","v":90},{"$f":"IF(OR(E$10=0,$A13=0),0,IF('Predek KV'!S9=0,0,IF(logic!$A$89=0,0,ROUND('Predek KV'!E9,0))))","v":118},{"$f":"IF(OR(F$10=0,$A13=0),0,IF('Predek KV'!T9=0,0,IF(logic!$A$89=0,0,ROUND('Predek KV'!F9,0))))","v":137},{"$f":"IF(OR(G$10=0,$A13=0),0,IF('Predek KV'!U9=0,0,IF(logic!$A$89=0,0,ROUND('Predek KV'!G9,0))))","v":107},{"$f":"IF(OR(H$10=0,$A13=0),0,IF('Predek KV'!V9=0,0,IF(logic!$A$89=0,0,ROUND('Predek KV'!H9,0))))","v":139},{"$f":"IF(OR(I$10=0,$A13=0),0,IF('Predek KV'!W9=0,0,IF(logic!$A$89=0,0,ROUND('Predek KV'!I9,0))))","v":161},{"$f":"IF(OR(J$10=0,$A13=0),0,IF('Predek KV'!X9=0,0,IF(logic!$A$89=0,0,ROUND('Predek KV'!J9,0))))","v":124},{"$f":"IF(OR(K$10=0,$A13=0),0,IF('Predek KV'!Y9=0,0,IF(logic!$A$89=0,0,ROUND('Predek KV'!K9,0))))","v":159},{"$f":"IF(OR(L$10=0,$A13=0),0,IF('Predek KV'!Z9=0,0,IF(logic!$A$89=0,0,ROUND('Predek KV'!L9,0))))","v":185}]
[{"$f":"IF(AND($J$5=Jazyk!$D$4,$L$5=Jazyk!$D$4),1,IF(AND(B14>=$J$5,B14<=$L$5),1,0))","v":1},218,null,{"$f":"IF(OR(D$10=0,$A14=0),0,IF('Predek KV'!R10=0,0,IF(logic!$A$89=0,0,ROUND('Predek KV'!D10,0))))","v":136},{"$f":"IF(OR(E$10=0,$A14=0),0,IF('Predek KV'!S10=0,0,IF(logic!$A$89=0,0,ROUND('Predek KV'!E10,0))))","v":179},{"$f":"IF(OR(F$10=0,$A14=0),0,IF('Predek KV'!T10=0,0,IF(logic!$A$89=0,0,ROUND('Predek KV'!F10,0))))","v":207},{"$f":"IF(OR(G$10=0,$A14=0),0,IF('Predek KV'!U10=0,0,IF(logic!$A$89=0,0,ROUND('Predek KV'!G10,0))))","v":162},{"$f":"IF(OR(H$10=0,$A14=0),0,IF('Predek KV'!V10=0,0,IF(logic!$A$89=0,0,ROUND('Predek KV'!H10,0))))","v":210},{"$f":"IF(OR(I$10=0,$A14=0),0,IF('Predek KV'!W10=0,0,IF(logic!$A$89=0,0,ROUND('Predek KV'!I10,0))))","v":244},{"$f":"IF(OR(J$10=0,$A14=0),0,IF('Predek KV'!X10=0,0,IF(logic!$A$89=0,0,ROUND('Predek KV'!J10,0))))","v":187},{"$f":"IF(OR(K$10=0,$A14=0),0,IF('Predek KV'!Y10=0,0,IF(logic!$A$89=0,0,ROUND('Predek KV'!K10,0))))","v":240},{"$f":"IF(OR(L$10=0,$A14=0),0,IF('Predek KV'!Z10=0,0,IF(logic!$A$89=0,0,ROUND('Predek KV'!L10,0))))","v":281}]
[{"$f":"IF(AND($J$5=Jazyk!$D$4,$L$5=Jazyk!$D$4),1,IF(AND(B15>=$J$5,B15<=$L$5),1,0))","v":1},366,null,{"$f":"IF(OR(D$10=0,$A15=0),0,IF('Predek KV'!R11=0,0,IF(logic!$A$89=0,0,ROUND('Predek KV'!D11,0))))","v":229},{"$f":"IF(OR(E$10=0,$A15=0),0,IF('Predek KV'!S11=0,0,IF(logic!$A$89=0,0,ROUND('Predek KV'!E11,0))))","v":301},{"$f":"IF(OR(F$10=0,$A15=0),0,IF('Predek KV'!T11=0,0,IF(logic!$A$89=0,0,ROUND('Predek KV'!F11,0))))","v":348},{"$f":"IF(OR(G$10=0,$A15=0),0,IF('Predek KV'!U11=0,0,IF(logic!$A$89=0,0,ROUND('Predek KV'!G11,0))))","v":272},{"$f":"IF(OR(H$10=0,$A15=0),0,IF('Predek KV'!V11=0,0,IF(logic!$A$89=0,0,ROUND('Predek KV'!H11,0))))","v":353},{"$f":"IF(OR(I$10=0,$A15=0),0,IF('Predek KV'!W11=0,0,IF(logic!$A$89=0,0,ROUND('Predek KV'!I11,0))))","v":410},{"$f":"IF(OR(J$10=0,$A15=0),0,IF('Predek KV'!X11=0,0,IF(logic!$A$89=0,0,ROUND('Predek KV'!J11,0))))","v":315},{"$f":"IF(OR(K$10=0,$A15=0),0,IF('Predek KV'!Y11=0,0,IF(logic!$A$89=0,0,ROUND('Predek KV'!K11,0))))","v":403},{"$f":"IF(OR(L$10=0,$A15=0),0,IF('Predek KV'!Z11=0,0,IF(logic!$A$89=0,0,ROUND('Predek KV'!L11,0))))","v":471}]
[{"$f":"IF(AND($J$5=Jazyk!$D$4,$L$5=Jazyk!$D$4),1,IF(AND(B16>=$J$5,B16<=$L$5),1,0))","v":1},514,null,{"$f":"IF(OR(D$10=0,$A16=0),0,IF('Predek KV'!R12=0,0,IF(logic!$A$89=0,0,ROUND('Predek KV'!D12,0))))","v":322},{"$f":"IF(OR(E$10=0,$A16=0),0,IF('Predek KV'!S12=0,0,IF(logic!$A$89=0,0,ROUND('Predek KV'!E12,0))))","v":423},{"$f":"IF(OR(F$10=0,$A16=0),0,IF('Predek KV'!T12=0,0,IF(logic!$A$89=0,0,ROUND('Predek KV'!F12,0))))","v":489},{"$f":"IF(OR(G$10=0,$A16=0),0,IF('Predek KV'!U12=0,0,IF(logic!$A$89=0,0,ROUND('Predek KV'!G12,0))))","v":382},{"$f":"IF(OR(H$10=0,$A16=0),0,IF('Predek KV'!V12=0,0,IF(logic!$A$89=0,0,ROUND('Predek KV'!H12,0))))","v":495},{"$f":"IF(OR(I$10=0,$A16=0),0,IF('Predek KV'!W12=0,0,IF(logic!$A$89=0,0,ROUND('Predek KV'!I12,0))))","v":576},{"$f":"IF(OR(J$10=0,$A16=0),0,IF('Predek KV'!X12=0,0,IF(logic!$A$89=0,0,ROUND('Predek KV'!J12,0))))","v":442},{"$f":"IF(OR(K$10=0,$A16=0),0,IF('Predek KV'!Y12=0,0,IF(logic!$A$89=0,0,ROUND('Predek KV'!K12,0))))","v":566},{"$f":"IF(OR(L$10=0,$A16=0),0,IF('Predek KV'!Z12=0,0,IF(logic!$A$89=0,0,ROUND('Predek KV'!L12,0))))","v":662}]
[{"$f":"IF(AND($J$5=Jazyk!$D$4,$L$5=Jazyk!$D$4),1,IF(AND(B17>=$J$5,B17<=$L$5),1,0))","v":1},588,null,{"$f":"IF(OR(D$10=0,$A17=0),0,IF('Predek KV'!R13=0,0,IF(logic!$A$89=0,0,ROUND('Predek KV'!D13,0))))","v":368},{"$f":"IF(OR(E$10=0,$A17=0),0,IF('Predek KV'!S13=0,0,IF(logic!$A$89=0,0,ROUND('Predek KV'!E13,0))))","v":483},{"$f":"IF(OR(F$10=0,$A17=0),0,IF('Predek KV'!T13=0,0,IF(logic!$A$89=0,0,ROUND('Predek KV'!F13,0))))","v":559},{"$f":"IF(OR(G$10=0,$A17=0),0,IF('Predek KV'!U13=0,0,IF(logic!$A$89=0,0,ROUND('Predek KV'!G13,0))))","v":437},{"$f":"IF(OR(H$10=0,$A17=0),0,IF('Predek KV'!V13=0,0,IF(logic!$A$89=0,0,ROUND('Predek KV'!H13,0))))","v":567},{"$f":"IF(OR(I$10=0,$A17=0),0,IF('Predek KV'!W13=0,0,IF(logic!$A$89=0,0,ROUND('Predek KV'!I13,0))))","v":659},{"$f":"IF(OR(J$10=0,$A17=0),0,IF('Predek KV'!X13=0,0,IF(logic!$A$89=0,0,ROUND('Predek KV'!J13,0))))","v":506},{"$f":"IF(OR(K$10=0,$A17=0),0,IF('Predek KV'!Y13=0,0,IF(logic!$A$89=0,0,ROUND('Predek KV'!K13,0))))","v":648},{"$f":"IF(OR(L$10=0,$A17=0),0,IF('Predek KV'!Z13=0,0,IF(logic!$A$89=0,0,ROUND('Predek KV'!L13,0))))","v":757}]
[{"$f":"IF(AND($J$5=Jazyk!$D$4,$L$5=Jazyk!$D$4),1,IF(AND(B18>=$J$5,B18<=$L$5),1,0))","v":1},662,null,{"$f":"IF(OR(D$10=0,$A18=0),0,IF('Predek KV'!R14=0,0,IF(logic!$A$89=0,0,ROUND('Predek KV'!D14,0))))","v":414},{"$f":"IF(OR(E$10=0,$A18=0),0,IF('Predek KV'!S14=0,0,IF(logic!$A$89=0,0,ROUND('Predek KV'!E14,0))))","v":544},{"$f":"IF(OR(F$10=0,$A18=0),0,IF('Predek KV'!T14=0,0,IF(logic!$A$89=0,0,ROUND('Predek KV'!F14,0))))","v":630},{"$f":"IF(OR(G$10=0,$A18=0),0,IF('Predek KV'!U14=0,0,IF(logic!$A$89=0,0,ROUND('Predek KV'!G14,0))))","v":492},{"$f":"IF(OR(H$10=0,$A18=0),0,IF('Predek KV'!V14=0,0,IF(logic!$A$89=0,0,ROUND('Predek KV'!H14,0))))","v":638},{"$f":"IF(OR(I$10=0,$A18=0),0,IF('Predek KV'!W14=0,0,IF(logic!$A$89=0,0,ROUND('Predek KV'!I14,0))))","v":742},{"$f":"IF(OR(J$10=0,$A18=0),0,IF('Predek KV'!X14=0,0,IF(logic!$A$89=0,0,ROUND('Predek KV'!J14,0))))","v":569},{"$f":"IF(OR(K$10=0,$A18=0),0,IF('Predek KV'!Y14=0,0,IF(logic!$A$89=0,0,ROUND('Predek KV'!K14,0))))","v":730},{"$f":"IF(OR(L$10=0,$A18=0),0,IF('Predek KV'!Z14=0,0,IF(logic!$A$89=0,0,ROUND('Predek KV'!L14,0))))","v":853}]
[{"$f":"IF(AND($J$5=Jazyk!$D$4,$L$5=Jazyk!$D$4),1,IF(AND(B19>=$J$5,B19<=$L$5),1,0))","v":1},884,null,{"$f":"IF(OR(D$10=0,$A19=0),0,IF('Predek KV'!R15=0,0,IF(logic!$A$89=0,0,ROUND('Predek KV'!D15,0))))","v":553},{"$f":"IF(OR(E$10=0,$A19=0),0,IF('Predek KV'!S15=0,0,IF(logic!$A$89=0,0,ROUND('Predek KV'!E15,0))))","v":727},{"$f":"IF(OR(F$10=0,$A19=0),0,IF('Predek KV'!T15=0,0,IF(logic!$A$89=0,0,ROUND('Predek KV'!F15,0))))","v":841},{"$f":"IF(OR(G$10=0,$A19=0),0,IF('Predek KV'!U15=0,0,IF(logic!$A$89=0,0,ROUND('Predek KV'!G15,0))))","v":657},{"$f":"IF(OR(H$10=0,$A19=0),0,IF('Predek KV'!V15=0,0,IF(logic!$A$89=0,0,ROUND('Predek KV'!H15,0))))","v":852},{"$f":"IF(OR(I$10=0,$A19=0),0,IF('Predek KV'!W15=0,0,IF(logic!$A$89=0,0,ROUND('Predek KV'!I15,0))))","v":991},{"$f":"IF(OR(J$10=0,$A19=0),0,IF('Predek KV'!X15=0,0,IF(logic!$A$89=0,0,ROUND('Predek KV'!J15,0))))","v":760},{"$f":"IF(OR(K$10=0,$A19=0),0,IF('Predek KV'!Y15=0,0,IF(logic!$A$89=0,0,ROUND('Predek KV'!K15,0))))","v":974},{"$f":"IF(OR(L$10=0,$A19=0),0,IF('Predek KV'!Z15=0,0,IF(logic!$A$89=0,0,ROUND('Predek KV'!L15,0))))","v":1139}]
[{"$f":"IF(AND($J$5=Jazyk!$D$4,$L$5=Jazyk!$D$4),1,IF(AND(B20>=$J$5,B20<=$L$5),1,0))","v":1},958,null,{"$f":"IF(OR(D$10=0,$A20=0),0,IF('Predek KV'!R16=0,0,IF(logic!$A$89=0,0,ROUND('Predek KV'!D16,0))))","v":600},{"$f":"IF(OR(E$10=0,$A20=0),0,IF('Predek KV'!S16=0,0,IF(logic!$A$89=0,0,ROUND('Predek KV'!E16,0))))","v":787},{"$f":"IF(OR(F$10=0,$A20=0),0,IF('Predek KV'!T16=0,0,IF(logic!$A$89=0,0,ROUND('Predek KV'!F16,0))))","v":911},{"$f":"IF(OR(G$10=0,$A20=0),0,IF('Predek KV'!U16=0,0,IF(logic!$A$89=0,0,ROUND('Predek KV'!G16,0))))","v":712},{"$f":"IF(OR(H$10=0,$A20=0),0,IF('Predek KV'!V16=0,0,IF(logic!$A$89=0,0,ROUND('Predek KV'!H16,0))))","v":924},{"$f":"IF(OR(I$10=0,$A20=0),0,IF('Predek KV'!W16=0,0,IF(logic!$A$89=0,0,ROUND('Predek KV'!I16,0))))","v":1074},{"$f":"IF(OR(J$10=0,$A20=0),0,IF('Predek KV'!X16=0,0,IF(logic!$A$89=0,0,ROUND('Predek KV'!J16,0))))","v":824},{"$f":"IF(OR(K$10=0,$A20=0),0,IF('Predek KV'!Y16=0,0,IF(logic!$A$89=0,0,ROUND('Predek KV'!K16,0))))","v":1056},{"$f":"IF(OR(L$10=0,$A20=0),0,IF('Predek KV'!Z16=0,0,IF(logic!$A$89=0,0,ROUND('Predek KV'!L16,0))))","v":1234}]
[]
[null,null,null,{"$f":"IF(AND($J$6=Jazyk!$D$4,$L$6=Jazyk!$D$4),1,IF(AND(D23>=$J$6,D23<=$L$6),1,0))","v":1},{"$f":"IF(AND($J$6=Jazyk!$D$4,$L$6=Jazyk!$D$4),1,IF(AND(E23>=$J$6,E23<=$L$6),1,0))","v":1},{"$f":"IF(AND($J$6=Jazyk!$D$4,$L$6=Jazyk!$D$4),1,IF(AND(F23>=$J$6,F23<=$L$6),1,0))","v":1},{"$f":"IF(AND($J$6=Jazyk!$D$4,$L$6=Jazyk!$D$4),1,IF(AND(G23>=$J$6,G23<=$L$6),1,0))","v":1},{"$f":"IF(AND($J$6=Jazyk!$D$4,$L$6=Jazyk!$D$4),1,IF(AND(H23>=$J$6,H23<=$L$6),1,0))","v":1},{"$f":"IF(AND($J$6=Jazyk!$D$4,$L$6=Jazyk!$D$4),1,IF(AND(I23>=$J$6,I23<=$L$6),1,0))","v":1},{"$f":"IF(AND($J$6=Jazyk!$D$4,$L$6=Jazyk!$D$4),1,IF(AND(J23>=$J$6,J23<=$L$6),1,0))","v":1},{"$f":"IF(AND($J$6=Jazyk!$D$4,$L$6=Jazyk!$D$4),1,IF(AND(K23>=$J$6,K23<=$L$6),1,0))","v":1},{"$f":"IF(AND($J$6=Jazyk!$D$4,$L$6=Jazyk!$D$4),1,IF(AND(L23>=$J$6,L23<=$L$6),1,0))","v":1}]
[null,{"$f":"Jazyk!$G$27","v":"Височина [mm]"},null,{"$f":"E23","v":800},800,{"$f":"E23","v":800},{"$f":"H23","v":900},900,{"$f":"H23","v":900},{"$f":"K23","v":1000},1000,{"$f":"K23","v":1000}]
[null,{"$f":"Jazyk!$H$27","v":"Дължина [mm]"},null,{"$f":"D12","v":"K10VM"},{"$f":"E12","v":"K11VM"},"K20VM","K10VM","K11VM","K20VM","K10VM","K11VM","K20VM"]
[{"$f":"IF(AND($J$5=Jazyk!$D$4,$L$5=Jazyk!$D$4),1,IF(AND(B25>=$J$5,B25<=$L$5),1,0))","v":1},144,null,{"$f":"IF(OR(D$22=0,$A25=0),0,IF('Predek KV'!R21=0,0,IF(logic!$A$89=0,0,ROUND('Predek KV'!D21,0))))","v":141},{"$f":"IF(OR(E$22=0,$A25=0),0,IF('Predek KV'!S21=0,0,IF(logic!$A$89=0,0,ROUND('Predek KV'!E21,0))))","v":178},{"$f":"IF(OR(F$22=0,$A25=0),0,IF('Predek KV'!T21=0,0,IF(logic!$A$89=0,0,ROUND('Predek KV'!F21,0))))","v":209},{"$f":"IF(OR(G$22=0,$A25=0),0,IF('Predek KV'!U21=0,0,IF(logic!$A$89=0,0,ROUND('Predek KV'!G21,0))))","v":157},{"$f":"IF(OR(H$22=0,$A25=0),0,IF('Predek KV'!V21=0,0,IF(logic!$A$89=0,0,ROUND('Predek KV'!H21,0))))","v":197},{"$f":"IF(OR(I$22=0,$A25=0),0,IF('Predek KV'!W21=0,0,IF(logic!$A$89=0,0,ROUND('Predek KV'!I21,0))))","v":233},{"$f":"IF(OR(J$22=0,$A25=0),0,IF('Predek KV'!X21=0,0,IF(logic!$A$89=0,0,ROUND('Predek KV'!J21,0))))","v":174},{"$f":"IF(OR(K$22=0,$A25=0),0,IF('Predek KV'!Y21=0,0,IF(logic!$A$89=0,0,ROUND('Predek KV'!K21,0))))","v":216},{"$f":"IF(OR(L$22=0,$A25=0),0,IF('Predek KV'!Z21=0,0,IF(logic!$A$89=0,0,ROUND('Predek KV'!L21,0))))","v":256}]
[{"$f":"IF(AND($J$5=Jazyk!$D$4,$L$5=Jazyk!$D$4),1,IF(AND(B26>=$J$5,B26<=$L$5),1,0))","v":1},218,null,{"$f":"IF(OR(D$22=0,$A26=0),0,IF('Predek KV'!R22=0,0,IF(logic!$A$89=0,0,ROUND('Predek KV'!D22,0))))","v":213},{"$f":"IF(OR(E$22=0,$A26=0),0,IF('Predek KV'!S22=0,0,IF(logic!$A$89=0,0,ROUND('Predek KV'!E22,0))))","v":270},{"$f":"IF(OR(F$22=0,$A26=0),0,IF('Predek KV'!T22=0,0,IF(logic!$A$89=0,0,ROUND('Predek KV'!F22,0))))","v":317},{"$f":"IF(OR(G$22=0,$A26=0),0,IF('Predek KV'!U22=0,0,IF(logic!$A$89=0,0,ROUND('Predek KV'!G22,0))))","v":238},{"$f":"IF(OR(H$22=0,$A26=0),0,IF('Predek KV'!V22=0,0,IF(logic!$A$89=0,0,ROUND('Predek KV'!H22,0))))","v":298},{"$f":"IF(OR(I$22=0,$A26=0),0,IF('Predek KV'!W22=0,0,IF(logic!$A$89=0,0,ROUND('Predek KV'!I22,0))))","v":352},{"$f":"IF(OR(J$22=0,$A26=0),0,IF('Predek KV'!X22=0,0,IF(logic!$A$89=0,0,ROUND('Predek KV'!J22,0))))","v":263},{"$f":"IF(OR(K$22=0,$A26=0),0,IF('Predek KV'!Y22=0,0,IF(logic!$A$89=0,0,ROUND('Predek KV'!K22,0))))","v":327},{"$f":"IF(OR(L$22=0,$A26=0),0,IF('Predek KV'!Z22=0,0,IF(logic!$A$89=0,0,ROUND('Predek KV'!L22,0))))","v":387}]
[{"$f":"IF(AND($J$5=Jazyk!$D$4,$L$5=Jazyk!$D$4),1,IF(AND(B27>=$J$5,B27<=$L$5),1,0))","v":1},366,null,{"$f":"IF(OR(D$22=0,$A27=0),0,IF('Predek KV'!R23=0,0,IF(logic!$A$89=0,0,ROUND('Predek KV'!D23,0))))","v":358},{"$f":"IF(OR(E$22=0,$A27=0),0,IF('Predek KV'!S23=0,0,IF(logic!$A$89=0,0,ROUND('Predek KV'!E23,0))))","v":453},{"$f":"IF(OR(F$22=0,$A27=0),0,IF('Predek KV'!T23=0,0,IF(logic!$A$89=0,0,ROUND('Predek KV'!F23,0))))","v":532},{"$f":"IF(OR(G$22=0,$A27=0),0,IF('Predek KV'!U23=0,0,IF(logic!$A$89=0,0,ROUND('Predek KV'!G23,0))))","v":400},{"$f":"IF(OR(H$22=0,$A27=0),0,IF('Predek KV'!V23=0,0,IF(logic!$A$89=0,0,ROUND('Predek KV'!H23,0))))","v":501},{"$f":"IF(OR(I$22=0,$A27=0),0,IF('Predek KV'!W23=0,0,IF(logic!$A$89=0,0,ROUND('Predek KV'!I23,0))))","v":591},{"$f":"IF(OR(J$22=0,$A27=0),0,IF('Predek KV'!X23=0,0,IF(logic!$A$89=0,0,ROUND('Predek KV'!J23,0))))","v":442},{"$f":"IF(OR(K$22=0,$A27=0),0,IF('Predek KV'!Y23=0,0,IF(logic!$A$89=0,0,ROUND('Predek KV'!K23,0))))","v":548},{"$f":"IF(OR(L$22=0,$A27=0),0,IF('Predek KV'!Z23=0,0,IF(logic!$A$89=0,0,ROUND('Predek KV'!L23,0))))","v":650}]
[{"$f":"IF(AND($J$5=Jazyk!$D$4,$L$5=Jazyk!$D$4),1,IF(AND(B28>=$J$5,B28<=$L$5),1,0))","v":1},514,null,{"$f":"IF(OR(D$22=0,$A28=0),0,IF('Predek KV'!R24=0,0,IF(logic!$A$89=0,0,ROUND('Predek KV'!D24,0))))","v":502},{"$f":"IF(OR(E$22=0,$A28=0),0,IF('Predek KV'!S24=0,0,IF(logic!$A$89=0,0,ROUND('Predek KV'!E24,0))))","v":636},{"$f":"IF(OR(F$22=0,$A28=0),0,IF('Predek KV'!T24=0,0,IF(logic!$A$89=0,0,ROUND('Predek KV'!F24,0))))","v":747},{"$f":"IF(OR(G$22=0,$A28=0),0,IF('Predek KV'!U24=0,0,IF(logic!$A$89=0,0,ROUND('Predek KV'!G24,0))))","v":562},{"$f":"IF(OR(H$22=0,$A28=0),0,IF('Predek KV'!V24=0,0,IF(logic!$A$89=0,0,ROUND('Predek KV'!H24,0))))","v":704},{"$f":"IF(OR(I$22=0,$A28=0),0,IF('Predek KV'!W24=0,0,IF(logic!$A$89=0,0,ROUND('Predek KV'!I24,0))))","v":831},{"$f":"IF(OR(J$22=0,$A28=0),0,IF('Predek KV'!X24=0,0,IF(logic!$A$89=0,0,ROUND('Predek KV'!J24,0))))","v":621},{"$f":"IF(OR(K$22=0,$A28=0),0,IF('Predek KV'!Y24=0,0,IF(logic!$A$89=0,0,ROUND('Predek KV'!K24,0))))","v":770},{"$f":"IF(OR(L$22=0,$A28=0),0,IF('Predek KV'!Z24=0,0,IF(logic!$A$89=0,0,ROUND('Predek KV'!L24,0))))","v":913}]
[{"$f":"IF(AND($J$5=Jazyk!$D$4,$L$5=Jazyk!$D$4),1,IF(AND(B29>=$J$5,B29<=$L$5),1,0))","v":1},588,null,{"$f":"IF(OR(D$22=0,$A29=0),0,IF('Predek KV'!R25=0,0,IF(logic!$A$89=0,0,ROUND('Predek KV'!D25,0))))","v":574},{"$f":"IF(OR(E$22=0,$A29=0),0,IF('Predek KV'!S25=0,0,IF(logic!$A$89=0,0,ROUND('Predek KV'!E25,0))))","v":727},{"$f":"IF(OR(F$22=0,$A29=0),0,IF('Predek KV'!T25=0,0,IF(logic!$A$89=0,0,ROUND('Predek KV'!F25,0))))","v":854},{"$f":"IF(OR(G$22=0,$A29=0),0,IF('Predek KV'!U25=0,0,IF(logic!$A$89=0,0,ROUND('Predek KV'!G25,0))))","v":643},{"$f":"IF(OR(H$22=0,$A29=0),0,IF('Predek KV'!V25=0,0,IF(logic!$A$89=0,0,ROUND('Predek KV'!H25,0))))","v":805},{"$f":"IF(OR(I$22=0,$A29=0),0,IF('Predek KV'!W25=0,0,IF(logic!$A$89=0,0,ROUND('Predek KV'!I25,0))))","v":950},{"$f":"IF(OR(J$22=0,$A29=0),0,IF('Predek KV'!X25=0,0,IF(logic!$A$89=0,0,ROUND('Predek KV'!J25,0))))","v":710},{"$f":"IF(OR(K$22=0,$A29=0),0,IF('Predek KV'!Y25=0,0,IF(logic!$A$89=0,0,ROUND('Predek KV'!K25,0))))","v":881},{"$f":"IF(OR(L$22=0,$A29=0),0,IF('Predek KV'!Z25=0,0,IF(logic!$A$89=0,0,ROUND('Predek KV'!L25,0))))","v":1045}]
[{"$f":"IF(AND($J$5=Jazyk!$D$4,$L$5=Jazyk!$D$4),1,IF(AND(B30>=$J$5,B30<=$L$5),1,0))","v":1},662,null,{"$f":"IF(OR(D$22=0,$A30=0),0,IF('Predek KV'!R26=0,0,IF(logic!$A$89=0,0,ROUND('Predek KV'!D26,0))))","v":647},{"$f":"IF(OR(E$22=0,$A30=0),0,IF('Predek KV'!S26=0,0,IF(logic!$A$89=0,0,ROUND('Predek KV'!E26,0))))","v":819},{"$f":"IF(OR(F$22=0,$A30=0),0,IF('Predek KV'!T26=0,0,IF(logic!$A$89=0,0,ROUND('Predek KV'!F26,0))))","v":962},{"$f":"IF(OR(G$22=0,$A30=0),0,IF('Predek KV'!U26=0,0,IF(logic!$A$89=0,0,ROUND('Predek KV'!G26,0))))","v":724},{"$f":"IF(OR(H$22=0,$A30=0),0,IF('Predek KV'!V26=0,0,IF(logic!$A$89=0,0,ROUND('Predek KV'!H26,0))))","v":906},{"$f":"IF(OR(I$22=0,$A30=0),0,IF('Predek KV'!W26=0,0,IF(logic!$A$89=0,0,ROUND('Predek KV'!I26,0))))","v":1070},{"$f":"IF(OR(J$22=0,$A30=0),0,IF('Predek KV'!X26=0,0,IF(logic!$A$89=0,0,ROUND('Predek KV'!J26,0))))","v":800},{"$f":"IF(OR(K$22=0,$A30=0),0,IF('Predek KV'!Y26=0,0,IF(logic!$A$89=0,0,ROUND('Predek KV'!K26,0))))","v":992},{"$f":"IF(OR(L$22=0,$A30=0),0,IF('Predek KV'!Z26=0,0,IF(logic!$A$89=0,0,ROUND('Predek KV'!L26,0))))","v":1176}]
[{"$f":"IF(AND($J$5=Jazyk!$D$4,$L$5=Jazyk!$D$4),1,IF(AND(B31>=$J$5,B31<=$L$5),1,0))","v":1},884,null,{"$f":"IF(OR(D$22=0,$A31=0),0,IF('Predek KV'!R27=0,0,IF(logic!$A$89=0,0,ROUND('Predek KV'!D27,0))))","v":864},{"$f":"IF(OR(E$22=0,$A31=0),0,IF('Predek KV'!S27=0,0,IF(logic!$A$89=0,0,ROUND('Predek KV'!E27,0))))","v":1094},{"$f":"IF(OR(F$22=0,$A31=0),0,IF('Predek KV'!T27=0,0,IF(logic!$A$89=0,0,ROUND('Predek KV'!F27,0))))","v":1284},{"$f":"IF(OR(G$22=0,$A31=0),0,IF('Predek KV'!U27=0,0,IF(logic!$A$89=0,0,ROUND('Predek KV'!G27,0))))","v":966},{"$f":"IF(OR(H$22=0,$A31=0),0,IF('Predek KV'!V27=0,0,IF(logic!$A$89=0,0,ROUND('Predek KV'!H27,0))))","v":1210},{"$f":"IF(OR(I$22=0,$A31=0),0,IF('Predek KV'!W27=0,0,IF(logic!$A$89=0,0,ROUND('Predek KV'!I27,0))))","v":1429},{"$f":"IF(OR(J$22=0,$A31=0),0,IF('Predek KV'!X27=0,0,IF(logic!$A$89=0,0,ROUND('Predek KV'!J27,0))))","v":1068},{"$f":"IF(OR(K$22=0,$A31=0),0,IF('Predek KV'!Y27=0,0,IF(logic!$A$89=0,0,ROUND('Predek KV'!K27,0))))","v":1324},{"$f":"IF(OR(L$22=0,$A31=0),0,IF('Predek KV'!Z27=0,0,IF(logic!$A$89=0,0,ROUND('Predek KV'!L27,0))))","v":1571}]
[{"$f":"IF(AND($J$5=Jazyk!$D$4,$L$5=Jazyk!$D$4),1,IF(AND(B32>=$J$5,B32<=$L$5),1,0))","v":1},958,null,{"$f":"IF(OR(D$22=0,$A32=0),0,IF('Predek KV'!R28=0,0,IF(logic!$A$89=0,0,ROUND('Predek KV'!D28,0))))","v":936},{"$f":"IF(OR(E$22=0,$A32=0),0,IF('Predek KV'!S28=0,0,IF(logic!$A$89=0,0,ROUND('Predek KV'!E28,0))))","v":1185},{"$f":"IF(OR(F$22=0,$A32=0),0,IF('Predek KV'!T28=0,0,IF(logic!$A$89=0,0,ROUND('Predek KV'!F28,0))))","v":1392},{"$f":"IF(OR(G$22=0,$A32=0),0,IF('Predek KV'!U28=0,0,IF(logic!$A$89=0,0,ROUND('Predek KV'!G28,0))))","v":1047},{"$f":"IF(OR(H$22=0,$A32=0),0,IF('Predek KV'!V28=0,0,IF(logic!$A$89=0,0,ROUND('Predek KV'!H28,0))))","v":1312},{"$f":"IF(OR(I$22=0,$A32=0),0,IF('Predek KV'!W28=0,0,IF(logic!$A$89=0,0,ROUND('Predek KV'!I28,0))))","v":1548},{"$f":"IF(OR(J$22=0,$A32=0),0,IF('Predek KV'!X28=0,0,IF(logic!$A$89=0,0,ROUND('Predek KV'!J28,0))))","v":1157},{"$f":"IF(OR(K$22=0,$A32=0),0,IF('Predek KV'!Y28=0,0,IF(logic!$A$89=0,0,ROUND('Predek KV'!K28,0))))","v":0},{"$f":"IF(OR(L$22=0,$A32=0),0,IF('Predek KV'!Z28=0,0,IF(logic!$A$89=0,0,ROUND('Predek KV'!L28,0))))","v":1702}]
[]
[null,null,null,{"$f":"IF(AND($J$6=Jazyk!$D$4,$L$6=Jazyk!$D$4),1,IF(AND(D35>=$J$6,D35<=$L$6),1,0))","v":1},{"$f":"IF(AND($J$6=Jazyk!$D$4,$L$6=Jazyk!$D$4),1,IF(AND(E35>=$J$6,E35<=$L$6),1,0))","v":1},{"$f":"IF(AND($J$6=Jazyk!$D$4,$L$6=Jazyk!$D$4),1,IF(AND(F35>=$J$6,F35<=$L$6),1,0))","v":1},{"$f":"IF(AND($J$6=Jazyk!$D$4,$L$6=Jazyk!$D$4),1,IF(AND(G35>=$J$6,G35<=$L$6),1,0))","v":1},{"$f":"IF(AND($J$6=Jazyk!$D$4,$L$6=Jazyk!$D$4),1,IF(AND(H35>=$J$6,H35<=$L$6),1,0))","v":1},{"$f":"IF(AND($J$6=Jazyk!$D$4,$L$6=Jazyk!$D$4),1,IF(AND(I35>=$J$6,I35<=$L$6),1,0))","v":1},{"$f":"IF(AND($J$6=Jazyk!$D$4,$L$6=Jazyk!$D$4),1,IF(AND(J35>=$J$6,J35<=$L$6),1,0))","v":1},{"$f":"IF(AND($J$6=Jazyk!$D$4,$L$6=Jazyk!$D$4),1,IF(AND(K35>=$J$6,K35<=$L$6),1,0))","v":1},{"$f":"IF(AND($J$6=Jazyk!$D$4,$L$6=Jazyk!$D$4),1,IF(AND(L35>=$J$6,L35<=$L$6),1,0))","v":1}]
[null,{"$f":"Jazyk!$G$27","v":"Височина [mm]"},null,{"$f":"E35","v":1100},1100,{"$f":"E35","v":1100},{"$f":"H35","v":1200},1200,{"$f":"H35","v":1200},{"$f":"K35","v":1400},1400,{"$f":"K35","v":1400}]
[null,{"$f":"Jazyk!$H$27","v":"Дължина [mm]"},null,{"$f":"D24","v":"K10VM"},{"$f":"E24","v":"K11VM"},"K20VM","K10VM","K11VM","K20VM","K10VM","K11VM","K20VM"]
[{"$f":"IF(AND($J$5=Jazyk!$D$4,$L$5=Jazyk!$D$4),1,IF(AND(B37>=$J$5,B37<=$L$5),1,0))","v":1},144,null,{"$f":"IF(OR(D$34=0,$A37=0),0,IF('Predek KV'!R33=0,0,IF(logic!$A$89=0,0,ROUND('Predek KV'!D33,0))))","v":191},{"$f":"IF(OR(E$34=0,$A37=0),0,IF('Predek KV'!S33=0,0,IF(logic!$A$89=0,0,ROUND('Predek KV'!E33,0))))","v":234},{"$f":"IF(OR(F$34=0,$A37=0),0,IF('Predek KV'!T33=0,0,IF(logic!$A$89=0,0,ROUND('Predek KV'!F33,0))))","v":279},{"$f":"IF(OR(G$34=0,$A37=0),0,IF('Predek KV'!U33=0,0,IF(logic!$A$89=0,0,ROUND('Predek KV'!G33,0))))","v":207},{"$f":"IF(OR(H$34=0,$A37=0),0,IF('Predek KV'!V33=0,0,IF(logic!$A$89=0,0,ROUND('Predek KV'!H33,0))))","v":252},{"$f":"IF(OR(I$34=0,$A37=0),0,IF('Predek KV'!W33=0,0,IF(logic!$A$89=0,0,ROUND('Predek KV'!I33,0))))","v":302},{"$f":"IF(OR(J$34=0,$A37=0),0,IF('Predek KV'!X33=0,0,IF(logic!$A$89=0,0,ROUND('Predek KV'!J33,0))))","v":240},{"$f":"IF(OR(K$34=0,$A37=0),0,IF('Predek KV'!Y33=0,0,IF(logic!$A$89=0,0,ROUND('Predek KV'!K33,0))))","v":287},{"$f":"IF(OR(L$34=0,$A37=0),0,IF('Predek KV'!Z33=0,0,IF(logic!$A$89=0,0,ROUND('Predek KV'!L33,0))))","v":347}]
[{"$f":"IF(AND($J$5=Jazyk!$D$4,$L$5=Jazyk!$D$4),1,IF(AND(B38>=$J$5,B38<=$L$5),1,0))","v":1},218,null,{"$f":"IF(OR(D$34=0,$A38=0),0,IF('Predek KV'!R34=0,0,IF(logic!$A$89=0,0,ROUND('Predek KV'!D34,0))))","v":289},{"$f":"IF(OR(E$34=0,$A38=0),0,IF('Predek KV'!S34=0,0,IF(logic!$A$89=0,0,ROUND('Predek KV'!E34,0))))","v":354},{"$f":"IF(OR(F$34=0,$A38=0),0,IF('Predek KV'!T34=0,0,IF(logic!$A$89=0,0,ROUND('Predek KV'!F34,0))))","v":422},{"$f":"IF(OR(G$34=0,$A38=0),0,IF('Predek KV'!U34=0,0,IF(logic!$A$89=0,0,ROUND('Predek KV'!G34,0))))","v":314},{"$f":"IF(OR(H$34=0,$A38=0),0,IF('Predek KV'!V34=0,0,IF(logic!$A$89=0,0,ROUND('Predek KV'!H34,0))))","v":382},{"$f":"IF(OR(I$34=0,$A38=0),0,IF('Predek KV'!W34=0,0,IF(logic!$A$89=0,0,ROUND('Predek KV'!I34,0))))","v":457},{"$f":"IF(OR(J$34=0,$A38=0),0,IF('Predek KV'!X34=0,0,IF(logic!$A$89=0,0,ROUND('Predek KV'!J34,0))))","v":364},{"$f":"IF(OR(K$34=0,$A38=0),0,IF('Predek KV'!Y34=0,0,IF(logic!$A$89=0,0,ROUND('Predek KV'!K34,0))))","v":435},{"$f":"IF(OR(L$34=0,$A38=0),0,IF('Predek KV'!Z34=0,0,IF(logic!$A$89=0,0,ROUND('Predek KV'!L34,0))))","v":525}]
[{"$f":"IF(AND($J$5=Jazyk!$D$4,$L$5=Jazyk!$D$4),1,IF(AND(B39>=$J$5,B39<=$L$5),1,0))","v":1},366,null,{"$f":"IF(OR(D$34=0,$A39=0),0,IF('Predek KV'!R35=0,0,IF(logic!$A$89=0,0,ROUND('Predek KV'!D35,0))))","v":485},{"$f":"IF(OR(E$34=0,$A39=0),0,IF('Predek KV'!S35=0,0,IF(logic!$A$89=0,0,ROUND('Predek KV'!E35,0))))","v":595},{"$f":"IF(OR(F$34=0,$A39=0),0,IF('Predek KV'!T35=0,0,IF(logic!$A$89=0,0,ROUND('Predek KV'!F35,0))))","v":709},{"$f":"IF(OR(G$34=0,$A39=0),0,IF('Predek KV'!U35=0,0,IF(logic!$A$89=0,0,ROUND('Predek KV'!G35,0))))","v":527},{"$f":"IF(OR(H$34=0,$A39=0),0,IF('Predek KV'!V35=0,0,IF(logic!$A$89=0,0,ROUND('Predek KV'!H35,0))))","v":641},{"$f":"IF(OR(I$34=0,$A39=0),0,IF('Predek KV'!W35=0,0,IF(logic!$A$89=0,0,ROUND('Predek KV'!I35,0))))","v":767},{"$f":"IF(OR(J$34=0,$A39=0),0,IF('Predek KV'!X35=0,0,IF(logic!$A$89=0,0,ROUND('Predek KV'!J35,0))))","v":611},{"$f":"IF(OR(K$34=0,$A39=0),0,IF('Predek KV'!Y35=0,0,IF(logic!$A$89=0,0,ROUND('Predek KV'!K35,0))))","v":731},{"$f":"IF(OR(L$34=0,$A39=0),0,IF('Predek KV'!Z35=0,0,IF(logic!$A$89=0,0,ROUND('Predek KV'!L35,0))))","v":881}]
[{"$f":"IF(AND($J$5=Jazyk!$D$4,$L$5=Jazyk!$D$4),1,IF(AND(B40>=$J$5,B40<=$L$5),1,0))","v":1},514,null,{"$f":"IF(OR(D$34=0,$A40=0),0,IF('Predek KV'!R36=0,0,IF(logic!$A$89=0,0,ROUND('Predek KV'!D36,0))))","v":681},{"$f":"IF(OR(E$34=0,$A40=0),0,IF('Predek KV'!S36=0,0,IF(logic!$A$89=0,0,ROUND('Predek KV'!E36,0))))","v":836},{"$f":"IF(OR(F$34=0,$A40=0),0,IF('Predek KV'!T36=0,0,IF(logic!$A$89=0,0,ROUND('Predek KV'!F36,0))))","v":996},{"$f":"IF(OR(G$34=0,$A40=0),0,IF('Predek KV'!U36=0,0,IF(logic!$A$89=0,0,ROUND('Predek KV'!G36,0))))","v":740},{"$f":"IF(OR(H$34=0,$A40=0),0,IF('Predek KV'!V36=0,0,IF(logic!$A$89=0,0,ROUND('Predek KV'!H36,0))))","v":900},{"$f":"IF(OR(I$34=0,$A40=0),0,IF('Predek KV'!W36=0,0,IF(logic!$A$89=0,0,ROUND('Predek KV'!I36,0))))","v":1077},{"$f":"IF(OR(J$34=0,$A40=0),0,IF('Predek KV'!X36=0,0,IF(logic!$A$89=0,0,ROUND('Predek KV'!J36,0))))","v":858},{"$f":"IF(OR(K$34=0,$A40=0),0,IF('Predek KV'!Y36=0,0,IF(logic!$A$89=0,0,ROUND('Predek KV'!K36,0))))","v":1026},{"$f":"IF(OR(L$34=0,$A40=0),0,IF('Predek KV'!Z36=0,0,IF(logic!$A$89=0,0,ROUND('Predek KV'!L36,0))))","v":1237}]
[{"$f":"IF(AND($J$5=Jazyk!$D$4,$L$5=Jazyk!$D$4),1,IF(AND(B41>=$J$5,B41<=$L$5),1,0))","v":1},588,null,{"$f":"IF(OR(D$34=0,$A41=0),0,IF('Predek KV'!R37=0,0,IF(logic!$A$89=0,0,ROUND('Predek KV'!D37,0))))","v":779},{"$f":"IF(OR(E$34=0,$A41=0),0,IF('Predek KV'!S37=0,0,IF(logic!$A$89=0,0,ROUND('Predek KV'!E37,0))))","v":956},{"$f":"IF(OR(F$34=0,$A41=0),0,IF('Predek KV'!T37=0,0,IF(logic!$A$89=0,0,ROUND('Predek KV'!F37,0))))","v":1139},{"$f":"IF(OR(G$34=0,$A41=0),0,IF('Predek KV'!U37=0,0,IF(logic!$A$89=0,0,ROUND('Predek KV'!G37,0))))","v":846},{"$f":"IF(OR(H$34=0,$A41=0),0,IF('Predek KV'!V37=0,0,IF(logic!$A$89=0,0,ROUND('Predek KV'!H37,0))))","v":1030},{"$f":"IF(OR(I$34=0,$A41=0),0,IF('Predek KV'!W37=0,0,IF(logic!$A$89=0,0,ROUND('Predek KV'!I37,0))))","v":1232},{"$f":"IF(OR(J$34=0,$A41=0),0,IF('Predek KV'!X37=0,0,IF(logic!$A$89=0,0,ROUND('Predek KV'!J37,0))))","v":982},{"$f":"IF(OR(K$34=0,$A41=0),0,IF('Predek KV'!Y37=0,0,IF(logic!$A$89=0,0,ROUND('Predek KV'!K37,0))))","v":1174},{"$f":"IF(OR(L$34=0,$A41=0),0,IF('Predek KV'!Z37=0,0,IF(logic!$A$89=0,0,ROUND('Predek KV'!L37,0))))","v":1415}]
[{"$f":"IF(AND($J$5=Jazyk!$D$4,$L$5=Jazyk!$D$4),1,IF(AND(B42>=$J$5,B42<=$L$5),1,0))","v":1},662,null,{"$f":"IF(OR(D$34=0,$A42=0),0,IF('Predek KV'!R38=0,0,IF(logic!$A$89=0,0,ROUND('Predek KV'!D38,0))))","v":876},{"$f":"IF(OR(E$34=0,$A42=0),0,IF('Predek KV'!S38=0,0,IF(logic!$A$89=0,0,ROUND('Predek KV'!E38,0))))","v":1076},{"$f":"IF(OR(F$34=0,$A42=0),0,IF('Predek KV'!T38=0,0,IF(logic!$A$89=0,0,ROUND('Predek KV'!F38,0))))","v":1282},{"$f":"IF(OR(G$34=0,$A42=0),0,IF('Predek KV'!U38=0,0,IF(logic!$A$89=0,0,ROUND('Predek KV'!G38,0))))","v":953},{"$f":"IF(OR(H$34=0,$A42=0),0,IF('Predek KV'!V38=0,0,IF(logic!$A$89=0,0,ROUND('Predek KV'!H38,0))))","v":1159},{"$f":"IF(OR(I$34=0,$A42=0),0,IF('Predek KV'!W38=0,0,IF(logic!$A$89=0,0,ROUND('Predek KV'!I38,0))))","v":1387},{"$f":"IF(OR(J$34=0,$A42=0),0,IF('Predek KV'!X38=0,0,IF(logic!$A$89=0,0,ROUND('Predek KV'!J38,0))))","v":1106},{"$f":"IF(OR(K$34=0,$A42=0),0,IF('Predek KV'!Y38=0,0,IF(logic!$A$89=0,0,ROUND('Predek KV'!K38,0))))","v":1321},{"$f":"IF(OR(L$34=0,$A42=0),0,IF('Predek KV'!Z38=0,0,IF(logic!$A$89=0,0,ROUND('Predek KV'!L38,0))))","v":1593}]
[{"$f":"IF(AND($J$5=Jazyk!$D$4,$L$5=Jazyk!$D$4),1,IF(AND(B43>=$J$5,B43<=$L$5),1,0))","v":1},884,null,{"$f":"IF(OR(D$34=0,$A43=0),0,IF('Predek KV'!R39=0,0,IF(logic!$A$89=0,0,ROUND('Predek KV'!D39,0))))","v":1170},{"$f":"IF(OR(E$34=0,$A43=0),0,IF('Predek KV'!S39=0,0,IF(logic!$A$89=0,0,ROUND('Predek KV'!E39,0))))","v":1437},{"$f":"IF(OR(F$34=0,$A43=0),0,IF('Predek KV'!T39=0,0,IF(logic!$A$89=0,0,ROUND('Predek KV'!F39,0))))","v":1712},{"$f":"IF(OR(G$34=0,$A43=0),0,IF('Predek KV'!U39=0,0,IF(logic!$A$89=0,0,ROUND('Predek KV'!G39,0))))","v":1272},{"$f":"IF(OR(H$34=0,$A43=0),0,IF('Predek KV'!V39=0,0,IF(logic!$A$89=0,0,ROUND('Predek KV'!H39,0))))","v":1548},{"$f":"IF(OR(I$34=0,$A43=0),0,IF('Predek KV'!W39=0,0,IF(logic!$A$89=0,0,ROUND('Predek KV'!I39,0))))","v":1852},{"$f":"IF(OR(J$34=0,$A43=0),0,IF('Predek KV'!X39=0,0,IF(logic!$A$89=0,0,ROUND('Predek KV'!J39,0))))","v":1476},{"$f":"IF(OR(K$34=0,$A43=0),0,IF('Predek KV'!Y39=0,0,IF(logic!$A$89=0,0,ROUND('Predek KV'!K39,0))))","v":1764},{"$f":"IF(OR(L$34=0,$A43=0),0,IF('Predek KV'!Z39=0,0,IF(logic!$A$89=0,0,ROUND('Predek KV'!L39,0))))","v":2128}]
[{"$f":"IF(AND($J$5=Jazyk!$D$4,$L$5=Jazyk!$D$4),1,IF(AND(B44>=$J$5,B44<=$L$5),1,0))","v":1},958,null,{"$f":"IF(OR(D$34=0,$A44=0),0,IF('Predek KV'!R40=0,0,IF(logic!$A$89=0,0,ROUND('Predek KV'!D40,0))))","v":1268},{"$f":"IF(OR(E$34=0,$A44=0),0,IF('Predek KV'!S40=0,0,IF(logic!$A$89=0,0,ROUND('Predek KV'!E40,0))))","v":0},{"$f":"IF(OR(F$34=0,$A44=0),0,IF('Predek KV'!T40=0,0,IF(logic!$A$89=0,0,ROUND('Predek KV'!F40,0))))","v":1856},{"$f":"IF(OR(G$34=0,$A44=0),0,IF('Predek KV'!U40=0,0,IF(logic!$A$89=0,0,ROUND('Predek KV'!G40,0))))","v":1379},{"$f":"IF(OR(H$34=0,$A44=0),0,IF('Predek KV'!V40=0,0,IF(logic!$A$89=0,0,ROUND('Predek KV'!H40,0))))","v":0},{"$f":"IF(OR(I$34=0,$A44=0),0,IF('Predek KV'!W40=0,0,IF(logic!$A$89=0,0,ROUND('Predek KV'!I40,0))))","v":2007},{"$f":"IF(OR(J$34=0,$A44=0),0,IF('Predek KV'!X40=0,0,IF(logic!$A$89=0,0,ROUND('Predek KV'!J40,0))))","v":1600},{"$f":"IF(OR(K$34=0,$A44=0),0,IF('Predek KV'!Y40=0,0,IF(logic!$A$89=0,0,ROUND('Predek KV'!K40,0))))","v":0},{"$f":"IF(OR(L$34=0,$A44=0),0,IF('Predek KV'!Z40=0,0,IF(logic!$A$89=0,0,ROUND('Predek KV'!L40,0))))","v":2306}]
[]
[null,null,null,{"$f":"IF(AND($J$6=Jazyk!$D$4,$L$6=Jazyk!$D$4),1,IF(AND(D47>=$J$6,D47<=$L$6),1,0))","v":1},{"$f":"IF(AND($J$6=Jazyk!$D$4,$L$6=Jazyk!$D$4),1,IF(AND(E47>=$J$6,E47<=$L$6),1,0))","v":1},{"$f":"IF(AND($J$6=Jazyk!$D$4,$L$6=Jazyk!$D$4),1,IF(AND(F47>=$J$6,F47<=$L$6),1,0))","v":1},{"$f":"IF(AND($J$6=Jazyk!$D$4,$L$6=Jazyk!$D$4),1,IF(AND(G47>=$J$6,G47<=$L$6),1,0))","v":1},{"$f":"IF(AND($J$6=Jazyk!$D$4,$L$6=Jazyk!$D$4),1,IF(AND(H47>=$J$6,H47<=$L$6),1,0))","v":1},{"$f":"IF(AND($J$6=Jazyk!$D$4,$L$6=Jazyk!$D$4),1,IF(AND(I47>=$J$6,I47<=$L$6),1,0))","v":1},{"$f":"IF(AND($J$6=Jazyk!$D$4,$L$6=Jazyk!$D$4),1,IF(AND(J47>=$J$6,J47<=$L$6),1,0))","v":1},{"$f":"IF(AND($J$6=Jazyk!$D$4,$L$6=Jazyk!$D$4),1,IF(AND(K47>=$J$6,K47<=$L$6),1,0))","v":1},{"$f":"IF(AND($J$6=Jazyk!$D$4,$L$6=Jazyk!$D$4),1,IF(AND(L47>=$J$6,L47<=$L$6),1,0))","v":1}]
[null,{"$f":"Jazyk!$G$27","v":"Височина [mm]"},null,{"$f":"E47","v":1600},1600,{"$f":"E47","v":1600},{"$f":"H47","v":1800},1800,{"$f":"H47","v":1800},{"$f":"K47","v":2000},2000,{"$f":"K47","v":2000}]
[null,{"$f":"Jazyk!$H$27","v":"Дължина [mm]"},null,{"$f":"D36","v":"K10VM"},{"$f":"E36","v":"K11VM"},"K20VM","K10VM","K11VM","K20VM","K10VM","K11VM","K20VM"]
[{"$f":"IF(AND($J$5=Jazyk!$D$4,$L$5=Jazyk!$D$4),1,IF(AND(B49>=$J$5,B49<=$L$5),1,0))","v":1},144,null,{"$f":"IF(OR(D$46=0,$A49=0),0,IF('Predek KV'!R45=0,0,IF(logic!$A$89=0,0,ROUND('Predek KV'!D45,0))))","v":274},{"$f":"IF(OR(E$46=0,$A49=0),0,IF('Predek KV'!S45=0,0,IF(logic!$A$89=0,0,ROUND('Predek KV'!E45,0))))","v":322},{"$f":"IF(OR(F$46=0,$A49=0),0,IF('Predek KV'!T45=0,0,IF(logic!$A$89=0,0,ROUND('Predek KV'!F45,0))))","v":391},{"$f":"IF(OR(G$46=0,$A49=0),0,IF('Predek KV'!U45=0,0,IF(logic!$A$89=0,0,ROUND('Predek KV'!G45,0))))","v":307},{"$f":"IF(OR(H$46=0,$A49=0),0,IF('Predek KV'!V45=0,0,IF(logic!$A$89=0,0,ROUND('Predek KV'!H45,0))))","v":355},{"$f":"IF(OR(I$46=0,$A49=0),0,IF('Predek KV'!W45=0,0,IF(logic!$A$89=0,0,ROUND('Predek KV'!I45,0))))","v":435},{"$f":"IF(OR(J$46=0,$A49=0),0,IF('Predek KV'!X45=0,0,IF(logic!$A$89=0,0,ROUND('Predek KV'!J45,0))))","v":340},{"$f":"IF(OR(K$46=0,$A49=0),0,IF('Predek KV'!Y45=0,0,IF(logic!$A$89=0,0,ROUND('Predek KV'!K45,0))))","v":388},{"$f":"IF(OR(L$46=0,$A49=0),0,IF('Predek KV'!Z45=0,0,IF(logic!$A$89=0,0,ROUND('Predek KV'!L45,0))))","v":478}]
[{"$f":"IF(AND($J$5=Jazyk!$D$4,$L$5=Jazyk!$D$4),1,IF(AND(B50>=$J$5,B50<=$L$5),1,0))","v":1},218,null,{"$f":"IF(OR(D$46=0,$A50=0),0,IF('Predek KV'!R46=0,0,IF(logic!$A$89=0,0,ROUND('Predek KV'!D46,0))))","v":414},{"$f":"IF(OR(E$46=0,$A50=0),0,IF('Predek KV'!S46=0,0,IF(logic!$A$89=0,0,ROUND('Predek KV'!E46,0))))","v":487},{"$f":"IF(OR(F$46=0,$A50=0),0,IF('Predek KV'!T46=0,0,IF(logic!$A$89=0,0,ROUND('Predek KV'!F46,0))))","v":592},{"$f":"IF(OR(G$46=0,$A50=0),0,IF('Predek KV'!U46=0,0,IF(logic!$A$89=0,0,ROUND('Predek KV'!G46,0))))","v":465},{"$f":"IF(OR(H$46=0,$A50=0),0,IF('Predek KV'!V46=0,0,IF(logic!$A$89=0,0,ROUND('Predek KV'!H46,0))))","v":538},{"$f":"IF(OR(I$46=0,$A50=0),0,IF('Predek KV'!W46=0,0,IF(logic!$A$89=0,0,ROUND('Predek KV'!I46,0))))","v":658},{"$f":"IF(OR(J$46=0,$A50=0),0,IF('Predek KV'!X46=0,0,IF(logic!$A$89=0,0,ROUND('Predek KV'!J46,0))))","v":515},{"$f":"IF(OR(K$46=0,$A50=0),0,IF('Predek KV'!Y46=0,0,IF(logic!$A$89=0,0,ROUND('Predek KV'!K46,0))))","v":587},{"$f":"IF(OR(L$46=0,$A50=0),0,IF('Predek KV'!Z46=0,0,IF(logic!$A$89=0,0,ROUND('Predek KV'!L46,0))))","v":724}]
[{"$f":"IF(AND($J$5=Jazyk!$D$4,$L$5=Jazyk!$D$4),1,IF(AND(B51>=$J$5,B51<=$L$5),1,0))","v":1},366,null,{"$f":"IF(OR(D$46=0,$A51=0),0,IF('Predek KV'!R47=0,0,IF(logic!$A$89=0,0,ROUND('Predek KV'!D47,0))))","v":695},{"$f":"IF(OR(E$46=0,$A51=0),0,IF('Predek KV'!S47=0,0,IF(logic!$A$89=0,0,ROUND('Predek KV'!E47,0))))","v":818},{"$f":"IF(OR(F$46=0,$A51=0),0,IF('Predek KV'!T47=0,0,IF(logic!$A$89=0,0,ROUND('Predek KV'!F47,0))))","v":994},{"$f":"IF(OR(G$46=0,$A51=0),0,IF('Predek KV'!U47=0,0,IF(logic!$A$89=0,0,ROUND('Predek KV'!G47,0))))","v":780},{"$f":"IF(OR(H$46=0,$A51=0),0,IF('Predek KV'!V47=0,0,IF(logic!$A$89=0,0,ROUND('Predek KV'!H47,0))))","v":903},{"$f":"IF(OR(I$46=0,$A51=0),0,IF('Predek KV'!W47=0,0,IF(logic!$A$89=0,0,ROUND('Predek KV'!I47,0))))","v":1105},{"$f":"IF(OR(J$46=0,$A51=0),0,IF('Predek KV'!X47=0,0,IF(logic!$A$89=0,0,ROUND('Predek KV'!J47,0))))","v":865},{"$f":"IF(OR(K$46=0,$A51=0),0,IF('Predek KV'!Y47=0,0,IF(logic!$A$89=0,0,ROUND('Predek KV'!K47,0))))","v":985},{"$f":"IF(OR(L$46=0,$A51=0),0,IF('Predek KV'!Z47=0,0,IF(logic!$A$89=0,0,ROUND('Predek KV'!L47,0))))","v":1215}]
[{"$f":"IF(AND($J$5=Jazyk!$D$4,$L$5=Jazyk!$D$4),1,IF(AND(B52>=$J$5,B52<=$L$5),1,0))","v":1},514,null,{"$f":"IF(OR(D$46=0,$A52=0),0,IF('Predek KV'!R48=0,0,IF(logic!$A$89=0,0,ROUND('Predek KV'!D48,0))))","v":977},{"$f":"IF(OR(E$46=0,$A52=0),0,IF('Predek KV'!S48=0,0,IF(logic!$A$89=0,0,ROUND('Predek KV'!E48,0))))","v":1148},{"$f":"IF(OR(F$46=0,$A52=0),0,IF('Predek KV'!T48=0,0,IF(logic!$A$89=0,0,ROUND('Predek KV'!F48,0))))","v":1396},{"$f":"IF(OR(G$46=0,$A52=0),0,IF('Predek KV'!U48=0,0,IF(logic!$A$89=0,0,ROUND('Predek KV'!G48,0))))","v":1095},{"$f":"IF(OR(H$46=0,$A52=0),0,IF('Predek KV'!V48=0,0,IF(logic!$A$89=0,0,ROUND('Predek KV'!H48,0))))","v":1268},{"$f":"IF(OR(I$46=0,$A52=0),0,IF('Predek KV'!W48=0,0,IF(logic!$A$89=0,0,ROUND('Predek KV'!I48,0))))","v":1552},{"$f":"IF(OR(J$46=0,$A52=0),0,IF('Predek KV'!X48=0,0,IF(logic!$A$89=0,0,ROUND('Predek KV'!J48,0))))","v":1215},{"$f":"IF(OR(K$46=0,$A52=0),0,IF('Predek KV'!Y48=0,0,IF(logic!$A$89=0,0,ROUND('Predek KV'!K48,0))))","v":1384},{"$f":"IF(OR(L$46=0,$A52=0),0,IF('Predek KV'!Z48=0,0,IF(logic!$A$89=0,0,ROUND('Predek KV'!L48,0))))","v":1706}]
[{"$f":"IF(AND($J$5=Jazyk!$D$4,$L$5=Jazyk!$D$4),1,IF(AND(B53>=$J$5,B53<=$L$5),1,0))","v":1},588,null,{"$f":"IF(OR(D$46=0,$A53=0),0,IF('Predek KV'!R49=0,0,IF(logic!$A$89=0,0,ROUND('Predek KV'!D49,0))))","v":1117},{"$f":"IF(OR(E$46=0,$A53=0),0,IF('Predek KV'!S49=0,0,IF(logic!$A$89=0,0,ROUND('Predek KV'!E49,0))))","v":1314},{"$f":"IF(OR(F$46=0,$A53=0),0,IF('Predek KV'!T49=0,0,IF(logic!$A$89=0,0,ROUND('Predek KV'!F49,0))))","v":1596},{"$f":"IF(OR(G$46=0,$A53=0),0,IF('Predek KV'!U49=0,0,IF(logic!$A$89=0,0,ROUND('Predek KV'!G49,0))))","v":1253},{"$f":"IF(OR(H$46=0,$A53=0),0,IF('Predek KV'!V49=0,0,IF(logic!$A$89=0,0,ROUND('Predek KV'!H49,0))))","v":1450},{"$f":"IF(OR(I$46=0,$A53=0),0,IF('Predek KV'!W49=0,0,IF(logic!$A$89=0,0,ROUND('Predek KV'!I49,0))))","v":1775},{"$f":"IF(OR(J$46=0,$A53=0),0,IF('Predek KV'!X49=0,0,IF(logic!$A$89=0,0,ROUND('Predek KV'!J49,0))))","v":1389},{"$f":"IF(OR(K$46=0,$A53=0),0,IF('Predek KV'!Y49=0,0,IF(logic!$A$89=0,0,ROUND('Predek KV'!K49,0))))","v":1583},{"$f":"IF(OR(L$46=0,$A53=0),0,IF('Predek KV'!Z49=0,0,IF(logic!$A$89=0,0,ROUND('Predek KV'!L49,0))))","v":1952}]
[{"$f":"IF(AND($J$5=Jazyk!$D$4,$L$5=Jazyk!$D$4),1,IF(AND(B54>=$J$5,B54<=$L$5),1,0))","v":1},662,null,{"$f":"IF(OR(D$46=0,$A54=0),0,IF('Predek KV'!R50=0,0,IF(logic!$A$89=0,0,ROUND('Predek KV'!D50,0))))","v":1258},{"$f":"IF(OR(E$46=0,$A54=0),0,IF('Predek KV'!S50=0,0,IF(logic!$A$89=0,0,ROUND('Predek KV'!E50,0))))","v":1479},{"$f":"IF(OR(F$46=0,$A54=0),0,IF('Predek KV'!T50=0,0,IF(logic!$A$89=0,0,ROUND('Predek KV'!F50,0))))","v":1797},{"$f":"IF(OR(G$46=0,$A54=0),0,IF('Predek KV'!U50=0,0,IF(logic!$A$89=0,0,ROUND('Predek KV'!G50,0))))","v":1411},{"$f":"IF(OR(H$46=0,$A54=0),0,IF('Predek KV'!V50=0,0,IF(logic!$A$89=0,0,ROUND('Predek KV'!H50,0))))","v":1632},{"$f":"IF(OR(I$46=0,$A54=0),0,IF('Predek KV'!W50=0,0,IF(logic!$A$89=0,0,ROUND('Predek KV'!I50,0))))","v":1999},{"$f":"IF(OR(J$46=0,$A54=0),0,IF('Predek KV'!X50=0,0,IF(logic!$A$89=0,0,ROUND('Predek KV'!J50,0))))","v":1564},{"$f":"IF(OR(K$46=0,$A54=0),0,IF('Predek KV'!Y50=0,0,IF(logic!$A$89=0,0,ROUND('Predek KV'!K50,0))))","v":1782},{"$f":"IF(OR(L$46=0,$A54=0),0,IF('Predek KV'!Z50=0,0,IF(logic!$A$89=0,0,ROUND('Predek KV'!L50,0))))","v":2198}]
[{"$f":"IF(AND($J$5=Jazyk!$D$4,$L$5=Jazyk!$D$4),1,IF(AND(B55>=$J$5,B55<=$L$5),1,0))","v":1},884,null,{"$f":"IF(OR(D$46=0,$A55=0),0,IF('Predek KV'!R51=0,0,IF(logic!$A$89=0,0,ROUND('Predek KV'!D51,0))))","v":1680},{"$f":"IF(OR(E$46=0,$A55=0),0,IF('Predek KV'!S51=0,0,IF(logic!$A$89=0,0,ROUND('Predek KV'!E51,0))))","v":1975},{"$f":"IF(OR(F$46=0,$A55=0),0,IF('Predek KV'!T51=0,0,IF(logic!$A$89=0,0,ROUND('Predek KV'!F51,0))))","v":2400},{"$f":"IF(OR(G$46=0,$A55=0),0,IF('Predek KV'!U51=0,0,IF(logic!$A$89=0,0,ROUND('Predek KV'!G51,0))))","v":1884},{"$f":"IF(OR(H$46=0,$A55=0),0,IF('Predek KV'!V51=0,0,IF(logic!$A$89=0,0,ROUND('Predek KV'!H51,0))))","v":2180},{"$f":"IF(OR(I$46=0,$A55=0),0,IF('Predek KV'!W51=0,0,IF(logic!$A$89=0,0,ROUND('Predek KV'!I51,0))))","v":2669},{"$f":"IF(OR(J$46=0,$A55=0),0,IF('Predek KV'!X51=0,0,IF(logic!$A$89=0,0,ROUND('Predek KV'!J51,0))))","v":2089},{"$f":"IF(OR(K$46=0,$A55=0),0,IF('Predek KV'!Y51=0,0,IF(logic!$A$89=0,0,ROUND('Predek KV'!K51,0))))","v":2380},{"$f":"IF(OR(L$46=0,$A55=0),0,IF('Predek KV'!Z51=0,0,IF(logic!$A$89=0,0,ROUND('Predek KV'!L51,0))))","v":2935}]
[{"$f":"IF(AND($J$5=Jazyk!$D$4,$L$5=Jazyk!$D$4),1,IF(AND(B56>=$J$5,B56<=$L$5),1,0))","v":1},958,null,{"$f":"IF(OR(D$46=0,$A56=0),0,IF('Predek KV'!R52=0,0,IF(logic!$A$89=0,0,ROUND('Predek KV'!D52,0))))","v":1820},{"$f":"IF(OR(E$46=0,$A56=0),0,IF('Predek KV'!S52=0,0,IF(logic!$A$89=0,0,ROUND('Predek KV'!E52,0))))","v":0},{"$f":"IF(OR(F$46=0,$A56=0),0,IF('Predek KV'!T52=0,0,IF(logic!$A$89=0,0,ROUND('Predek KV'!F52,0))))","v":2601},{"$f":"IF(OR(G$46=0,$A56=0),0,IF('Predek KV'!U52=0,0,IF(logic!$A$89=0,0,ROUND('Predek KV'!G52,0))))","v":2041},{"$f":"IF(OR(H$46=0,$A56=0),0,IF('Predek KV'!V52=0,0,IF(logic!$A$89=0,0,ROUND('Predek KV'!H52,0))))","v":0},{"$f":"IF(OR(I$46=0,$A56=0),0,IF('Predek KV'!W52=0,0,IF(logic!$A$89=0,0,ROUND('Predek KV'!I52,0))))","v":2892},{"$f":"IF(OR(J$46=0,$A56=0),0,IF('Predek KV'!X52=0,0,IF(logic!$A$89=0,0,ROUND('Predek KV'!J52,0))))","v":2264},{"$f":"IF(OR(K$46=0,$A56=0),0,IF('Predek KV'!Y52=0,0,IF(logic!$A$89=0,0,ROUND('Predek KV'!K52,0))))","v":0},{"$f":"IF(OR(L$46=0,$A56=0),0,IF('Predek KV'!Z52=0,0,IF(logic!$A$89=0,0,ROUND('Predek KV'!L52,0))))","v":0}]
[null,{"$f":"Jazyk!AB4","v":"Право на технически промени."},null,null,null,null,null,null,null,null,null,{"$f":"logic!M5","v":"CZ KRTH 3.02-05/22"}]

{"sheet":"Reflex","index":3,"n_rows":22,"n_cols":21,"rows_kept":22,"cut":false,"hidden":true,"merged":[]}
[null,{"$f":"logic!$B$12","v":"KORATHERM REFLEX"}]
[]
[null,{"$f":"Jazyk!J4","v":"Избор на модел:"},null,null,null,null,{"$f":"Jazyk!P4","v":"Детайлен избор"}]
[null,null,null,null,null,null,null,null,{"$f":"Jazyk!K4&\" \"&Jazyk!H4","v":"Топлинна мощност  от"},null,{"$f":"\"W \"&Jazyk!I4","v":"W до"},null,"W"]
[null,null,null,null,null,null,null,null,{"$f":"Jazyk!F4&\" \"&Jazyk!H4","v":"Височина от"},{"$f":"logic!H23","v":"всичко"},{"$f":"\"mm \"&Jazyk!I4","v":"mm до"},{"$f":"logic!H35","v":"всичко"},"mm"]
[null,null,{"$f":"Jazyk!Q4","v":"Въвеждане на стойности"}]
[null,null,null,"t 1","t 2","t i"," D T",null,null,null,null,null,null,null,null,null,{"$f":"IF(R7=0,0,Jazyk!X4)","v":0},{"$f":"MAX(Databaze!A:A)","v":0}]
[null,null,{"$f":"Jazyk!L4","v":"Температура:"},75,65,20,{"$f":"(D8+E8)/2-F8","v":50}]
[null,null,null,{"$f":"Jazyk!E4","v":"Топлинни мощности според ЕН 442"}]
[]
[]
[]
[]
[]
[null,null,null,null,null,{"$f":"Jazyk!$G$27","v":"Височина [mm]"},null,1800,1800,null,null,null,null,null,null,null,null,null,null,null,1800]
[null,null,null,null,null,{"$f":"Jazyk!$H$27","v":"Дължина [mm]"},null,{"$f":"IF(logic!$E$12=0,'Qn R'!D4,'Qn R'!D4&logic!$E$12)","v":"K10R"},{"$f":"IF(logic!$E$12=0,'Qn R'!E4,'Qn R'!E4&logic!$E$12)","v":"K20R"},null,null,null,null,null,null,null,null,null,null,null,"K20R"]
[{"$f":"IF(AND($J$5=Jazyk!$D$4,$L$5=Jazyk!$D$4),1,IF(AND(F17>=$J$5,F17<=$L$5),1,0))","v":1},null,null,null,null,514,null,{"$f":"IF($A17=0,0,IF('Predek KR'!R9=0,0,IF(logic!$A$90=0,0,ROUND('Predek KR'!D9,0))))","v":791},{"$f":"IF($A17=0,0,IF('Predek KR'!S9=0,0,IF(logic!$A$90=0,0,ROUND('Predek KR'!E9,0))))","v":1415},null,null,null,null,null,null,null,null,null,null,null,{"$f":"IF(A17=0,0,IF('Predek KR'!S9=0,0,ROUND('Predek KR'!E9,0)))","v":1415}]
[{"$f":"IF(AND($J$5=Jazyk!$D$4,$L$5=Jazyk!$D$4),1,IF(AND(F18>=$J$5,F18<=$L$5),1,0))","v":1},null,null,null,null,662,null,{"$f":"IF($A18=0,0,IF('Predek KR'!R10=0,0,IF(logic!$A$90=0,0,ROUND('Predek KR'!D10,0))))","v":1086},{"$f":"IF($A18=0,0,IF('Predek KR'!S10=0,0,IF(logic!$A$90=0,0,ROUND('Predek KR'!E10,0))))","v":1877},null,null,null,null,null,null,null,null,null,null,null,{"$f":"IF(A18=0,0,IF('Predek KR'!S10=0,0,ROUND('Predek KR'!E10,0)))","v":1877}]
[{"$f":"IF(AND($J$5=Jazyk!$D$4,$L$5=Jazyk!$D$4),1,IF(AND(F19>=$J$5,F19<=$L$5),1,0))","v":1},null,null,null,null,810,null,{"$f":"IF($A19=0,0,IF('Predek KR'!R11=0,0,IF(logic!$A$90=0,0,ROUND('Predek KR'!D11,0))))","v":1381},{"$f":"IF($A19=0,0,IF('Predek KR'!S11=0,0,IF(logic!$A$90=0,0,ROUND('Predek KR'!E11,0))))","v":2339},null,null,null,null,null,null,null,null,null,null,null,{"$f":"IF(A19=0,0,IF('Predek KR'!S11=0,0,ROUND('Predek KR'!E11,0)))","v":2339}]
[{"$f":"IF(AND($J$5=Jazyk!$D$4,$L$5=Jazyk!$D$4),1,IF(AND(F20>=$J$5,F20<=$L$5),1,0))","v":1},null,null,null,null,958,null,{"$f":"IF($A20=0,0,IF('Predek KR'!R12=0,0,IF(logic!$A$90=0,0,ROUND('Predek KR'!D12,0))))","v":1676},{"$f":"IF($A20=0,0,IF('Predek KR'!S12=0,0,IF(logic!$A$90=0,0,ROUND('Predek KR'!E12,0))))","v":2801},null,null,null,null,null,null,null,null,null,null,null,{"$f":"IF(A20=0,0,IF('Predek KR'!S12=0,0,ROUND('Predek KR'!E12,0)))","v":2801}]
[null,null,null,null,null,{"$f":"Jazyk!AB4","v":"Право на технически промени."}]
[null,null,null,null,null,{"$f":"logic!M5","v":"CZ KRTH 3.02-05/22"}]

{"sheet":"Databaze","index":4,"n_rows":6,"n_cols":13,"rows_kept":6,"cut":false,"hidden":true,"merged":[]}
[{"$f":"Jazyk!O50","v":"Идентификация:"}]
[]
[]
[]
[]
[{"$f":"Jazyk!D50","v":"Номер"},{"$f":"Jazyk!E50","v":"Модел"},{"$f":"Jazyk!F50","v":"Номер за поръчка"},{"$f":"Jazyk!G50","v":"Тип"},{"$f":"Jazyk!H50","v":"Височина [mm]"},{"$f":"Jazyk!I50","v":"Дължина [mm]"},null,"t1","t2","ti",{"$f":"Jazyk!M50","v":"Топлинна мощност [W]"},null,{"$f":"Jazyk!N50","v":"Забележка"}]

{"sheet":"Predek KH","index":5,"n_rows":80,"n_cols":40,"rows_kept":80,"cut":false,"hidden":true,"merged":[]}
[]
[]
[null,null,null,"t 1","t 2","t i"," D T"]
[null,null,null,{"$f":"Horizontal!D8","v":75},{"$f":"Horizontal!E8","v":65},{"$f":"Horizontal!F8","v":20},{"$f":"(D4+E4)/2-F4","v":50}]
[null,null,null,"Tepelné výkony podle EN 442",null,null,null,null,null,null,null,null,null,null,null,null,null,null,null,null,null,null,"SORTIMENT HORIZONTAL"]
[]
[null,null,"Výška [mm]",null,null,{"$f":"'Qn H'!G3","v":144},null,null,null,null,null,null,null,{"$f":"'Qn H'!O3","v":218},null,null,null,null,null,null,null,null,null,"Výška [mm]",null,null,144,null,null,null,null,null,null,null,218]
[null,"Délka [mm]",null,{"$f":"'Qn H'!E4","v":"K10H"},{"$f":"'Qn H'!F4","v":"K11H"},{"$f":"'Qn H'!G4","v":"K20H"},{"$f":"'Qn H'!H4","v":"K21H"},{"$f":"'Qn H'!I4","v":"K22H"},{"$f":"'Qn H'!J4","v":"K23H"},{"$f":"'Qn H'!K4","v":"K44H"},{"$f":"'Qn H'!L4","v":"K46H"},{"$f":"'Qn H'!M4","v":"K10H"},{"$f":"'Qn H'!N4","v":"K11H"},{"$f":"'Qn H'!O4","v":"K20H"},{"$f":"'Qn H'!P4","v":"K21H"},{"$f":"'Qn H'!Q4","v":"K22H"},{"$f":"'Qn H'!R4","v":"K23H"},{"$f":"'Qn H'!S4","v":"K44H"},{"$f":"'Qn H'!T4","v":"K46H"},null,null,null,"Délka [mm]",null,{"$f":"D8","v":"K10H"},{"$f":"E8","v":"K11H"},"K20H","K21H","K22H","K23H","K44H","K46H","K10H","K11H","K20H","K21H","K22H","K23H","K44H","K46H"]
[null,500,null,{"$f":"(((($D$4-$E$4)/(LN(($D$4-$F$4)/($E$4-$F$4))))/49.8328865456397)^'Qn H'!E$5)*('Qn H'!E$6*$B9/1000)","v":99.500000000000028},{"$f":"(((($D$4-$E$4)/(LN(($D$4-$F$4)/($E$4-$F$4))))/49.8328865456397)^'Qn H'!F$5)*('Qn H'!F$6*$B9/1000)","v":144.50000000000003},{"$f":"(((($D$4-$E$4)/(LN(($D$4-$F$4)/($E$4-$F$4))))/49.8328865456397)^'Qn H'!G$5)*('Qn H'!G$6*$B9/1000)","v":159.00000000000003},{"$f":"(((($D$4-$E$4)/(LN(($D$4-$F$4)/($E$4-$F$4))))/49.8328865456397)^'Qn H'!H$5)*('Qn H'!H$6*$B9/1000)","v":208.50000000000006},{"$f":"(((($D$4-$E$4)/(LN(($D$4-$F$4)/($E$4-$F$4))))/49.8328865456397)^'Qn H'!I$5)*('Qn H'!I$6*$B9/1000)","v":267.00000000000006},{"$f":"(((($D$4-$E$4)/(LN(($D$4-$F$4)/($E$4-$F$4))))/49.8328865456397)^'Qn H'!J$5)*('Qn H'!J$6*$B9/1000)","v":289.50000000000006},{"$f":"(((($D$4-$E$4)/(LN(($D$4-$F$4)/($E$4-$F$4))))/49.8328865456397)^'Qn H'!K$5)*('Qn H'!K$6*$B9/1000)","v":496.00000000000011},{"$f":"(((($D$4-$E$4)/(LN(($D$4-$F$4)/($E$4-$F$4))))/49.8328865456397)^'Qn H'!L$5)*('Qn H'!L$6*$B9/1000)","v":583.50000000000011},{"$f":"(((($D$4-$E$4)/(LN(($D$4-$F$4)/($E$4-$F$4))))/49.8328865456397)^'Qn H'!M$5)*('Qn H'!M$6*$B9/1000)","v":133.00000000000003},{"$f":"(((($D$4-$E$4)/(LN(($D$4-$F$4)/($E$4-$F$4))))/49.8328865456397)^'Qn H'!N$5)*('Qn H'!N$6*$B9/1000)","v":205.50000000000006},{"$f":"(((($D$4-$E$4)/(LN(($D$4-$F$4)/($E$4-$F$4))))/49.8328865456397)^'Qn H'!O$5)*('Qn H'!O$6*$B9/1000)","v":219.50000000000006},{"$f":"(((($D$4-$E$4)/(LN(($D$4-$F$4)/($E$4-$F$4))))/49.8328865456397)^'Qn H'!P$5)*('Qn H'!P$6*$B9/1000)","v":290.50000000000006},{"$f":"(((($D$4-$E$4)/(LN(($D$4-$F$4)/($E$4-$F$4))))/49.8328865456397)^'Qn H'!Q$5)*('Qn H'!Q$6*$B9/1000)","v":374.50000000000006},{"$f":"(((($D$4-$E$4)/(LN(($D$4-$F$4)/($E$4-$F$4))))/49.8328865456397)^'Qn H'!R$5)*('Qn H'!R$6*$B9/1000)","v":431.50000000000011},{"$f":"(((($D$4-$E$4)/(LN(($D$4-$F$4)/($E$4-$F$4))))/49.8328865456397)^'Qn H'!S$5)*('Qn H'!S$6*$B9/1000)","v":704.50000000000011},{"$f":"(((($D$4-$E$4)/(LN(($D$4-$F$4)/($E$4-$F$4))))/49.8328865456397)^'Qn H'!T$5)*('Qn H'!T$6*$B9/1000)","v":852.50000000000023},null,null,null,500,null,{"$f":"Sortiment!A8","v":1},{"$f":"Sortiment!A128","v":1},{"$f":"Sortiment!A248","v":1},{"$f":"Sortiment!A368","v":1},{"$f":"Sortiment!A488","v":1},{"$f":"Sortiment!A608","v":1},{"$f":"Sortiment!A638","v":1},{"$f":"Sortiment!A668","v":1},{"$f":"Sortiment!A23","v":1},{"$f":"Sortiment!A143","v":1},{"$f":"Sortiment!A263","v":1},{"$f":"Sortiment!A383","v":1},{"$f":"Sortiment!A503","v":1},{"$f":"IF(logic!$C$2=\"KHVKM\",0,Sortiment!A623)","v":1},{"$f":"IF(logic!$C$2=\"KHVKM\",0,Sortiment!A653)","v":1},{"$f":"IF(logic!$C$2=\"KHVKM\",0,Sortiment!A683)","v":1}]
[null,600,null,{"$f":"(((($D$4-$E$4)/(LN(($D$4-$F$4)/($E$4-$F$4))))/49.8328865456397)^'Qn H'!E$5)*('Qn H'!E$6*$B10/1000)","v":119.40000000000003},{"$f":"(((($D$4-$E$4)/(LN(($D$4-$F$4)/($E$4-$F$4))))/49.8328865456397)^'Qn H'!F$5)*('Qn H'!F$6*$B10/1000)","v":173.40000000000003},{"$f":"(((($D$4-$E$4)/(LN(($D$4-$F$4)/($E$4-$F$4))))/49.8328865456397)^'Qn H'!G$5)*('Qn H'!G$6*$B10/1000)","v":190.80000000000004},{"$f":"(((($D$4-$E$4)/(LN(($D$4-$F$4)/($E$4-$F$4))))/49.8328865456397)^'Qn H'!H$5)*('Qn H'!H$6*$B10/1000)","v":250.20000000000005},{"$f":"(((($D$4-$E$4)/(LN(($D$4-$F$4)/($E$4-$F$4))))/49.8328865456397)^'Qn H'!I$5)*('Qn H'!I$6*$B10/1000)","v":320.40000000000003},{"$f":"(((($D$4-$E$4)/(LN(($D$4-$F$4)/($E$4-$F$4))))/49.8328865456397)^'Qn H'!J$5)*('Qn H'!J$6*$B10/1000)","v":347.40000000000003},{"$f":"(((($D$4-$E$4)/(LN(($D$4-$F$4)/($E$4-$F$4))))/49.8328865456397)^'Qn H'!K$5)*('Qn H'!K$6*$B10/1000)","v":595.20000000000016},{"$f":"(((($D$4-$E$4)/(LN(($D$4-$F$4)/($E$4-$F$4))))/49.8328865456397)^'Qn H'!L$5)*('Qn H'!L$6*$B10/1000)","v":700.20000000000016},{"$f":"(((($D$4-$E$4)/(LN(($D$4-$F$4)/($E$4-$F$4))))/49.8328865456397)^'Qn H'!M$5)*('Qn H'!M$6*$B10/1000)","v":159.60000000000002},{"$f":"(((($D$4-$E$4)/(LN(($D$4-$F$4)/($E$4-$F$4))))/49.8328865456397)^'Qn H'!N$5)*('Qn H'!N$6*$B10/1000)","v":246.60000000000005},{"$f":"(((($D$4-$E$4)/(LN(($D$4-$F$4)/($E$4-$F$4))))/49.8328865456397)^'Qn H'!O$5)*('Qn H'!O$6*$B10/1000)","v":263.40000000000003},{"$f":"(((($D$4-$E$4)/(LN(($D$4-$F$4)/($E$4-$F$4))))/49.8328865456397)^'Qn H'!P$5)*('Qn H'!P$6*$B10/1000)","v":348.60000000000008},{"$f":"(((($D$4-$E$4)/(LN(($D$4-$F$4)/($E$4-$F$4))))/49.8328865456397)^'Qn H'!Q$5)*('Qn H'!Q$6*$B10/1000)","v":449.40000000000009},{"$f":"(((($D$4-$E$4)/(LN(($D$4-$F$4)/($E$4-$F$4))))/49.8328865456397)^'Qn H'!R$5)*('Qn H'!R$6*$B10/1000)","v":517.80000000000007},{"$f":"(((($D$4-$E$4)/(LN(($D$4-$F$4)/($E$4-$F$4))))/49.8328865456397)^'Qn H'!S$5)*('Qn H'!S$6*$B10/1000)","v":845.4000000000002},{"$f":"(((($D$4-$E$4)/(LN(($D$4-$F$4)/($E$4-$F$4))))/49.8328865456397)^'Qn H'!T$5)*('Qn H'!T$6*$B10/1000)","v":1023.0000000000002},null,null,null,600,null,{"$f":"Sortiment!A9","v":1},{"$f":"Sortiment!A129","v":1},{"$f":"Sortiment!A249","v":1},{"$f":"Sortiment!A369","v":1},{"$f":"Sortiment!A489","v":1},{"$f":"Sortiment!A609","v":1},{"$f":"Sortiment!A639","v":1},{"$f":"Sortiment!A669","v":1},{"$f":"Sortiment!A24","v":1},{"$f":"Sortiment!A144","v":1},{"$f":"Sortiment!A264","v":1},{"$f":"Sortiment!A384","v":1},{"$f":"Sortiment!A504","v":1},{"$f":"IF(logic!$C$2=\"KHVKM\",0,Sortiment!A624)","v":1},{"$f":"IF(logic!$C$2=\"KHVKM\",0,Sortiment!A654)","v":1},{"$f":"IF(logic!$C$2=\"KHVKM\",0,Sortiment!A684)","v":1}]
[null,700,null,{"$f":"(((($D$4-$E$4)/(LN(($D$4-$F$4)/($E$4-$F$4))))/49.8328865456397)^'Qn H'!E$5)*('Qn H'!E$6*$B11/1000)","v":139.30000000000004},{"$f":"(((($D$4-$E$4)/(LN(($D$4-$F$4)/($E$4-$F$4))))/49.8328865456397)^'Qn H'!F$5)*('Qn H'!F$6*$B11/1000)","v":202.30000000000007},{"$f":"(((($D$4-$E$4)/(LN(($D$4-$F$4)/($E$4-$F$4))))/49.8328865456397)^'Qn H'!G$5)*('Qn H'!G$6*$B11/1000)","v":222.60000000000005},{"$f":"(((($D$4-$E$4)/(LN(($D$4-$F$4)/($E$4-$F$4))))/49.8328865456397)^'Qn H'!H$5)*('Qn H'!H$6*$B11/1000)","v":291.90000000000003},{"$f":"(((($D$4-$E$4)/(LN(($D$4-$F$4)/($E$4-$F$4))))/49.8328865456397)^'Qn H'!I$5)*('Qn H'!I$6*$B11/1000)","v":373.80000000000007},{"$f":"(((($D$4-$E$4)/(LN(($D$4-$F$4)/($E$4-$F$4))))/49.8328865456397)^'Qn H'!J$5)*('Qn H'!J$6*$B11/1000)","v":405.30000000000013},{"$f":"(((($D$4-$E$4)/(LN(($D$4-$F$4)/($E$4-$F$4))))/49.8328865456397)^'Qn H'!K$5)*('Qn H'!K$6*$B11/1000)","v":694.40000000000009},{"$f":"(((($D$4-$E$4)/(LN(($D$4-$F$4)/($E$4-$F$4))))/49.8328865456397)^'Qn H'!L$5)*('Qn H'!L$6*$B11/1000)","v":816.9000000000002},{"$f":"(((($D$4-$E$4)/(LN(($D$4-$F$4)/($E$4-$F$4))))/49.8328865456397)^'Qn H'!M$5)*('Qn H'!M$6*$B11/1000)","v":186.20000000000002},{"$f":"(((($D$4-$E$4)/(LN(($D$4-$F$4)/($E$4-$F$4))))/49.8328865456397)^'Qn H'!N$5)*('Qn H'!N$6*$B11/1000)","v":287.70000000000005},{"$f":"(((($D$4-$E$4)/(LN(($D$4-$F$4)/($E$4-$F$4))))/49.8328865456397)^'Qn H'!O$5)*('Qn H'!O$6*$B11/1000)","v":307.30000000000007},{"$f":"(((($D$4-$E$4)/(LN(($D$4-$F$4)/($E$4-$F$4))))/49.8328865456397)^'Qn H'!P$5)*('Qn H'!P$6*$B11/1000)","v":406.7000000000001},{"$f":"(((($D$4-$E$4)/(LN(($D$4-$F$4)/($E$4-$F$4))))/49.8328865456397)^'Qn H'!Q$5)*('Qn H'!Q$6*$B11/1000)","v":524.30000000000007},{"$f":"(((($D$4-$E$4)/(LN(($D$4-$F$4)/($E$4-$F$4))))/49.8328865456397)^'Qn H'!R$5)*('Qn H'!R$6*$B11/1000)","v":604.10000000000014},{"$f":"(((($D$4-$E$4)/(LN(($D$4-$F$4)/($E$4-$F$4))))/49.8328865456397)^'Qn H'!S$5)*('Qn H'!S$6*$B11/1000)","v":986.30000000000018},{"$f":"(((($D$4-$E$4)/(LN(($D$4-$F$4)/($E$4-$F$4))))/49.8328865456397)^'Qn H'!T$5)*('Qn H'!T$6*$B11/1000)","v":1193.5000000000002},null,null,null,700,null,{"$f":"Sortiment!A10","v":1},{"$f":"Sortiment!A130","v":1},{"$f":"Sortiment!A250","v":1},{"$f":"Sortiment!A370","v":1},{"$f":"Sortiment!A490","v":1},{"$f":"Sortiment!A610","v":1},{"$f":"Sortiment!A640","v":1},{"$f":"Sortiment!A670","v":1},{"$f":"Sortiment!A25","v":1},{"$f":"Sortiment!A145","v":1},{"$f":"Sortiment!A265","v":1},{"$f":"Sortiment!A385","v":1},{"$f":"Sortiment!A505","v":1},{"$f":"IF(logic!$C$2=\"KHVKM\",0,Sortiment!A625)","v":1},{"$f":"IF(logic!$C$2=\"KHVKM\",0,Sortiment!A655)","v":1},{"$f":"IF(logic!$C$2=\"KHVKM\",0,Sortiment!A685)","v":1}]
[null,800,null,{"$f":"(((($D$4-$E$4)/(LN(($D$4-$F$4)/($E$4-$F$4))))/49.8328865456397)^'Qn H'!E$5)*('Qn H'!E$6*$B12/1000)","v":159.20000000000002},{"$f":"(((($D$4-$E$4)/(LN(($D$4-$F$4)/($E$4-$F$4))))/49.8328865456397)^'Qn H'!F$5)*('Qn H'!F$6*$B12/1000)","v":231.20000000000005},{"$f":"(((($D$4-$E$4)/(LN(($D$4-$F$4)/($E$4-$F$4))))/49.8328865456397)^'Qn H'!G$5)*('Qn H'!G$6*$B12/1000)","v":254.40000000000006},{"$f":"(((($D$4-$E$4)/(LN(($D$4-$F$4)/($E$4-$F$4))))/49.8328865456397)^'Qn H'!H$5)*('Qn H'!H$6*$B12/1000)","v":333.60000000000008},{"$f":"(((($D$4-$E$4)/(LN(($D$4-$F$4)/($E$4-$F$4))))/49.8328865456397)^'Qn H'!I$5)*('Qn H'!I$6*$B12/1000)","v":427.2000000000001},{"$f":"(((($D$4-$E$4)/(LN(($D$4-$F$4)/($E$4-$F$4))))/49.8328865456397)^'Qn H'!J$5)*('Qn H'!J$6*$B12/1000)","v":463.2000000000001},{"$f":"(((($D$4-$E$4)/(LN(($D$4-$F$4)/($E$4-$F$4))))/49.8328865456397)^'Qn H'!K$5)*('Qn H'!K$6*$B12/1000)","v":793.60000000000025},{"$f":"(((($D$4-$E$4)/(LN(($D$4-$F$4)/($E$4-$F$4))))/49.8328865456397)^'Qn H'!L$5)*('Qn H'!L$6*$B12/1000)","v":933.60000000000025},{"$f":"(((($D$4-$E$4)/(LN(($D$4-$F$4)/($E$4-$F$4))))/49.8328865456397)^'Qn H'!M$5)*('Qn H'!M$6*$B12/1000)","v":212.80000000000007},{"$f":"(((($D$4-$E$4)/(LN(($D$4-$F$4)/($E$4-$F$4))))/49.8328865456397)^'Qn H'!N$5)*('Qn H'!N$6*$B12/1000)","v":328.80000000000007},{"$f":"(((($D$4-$E$4)/(LN(($D$4-$F$4)/($E$4-$F$4))))/49.8328865456397)^'Qn H'!O$5)*('Qn H'!O$6*$B12/1000)","v":351.20000000000005},{"$f":"(((($D$4-$E$4)/(LN(($D$4-$F$4)/($E$4-$F$4))))/49.8328865456397)^'Qn H'!P$5)*('Qn H'!P$6*$B12/1000)","v":464.80000000000013},{"$f":"(((($D$4-$E$4)/(LN(($D$4-$F$4)/($E$4-$F$4))))/49.8328865456397)^'Qn H'!Q$5)*('Qn H'!Q$6*$B12/1000)","v":599.20000000000016},{"$f":"(((($D$4-$E$4)/(LN(($D$4-$F$4)/($E$4-$F$4))))/49.8328865456397)^'Qn H'!R$5)*('Qn H'!R$6*$B12/1000)","v":690.40000000000009},{"$f":"(((($D$4-$E$4)/(LN(($D$4-$F$4)/($E$4-$F$4))))/49.8328865456397)^'Qn H'!S$5)*('Qn H'!S$6*$B12/1000)","v":1127.2000000000003},{"$f":"(((($D$4-$E$4)/(LN(($D$4-$F$4)/($E$4-$F$4))))/49.8328865456397)^'Qn H'!T$5)*('Qn H'!T$6*$B12/1000)","v":1364.0000000000002},null,null,null,800,null,{"$f":"Sortiment!A11","v":1},{"$f":"Sortiment!A131","v":1},{"$f":"Sortiment!A251","v":1},{"$f":"Sortiment!A371","v":1},{"$f":"Sortiment!A491","v":1},{"$f":"Sortiment!A611","v":1},{"$f":"Sortiment!A641","v":1},{"$f":"Sortiment!A671","v":1},{"$f":"Sortiment!A26","v":1},{"$f":"Sortiment!A146","v":1},{"$f":"Sortiment!A266","v":1},{"$f":"Sortiment!A386","v":1},{"$f":"Sortiment!A506","v":1},{"$f":"IF(logic!$C$2=\"KHVKM\",0,Sortiment!A626)","v":1},{"$f":"IF(logic!$C$2=\"KHVKM\",0,Sortiment!A656)","v":1},{"$f":"IF(logic!$C$2=\"KHVKM\",0,Sortiment!A686)","v":1}]
[null,900,null,{"$f":"(((($D$4-$E$4)/(LN(($D$4-$F$4)/($E$4-$F$4))))/49.8328865456397)^'Qn H'!E$5)*('Qn H'!E$6*$B13/1000)","v":179.10000000000002},{"$f":"(((($D$4-$E$4)/(LN(($D$4-$F$4)/($E$4-$F$4))))/49.8328865456397)^'Qn H'!F$5)*('Qn H'!F$6*$B13/1000)","v":260.10000000000008},{"$f":"(((($D$4-$E$4)/(LN(($D$4-$F$4)/($E$4-$F$4))))/49.8328865456397)^'Qn H'!G$5)*('Qn H'!G$6*$B13/1000)","v":286.20000000000005},{"$f":"(((($D$4-$E$4)/(LN(($D$4-$F$4)/($E$4-$F$4))))/49.8328865456397)^'Qn H'!H$5)*('Qn H'!H$6*$B13/1000)","v":375.30000000000007},{"$f":"(((($D$4-$E$4)/(LN(($D$4-$F$4)/($E$4-$F$4))))/49.8328865456397)^'Qn H'!I$5)*('Qn H'!I$6*$B13/1000)","v":480.60000000000014},{"$f":"(((($D$4-$E$4)/(LN(($D$4-$F$4)/($E$4-$F$4))))/49.8328865456397)^'Qn H'!J$5)*('Qn H'!J$6*$B13/1000)","v":521.10000000000014},{"$f":"(((($D$4-$E$4)/(LN(($D$4-$F$4)/($E$4-$F$4))))/49.8328865456397)^'Qn H'!K$5)*('Qn H'!K$6*$B13/1000)","v":892.80000000000018},{"$f":"(((($D$4-$E$4)/(LN(($D$4-$F$4)/($E$4-$F$4))))/49.8328865456397)^'Qn H'!L$5)*('Qn H'!L$6*$B13/1000)","v":1050.3000000000002},{"$f":"(((($D$4-$E$4)/(LN(($D$4-$F$4)/($E$4-$F$4))))/49.8328865456397)^'Qn H'!M$5)*('Qn H'!M$6*$B13/1000)","v":239.40000000000006},{"$f":"(((($D$4-$E$4)/(LN(($D$4-$F$4)/($E$4-$F$4))))/49.8328865456397)^'Qn H'!N$5)*('Qn H'!N$6*$B13/1000)","v":369.90000000000003},{"$f":"(((($D$4-$E$4)/(LN(($D$4-$F$4)/($E$4-$F$4))))/49.8328865456397)^'Qn H'!O$5)*('Qn H'!O$6*$B13/1000)","v":395.10000000000014},{"$f":"(((($D$4-$E$4)/(LN(($D$4-$F$4)/($E$4-$F$4))))/49.8328865456397)^'Qn H'!P$5)*('Qn H'!P$6*$B13/1000)","v":522.90000000000009},{"$f":"(((($D$4-$E$4)/(LN(($D$4-$F$4)/($E$4-$F$4))))/49.8328865456397)^'Qn H'!Q$5)*('Qn H'!Q$6*$B13/1000)","v":674.10000000000014},{"$f":"(((($D$4-$E$4)/(LN(($D$4-$F$4)/($E$4-$F$4))))/49.8328865456397)^'Qn H'!R$5)*('Qn H'!R$6*$B13/1000)","v":776.70000000000027},{"$f":"(((($D$4-$E$4)/(LN(($D$4-$F$4)/($E$4-$F$4))))/49.8328865456397)^'Qn H'!S$5)*('Qn H'!S$6*$B13/1000)","v":1268.1000000000001},{"$f":"(((($D$4-$E$4)/(LN(($D$4-$F$4)/($E$4-$F$4))))/49.8328865456397)^'Qn H'!T$5)*('Qn H'!T$6*$B13/1000)","v":1534.5000000000002},null,null,null,900,null,{"$f":"Sortiment!A12","v":1},{"$f":"Sortiment!A132","v":1},{"$f":"Sortiment!A252","v":1},{"$f":"Sortiment!A372","v":1},{"$f":"Sortiment!A492","v":1},{"$f":"Sortiment!A612","v":1},{"$f":"Sortiment!A642","v":1},{"$f":"Sortiment!A672","v":1},{"$f":"Sortiment!A27","v":1},{"$f":"Sortiment!A147","v":1},{"$f":"Sortiment!A267","v":1},{"$f":"Sortiment!A387","v":1},{"$f":"Sortiment!A507","v":1},{"$f":"IF(logic!$C$2=\"KHVKM\",0,Sortiment!A627)","v":1},{"$f":"IF(logic!$C$2=\"KHVKM\",0,Sortiment!A657)","v":1},{"$f":"IF(logic!$C$2=\"KHVKM\",0,Sortiment!A687)","v":1}]
[null,1000,null,{"$f":"(((($D$4-$E$4)/(LN(($D$4-$F$4)/($E$4-$F$4))))/49.8328865456397)^'Qn H'!E$5)*('Qn H'!E$6*$B14/1000)","v":199.00000000000006},{"$f":"(((($D$4-$E$4)/(LN(($D$4-$F$4)/($E$4-$F$4))))/49.8328865456397)^'Qn H'!F$5)*('Qn H'!F$6*$B14/1000)","v":289.00000000000006},{"$f":"(((($D$4-$E$4)/(LN(($D$4-$F$4)/($E$4-$F$4))))/49.8328865456397)^'Qn H'!G$5)*('Qn H'!G$6*$B14/1000)","v":318.00000000000006},{"$f":"(((($D$4-$E$4)/(LN(($D$4-$F$4)/($E$4-$F$4))))/49.8328865456397)^'Qn H'!H$5)*('Qn H'!H$6*$B14/1000)","v":417.00000000000011},{"$f":"(((($D$4-$E$4)/(LN(($D$4-$F$4)/($E$4-$F$4))))/49.8328865456397)^'Qn H'!I$5)*('Qn H'!I$6*$B14/1000)","v":534.00000000000011},{"$f":"(((($D$4-$E$4)/(LN(($D$4-$F$4)/($E$4-$F$4))))/49.8328865456397)^'Qn H'!J$5)*('Qn H'!J$6*$B14/1000)","v":579.00000000000011},{"$f":"(((($D$4-$E$4)/(LN(($D$4-$F$4)/($E$4-$F$4))))/49.8328865456397)^'Qn H'!K$5)*('Qn H'!K$6*$B14/1000)","v":992.00000000000023},{"$f":"(((($D$4-$E$4)/(LN(($D$4-$F$4)/($E$4-$F$4))))/49.8328865456397)^'Qn H'!L$5)*('Qn H'!L$6*$B14/1000)","v":1167.0000000000002},{"$f":"(((($D$4-$E$4)/(LN(($D$4-$F$4)/($E$4-$F$4))))/49.8328865456397)^'Qn H'!M$5)*('Qn H'!M$6*$B14/1000)","v":266.00000000000006},{"$f":"(((($D$4-$E$4)/(LN(($D$4-$F$4)/($E$4-$F$4))))/49.8328865456397)^'Qn H'!N$5)*('Qn H'!N$6*$B14/1000)","v":411.00000000000011},{"$f":"(((($D$4-$E$4)/(LN(($D$4-$F$4)/($E$4-$F$4))))/49.8328865456397)^'Qn H'!O$5)*('Qn H'!O$6*$B14/1000)","v":439.00000000000011},{"$f":"(((($D$4-$E$4)/(LN(($D$4-$F$4)/($E$4-$F$4))))/49.8328865456397)^'Qn H'!P$5)*('Qn H'!P$6*$B14/1000)","v":581.00000000000011},{"$f":"(((($D$4-$E$4)/(LN(($D$4-$F$4)/($E$4-$F$4))))/49.8328865456397)^'Qn H'!Q$5)*('Qn H'!Q$6*$B14/1000)","v":749.00000000000011},{"$f":"(((($D$4-$E$4)/(LN(($D$4-$F$4)/($E$4-$F$4))))/49.8328865456397)^'Qn H'!R$5)*('Qn H'!R$6*$B14/1000)","v":863.00000000000023},{"$f":"(((($D$4-$E$4)/(LN(($D$4-$F$4)/($E$4-$F$4))))/49.8328865456397)^'Qn H'!S$5)*('Qn H'!S$6*$B14/1000)","v":1409.0000000000002},{"$f":"(((($D$4-$E$4)/(LN(($D$4-$F$4)/($E$4-$F$4))))/49.8328865456397)^'Qn H'!T$5)*('Qn H'!T$6*$B14/1000)","v":1705.0000000000005},null,null,null,1000,null,{"$f":"Sortiment!A13","v":1},{"$f":"Sortiment!A133","v":1},{"$f":"Sortiment!A253","v":1},{"$f":"Sortiment!A373","v":1},{"$f":"Sortiment!A493","v":1},{"$f":"Sortiment!A613","v":1},{"$f":"Sortiment!A643","v":1},{"$f":"Sortiment!A673","v":1},{"$f":"Sortiment!A28","v":1},{"$f":"Sortiment!A148","v":1},{"$f":"Sortiment!A268","v":1},{"$f":"Sortiment!A388","v":1},{"$f":"Sortiment!A508","v":1},{"$f":"IF(logic!$C$2=\"KHVKM\",0,Sortiment!A628)","v":1},{"$f":"IF(logic!$C$2=\"KHVKM\",0,Sortiment!A658)","v":1},{"$f":"IF(logic!$C$2=\"KHVKM\",0,Sortiment!A688)","v":1}]
[null,1100,null,{"$f":"(((($D$4-$E$4)/(LN(($D$4-$F$4)/($E$4-$F$4))))/49.8328865456397)^'Qn H'!E$5)*('Qn H'!E$6*$B15/1000)","v":218.90000000000006},{"$f":"(((($D$4-$E$4)/(LN(($D$4-$F$4)/($E$4-$F$4))))/49.8328865456397)^'Qn H'!F$5)*('Qn H'!F$6*$B15/1000)","v":317.90000000000003},{"$f":"(((($D$4-$E$4)/(LN(($D$4-$F$4)/($E$4-$F$4))))/49.8328865456397)^'Qn H'!G$5)*('Qn H'!G$6*$B15/1000)","v":349.80000000000007},{"$f":"(((($D$4-$E$4)/(LN(($D$4-$F$4)/($E$4-$F$4))))/49.8328865456397)^'Qn H'!H$5)*('Qn H'!H$6*$B15/1000)","v":458.7000000000001},{"$f":"(((($D$4-$E$4)/(LN(($D$4-$F$4)/($E$4-$F$4))))/49.8328865456397)^'Qn H'!I$5)*('Qn H'!I$6*$B15/1000)","v":587.40000000000009},{"$f":"(((($D$4-$E$4)/(LN(($D$4-$F$4)/($E$4-$F$4))))/49.8328865456397)^'Qn H'!J$5)*('Qn H'!J$6*$B15/1000)","v":636.90000000000009},{"$f":"(((($D$4-$E$4)/(LN(($D$4-$F$4)/($E$4-$F$4))))/49.8328865456397)^'Qn H'!K$5)*('Qn H'!K$6*$B15/1000)","v":1091.2000000000003},{"$f":"(((($D$4-$E$4)/(LN(($D$4-$F$4)/($E$4-$F$4))))/49.8328865456397)^'Qn H'!L$5)*('Qn H'!L$6*$B15/1000)","v":1283.7000000000003},{"$f":"(((($D$4-$E$4)/(LN(($D$4-$F$4)/($E$4-$F$4))))/49.8328865456397)^'Qn H'!M$5)*('Qn H'!M$6*$B15/1000)","v":292.60000000000008},{"$f":"(((($D$4-$E$4)/(LN(($D$4-$F$4)/($E$4-$F$4))))/49.8328865456397)^'Qn H'!N$5)*('Qn H'!N$6*$B15/1000)","v":452.10000000000014},{"$f":"(((($D$4-$E$4)/(LN(($D$4-$F$4)/($E$4-$F$4))))/49.8328865456397)^'Qn H'!O$5)*('Qn H'!O$6*$B15/1000)","v":482.90000000000009},{"$f":"(((($D$4-$E$4)/(LN(($D$4-$F$4)/($E$4-$F$4))))/49.8328865456397)^'Qn H'!P$5)*('Qn H'!P$6*$B15/1000)","v":639.10000000000014},{"$f":"(((($D$4-$E$4)/(LN(($D$4-$F$4)/($E$4-$F$4))))/49.8328865456397)^'Qn H'!Q$5)*('Qn H'!Q$6*$B15/1000)","v":823.9000000000002},{"$f":"(((($D$4-$E$4)/(LN(($D$4-$F$4)/($E$4-$F$4))))/49.8328865456397)^'Qn H'!R$5)*('Qn H'!R$6*$B15/1000)","v":949.30000000000018},{"$f":"(((($D$4-$E$4)/(LN(($D$4-$F$4)/($E$4-$F$4))))/49.8328865456397)^'Qn H'!S$5)*('Qn H'!S$6*$B15/1000)","v":1549.9000000000005},{"$f":"(((($D$4-$E$4)/(LN(($D$4-$F$4)/($E$4-$F$4))))/49.8328865456397)^'Qn H'!T$5)*('Qn H'!T$6*$B15/1000)","v":1875.5000000000005},null,null,null,1100,null,{"$f":"Sortiment!A14","v":1},{"$f":"Sortiment!A134","v":1},{"$f":"Sortiment!A254","v":1},{"$f":"Sortiment!A374","v":1},{"$f":"Sortiment!A494","v":1},{"$f":"Sortiment!A614","v":1},{"$f":"Sortiment!A644","v":1},{"$f":"Sortiment!A674","v":1},{"$f":"Sortiment!A29","v":1},{"$f":"Sortiment!A149","v":1},{"$f":"Sortiment!A269","v":1},{"$f":"Sortiment!A389","v":1},{"$f":"Sortiment!A509","v":1},{"$f":"IF(logic!$C$2=\"KHVKM\",0,Sortiment!A629)","v":1},{"$f":"IF(logic!$C$2=\"KHVKM\",0,Sortiment!A659)","v":1},{"$f":"IF(logic!$C$2=\"KHVKM\",0,Sortiment!A689)","v":1}]
[null,1200,null,{"$f":"(((($D$4-$E$4)/(LN(($D$4-$F$4)/($E$4-$F$4))))/49.8328865456397)^'Qn H'!E$5)*('Qn H'!E$6*$B16/1000)","v":238.80000000000007},{"$f":"(((($D$4-$E$4)/(LN(($D$4-$F$4)/($E$4-$F$4))))/49.8328865456397)^'Qn H'!F$5)*('Qn H'!F$6*$B16/1000)","v":346.80000000000007},{"$f":"(((($D$4-$E$4)/(LN(($D$4-$F$4)/($E$4-$F$4))))/49.8328865456397)^'Qn H'!G$5)*('Qn H'!G$6*$B16/1000)","v":381.60000000000008},{"$f":"(((($D$4-$E$4)/(LN(($D$4-$F$4)/($E$4-$F$4))))/49.8328865456397)^'Qn H'!H$5)*('Qn H'!H$6*$B16/1000)","v":500.40000000000009},{"$f":"(((($D$4-$E$4)/(LN(($D$4-$F$4)/($E$4-$F$4))))/49.8328865456397)^'Qn H'!I$5)*('Qn H'!I$6*$B16/1000)","v":640.80000000000007},{"$f":"(((($D$4-$E$4)/(LN(($D$4-$F$4)/($E$4-$F$4))))/49.8328865456397)^'Qn H'!J$5)*('Qn H'!J$6*$B16/1000)","v":694.80000000000007},{"$f":"(((($D$4-$E$4)/(LN(($D$4-$F$4)/($E$4-$F$4))))/49.8328865456397)^'Qn H'!K$5)*('Qn H'!K$6*$B16/1000)","v":1190.4000000000003},{"$f":"(((($D$4-$E$4)/(LN(($D$4-$F$4)/($E$4-$F$4))))/49.8328865456397)^'Qn H'!L$5)*('Qn H'!L$6*$B16/1000)","v":1400.4000000000003},{"$f":"(((($D$4-$E$4)/(LN(($D$4-$F$4)/($E$4-$F$4))))/49.8328865456397)^'Qn H'!M$5)*('Qn H'!M$6*$B16/1000)","v":319.20000000000005},{"$f":"(((($D$4-$E$4)/(LN(($D$4-$F$4)/($E$4-$F$4))))/49.8328865456397)^'Qn H'!N$5)*('Qn H'!N$6*$B16/1000)","v":493.2000000000001},{"$f":"(((($D$4-$E$4)/(LN(($D$4-$F$4)/($E$4-$F$4))))/49.8328865456397)^'Qn H'!O$5)*('Qn H'!O$6*$B16/1000)","v":526.80000000000007},{"$f":"(((($D$4-$E$4)/(LN(($D$4-$F$4)/($E$4-$F$4))))/49.8328865456397)^'Qn H'!P$5)*('Qn H'!P$6*$B16/1000)","v":697.20000000000016},{"$f":"(((($D$4-$E$4)/(LN(($D$4-$F$4)/($E$4-$F$4))))/49.8328865456397)^'Qn H'!Q$5)*('Qn H'!Q$6*$B16/1000)","v":898.80000000000018},{"$f":"(((($D$4-$E$4)/(LN(($D$4-$F$4)/($E$4-$F$4))))/49.8328865456397)^'Qn H'!R$5)*('Qn H'!R$6*$B16/1000)","v":1035.6000000000001},{"$f":"(((($D$4-$E$4)/(LN(($D$4-$F$4)/($E$4-$F$4))))/49.8328865456397)^'Qn H'!S$5)*('Qn H'!S$6*$B16/1000)","v":1690.8000000000004},{"$f":"(((($D$4-$E$4)/(LN(($D$4-$F$4)/($E$4-$F$4))))/49.8328865456397)^'Qn H'!T$5)*('Qn H'!T$6*$B16/1000)","v":2046.0000000000005},null,null,null,1200,null,{"$f":"Sortiment!A15","v":1},{"$f":"Sortiment!A135","v":1},{"$f":"Sortiment!A255","v":1},{"$f":"Sortiment!A375","v":1},{"$f":"Sortiment!A495","v":1},{"$f":"Sortiment!A615","v":1},{"$f":"Sortiment!A645","v":1},{"$f":"Sortiment!A675","v":1},{"$f":"Sortiment!A30","v":1},{"$f":"Sortiment!A150","v":1},{"$f":"Sortiment!A270","v":1},{"$f":"Sortiment!A390","v":1},{"$f":"Sortiment!A510","v":1},{"$f":"IF(logic!$C$2=\"KHVKM\",0,Sortiment!A630)","v":1},{"$f":"IF(logic!$C$2=\"KHVKM\",0,Sortiment!A660)","v":1},{"$f":"IF(logic!$C$2=\"KHVKM\",0,Sortiment!A690)","v":1}]
[null,1400,null,{"$f":"(((($D$4-$E$4)/(LN(($D$4-$F$4)/($E$4-$F$4))))/49.8328865456397)^'Qn H'!E$5)*('Qn H'!E$6*$B17/1000)","v":278.60000000000008},{"$f":"(((($D$4-$E$4)/(LN(($D$4-$F$4)/($E$4-$F$4))))/49.8328865456397)^'Qn H'!F$5)*('Qn H'!F$6*$B17/1000)","v":404.60000000000014},{"$f":"(((($D$4-$E$4)/(LN(($D$4-$F$4)/($E$4-$F$4))))/49.8328865456397)^'Qn H'!G$5)*('Qn H'!G$6*$B17/1000)","v":445.2000000000001},{"$f":"(((($D$4-$E$4)/(LN(($D$4-$F$4)/($E$4-$F$4))))/49.8328865456397)^'Qn H'!H$5)*('Qn H'!H$6*$B17/1000)","v":583.80000000000007},{"$f":"(((($D$4-$E$4)/(LN(($D$4-$F$4)/($E$4-$F$4))))/49.8328865456397)^'Qn H'!I$5)*('Qn H'!I$6*$B17/1000)","v":747.60000000000014},{"$f":"(((($D$4-$E$4)/(LN(($D$4-$F$4)/($E$4-$F$4))))/49.8328865456397)^'Qn H'!J$5)*('Qn H'!J$6*$B17/1000)","v":810.60000000000025},{"$f":"(((($D$4-$E$4)/(LN(($D$4-$F$4)/($E$4-$F$4))))/49.8328865456397)^'Qn H'!K$5)*('Qn H'!K$6*$B17/1000)","v":1388.8000000000002},{"$f":"(((($D$4-$E$4)/(LN(($D$4-$F$4)/($E$4-$F$4))))/49.8328865456397)^'Qn H'!L$5)*('Qn H'!L$6*$B17/1000)","v":1633.8000000000004},{"$f":"(((($D$4-$E$4)/(LN(($D$4-$F$4)/($E$4-$F$4))))/49.8328865456397)^'Qn H'!M$5)*('Qn H'!M$6*$B17/1000)","v":372.40000000000003},{"$f":"(((($D$4-$E$4)/(LN(($D$4-$F$4)/($E$4-$F$4))))/49.8328865456397)^'Qn H'!N$5)*('Qn H'!N$6*$B17/1000)","v":575.40000000000009},{"$f":"(((($D$4-$E$4)/(LN(($D$4-$F$4)/($E$4-$F$4))))/49.8328865456397)^'Qn H'!O$5)*('Qn H'!O$6*$B17/1000)","v":614.60000000000014},{"$f":"(((($D$4-$E$4)/(LN(($D$4-$F$4)/($E$4-$F$4))))/49.8328865456397)^'Qn H'!P$5)*('Qn H'!P$6*$B17/1000)","v":813.4000000000002},{"$f":"(((($D$4-$E$4)/(LN(($D$4-$F$4)/($E$4-$F$4))))/49.8328865456397)^'Qn H'!Q$5)*('Qn H'!Q$6*$B17/1000)","v":1048.6000000000001},{"$f":"(((($D$4-$E$4)/(LN(($D$4-$F$4)/($E$4-$F$4))))/49.8328865456397)^'Qn H'!R$5)*('Qn H'!R$6*$B17/1000)","v":1208.2000000000003},{"$f":"(((($D$4-$E$4)/(LN(($D$4-$F$4)/($E$4-$F$4))))/49.8328865456397)^'Qn H'!S$5)*('Qn H'!S$6*$B17/1000)","v":1972.6000000000004},{"$f":"(((($D$4-$E$4)/(LN(($D$4-$F$4)/($E$4-$F$4))))/49.8328865456397)^'Qn H'!T$5)*('Qn H'!T$6*$B17/1000)","v":2387.0000000000005},null,null,null,1400,null,{"$f":"Sortiment!A16","v":1},{"$f":"Sortiment!A136","v":1},{"$f":"Sortiment!A256","v":1},{"$f":"Sortiment!A376","v":1},{"$f":"Sortiment!A496","v":1},{"$f":"Sortiment!A616","v":1},{"$f":"Sortiment!A646","v":1},{"$f":"Sortiment!A676","v":1},{"$f":"Sortiment!A31","v":1},{"$f":"Sortiment!A151","v":1},{"$f":"Sortiment!A271","v":1},{"$f":"Sortiment!A391","v":1},{"$f":"Sortiment!A511","v":1},{"$f":"IF(logic!$C$2=\"KHVKM\",0,Sortiment!A631)","v":1},{"$f":"IF(logic!$C$2=\"KHVKM\",0,Sortiment!A661)","v":1},{"$f":"IF(logic!$C$2=\"KHVKM\",0,Sortiment!A691)","v":1}]
[null,1600,null,{"$f":"(((($D$4-$E$4)/(LN(($D$4-$F$4)/($E$4-$F$4))))/49.8328865456397)^'Qn H'!E$5)*('Qn H'!E$6*$B18/1000)","v":318.40000000000003},{"$f":"(((($D$4-$E$4)/(LN(($D$4-$F$4)/($E$4-$F$4))))/49.8328865456397)^'Qn H'!F$5)*('Qn H'!F$6*$B18/1000)","v":462.40000000000009},{"$f":"(((($D$4-$E$4)/(LN(($D$4-$F$4)/($E$4-$F$4))))/49.8328865456397)^'Qn H'!G$5)*('Qn H'!G$6*$B18/1000)","v":508.80000000000013},{"$f":"(((($D$4-$E$4)/(LN(($D$4-$F$4)/($E$4-$F$4))))/49.8328865456397)^'Qn H'!H$5)*('Qn H'!H$6*$B18/1000)","v":667.20000000000016},{"$f":"(((($D$4-$E$4)/(LN(($D$4-$F$4)/($E$4-$F$4))))/49.8328865456397)^'Qn H'!I$5)*('Qn H'!I$6*$B18/1000)","v":854.4000000000002},{"$f":"(((($D$4-$E$4)/(LN(($D$4-$F$4)/($E$4-$F$4))))/49.8328865456397)^'Qn H'!J$5)*('Qn H'!J$6*$B18/1000)","v":926.4000000000002},{"$f":"(((($D$4-$E$4)/(LN(($D$4-$F$4)/($E$4-$F$4))))/49.8328865456397)^'Qn H'!K$5)*('Qn H'!K$6*$B18/1000)","v":1587.2000000000005},{"$f":"(((($D$4-$E$4)/(LN(($D$4-$F$4)/($E$4-$F$4))))/49.8328865456397)^'Qn H'!L$5)*('Qn H'!L$6*$B18/1000)","v":1867.2000000000005},{"$f":"(((($D$4-$E$4)/(LN(($D$4-$F$4)/($E$4-$F$4))))/49.8328865456397)^'Qn H'!M$5)*('Qn H'!M$6*$B18/1000)","v":425.60000000000014},{"$f":"(((($D$4-$E$4)/(LN(($D$4-$F$4)/($E$4-$F$4))))/49.8328865456397)^'Qn H'!N$5)*('Qn H'!N$6*$B18/1000)","v":657.60000000000014},{"$f":"(((($D$4-$E$4)/(LN(($D$4-$F$4)/($E$4-$F$4))))/49.8328865456397)^'Qn H'!O$5)*('Qn H'!O$6*$B18/1000)","v":702.40000000000009},{"$f":"(((($D$4-$E$4)/(LN(($D$4-$F$4)/($E$4-$F$4))))/49.8328865456397)^'Qn H'!P$5)*('Qn H'!P$6*$B18/1000)","v":929.60000000000025},{"$f":"(((($D$4-$E$4)/(LN(($D$4-$F$4)/($E$4-$F$4))))/49.8328865456397)^'Qn H'!Q$5)*('Qn H'!Q$6*$B18/1000)","v":1198.4000000000003},{"$f":"(((($D$4-$E$4)/(LN(($D$4-$F$4)/($E$4-$F$4))))/49.8328865456397)^'Qn H'!R$5)*('Qn H'!R$6*$B18/1000)","v":1380.8000000000002},{"$f":"(((($D$4-$E$4)/(LN(($D$4-$F$4)/($E$4-$F$4))))/49.8328865456397)^'Qn H'!S$5)*('Qn H'!S$6*$B18/1000)","v":2254.4000000000005},{"$f":"(((($D$4-$E$4)/(LN(($D$4-$F$4)/($E$4-$F$4))))/49.8328865456397)^'Qn H'!T$5)*('Qn H'!T$6*$B18/1000)","v":2728.0000000000005},null,null,null,1600,null,{"$f":"Sortiment!A17","v":1},{"$f":"Sortiment!A137","v":1},{"$f":"Sortiment!A257","v":1},{"$f":"Sortiment!A377","v":1},{"$f":"Sortiment!A497","v":1},{"$f":"Sortiment!A617","v":1},{"$f":"Sortiment!A647","v":1},{"$f":"Sortiment!A677","v":1},{"$f":"Sortiment!A32","v":1},{"$f":"Sortiment!A152","v":1},{"$f":"Sortiment!A272","v":1},{"$f":"Sortiment!A392","v":1},{"$f":"Sortiment!A512","v":1},{"$f":"IF(logic!$C$2=\"KHVKM\",0,Sortiment!A632)","v":1},{"$f":"IF(logic!$C$2=\"KHVKM\",0,Sortiment!A662)","v":1},{"$f":"IF(logic!$C$2=\"KHVKM\",0,Sortiment!A692)","v":1}]
[null,1800,null,{"$f":"(((($D$4-$E$4)/(LN(($D$4-$F$4)/($E$4-$F$4))))/49.8328865456397)^'Qn H'!E$5)*('Qn H'!E$6*$B19/1000)","v":358.20000000000005},{"$f":"(((($D$4-$E$4)/(LN(($D$4-$F$4)/($E$4-$F$4))))/49.8328865456397)^'Qn H'!F$5)*('Qn H'!F$6*$B19/1000)","v":520.20000000000016},{"$f":"(((($D$4-$E$4)/(LN(($D$4-$F$4)/($E$4-$F$4))))/49.8328865456397)^'Qn H'!G$5)*('Qn H'!G$6*$B19/1000)","v":572.40000000000009},{"$f":"(((($D$4-$E$4)/(LN(($D$4-$F$4)/($E$4-$F$4))))/49.8328865456397)^'Qn H'!H$5)*('Qn H'!H$6*$B19/1000)","v":750.60000000000014},{"$f":"(((($D$4-$E$4)/(LN(($D$4-$F$4)/($E$4-$F$4))))/49.8328865456397)^'Qn H'!I$5)*('Qn H'!I$6*$B19/1000)","v":961.20000000000027},{"$f":"(((($D$4-$E$4)/(LN(($D$4-$F$4)/($E$4-$F$4))))/49.8328865456397)^'Qn H'!J$5)*('Qn H'!J$6*$B19/1000)","v":1042.2000000000003},{"$f":"(((($D$4-$E$4)/(LN(($D$4-$F$4)/($E$4-$F$4))))/49.8328865456397)^'Qn H'!K$5)*('Qn H'!K$6*$B19/1000)","v":1785.6000000000004},{"$f":"(((($D$4-$E$4)/(LN(($D$4-$F$4)/($E$4-$F$4))))/49.8328865456397)^'Qn H'!L$5)*('Qn H'!L$6*$B19/1000)","v":2100.6000000000004},{"$f":"(((($D$4-$E$4)/(LN(($D$4-$F$4)/($E$4-$F$4))))/49.8328865456397)^'Qn H'!M$5)*('Qn H'!M$6*$B19/1000)","v":478.80000000000013},{"$f":"(((($D$4-$E$4)/(LN(($D$4-$F$4)/($E$4-$F$4))))/49.8328865456397)^'Qn H'!N$5)*('Qn H'!N$6*$B19/1000)","v":739.80000000000007},{"$f":"(((($D$4-$E$4)/(LN(($D$4-$F$4)/($E$4-$F$4))))/49.8328865456397)^'Qn H'!O$5)*('Qn H'!O$6*$B19/1000)","v":790.20000000000027},{"$f":"(((($D$4-$E$4)/(LN(($D$4-$F$4)/($E$4-$F$4))))/49.8328865456397)^'Qn H'!P$5)*('Qn H'!P$6*$B19/1000)","v":1045.8000000000002},{"$f":"(((($D$4-$E$4)/(LN(($D$4-$F$4)/($E$4-$F$4))))/49.8328865456397)^'Qn H'!Q$5)*('Qn H'!Q$6*$B19/1000)","v":1348.2000000000003},{"$f":"(((($D$4-$E$4)/(LN(($D$4-$F$4)/($E$4-$F$4))))/49.8328865456397)^'Qn H'!R$5)*('Qn H'!R$6*$B19/1000)","v":1553.4000000000005},{"$f":"(((($D$4-$E$4)/(LN(($D$4-$F$4)/($E$4-$F$4))))/49.8328865456397)^'Qn H'!S$5)*('Qn H'!S$6*$B19/1000)","v":2536.2000000000003},{"$f":"(((($D$4-$E$4)/(LN(($D$4-$F$4)/($E$4-$F$4))))/49.8328865456397)^'Qn H'!T$5)*('Qn H'!T$6*$B19/1000)","v":3069.0000000000005},null,null,null,1800,null,{"$f":"Sortiment!A18","v":1},{"$f":"Sortiment!A138","v":1},{"$f":"Sortiment!A258","v":1},{"$f":"Sortiment!A378","v":1},{"$f":"Sortiment!A498","v":1},{"$f":"Sortiment!A618","v":1},{"$f":"Sortiment!A648","v":1},{"$f":"Sortiment!A678","v":1},{"$f":"Sortiment!A33","v":1},{"$f":"Sortiment!A153","v":1},{"$f":"Sortiment!A273","v":1},{"$f":"Sortiment!A393","v":1},{"$f":"Sortiment!A513","v":1},{"$f":"IF(logic!$C$2=\"KHVKM\",0,Sortiment!A633)","v":1},{"$f":"IF(logic!$C$2=\"KHVKM\",0,Sortiment!A663)","v":1},{"$f":"IF(logic!$C$2=\"KHVKM\",0,Sortiment!A693)","v":1}]
[null,2000,null,{"$f":"(((($D$4-$E$4)/(LN(($D$4-$F$4)/($E$4-$F$4))))/49.8328865456397)^'Qn H'!E$5)*('Qn H'!E$6*$B20/1000)","v":398.00000000000011},{"$f":"(((($D$4-$E$4)/(LN(($D$4-$F$4)/($E$4-$F$4))))/49.8328865456397)^'Qn H'!F$5)*('Qn H'!F$6*$B20/1000)","v":578.00000000000011},{"$f":"(((($D$4-$E$4)/(LN(($D$4-$F$4)/($E$4-$F$4))))/49.8328865456397)^'Qn H'!G$5)*('Qn H'!G$6*$B20/1000)","v":636.00000000000011},{"$f":"(((($D$4-$E$4)/(LN(($D$4-$F$4)/($E$4-$F$4))))/49.8328865456397)^'Qn H'!H$5)*('Qn H'!H$6*$B20/1000)","v":834.00000000000023},{"$f":"(((($D$4-$E$4)/(LN(($D$4-$F$4)/($E$4-$F$4))))/49.8328865456397)^'Qn H'!I$5)*('Qn H'!I$6*$B20/1000)","v":1068.0000000000002},{"$f":"(((($D$4-$E$4)/(LN(($D$4-$F$4)/($E$4-$F$4))))/49.8328865456397)^'Qn H'!J$5)*('Qn H'!J$6*$B20/1000)","v":1158.0000000000002},{"$f":"(((($D$4-$E$4)/(LN(($D$4-$F$4)/($E$4-$F$4))))/49.8328865456397)^'Qn H'!K$5)*('Qn H'!K$6*$B20/1000)","v":1984.0000000000005},{"$f":"(((($D$4-$E$4)/(LN(($D$4-$F$4)/($E$4-$F$4))))/49.8328865456397)^'Qn H'!L$5)*('Qn H'!L$6*$B20/1000)","v":2334.0000000000005},{"$f":"(((($D$4-$E$4)/(LN(($D$4-$F$4)/($E$4-$F$4))))/49.8328865456397)^'Qn H'!M$5)*('Qn H'!M$6*$B20/1000)","v":532.00000000000011},{"$f":"(((($D$4-$E$4)/(LN(($D$4-$F$4)/($E$4-$F$4))))/49.8328865456397)^'Qn H'!N$5)*('Qn H'!N$6*$B20/1000)","v":822.00000000000023},{"$f":"(((($D$4-$E$4)/(LN(($D$4-$F$4)/($E$4-$F$4))))/49.8328865456397)^'Qn H'!O$5)*('Qn H'!O$6*$B20/1000)","v":878.00000000000023},{"$f":"(((($D$4-$E$4)/(LN(($D$4-$F$4)/($E$4-$F$4))))/49.8328865456397)^'Qn H'!P$5)*('Qn H'!P$6*$B20/1000)","v":1162.0000000000002},{"$f":"(((($D$4-$E$4)/(LN(($D$4-$F$4)/($E$4-$F$4))))/49.8328865456397)^'Qn H'!Q$5)*('Qn H'!Q$6*$B20/1000)","v":1498.0000000000002},{"$f":"(((($D$4-$E$4)/(LN(($D$4-$F$4)/($E$4-$F$4))))/49.8328865456397)^'Qn H'!R$5)*('Qn H'!R$6*$B20/1000)","v":1726.0000000000005},{"$f":"(((($D$4-$E$4)/(LN(($D$4-$F$4)/($E$4-$F$4))))/49.8328865456397)^'Qn H'!S$5)*('Qn H'!S$6*$B20/1000)","v":2818.0000000000005},{"$f":"(((($D$4-$E$4)/(LN(($D$4-$F$4)/($E$4-$F$4))))/49.8328865456397)^'Qn H'!T$5)*('Qn H'!T$6*$B20/1000)","v":3410.0000000000009},null,null,null,2000,null,{"$f":"Sortiment!A19","v":1},{"$f":"Sortiment!A139","v":1},{"$f":"Sortiment!A259","v":1},{"$f":"Sortiment!A379","v":1},{"$f":"Sortiment!A499","v":1},{"$f":"Sortiment!A619","v":1},{"$f":"Sortiment!A649","v":1},{"$f":"Sortiment!A679","v":1},{"$f":"Sortiment!A34","v":1},{"$f":"Sortiment!A154","v":1},{"$f":"Sortiment!A274","v":1},{"$f":"Sortiment!A394","v":1},{"$f":"Sortiment!A514","v":1},{"$f":"IF(logic!$C$2=\"KHVKM\",0,Sortiment!A634)","v":1},{"$f":"IF(logic!$C$2=\"KHVKM\",0,Sortiment!A664)","v":1},{"$f":"IF(logic!$C$2=\"KHVKM\",0,Sortiment!A694)","v":1}]
[null,2300,null,{"$f":"(((($D$4-$E$4)/(LN(($D$4-$F$4)/($E$4-$F$4))))/49.8328865456397)^'Qn H'!E$5)*('Qn H'!E$6*$B21/1000)","v":457.7000000000001},{"$f":"(((($D$4-$E$4)/(LN(($D$4-$F$4)/($E$4-$F$4))))/49.8328865456397)^'Qn H'!F$5)*('Qn H'!F$6*$B21/1000)","v":664.70000000000016},{"$f":"(((($D$4-$E$4)/(LN(($D$4-$F$4)/($E$4-$F$4))))/49.8328865456397)^'Qn H'!G$5)*('Qn H'!G$6*$B21/1000)","v":731.40000000000009},{"$f":"(((($D$4-$E$4)/(LN(($D$4-$F$4)/($E$4-$F$4))))/49.8328865456397)^'Qn H'!H$5)*('Qn H'!H$6*$B21/1000)","v":959.10000000000025},{"$f":"(((($D$4-$E$4)/(LN(($D$4-$F$4)/($E$4-$F$4))))/49.8328865456397)^'Qn H'!I$5)*('Qn H'!I$6*$B21/1000)","v":1228.2000000000003},{"$f":"(((($D$4-$E$4)/(LN(($D$4-$F$4)/($E$4-$F$4))))/49.8328865456397)^'Qn H'!J$5)*('Qn H'!J$6*$B21/1000)","v":1331.7000000000003},{"$f":"(((($D$4-$E$4)/(LN(($D$4-$F$4)/($E$4-$F$4))))/49.8328865456397)^'Qn H'!K$5)*('Qn H'!K$6*$B21/1000)","v":2281.6000000000004},{"$f":"(((($D$4-$E$4)/(LN(($D$4-$F$4)/($E$4-$F$4))))/49.8328865456397)^'Qn H'!L$5)*('Qn H'!L$6*$B21/1000)","v":2684.1000000000004},{"$f":"(((($D$4-$E$4)/(LN(($D$4-$F$4)/($E$4-$F$4))))/49.8328865456397)^'Qn H'!M$5)*('Qn H'!M$6*$B21/1000)","v":611.80000000000007},{"$f":"(((($D$4-$E$4)/(LN(($D$4-$F$4)/($E$4-$F$4))))/49.8328865456397)^'Qn H'!N$5)*('Qn H'!N$6*$B21/1000)","v":945.30000000000018},{"$f":"(((($D$4-$E$4)/(LN(($D$4-$F$4)/($E$4-$F$4))))/49.8328865456397)^'Qn H'!O$5)*('Qn H'!O$6*$B21/1000)","v":1009.7000000000003},{"$f":"(((($D$4-$E$4)/(LN(($D$4-$F$4)/($E$4-$F$4))))/49.8328865456397)^'Qn H'!P$5)*('Qn H'!P$6*$B21/1000)","v":1336.3000000000002},{"$f":"(((($D$4-$E$4)/(LN(($D$4-$F$4)/($E$4-$F$4))))/49.8328865456397)^'Qn H'!Q$5)*('Qn H'!Q$6*$B21/1000)","v":1722.7000000000005},{"$f":"(((($D$4-$E$4)/(LN(($D$4-$F$4)/($E$4-$F$4))))/49.8328865456397)^'Qn H'!R$5)*('Qn H'!R$6*$B21/1000)","v":1984.9000000000005},{"$f":"(((($D$4-$E$4)/(LN(($D$4-$F$4)/($E$4-$F$4))))/49.8328865456397)^'Qn H'!S$5)*('Qn H'!S$6*$B21/1000)","v":3240.7000000000007},{"$f":"(((($D$4-$E$4)/(LN(($D$4-$F$4)/($E$4-$F$4))))/49.8328865456397)^'Qn H'!T$5)*('Qn H'!T$6*$B21/1000)","v":3921.5000000000009},null,null,null,2300,null,{"$f":"Sortiment!A20","v":1},{"$f":"Sortiment!A140","v":1},{"$f":"Sortiment!A260","v":1},{"$f":"Sortiment!A380","v":1},{"$f":"Sortiment!A500","v":1},{"$f":"Sortiment!A620","v":1},{"$f":"Sortiment!A650","v":1},{"$f":"Sortiment!A680","v":1},{"$f":"Sortiment!A35","v":1},{"$f":"Sortiment!A155","v":1},{"$f":"Sortiment!A275","v":1},{"$f":"Sortiment!A395","v":1},{"$f":"Sortiment!A515","v":1},{"$f":"IF(logic!$C$2=\"KHVKM\",0,Sortiment!A635)","v":1},{"$f":"IF(logic!$C$2=\"KHVKM\",0,Sortiment!A665)","v":1},{"$f":"IF(logic!$C$2=\"KHVKM\",0,Sortiment!A695)","v":1}]
[null,2600,null,{"$f":"(((($D$4-$E$4)/(LN(($D$4-$F$4)/($E$4-$F$4))))/49.8328865456397)^'Qn H'!E$5)*('Qn H'!E$6*$B22/1000)","v":517.40000000000009},{"$f":"(((($D$4-$E$4)/(LN(($D$4-$F$4)/($E$4-$F$4))))/49.8328865456397)^'Qn H'!F$5)*('Qn H'!F$6*$B22/1000)","v":751.40000000000009},{"$f":"(((($D$4-$E$4)/(LN(($D$4-$F$4)/($E$4-$F$4))))/49.8328865456397)^'Qn H'!G$5)*('Qn H'!G$6*$B22/1000)","v":826.80000000000018},{"$f":"(((($D$4-$E$4)/(LN(($D$4-$F$4)/($E$4-$F$4))))/49.8328865456397)^'Qn H'!H$5)*('Qn H'!H$6*$B22/1000)","v":1084.2000000000003},{"$f":"(((($D$4-$E$4)/(LN(($D$4-$F$4)/($E$4-$F$4))))/49.8328865456397)^'Qn H'!I$5)*('Qn H'!I$6*$B22/1000)","v":1388.4000000000003},{"$f":"(((($D$4-$E$4)/(LN(($D$4-$F$4)/($E$4-$F$4))))/49.8328865456397)^'Qn H'!J$5)*('Qn H'!J$6*$B22/1000)","v":1505.4000000000003},{"$f":"(((($D$4-$E$4)/(LN(($D$4-$F$4)/($E$4-$F$4))))/49.8328865456397)^'Qn H'!K$5)*('Qn H'!K$6*$B22/1000)","v":2579.2000000000003},{"$f":"(((($D$4-$E$4)/(LN(($D$4-$F$4)/($E$4-$F$4))))/49.8328865456397)^'Qn H'!L$5)*('Qn H'!L$6*$B22/1000)","v":3034.2000000000003},{"$f":"(((($D$4-$E$4)/(LN(($D$4-$F$4)/($E$4-$F$4))))/49.8328865456397)^'Qn H'!M$5)*('Qn H'!M$6*$B22/1000)","v":691.60000000000014},{"$f":"(((($D$4-$E$4)/(LN(($D$4-$F$4)/($E$4-$F$4))))/49.8328865456397)^'Qn H'!N$5)*('Qn H'!N$6*$B22/1000)","v":1068.6000000000001},{"$f":"(((($D$4-$E$4)/(LN(($D$4-$F$4)/($E$4-$F$4))))/49.8328865456397)^'Qn H'!O$5)*('Qn H'!O$6*$B22/1000)","v":1141.4000000000003},{"$f":"(((($D$4-$E$4)/(LN(($D$4-$F$4)/($E$4-$F$4))))/49.8328865456397)^'Qn H'!P$5)*('Qn H'!P$6*$B22/1000)","v":1510.6000000000001},{"$f":"(((($D$4-$E$4)/(LN(($D$4-$F$4)/($E$4-$F$4))))/49.8328865456397)^'Qn H'!Q$5)*('Qn H'!Q$6*$B22/1000)","v":1947.4000000000005},{"$f":"(((($D$4-$E$4)/(LN(($D$4-$F$4)/($E$4-$F$4))))/49.8328865456397)^'Qn H'!R$5)*('Qn H'!R$6*$B22/1000)","v":2243.8000000000006},{"$f":"(((($D$4-$E$4)/(LN(($D$4-$F$4)/($E$4-$F$4))))/49.8328865456397)^'Qn H'!S$5)*('Qn H'!S$6*$B22/1000)","v":3663.400000000001},{"$f":"(((($D$4-$E$4)/(LN(($D$4-$F$4)/($E$4-$F$4))))/49.8328865456397)^'Qn H'!T$5)*('Qn H'!T$6*$B22/1000)","v":4433.0000000000009},null,null,null,2600,null,{"$f":"Sortiment!A21","v":1},{"$f":"Sortiment!A141","v":1},{"$f":"Sortiment!A261","v":1},{"$f":"Sortiment!A381","v":1},{"$f":"Sortiment!A501","v":1},{"$f":"Sortiment!A621","v":1},{"$f":"Sortiment!A651","v":1},{"$f":"Sortiment!A681","v":1},{"$f":"Sortiment!A36","v":1},{"$f":"Sortiment!A156","v":1},{"$f":"Sortiment!A276","v":1},{"$f":"Sortiment!A396","v":1},{"$f":"Sortiment!A516","v":1},{"$f":"IF(logic!$C$2=\"KHVKM\",0,Sortiment!A636)","v":1},{"$f":"IF(logic!$C$2=\"KHVKM\",0,Sortiment!A666)","v":1},{"$f":"IF(logic!$C$2=\"KHVKM\",0,Sortiment!A696)","v":1}]
[null,3000,null,{"$f":"(((($D$4-$E$4)/(LN(($D$4-$F$4)/($E$4-$F$4))))/49.8328865456397)^'Qn H'!E$5)*('Qn H'!E$6*$B23/1000)","v":597.00000000000011},{"$f":"(((($D$4-$E$4)/(LN(($D$4-$F$4)/($E$4-$F$4))))/49.8328865456397)^'Qn H'!F$5)*('Qn H'!F$6*$B23/1000)","v":867.00000000000023},{"$f":"(((($D$4-$E$4)/(LN(($D$4-$F$4)/($E$4-$F$4))))/49.8328865456397)^'Qn H'!G$5)*('Qn H'!G$6*$B23/1000)","v":954.00000000000023},{"$f":"(((($D$4-$E$4)/(LN(($D$4-$F$4)/($E$4-$F$4))))/49.8328865456397)^'Qn H'!H$5)*('Qn H'!H$6*$B23/1000)","v":1251.0000000000002},{"$f":"(((($D$4-$E$4)/(LN(($D$4-$F$4)/($E$4-$F$4))))/49.8328865456397)^'Qn H'!I$5)*('Qn H'!I$6*$B23/1000)","v":1602.0000000000005},{"$f":"(((($D$4-$E$4)/(LN(($D$4-$F$4)/($E$4-$F$4))))/49.8328865456397)^'Qn H'!J$5)*('Qn H'!J$6*$B23/1000)","v":1737.0000000000005},{"$f":"(((($D$4-$E$4)/(LN(($D$4-$F$4)/($E$4-$F$4))))/49.8328865456397)^'Qn H'!K$5)*('Qn H'!K$6*$B23/1000)","v":2976.0000000000005},{"$f":"(((($D$4-$E$4)/(LN(($D$4-$F$4)/($E$4-$F$4))))/49.8328865456397)^'Qn H'!L$5)*('Qn H'!L$6*$B23/1000)","v":3501.0000000000009},{"$f":"(((($D$4-$E$4)/(LN(($D$4-$F$4)/($E$4-$F$4))))/49.8328865456397)^'Qn H'!M$5)*('Qn H'!M$6*$B23/1000)","v":798.00000000000023},{"$f":"(((($D$4-$E$4)/(LN(($D$4-$F$4)/($E$4-$F$4))))/49.8328865456397)^'Qn H'!N$5)*('Qn H'!N$6*$B23/1000)","v":1233.0000000000002},{"$f":"(((($D$4-$E$4)/(LN(($D$4-$F$4)/($E$4-$F$4))))/49.8328865456397)^'Qn H'!O$5)*('Qn H'!O$6*$B23/1000)","v":1317.0000000000002},{"$f":"(((($D$4-$E$4)/(LN(($D$4-$F$4)/($E$4-$F$4))))/49.8328865456397)^'Qn H'!P$5)*('Qn H'!P$6*$B23/1000)","v":1743.0000000000005},{"$f":"(((($D$4-$E$4)/(LN(($D$4-$F$4)/($E$4-$F$4))))/49.8328865456397)^'Qn H'!Q$5)*('Qn H'!Q$6*$B23/1000)","v":2247.0000000000005},{"$f":"(((($D$4-$E$4)/(LN(($D$4-$F$4)/($E$4-$F$4))))/49.8328865456397)^'Qn H'!R$5)*('Qn H'!R$6*$B23/1000)","v":2589.0000000000005},{"$f":"(((($D$4-$E$4)/(LN(($D$4-$F$4)/($E$4-$F$4))))/49.8328865456397)^'Qn H'!S$5)*('Qn H'!S$6*$B23/1000)","v":4227.0000000000009},{"$f":"(((($D$4-$E$4)/(LN(($D$4-$F$4)/($E$4-$F$4))))/49.8328865456397)^'Qn H'!T$5)*('Qn H'!T$6*$B23/1000)","v":5115.0000000000009},null,null,null,3000,null,{"$f":"Sortiment!A22","v":1},{"$f":"Sortiment!A142","v":1},{"$f":"Sortiment!A262","v":1},{"$f":"Sortiment!A382","v":1},{"$f":"Sortiment!A502","v":1},{"$f":"Sortiment!A622","v":1},{"$f":"Sortiment!A652","v":1},{"$f":"Sortiment!A682","v":1},{"$f":"Sortiment!A37","v":1},{"$f":"Sortiment!A157","v":1},{"$f":"Sortiment!A277","v":1},{"$f":"Sortiment!A397","v":1},{"$f":"Sortiment!A517","v":1},{"$f":"IF(logic!$C$2=\"KHVKM\",0,Sortiment!A637)","v":1},{"$f":"IF(logic!$C$2=\"KHVKM\",0,Sortiment!A667)","v":1},{"$f":"IF(logic!$C$2=\"KHVKM\",0,Sortiment!A697)","v":1}]
[]
[]
[null,null,"Výška [mm]",null,null,{"$f":"'Qn H'!G7","v":366},null,null,null,null,null,null,null,{"$f":"'Qn H'!O7","v":514},null,null,null,null,null,null,null,null,null,"Výška [mm]",null,null,366,null,null,null,null,null,null,null,514]
[null,"Délka [mm]",null,{"$f":"'Qn H'!E8","v":"K10H"},{"$f":"'Qn H'!F8","v":"K11H"},{"$f":"'Qn H'!G8","v":"K20H"},{"$f":"'Qn H'!H8","v":"K21H"},{"$f":"'Qn H'!I8","v":"K22H"},{"$f":"'Qn H'!J8","v":0},{"$f":"'Qn H'!K8","v":0},{"$f":"'Qn H'!L8","v":0},{"$f":"'Qn H'!M8","v":"K10H"},{"$f":"'Qn H'!N8","v":"K11H"},{"$f":"'Qn H'!O8","v":"K20H"},{"$f":"'Qn H'!P8","v":"K21H"},{"$f":"'Qn H'!Q8","v":"K22H"},{"$f":"'Qn H'!R8","v":0},{"$f":"'Qn H'!S8","v":0},{"$f":"'Qn H'!T8","v":0},null,null,null,"Délka [mm]",null,{"$f":"D27","v":"K10H"},"K11H","K20H","K21H","K22H",0,0,0,"K10H","K11H","K20H","K21H","K22H",0,0,0]
[null,500,null,{"$f":"(((($D$4-$E$4)/(LN(($D$4-$F$4)/($E$4-$F$4))))/49.8328865456397)^'Qn H'!E$9)*('Qn H'!E$10*$B9/1000)","v":197.50000000000006},{"$f":"(((($D$4-$E$4)/(LN(($D$4-$F$4)/($E$4-$F$4))))/49.8328865456397)^'Qn H'!F$9)*('Qn H'!F$10*$B9/1000)","v":319.00000000000006},{"$f":"(((($D$4-$E$4)/(LN(($D$4-$F$4)/($E$4-$F$4))))/49.8328865456397)^'Qn H'!G$9)*('Qn H'!G$10*$B9/1000)","v":333.50000000000006},{"$f":"(((($D$4-$E$4)/(LN(($D$4-$F$4)/($E$4-$F$4))))/49.8328865456397)^'Qn H'!H$9)*('Qn H'!H$10*$B9/1000)","v":435.50000000000011},{"$f":"(((($D$4-$E$4)/(LN(($D$4-$F$4)/($E$4-$F$4))))/49.8328865456397)^'Qn H'!I$9)*('Qn H'!I$10*$B9/1000)","v":603.50000000000011},{"$f":"(((($D$4-$E$4)/(LN(($D$4-$F$4)/($E$4-$F$4))))/49.8328865456397)^'Qn H'!J$9)*('Qn H'!J$10*$B9/1000)","v":0},{"$f":"(((($D$4-$E$4)/(LN(($D$4-$F$4)/($E$4-$F$4))))/49.8328865456397)^'Qn H'!K$9)*('Qn H'!K$10*$B9/1000)","v":0},{"$f":"(((($D$4-$E$4)/(LN(($D$4-$F$4)/($E$4-$F$4))))/49.8328865456397)^'Qn H'!L$9)*('Qn H'!L$10*$B9/1000)","v":0},{"$f":"(((($D$4-$E$4)/(LN(($D$4-$F$4)/($E$4-$F$4))))/49.8328865456397)^'Qn H'!M$9)*('Qn H'!M$10*$B9/1000)","v":263.50000000000006},{"$f":"(((($D$4-$E$4)/(LN(($D$4-$F$4)/($E$4-$F$4))))/49.8328865456397)^'Qn H'!N$9)*('Qn H'!N$10*$B9/1000)","v":424.00000000000011},{"$f":"(((($D$4-$E$4)/(LN(($D$4-$F$4)/($E$4-$F$4))))/49.8328865456397)^'Qn H'!O$9)*('Qn H'!O$10*$B9/1000)","v":446.00000000000011},{"$f":"(((($D$4-$E$4)/(LN(($D$4-$F$4)/($E$4-$F$4))))/49.8328865456397)^'Qn H'!P$9)*('Qn H'!P$10*$B9/1000)","v":564.00000000000011},{"$f":"(((($D$4-$E$4)/(LN(($D$4-$F$4)/($E$4-$F$4))))/49.8328865456397)^'Qn H'!Q$9)*('Qn H'!Q$10*$B9/1000)","v":777.00000000000023},{"$f":"(((($D$4-$E$4)/(LN(($D$4-$F$4)/($E$4-$F$4))))/49.8328865456397)^'Qn H'!R$9)*('Qn H'!R$10*$B9/1000)","v":0},{"$f":"(((($D$4-$E$4)/(LN(($D$4-$F$4)/($E$4-$F$4))))/49.8328865456397)^'Qn H'!S$9)*('Qn H'!S$10*$B9/1000)","v":0},{"$f":"(((($D$4-$E$4)/(LN(($D$4-$F$4)/($E$4-$F$4))))/49.8328865456397)^'Qn H'!T$9)*('Qn H'!T$10*$B9/1000)","v":0},null,null,null,500,null,{"$f":"Sortiment!A38","v":1},{"$f":"Sortiment!A158","v":1},{"$f":"Sortiment!A278","v":1},{"$f":"Sortiment!A398","v":1},{"$f":"Sortiment!A518","v":1},null,null,null,{"$f":"Sortiment!A53","v":1},{"$f":"Sortiment!A173","v":1},{"$f":"Sortiment!A293","v":1},{"$f":"Sortiment!A413","v":1},{"$f":"Sortiment!A533","v":1}]
[null,600,null,{"$f":"(((($D$4-$E$4)/(LN(($D$4-$F$4)/($E$4-$F$4))))/49.8328865456397)^'Qn H'!E$9)*('Qn H'!E$10*$B10/1000)","v":237.00000000000006},{"$f":"(((($D$4-$E$4)/(LN(($D$4-$F$4)/($E$4-$F$4))))/49.8328865456397)^'Qn H'!F$9)*('Qn H'!F$10*$B10/1000)","v":382.80000000000007},{"$f":"(((($D$4-$E$4)/(LN(($D$4-$F$4)/($E$4-$F$4))))/49.8328865456397)^'Qn H'!G$9)*('Qn H'!G$10*$B10/1000)","v":400.2000000000001},{"$f":"(((($D$4-$E$4)/(LN(($D$4-$F$4)/($E$4-$F$4))))/49.8328865456397)^'Qn H'!H$9)*('Qn H'!H$10*$B10/1000)","v":522.60000000000014},{"$f":"(((($D$4-$E$4)/(LN(($D$4-$F$4)/($E$4-$F$4))))/49.8328865456397)^'Qn H'!I$9)*('Qn H'!I$10*$B10/1000)","v":724.20000000000016},{"$f":"(((($D$4-$E$4)/(LN(($D$4-$F$4)/($E$4-$F$4))))/49.8328865456397)^'Qn H'!J$9)*('Qn H'!J$10*$B10/1000)","v":0},{"$f":"(((($D$4-$E$4)/(LN(($D$4-$F$4)/($E$4-$F$4))))/49.8328865456397)^'Qn H'!K$9)*('Qn H'!K$10*$B10/1000)","v":0},{"$f":"(((($D$4-$E$4)/(LN(($D$4-$F$4)/($E$4-$F$4))))/49.8328865456397)^'Qn H'!L$9)*('Qn H'!L$10*$B10/1000)","v":0},{"$f":"(((($D$4-$E$4)/(LN(($D$4-$F$4)/($E$4-$F$4))))/49.8328865456397)^'Qn H'!M$9)*('Qn H'!M$10*$B10/1000)","v":316.20000000000005},{"$f":"(((($D$4-$E$4)/(LN(($D$4-$F$4)/($E$4-$F$4))))/49.8328865456397)^'Qn H'!N$9)*('Qn H'!N$10*$B10/1000)","v":508.80000000000013},{"$f":"(((($D$4-$E$4)/(LN(($D$4-$F$4)/($E$4-$F$4))))/49.8328865456397)^'Qn H'!O$9)*('Qn H'!O$10*$B10/1000)","v":535.20000000000016},{"$f":"(((($D$4-$E$4)/(LN(($D$4-$F$4)/($E$4-$F$4))))/49.8328865456397)^'Qn H'!P$9)*('Qn H'!P$10*$B10/1000)","v":676.80000000000007},{"$f":"(((($D$4-$E$4)/(LN(($D$4-$F$4)/($E$4-$F$4))))/49.8328865456397)^'Qn H'!Q$9)*('Qn H'!Q$10*$B10/1000)","v":932.4000000000002},{"$f":"(((($D$4-$E$4)/(LN(($D$4-$F$4)/($E$4-$F$4))))/49.8328865456397)^'Qn H'!R$9)*('Qn H'!R$10*$B10/1000)","v":0},{"$f":"(((($D$4-$E$4)/(LN(($D$4-$F$4)/($E$4-$F$4))))/49.8328865456397)^'Qn H'!S$9)*('Qn H'!S$10*$B10/1000)","v":0},{"$f":"(((($D$4-$E$4)/(LN(($D$4-$F$4)/($E$4-$F$4))))/49.8328865456397)^'Qn H'!T$9)*('Qn H'!T$10*$B10/1000)","v":0},null,null,null,600,null,{"$f":"Sortiment!A39","v":1},{"$f":"Sortiment!A159","v":1},{"$f":"Sortiment!A279","v":1},{"$f":"Sortiment!A399","v":1},{"$f":"Sortiment!A519","v":1},null,null,null,{"$f":"Sortiment!A54","v":1},{"$f":"Sortiment!A174","v":1},{"$f":"Sortiment!A294","v":1},{"$f":"Sortiment!A414","v":1},{"$f":"Sortiment!A534","v":1}]
[null,700,null,{"$f":"(((($D$4-$E$4)/(LN(($D$4-$F$4)/($E$4-$F$4))))/49.8328865456397)^'Qn H'!E$9)*('Qn H'!E$10*$B11/1000)","v":276.50000000000006},{"$f":"(((($D$4-$E$4)/(LN(($D$4-$F$4)/($E$4-$F$4))))/49.8328865456397)^'Qn H'!F$9)*('Qn H'!F$10*$B11/1000)","v":446.60000000000014},{"$f":"(((($D$4-$E$4)/(LN(($D$4-$F$4)/($E$4-$F$4))))/49.8328865456397)^'Qn H'!G$9)*('Qn H'!G$10*$B11/1000)","v":466.90000000000009},{"$f":"(((($D$4-$E$4)/(LN(($D$4-$F$4)/($E$4-$F$4))))/49.8328865456397)^'Qn H'!H$9)*('Qn H'!H$10*$B11/1000)","v":609.70000000000016},{"$f":"(((($D$4-$E$4)/(LN(($D$4-$F$4)/($E$4-$F$4))))/49.8328865456397)^'Qn H'!I$9)*('Qn H'!I$10*$B11/1000)","v":844.9000000000002},{"$f":"(((($D$4-$E$4)/(LN(($D$4-$F$4)/($E$4-$F$4))))/49.8328865456397)^'Qn H'!J$9)*('Qn H'!J$10*$B11/1000)","v":0},{"$f":"(((($D$4-$E$4)/(LN(($D$4-$F$4)/($E$4-$F$4))))/49.8328865456397)^'Qn H'!K$9)*('Qn H'!K$10*$B11/1000)","v":0},{"$f":"(((($D$4-$E$4)/(LN(($D$4-$F$4)/($E$4-$F$4))))/49.8328865456397)^'Qn H'!L$9)*('Qn H'!L$10*$B11/1000)","v":0},{"$f":"(((($D$4-$E$4)/(LN(($D$4-$F$4)/($E$4-$F$4))))/49.8328865456397)^'Qn H'!M$9)*('Qn H'!M$10*$B11/1000)","v":368.90000000000003},{"$f":"(((($D$4-$E$4)/(LN(($D$4-$F$4)/($E$4-$F$4))))/49.8328865456397)^'Qn H'!N$9)*('Qn H'!N$10*$B11/1000)","v":593.60000000000014},{"$f":"(((($D$4-$E$4)/(LN(($D$4-$F$4)/($E$4-$F$4))))/49.8328865456397)^'Qn H'!O$9)*('Qn H'!O$10*$B11/1000)","v":624.40000000000009},{"$f":"(((($D$4-$E$4)/(LN(($D$4-$F$4)/($E$4-$F$4))))/49.8328865456397)^'Qn H'!P$9)*('Qn H'!P$10*$B11/1000)","v":789.60000000000025},{"$f":"(((($D$4-$E$4)/(LN(($D$4-$F$4)/($E$4-$F$4))))/49.8328865456397)^'Qn H'!Q$9)*('Qn H'!Q$10*$B11/1000)","v":1087.8000000000002},{"$f":"(((($D$4-$E$4)/(LN(($D$4-$F$4)/($E$4-$F$4))))/49.8328865456397)^'Qn H'!R$9)*('Qn H'!R$10*$B11/1000)","v":0},{"$f":"(((($D$4-$E$4)/(LN(($D$4-$F$4)/($E$4-$F$4))))/49.8328865456397)^'Qn H'!S$9)*('Qn H'!S$10*$B11/1000)","v":0},{"$f":"(((($D$4-$E$4)/(LN(($D$4-$F$4)/($E$4-$F$4))))/49.8328865456397)^'Qn H'!T$9)*('Qn H'!T$10*$B11/1000)","v":0},null,null,null,700,null,{"$f":"Sortiment!A40","v":1},{"$f":"Sortiment!A160","v":1},{"$f":"Sortiment!A280","v":1},{"$f":"Sortiment!A400","v":1},{"$f":"Sortiment!A520","v":1},null,null,null,{"$f":"Sortiment!A55","v":1},{"$f":"Sortiment!A175","v":1},{"$f":"Sortiment!A295","v":1},{"$f":"Sortiment!A415","v":1},{"$f":"Sortiment!A535","v":1}]
[null,800,null,{"$f":"(((($D$4-$E$4)/(LN(($D$4-$F$4)/($E$4-$F$4))))/49.8328865456397)^'Qn H'!E$9)*('Qn H'!E$10*$B12/1000)","v":316.00000000000006},{"$f":"(((($D$4-$E$4)/(LN(($D$4-$F$4)/($E$4-$F$4))))/49.8328865456397)^'Qn H'!F$9)*('Qn H'!F$10*$B12/1000)","v":510.40000000000009},{"$f":"(((($D$4-$E$4)/(LN(($D$4-$F$4)/($E$4-$F$4))))/49.8328865456397)^'Qn H'!G$9)*('Qn H'!G$10*$B12/1000)","v":533.60000000000014},{"$f":"(((($D$4-$E$4)/(LN(($D$4-$F$4)/($E$4-$F$4))))/49.8328865456397)^'Qn H'!H$9)*('Qn H'!H$10*$B12/1000)","v":696.80000000000007},{"$f":"(((($D$4-$E$4)/(LN(($D$4-$F$4)/($E$4-$F$4))))/49.8328865456397)^'Qn H'!I$9)*('Qn H'!I$10*$B12/1000)","v":965.60000000000025},{"$f":"(((($D$4-$E$4)/(LN(($D$4-$F$4)/($E$4-$F$4))))/49.8328865456397)^'Qn H'!J$9)*('Qn H'!J$10*$B12/1000)","v":0},{"$f":"(((($D$4-$E$4)/(LN(($D$4-$F$4)/($E$4-$F$4))))/49.8328865456397)^'Qn H'!K$9)*('Qn H'!K$10*$B12/1000)","v":0},{"$f":"(((($D$4-$E$4)/(LN(($D$4-$F$4)/($E$4-$F$4))))/49.8328865456397)^'Qn H'!L$9)*('Qn H'!L$10*$B12/1000)","v":0},{"$f":"(((($D$4-$E$4)/(LN(($D$4-$F$4)/($E$4-$F$4))))/49.8328865456397)^'Qn H'!M$9)*('Qn H'!M$10*$B12/1000)","v":421.60000000000014},{"$f":"(((($D$4-$E$4)/(LN(($D$4-$F$4)/($E$4-$F$4))))/49.8328865456397)^'Qn H'!N$9)*('Qn H'!N$10*$B12/1000)","v":678.40000000000009},{"$f":"(((($D$4-$E$4)/(LN(($D$4-$F$4)/($E$4-$F$4))))/49.8328865456397)^'Qn H'!O$9)*('Qn H'!O$10*$B12/1000)","v":713.60000000000014},{"$f":"(((($D$4-$E$4)/(LN(($D$4-$F$4)/($E$4-$F$4))))/49.8328865456397)^'Qn H'!P$9)*('Qn H'!P$10*$B12/1000)","v":902.4000000000002},{"$f":"(((($D$4-$E$4)/(LN(($D$4-$F$4)/($E$4-$F$4))))/49.8328865456397)^'Qn H'!Q$9)*('Qn H'!Q$10*$B12/1000)","v":1243.2000000000003},{"$f":"(((($D$4-$E$4)/(LN(($D$4-$F$4)/($E$4-$F$4))))/49.8328865456397)^'Qn H'!R$9)*('Qn H'!R$10*$B12/1000)","v":0},{"$f":"(((($D$4-$E$4)/(LN(($D$4-$F$4)/($E$4-$F$4))))/49.8328865456397)^'Qn H'!S$9)*('Qn H'!S$10*$B12/1000)","v":0},{"$f":"(((($D$4-$E$4)/(LN(($D$4-$F$4)/($E$4-$F$4))))/49.8328865456397)^'Qn H'!T$9)*('Qn H'!T$10*$B12/1000)","v":0},null,null,null,800,null,{"$f":"Sortiment!A41","v":1},{"$f":"Sortiment!A161","v":1},{"$f":"Sortiment!A281","v":1},{"$f":"Sortiment!A401","v":1},{"$f":"Sortiment!A521","v":1},null,null,null,{"$f":"Sortiment!A56","v":1},{"$f":"Sortiment!A176","v":1},{"$f":"Sortiment!A296","v":1},{"$f":"Sortiment!A416","v":1},{"$f":"Sortiment!A536","v":1}]
[null,900,null,{"$f":"(((($D$4-$E$4)/(LN(($D$4-$F$4)/($E$4-$F$4))))/49.8328865456397)^'Qn H'!E$9)*('Qn H'!E$10*$B13/1000)","v":355.50000000000006},{"$f":"(((($D$4-$E$4)/(LN(($D$4-$F$4)/($E$4-$F$4))))/49.8328865456397)^'Qn H'!F$9)*('Qn H'!F$10*$B13/1000)","v":574.20000000000016},{"$f":"(((($D$4-$E$4)/(LN(($D$4-$F$4)/($E$4-$F$4))))/49.8328865456397)^'Qn H'!G$9)*('Qn H'!G$10*$B13/1000)","v":600.30000000000007},{"$f":"(((($D$4-$E$4)/(LN(($D$4-$F$4)/($E$4-$F$4))))/49.8328865456397)^'Qn H'!H$9)*('Qn H'!H$10*$B13/1000)","v":783.9000000000002},{"$f":"(((($D$4-$E$4)/(LN(($D$4-$F$4)/($E$4-$F$4))))/49.8328865456397)^'Qn H'!I$9)*('Qn H'!I$10*$B13/1000)","v":1086.3000000000002},{"$f":"(((($D$4-$E$4)/(LN(($D$4-$F$4)/($E$4-$F$4))))/49.8328865456397)^'Qn H'!J$9)*('Qn H'!J$10*$B13/1000)","v":0},{"$f":"(((($D$4-$E$4)/(LN(($D$4-$F$4)/($E$4-$F$4))))/49.8328865456397)^'Qn H'!K$9)*('Qn H'!K$10*$B13/1000)","v":0},{"$f":"(((($D$4-$E$4)/(LN(($D$4-$F$4)/($E$4-$F$4))))/49.8328865456397)^'Qn H'!L$9)*('Qn H'!L$10*$B13/1000)","v":0},{"$f":"(((($D$4-$E$4)/(LN(($D$4-$F$4)/($E$4-$F$4))))/49.8328865456397)^'Qn H'!M$9)*('Qn H'!M$10*$B13/1000)","v":474.30000000000013},{"$f":"(((($D$4-$E$4)/(LN(($D$4-$F$4)/($E$4-$F$4))))/49.8328865456397)^'Qn H'!N$9)*('Qn H'!N$10*$B13/1000)","v":763.20000000000016},{"$f":"(((($D$4-$E$4)/(LN(($D$4-$F$4)/($E$4-$F$4))))/49.8328865456397)^'Qn H'!O$9)*('Qn H'!O$10*$B13/1000)","v":802.80000000000018},{"$f":"(((($D$4-$E$4)/(LN(($D$4-$F$4)/($E$4-$F$4))))/49.8328865456397)^'Qn H'!P$9)*('Qn H'!P$10*$B13/1000)","v":1015.2000000000003},{"$f":"(((($D$4-$E$4)/(LN(($D$4-$F$4)/($E$4-$F$4))))/49.8328865456397)^'Qn H'!Q$9)*('Qn H'!Q$10*$B13/1000)","v":1398.6000000000001},{"$f":"(((($D$4-$E$4)/(LN(($D$4-$F$4)/($E$4-$F$4))))/49.8328865456397)^'Qn H'!R$9)*('Qn H'!R$10*$B13/1000)","v":0},{"$f":"(((($D$4-$E$4)/(LN(($D$4-$F$4)/($E$4-$F$4))))/49.8328865456397)^'Qn H'!S$9)*('Qn H'!S$10*$B13/1000)","v":0},{"$f":"(((($D$4-$E$4)/(LN(($D$4-$F$4)/($E$4-$F$4))))/49.8328865456397)^'Qn H'!T$9)*('Qn H'!T$10*$B13/1000)","v":0},null,null,null,900,null,{"$f":"Sortiment!A42","v":1},{"$f":"Sortiment!A162","v":1},{"$f":"Sortiment!A282","v":1},{"$f":"Sortiment!A402","v":1},{"$f":"Sortiment!A522","v":1},null,null,null,{"$f":"Sortiment!A57","v":1},{"$f":"Sortiment!A177","v":1},{"$f":"Sortiment!A297","v":1},{"$f":"Sortiment!A417","v":1},{"$f":"Sortiment!A537","v":1}]
[null,1000,null,{"$f":"(((($D$4-$E$4)/(LN(($D$4-$F$4)/($E$4-$F$4))))/49.8328865456397)^'Qn H'!E$9)*('Qn H'!E$10*$B14/1000)","v":395.00000000000011},{"$f":"(((($D$4-$E$4)/(LN(($D$4-$F$4)/($E$4-$F$4))))/49.8328865456397)^'Qn H'!F$9)*('Qn H'!F$10*$B14/1000)","v":638.00000000000011},{"$f":"(((($D$4-$E$4)/(LN(($D$4-$F$4)/($E$4-$F$4))))/49.8328865456397)^'Qn H'!G$9)*('Qn H'!G$10*$B14/1000)","v":667.00000000000011},{"$f":"(((($D$4-$E$4)/(LN(($D$4-$F$4)/($E$4-$F$4))))/49.8328865456397)^'Qn H'!H$9)*('Qn H'!H$10*$B14/1000)","v":871.00000000000023},{"$f":"(((($D$4-$E$4)/(LN(($D$4-$F$4)/($E$4-$F$4))))/49.8328865456397)^'Qn H'!I$9)*('Qn H'!I$10*$B14/1000)","v":1207.0000000000002},{"$f":"(((($D$4-$E$4)/(LN(($D$4-$F$4)/($E$4-$F$4))))/49.8328865456397)^'Qn H'!J$9)*('Qn H'!J$10*$B14/1000)","v":0},{"$f":"(((($D$4-$E$4)/(LN(($D$4-$F$4)/($E$4-$F$4))))/49.8328865456397)^'Qn H'!K$9)*('Qn H'!K$10*$B14/1000)","v":0},{"$f":"(((($D$4-$E$4)/(LN(($D$4-$F$4)/($E$4-$F$4))))/49.8328865456397)^'Qn H'!L$9)*('Qn H'!L$10*$B14/1000)","v":0},{"$f":"(((($D$4-$E$4)/(LN(($D$4-$F$4)/($E$4-$F$4))))/49.8328865456397)^'Qn H'!M$9)*('Qn H'!M$10*$B14/1000)","v":527.00000000000011},{"$f":"(((($D$4-$E$4)/(LN(($D$4-$F$4)/($E$4-$F$4))))/49.8328865456397)^'Qn H'!N$9)*('Qn H'!N$10*$B14/1000)","v":848.00000000000023},{"$f":"(((($D$4-$E$4)/(LN(($D$4-$F$4)/($E$4-$F$4))))/49.8328865456397)^'Qn H'!O$9)*('Qn H'!O$10*$B14/1000)","v":892.00000000000023},{"$f":"(((($D$4-$E$4)/(LN(($D$4-$F$4)/($E$4-$F$4))))/49.8328865456397)^'Qn H'!P$9)*('Qn H'!P$10*$B14/1000)","v":1128.0000000000002},{"$f":"(((($D$4-$E$4)/(LN(($D$4-$F$4)/($E$4-$F$4))))/49.8328865456397)^'Qn H'!Q$9)*('Qn H'!Q$10*$B14/1000)","v":1554.0000000000005},{"$f":"(((($D$4-$E$4)/(LN(($D$4-$F$4)/($E$4-$F$4))))/49.8328865456397)^'Qn H'!R$9)*('Qn H'!R$10*$B14/1000)","v":0},{"$f":"(((($D$4-$E$4)/(LN(($D$4-$F$4)/($E$4-$F$4))))/49.8328865456397)^'Qn H'!S$9)*('Qn H'!S$10*$B14/1000)","v":0},{"$f":"(((($D$4-$E$4)/(LN(($D$4-$F$4)/($E$4-$F$4))))/49.8328865456397)^'Qn H'!T$9)*('Qn H'!T$10*$B14/1000)","v":0},null,null,null,1000,null,{"$f":"Sortiment!A43","v":1},{"$f":"Sortiment!A163","v":1},{"$f":"Sortiment!A283","v":1},{"$f":"Sortiment!A403","v":1},{"$f":"Sortiment!A523","v":1},null,null,null,{"$f":"Sortiment!A58","v":1},{"$f":"Sortiment!A178","v":1},{"$f":"Sortiment!A298","v":1},{"$f":"Sortiment!A418","v":1},{"$f":"Sortiment!A538","v":1}]
[null,1100,null,{"$f":"(((($D$4-$E$4)/(LN(($D$4-$F$4)/($E$4-$F$4))))/49.8328865456397)^'Qn H'!E$9)*('Qn H'!E$10*$B15/1000)","v":434.50000000000011},{"$f":"(((($D$4-$E$4)/(LN(($D$4-$F$4)/($E$4-$F$4))))/49.8328865456397)^'Qn H'!F$9)*('Qn H'!F$10*$B15/1000)","v":701.80000000000007},{"$f":"(((($D$4-$E$4)/(LN(($D$4-$F$4)/($E$4-$F$4))))/49.8328865456397)^'Qn H'!G$9)*('Qn H'!G$10*$B15/1000)","v":733.70000000000016},{"$f":"(((($D$4-$E$4)/(LN(($D$4-$F$4)/($E$4-$F$4))))/49.8328865456397)^'Qn H'!H$9)*('Qn H'!H$10*$B15/1000)","v":958.10000000000025},{"$f":"(((($D$4-$E$4)/(LN(($D$4-$F$4)/($E$4-$F$4))))/49.8328865456397)^'Qn H'!I$9)*('Qn H'!I$10*$B15/1000)","v":1327.7000000000003},{"$f":"(((($D$4-$E$4)/(LN(($D$4-$F$4)/($E$4-$F$4))))/49.8328865456397)^'Qn H'!J$9)*('Qn H'!J$10*$B15/1000)","v":0},{"$f":"(((($D$4-$E$4)/(LN(($D$4-$F$4)/($E$4-$F$4))))/49.8328865456397)^'Qn H'!K$9)*('Qn H'!K$10*$B15/1000)","v":0},{"$f":"(((($D$4-$E$4)/(LN(($D$4-$F$4)/($E$4-$F$4))))/49.8328865456397)^'Qn H'!L$9)*('Qn H'!L$10*$B15/1000)","v":0},{"$f":"(((($D$4-$E$4)/(LN(($D$4-$F$4)/($E$4-$F$4))))/49.8328865456397)^'Qn H'!M$9)*('Qn H'!M$10*$B15/1000)","v":579.70000000000016},{"$f":"(((($D$4-$E$4)/(LN(($D$4-$F$4)/($E$4-$F$4))))/49.8328865456397)^'Qn H'!N$9)*('Qn H'!N$10*$B15/1000)","v":932.80000000000018},{"$f":"(((($D$4-$E$4)/(LN(($D$4-$F$4)/($E$4-$F$4))))/49.8328865456397)^'Qn H'!O$9)*('Qn H'!O$10*$B15/1000)","v":981.20000000000027},{"$f":"(((($D$4-$E$4)/(LN(($D$4-$F$4)/($E$4-$F$4))))/49.8328865456397)^'Qn H'!P$9)*('Qn H'!P$10*$B15/1000)","v":1240.8000000000002},{"$f":"(((($D$4-$E$4)/(LN(($D$4-$F$4)/($E$4-$F$4))))/49.8328865456397)^'Qn H'!Q$9)*('Qn H'!Q$10*$B15/1000)","v":1709.4000000000005},{"$f":"(((($D$4-$E$4)/(LN(($D$4-$F$4)/($E$4-$F$4))))/49.8328865456397)^'Qn H'!R$9)*('Qn H'!R$10*$B15/1000)","v":0},{"$f":"(((($D$4-$E$4)/(LN(($D$4-$F$4)/($E$4-$F$4))))/49.8328865456397)^'Qn H'!S$9)*('Qn H'!S$10*$B15/1000)","v":0},{"$f":"(((($D$4-$E$4)/(LN(($D$4-$F$4)/($E$4-$F$4))))/49.8328865456397)^'Qn H'!T$9)*('Qn H'!T$10*$B15/1000)","v":0},null,null,null,1100,null,{"$f":"Sortiment!A44","v":1},{"$f":"Sortiment!A164","v":1},{"$f":"Sortiment!A284","v":1},{"$f":"Sortiment!A404","v":1},{"$f":"Sortiment!A524","v":1},null,null,null,{"$f":"Sortiment!A59","v":1},{"$f":"Sortiment!A179","v":1},{"$f":"Sortiment!A299","v":1},{"$f":"Sortiment!A419","v":1},{"$f":"Sortiment!A539","v":1}]
[null,1200,null,{"$f":"(((($D$4-$E$4)/(LN(($D$4-$F$4)/($E$4-$F$4))))/49.8328865456397)^'Qn H'!E$9)*('Qn H'!E$10*$B16/1000)","v":474.00000000000011},{"$f":"(((($D$4-$E$4)/(LN(($D$4-$F$4)/($E$4-$F$4))))/49.8328865456397)^'Qn H'!F$9)*('Qn H'!F$10*$B16/1000)","v":765.60000000000014},{"$f":"(((($D$4-$E$4)/(LN(($D$4-$F$4)/($E$4-$F$4))))/49.8328865456397)^'Qn H'!G$9)*('Qn H'!G$10*$B16/1000)","v":800.4000000000002},{"$f":"(((($D$4-$E$4)/(LN(($D$4-$F$4)/($E$4-$F$4))))/49.8328865456397)^'Qn H'!H$9)*('Qn H'!H$10*$B16/1000)","v":1045.2000000000003},{"$f":"(((($D$4-$E$4)/(LN(($D$4-$F$4)/($E$4-$F$4))))/49.8328865456397)^'Qn H'!I$9)*('Qn H'!I$10*$B16/1000)","v":1448.4000000000003},{"$f":"(((($D$4-$E$4)/(LN(($D$4-$F$4)/($E$4-$F$4))))/49.8328865456397)^'Qn H'!J$9)*('Qn H'!J$10*$B16/1000)","v":0},{"$f":"(((($D$4-$E$4)/(LN(($D$4-$F$4)/($E$4-$F$4))))/49.8328865456397)^'Qn H'!K$9)*('Qn H'!K$10*$B16/1000)","v":0},{"$f":"(((($D$4-$E$4)/(LN(($D$4-$F$4)/($E$4-$F$4))))/49.8328865456397)^'Qn H'!L$9)*('Qn H'!L$10*$B16/1000)","v":0},{"$f":"(((($D$4-$E$4)/(LN(($D$4-$F$4)/($E$4-$F$4))))/49.8328865456397)^'Qn H'!M$9)*('Qn H'!M$10*$B16/1000)","v":632.40000000000009},{"$f":"(((($D$4-$E$4)/(LN(($D$4-$F$4)/($E$4-$F$4))))/49.8328865456397)^'Qn H'!N$9)*('Qn H'!N$10*$B16/1000)","v":1017.6000000000003},{"$f":"(((($D$4-$E$4)/(LN(($D$4-$F$4)/($E$4-$F$4))))/49.8328865456397)^'Qn H'!O$9)*('Qn H'!O$10*$B16/1000)","v":1070.4000000000003},{"$f":"(((($D$4-$E$4)/(LN(($D$4-$F$4)/($E$4-$F$4))))/49.8328865456397)^'Qn H'!P$9)*('Qn H'!P$10*$B16/1000)","v":1353.6000000000001},{"$f":"(((($D$4-$E$4)/(LN(($D$4-$F$4)/($E$4-$F$4))))/49.8328865456397)^'Qn H'!Q$9)*('Qn H'!Q$10*$B16/1000)","v":1864.8000000000004},{"$f":"(((($D$4-$E$4)/(LN(($D$4-$F$4)/($E$4-$F$4))))/49.8328865456397)^'Qn H'!R$9)*('Qn H'!R$10*$B16/1000)","v":0},{"$f":"(((($D$4-$E$4)/(LN(($D$4-$F$4)/($E$4-$F$4))))/49.8328865456397)^'Qn H'!S$9)*('Qn H'!S$10*$B16/1000)","v":0},{"$f":"(((($D$4-$E$4)/(LN(($D$4-$F$4)/($E$4-$F$4))))/49.8328865456397)^'Qn H'!T$9)*('Qn H'!T$10*$B16/1000)","v":0},null,null,null,1200,null,{"$f":"Sortiment!A45","v":1},{"$f":"Sortiment!A165","v":1},{"$f":"Sortiment!A285","v":1},{"$f":"Sortiment!A405","v":1},{"$f":"Sortiment!A525","v":1},null,null,null,{"$f":"Sortiment!A60","v":1},{"$f":"Sortiment!A180","v":1},{"$f":"Sortiment!A300","v":1},{"$f":"Sortiment!A420","v":1},{"$f":"Sortiment!A540","v":1}]
[null,1400,null,{"$f":"(((($D$4-$E$4)/(LN(($D$4-$F$4)/($E$4-$F$4))))/49.8328865456397)^'Qn H'!E$9)*('Qn H'!E$10*$B17/1000)","v":553.00000000000011},{"$f":"(((($D$4-$E$4)/(LN(($D$4-$F$4)/($E$4-$F$4))))/49.8328865456397)^'Qn H'!F$9)*('Qn H'!F$10*$B17/1000)","v":893.20000000000027},{"$f":"(((($D$4-$E$4)/(LN(($D$4-$F$4)/($E$4-$F$4))))/49.8328865456397)^'Qn H'!G$9)*('Qn H'!G$10*$B17/1000)","v":933.80000000000018},{"$f":"(((($D$4-$E$4)/(LN(($D$4-$F$4)/($E$4-$F$4))))/49.8328865456397)^'Qn H'!H$9)*('Qn H'!H$10*$B17/1000)","v":1219.4000000000003},{"$f":"(((($D$4-$E$4)/(LN(($D$4-$F$4)/($E$4-$F$4))))/49.8328865456397)^'Qn H'!I$9)*('Qn H'!I$10*$B17/1000)","v":1689.8000000000004},{"$f":"(((($D$4-$E$4)/(LN(($D$4-$F$4)/($E$4-$F$4))))/49.8328865456397)^'Qn H'!J$9)*('Qn H'!J$10*$B17/1000)","v":0},{"$f":"(((($D$4-$E$4)/(LN(($D$4-$F$4)/($E$4-$F$4))))/49.8328865456397)^'Qn H'!K$9)*('Qn H'!K$10*$B17/1000)","v":0},{"$f":"(((($D$4-$E$4)/(LN(($D$4-$F$4)/($E$4-$F$4))))/49.8328865456397)^'Qn H'!L$9)*('Qn H'!L$10*$B17/1000)","v":0},{"$f":"(((($D$4-$E$4)/(LN(($D$4-$F$4)/($E$4-$F$4))))/49.8328865456397)^'Qn H'!M$9)*('Qn H'!M$10*$B17/1000)","v":737.80000000000007},{"$f":"(((($D$4-$E$4)/(LN(($D$4-$F$4)/($E$4-$F$4))))/49.8328865456397)^'Qn H'!N$9)*('Qn H'!N$10*$B17/1000)","v":1187.2000000000003},{"$f":"(((($D$4-$E$4)/(LN(($D$4-$F$4)/($E$4-$F$4))))/49.8328865456397)^'Qn H'!O$9)*('Qn H'!O$10*$B17/1000)","v":1248.8000000000002},{"$f":"(((($D$4-$E$4)/(LN(($D$4-$F$4)/($E$4-$F$4))))/49.8328865456397)^'Qn H'!P$9)*('Qn H'!P$10*$B17/1000)","v":1579.2000000000005},{"$f":"(((($D$4-$E$4)/(LN(($D$4-$F$4)/($E$4-$F$4))))/49.8328865456397)^'Qn H'!Q$9)*('Qn H'!Q$10*$B17/1000)","v":2175.6000000000004},{"$f":"(((($D$4-$E$4)/(LN(($D$4-$F$4)/($E$4-$F$4))))/49.8328865456397)^'Qn H'!R$9)*('Qn H'!R$10*$B17/1000)","v":0},{"$f":"(((($D$4-$E$4)/(LN(($D$4-$F$4)/($E$4-$F$4))))/49.8328865456397)^'Qn H'!S$9)*('Qn H'!S$10*$B17/1000)","v":0},{"$f":"(((($D$4-$E$4)/(LN(($D$4-$F$4)/($E$4-$F$4))))/49.8328865456397)^'Qn H'!T$9)*('Qn H'!T$10*$B17/1000)","v":0},null,null,null,1400,null,{"$f":"Sortiment!A46","v":1},{"$f":"Sortiment!A166","v":1},{"$f":"Sortiment!A286","v":1},{"$f":"Sortiment!A406","v":1},{"$f":"Sortiment!A526","v":1},null,null,null,{"$f":"Sortiment!A61","v":1},{"$f":"Sortiment!A181","v":1},{"$f":"Sortiment!A301","v":1},{"$f":"Sortiment!A421","v":1},{"$f":"Sortiment!A541","v":1}]
[null,1600,null,{"$f":"(((($D$4-$E$4)/(LN(($D$4-$F$4)/($E$4-$F$4))))/49.8328865456397)^'Qn H'!E$9)*('Qn H'!E$10*$B18/1000)","v":632.00000000000011},{"$f":"(((($D$4-$E$4)/(LN(($D$4-$F$4)/($E$4-$F$4))))/49.8328865456397)^'Qn H'!F$9)*('Qn H'!F$10*$B18/1000)","v":1020.8000000000002},{"$f":"(((($D$4-$E$4)/(LN(($D$4-$F$4)/($E$4-$F$4))))/49.8328865456397)^'Qn H'!G$9)*('Qn H'!G$10*$B18/1000)","v":1067.2000000000003},{"$f":"(((($D$4-$E$4)/(LN(($D$4-$F$4)/($E$4-$F$4))))/49.8328865456397)^'Qn H'!H$9)*('Qn H'!H$10*$B18/1000)","v":1393.6000000000001},{"$f":"(((($D$4-$E$4)/(LN(($D$4-$F$4)/($E$4-$F$4))))/49.8328865456397)^'Qn H'!I$9)*('Qn H'!I$10*$B18/1000)","v":1931.2000000000005},{"$f":"(((($D$4-$E$4)/(LN(($D$4-$F$4)/($E$4-$F$4))))/49.8328865456397)^'Qn H'!J$9)*('Qn H'!J$10*$B18/1000)","v":0},{"$f":"(((($D$4-$E$4)/(LN(($D$4-$F$4)/($E$4-$F$4))))/49.8328865456397)^'Qn H'!K$9)*('Qn H'!K$10*$B18/1000)","v":0},{"$f":"(((($D$4-$E$4)/(LN(($D$4-$F$4)/($E$4-$F$4))))/49.8328865456397)^'Qn H'!L$9)*('Qn H'!L$10*$B18/1000)","v":0},{"$f":"(((($D$4-$E$4)/(LN(($D$4-$F$4)/($E$4-$F$4))))/49.8328865456397)^'Qn H'!M$9)*('Qn H'!M$10*$B18/1000)","v":843.20000000000027},{"$f":"(((($D$4-$E$4)/(LN(($D$4-$F$4)/($E$4-$F$4))))/49.8328865456397)^'Qn H'!N$9)*('Qn H'!N$10*$B18/1000)","v":1356.8000000000002},{"$f":"(((($D$4-$E$4)/(LN(($D$4-$F$4)/($E$4-$F$4))))/49.8328865456397)^'Qn H'!O$9)*('Qn H'!O$10*$B18/1000)","v":1427.2000000000003},{"$f":"(((($D$4-$E$4)/(LN(($D$4-$F$4)/($E$4-$F$4))))/49.8328865456397)^'Qn H'!P$9)*('Qn H'!P$10*$B18/1000)","v":1804.8000000000004},{"$f":"(((($D$4-$E$4)/(LN(($D$4-$F$4)/($E$4-$F$4))))/49.8328865456397)^'Qn H'!Q$9)*('Qn H'!Q$10*$B18/1000)","v":2486.4000000000005},{"$f":"(((($D$4-$E$4)/(LN(($D$4-$F$4)/($E$4-$F$4))))/49.8328865456397)^'Qn H'!R$9)*('Qn H'!R$10*$B18/1000)","v":0},{"$f":"(((($D$4-$E$4)/(LN(($D$4-$F$4)/($E$4-$F$4))))/49.8328865456397)^'Qn H'!S$9)*('Qn H'!S$10*$B18/1000)","v":0},{"$f":"(((($D$4-$E$4)/(LN(($D$4-$F$4)/($E$4-$F$4))))/49.8328865456397)^'Qn H'!T$9)*('Qn H'!T$10*$B18/1000)","v":0},null,null,null,1600,null,{"$f":"Sortiment!A47","v":1},{"$f":"Sortiment!A167","v":1},{"$f":"Sortiment!A287","v":1},{"$f":"Sortiment!A407","v":1},{"$f":"Sortiment!A527","v":1},null,null,null,{"$f":"Sortiment!A62","v":1},{"$f":"Sortiment!A182","v":1},{"$f":"Sortiment!A302","v":1},{"$f":"Sortiment!A422","v":1},{"$f":"Sortiment!A542","v":1}]
[null,1800,null,{"$f":"(((($D$4-$E$4)/(LN(($D$4-$F$4)/($E$4-$F$4))))/49.8328865456397)^'Qn H'!E$9)*('Qn H'!E$10*$B19/1000)","v":711.00000000000011},{"$f":"(((($D$4-$E$4)/(LN(($D$4-$F$4)/($E$4-$F$4))))/49.8328865456397)^'Qn H'!F$9)*('Qn H'!F$10*$B19/1000)","v":1148.4000000000003},{"$f":"(((($D$4-$E$4)/(LN(($D$4-$F$4)/($E$4-$F$4))))/49.8328865456397)^'Qn H'!G$9)*('Qn H'!G$10*$B19/1000)","v":1200.6000000000001},{"$f":"(((($D$4-$E$4)/(LN(($D$4-$F$4)/($E$4-$F$4))))/49.8328865456397)^'Qn H'!H$9)*('Qn H'!H$10*$B19/1000)","v":1567.8000000000004},{"$f":"(((($D$4-$E$4)/(LN(($D$4-$F$4)/($E$4-$F$4))))/49.8328865456397)^'Qn H'!I$9)*('Qn H'!I$10*$B19/1000)","v":2172.6000000000004},{"$f":"(((($D$4-$E$4)/(LN(($D$4-$F$4)/($E$4-$F$4))))/49.8328865456397)^'Qn H'!J$9)*('Qn H'!J$10*$B19/1000)","v":0},{"$f":"(((($D$4-$E$4)/(LN(($D$4-$F$4)/($E$4-$F$4))))/49.8328865456397)^'Qn H'!K$9)*('Qn H'!K$10*$B19/1000)","v":0},{"$f":"(((($D$4-$E$4)/(LN(($D$4-$F$4)/($E$4-$F$4))))/49.8328865456397)^'Qn H'!L$9)*('Qn H'!L$10*$B19/1000)","v":0},{"$f":"(((($D$4-$E$4)/(LN(($D$4-$F$4)/($E$4-$F$4))))/49.8328865456397)^'Qn H'!M$9)*('Qn H'!M$10*$B19/1000)","v":948.60000000000025},{"$f":"(((($D$4-$E$4)/(LN(($D$4-$F$4)/($E$4-$F$4))))/49.8328865456397)^'Qn H'!N$9)*('Qn H'!N$10*$B19/1000)","v":1526.4000000000003},{"$f":"(((($D$4-$E$4)/(LN(($D$4-$F$4)/($E$4-$F$4))))/49.8328865456397)^'Qn H'!O$9)*('Qn H'!O$10*$B19/1000)","v":1605.6000000000004},{"$f":"(((($D$4-$E$4)/(LN(($D$4-$F$4)/($E$4-$F$4))))/49.8328865456397)^'Qn H'!P$9)*('Qn H'!P$10*$B19/1000)","v":2030.4000000000005},{"$f":"(((($D$4-$E$4)/(LN(($D$4-$F$4)/($E$4-$F$4))))/49.8328865456397)^'Qn H'!Q$9)*('Qn H'!Q$10*$B19/1000)","v":2797.2000000000003},{"$f":"(((($D$4-$E$4)/(LN(($D$4-$F$4)/($E$4-$F$4))))/49.8328865456397)^'Qn H'!R$9)*('Qn H'!R$10*$B19/1000)","v":0},{"$f":"(((($D$4-$E$4)/(LN(($D$4-$F$4)/($E$4-$F$4))))/49.8328865456397)^'Qn H'!S$9)*('Qn H'!S$10*$B19/1000)","v":0},{"$f":"(((($D$4-$E$4)/(LN(($D$4-$F$4)/($E$4-$F$4))))/49.8328865456397)^'Qn H'!T$9)*('Qn H'!T$10*$B19/1000)","v":0},null,null,null,1800,null,{"$f":"Sortiment!A48","v":1},{"$f":"Sortiment!A168","v":1},{"$f":"Sortiment!A288","v":1},{"$f":"Sortiment!A408","v":1},{"$f":"Sortiment!A528","v":1},null,null,null,{"$f":"Sortiment!A63","v":1},{"$f":"Sortiment!A183","v":1},{"$f":"Sortiment!A303","v":1},{"$f":"Sortiment!A423","v":1},{"$f":"Sortiment!A543","v":1}]
[null,2000,null,{"$f":"(((($D$4-$E$4)/(LN(($D$4-$F$4)/($E$4-$F$4))))/49.8328865456397)^'Qn H'!E$9)*('Qn H'!E$10*$B20/1000)","v":790.00000000000023},{"$f":"(((($D$4-$E$4)/(LN(($D$4-$F$4)/($E$4-$F$4))))/49.8328865456397)^'Qn H'!F$9)*('Qn H'!F$10*$B20/1000)","v":1276.0000000000002},{"$f":"(((($D$4-$E$4)/(LN(($D$4-$F$4)/($E$4-$F$4))))/49.8328865456397)^'Qn H'!G$9)*('Qn H'!G$10*$B20/1000)","v":1334.0000000000002},{"$f":"(((($D$4-$E$4)/(LN(($D$4-$F$4)/($E$4-$F$4))))/49.8328865456397)^'Qn H'!H$9)*('Qn H'!H$10*$B20/1000)","v":1742.0000000000005},{"$f":"(((($D$4-$E$4)/(LN(($D$4-$F$4)/($E$4-$F$4))))/49.8328865456397)^'Qn H'!I$9)*('Qn H'!I$10*$B20/1000)","v":2414.0000000000005},{"$f":"(((($D$4-$E$4)/(LN(($D$4-$F$4)/($E$4-$F$4))))/49.8328865456397)^'Qn H'!J$9)*('Qn H'!J$10*$B20/1000)","v":0},{"$f":"(((($D$4-$E$4)/(LN(($D$4-$F$4)/($E$4-$F$4))))/49.8328865456397)^'Qn H'!K$9)*('Qn H'!K$10*$B20/1000)","v":0},{"$f":"(((($D$4-$E$4)/(LN(($D$4-$F$4)/($E$4-$F$4))))/49.8328865456397)^'Qn H'!L$9)*('Qn H'!L$10*$B20/1000)","v":0},{"$f":"(((($D$4-$E$4)/(LN(($D$4-$F$4)/($E$4-$F$4))))/49.8328865456397)^'Qn H'!M$9)*('Qn H'!M$10*$B20/1000)","v":1054.0000000000002},{"$f":"(((($D$4-$E$4)/(LN(($D$4-$F$4)/($E$4-$F$4))))/49.8328865456397)^'Qn H'!N$9)*('Qn H'!N$10*$B20/1000)","v":1696.0000000000005},{"$f":"(((($D$4-$E$4)/(LN(($D$4-$F$4)/($E$4-$F$4))))/49.8328865456397)^'Qn H'!O$9)*('Qn H'!O$10*$B20/1000)","v":1784.0000000000005},{"$f":"(((($D$4-$E$4)/(LN(($D$4-$F$4)/($E$4-$F$4))))/49.8328865456397)^'Qn H'!P$9)*('Qn H'!P$10*$B20/1000)","v":2256.0000000000005},{"$f":"(((($D$4-$E$4)/(LN(($D$4-$F$4)/($E$4-$F$4))))/49.8328865456397)^'Qn H'!Q$9)*('Qn H'!Q$10*$B20/1000)","v":3108.0000000000009},{"$f":"(((($D$4-$E$4)/(LN(($D$4-$F$4)/($E$4-$F$4))))/49.8328865456397)^'Qn H'!R$9)*('Qn H'!R$10*$B20/1000)","v":0},{"$f":"(((($D$4-$E$4)/(LN(($D$4-$F$4)/($E$4-$F$4))))/49.8328865456397)^'Qn H'!S$9)*('Qn H'!S$10*$B20/1000)","v":0},{"$f":"(((($D$4-$E$4)/(LN(($D$4-$F$4)/($E$4-$F$4))))/49.8328865456397)^'Qn H'!T$9)*('Qn H'!T$10*$B20/1000)","v":0},null,null,null,2000,null,{"$f":"Sortiment!A49","v":1},{"$f":"Sortiment!A169","v":1},{"$f":"Sortiment!A289","v":1},{"$f":"Sortiment!A409","v":1},{"$f":"Sortiment!A529","v":1},null,null,null,{"$f":"Sortiment!A64","v":1},{"$f":"Sortiment!A184","v":1},{"$f":"Sortiment!A304","v":1},{"$f":"Sortiment!A424","v":1},{"$f":"Sortiment!A544","v":1}]
[null,2300,null,{"$f":"(((($D$4-$E$4)/(LN(($D$4-$F$4)/($E$4-$F$4))))/49.8328865456397)^'Qn H'!E$9)*('Qn H'!E$10*$B21/1000)","v":908.50000000000023},{"$f":"(((($D$4-$E$4)/(LN(($D$4-$F$4)/($E$4-$F$4))))/49.8328865456397)^'Qn H'!F$9)*('Qn H'!F$10*$B21/1000)","v":1467.4000000000003},{"$f":"(((($D$4-$E$4)/(LN(($D$4-$F$4)/($E$4-$F$4))))/49.8328865456397)^'Qn H'!G$9)*('Qn H'!G$10*$B21/1000)","v":1534.1000000000001},{"$f":"(((($D$4-$E$4)/(LN(($D$4-$F$4)/($E$4-$F$4))))/49.8328865456397)^'Qn H'!H$9)*('Qn H'!H$10*$B21/1000)","v":2003.3000000000004},{"$f":"(((($D$4-$E$4)/(LN(($D$4-$F$4)/($E$4-$F$4))))/49.8328865456397)^'Qn H'!I$9)*('Qn H'!I$10*$B21/1000)","v":2776.1000000000004},{"$f":"(((($D$4-$E$4)/(LN(($D$4-$F$4)/($E$4-$F$4))))/49.8328865456397)^'Qn H'!J$9)*('Qn H'!J$10*$B21/1000)","v":0},{"$f":"(((($D$4-$E$4)/(LN(($D$4-$F$4)/($E$4-$F$4))))/49.8328865456397)^'Qn H'!K$9)*('Qn H'!K$10*$B21/1000)","v":0},{"$f":"(((($D$4-$E$4)/(LN(($D$4-$F$4)/($E$4-$F$4))))/49.8328865456397)^'Qn H'!L$9)*('Qn H'!L$10*$B21/1000)","v":0},{"$f":"(((($D$4-$E$4)/(LN(($D$4-$F$4)/($E$4-$F$4))))/49.8328865456397)^'Qn H'!M$9)*('Qn H'!M$10*$B21/1000)","v":1212.1000000000001},{"$f":"(((($D$4-$E$4)/(LN(($D$4-$F$4)/($E$4-$F$4))))/49.8328865456397)^'Qn H'!N$9)*('Qn H'!N$10*$B21/1000)","v":1950.4000000000005},{"$f":"(((($D$4-$E$4)/(LN(($D$4-$F$4)/($E$4-$F$4))))/49.8328865456397)^'Qn H'!O$9)*('Qn H'!O$10*$B21/1000)","v":2051.6000000000004},{"$f":"(((($D$4-$E$4)/(LN(($D$4-$F$4)/($E$4-$F$4))))/49.8328865456397)^'Qn H'!P$9)*('Qn H'!P$10*$B21/1000)","v":2594.4000000000005},{"$f":"(((($D$4-$E$4)/(LN(($D$4-$F$4)/($E$4-$F$4))))/49.8328865456397)^'Qn H'!Q$9)*('Qn H'!Q$10*$B21/1000)","v":3574.2000000000007},{"$f":"(((($D$4-$E$4)/(LN(($D$4-$F$4)/($E$4-$F$4))))/49.8328865456397)^'Qn H'!R$9)*('Qn H'!R$10*$B21/1000)","v":0},{"$f":"(((($D$4-$E$4)/(LN(($D$4-$F$4)/($E$4-$F$4))))/49.8328865456397)^'Qn H'!S$9)*('Qn H'!S$10*$B21/1000)","v":0},{"$f":"(((($D$4-$E$4)/(LN(($D$4-$F$4)/($E$4-$F$4))))/49.8328865456397)^'Qn H'!T$9)*('Qn H'!T$10*$B21/1000)","v":0},null,null,null,2300,null,{"$f":"Sortiment!A50","v":1},{"$f":"Sortiment!A170","v":1},{"$f":"Sortiment!A290","v":1},{"$f":"Sortiment!A410","v":1},{"$f":"Sortiment!A530","v":1},null,null,null,{"$f":"Sortiment!A65","v":1},{"$f":"Sortiment!A185","v":1},{"$f":"Sortiment!A305","v":1},{"$f":"Sortiment!A425","v":1},{"$f":"Sortiment!A545","v":1}]
[null,2600,null,{"$f":"(((($D$4-$E$4)/(LN(($D$4-$F$4)/($E$4-$F$4))))/49.8328865456397)^'Qn H'!E$9)*('Qn H'!E$10*$B22/1000)","v":1027.0000000000002},{"$f":"(((($D$4-$E$4)/(LN(($D$4-$F$4)/($E$4-$F$4))))/49.8328865456397)^'Qn H'!F$9)*('Qn H'!F$10*$B22/1000)","v":1658.8000000000004},{"$f":"(((($D$4-$E$4)/(LN(($D$4-$F$4)/($E$4-$F$4))))/49.8328865456397)^'Qn H'!G$9)*('Qn H'!G$10*$B22/1000)","v":1734.2000000000005},{"$f":"(((($D$4-$E$4)/(LN(($D$4-$F$4)/($E$4-$F$4))))/49.8328865456397)^'Qn H'!H$9)*('Qn H'!H$10*$B22/1000)","v":2264.6000000000004},{"$f":"(((($D$4-$E$4)/(LN(($D$4-$F$4)/($E$4-$F$4))))/49.8328865456397)^'Qn H'!I$9)*('Qn H'!I$10*$B22/1000)","v":3138.2000000000007},{"$f":"(((($D$4-$E$4)/(LN(($D$4-$F$4)/($E$4-$F$4))))/49.8328865456397)^'Qn H'!J$9)*('Qn H'!J$10*$B22/1000)","v":0},{"$f":"(((($D$4-$E$4)/(LN(($D$4-$F$4)/($E$4-$F$4))))/49.8328865456397)^'Qn H'!K$9)*('Qn H'!K$10*$B22/1000)","v":0},{"$f":"(((($D$4-$E$4)/(LN(($D$4-$F$4)/($E$4-$F$4))))/49.8328865456397)^'Qn H'!L$9)*('Qn H'!L$10*$B22/1000)","v":0},{"$f":"(((($D$4-$E$4)/(LN(($D$4-$F$4)/($E$4-$F$4))))/49.8328865456397)^'Qn H'!M$9)*('Qn H'!M$10*$B22/1000)","v":1370.2000000000003},{"$f":"(((($D$4-$E$4)/(LN(($D$4-$F$4)/($E$4-$F$4))))/49.8328865456397)^'Qn H'!N$9)*('Qn H'!N$10*$B22/1000)","v":2204.8000000000006},{"$f":"(((($D$4-$E$4)/(LN(($D$4-$F$4)/($E$4-$F$4))))/49.8328865456397)^'Qn H'!O$9)*('Qn H'!O$10*$B22/1000)","v":2319.2000000000003},{"$f":"(((($D$4-$E$4)/(LN(($D$4-$F$4)/($E$4-$F$4))))/49.8328865456397)^'Qn H'!P$9)*('Qn H'!P$10*$B22/1000)","v":2932.8000000000006},{"$f":"(((($D$4-$E$4)/(LN(($D$4-$F$4)/($E$4-$F$4))))/49.8328865456397)^'Qn H'!Q$9)*('Qn H'!Q$10*$B22/1000)","v":4040.400000000001},{"$f":"(((($D$4-$E$4)/(LN(($D$4-$F$4)/($E$4-$F$4))))/49.8328865456397)^'Qn H'!R$9)*('Qn H'!R$10*$B22/1000)","v":0},{"$f":"(((($D$4-$E$4)/(LN(($D$4-$F$4)/($E$4-$F$4))))/49.8328865456397)^'Qn H'!S$9)*('Qn H'!S$10*$B22/1000)","v":0},{"$f":"(((($D$4-$E$4)/(LN(($D$4-$F$4)/($E$4-$F$4))))/49.8328865456397)^'Qn H'!T$9)*('Qn H'!T$10*$B22/1000)","v":0},null,null,null,2600,null,{"$f":"Sortiment!A51","v":1},{"$f":"Sortiment!A171","v":1},{"$f":"Sortiment!A291","v":1},{"$f":"Sortiment!A411","v":1},{"$f":"Sortiment!A531","v":1},null,null,null,{"$f":"Sortiment!A66","v":1},{"$f":"Sortiment!A186","v":1},{"$f":"Sortiment!A306","v":1},{"$f":"Sortiment!A426","v":1},{"$f":"Sortiment!A546","v":1}]
[null,3000,null,{"$f":"(((($D$4-$E$4)/(LN(($D$4-$F$4)/($E$4-$F$4))))/49.8328865456397)^'Qn H'!E$9)*('Qn H'!E$10*$B23/1000)","v":1185.0000000000002},{"$f":"(((($D$4-$E$4)/(LN(($D$4-$F$4)/($E$4-$F$4))))/49.8328865456397)^'Qn H'!F$9)*('Qn H'!F$10*$B23/1000)","v":1914.0000000000005},{"$f":"(((($D$4-$E$4)/(LN(($D$4-$F$4)/($E$4-$F$4))))/49.8328865456397)^'Qn H'!G$9)*('Qn H'!G$10*$B23/1000)","v":2001.0000000000005},{"$f":"(((($D$4-$E$4)/(LN(($D$4-$F$4)/($E$4-$F$4))))/49.8328865456397)^'Qn H'!H$9)*('Qn H'!H$10*$B23/1000)","v":2613.0000000000005},{"$f":"(((($D$4-$E$4)/(LN(($D$4-$F$4)/($E$4-$F$4))))/49.8328865456397)^'Qn H'!I$9)*('Qn H'!I$10*$B23/1000)","v":3621.0000000000009},{"$f":"(((($D$4-$E$4)/(LN(($D$4-$F$4)/($E$4-$F$4))))/49.8328865456397)^'Qn H'!J$9)*('Qn H'!J$10*$B23/1000)","v":0},{"$f":"(((($D$4-$E$4)/(LN(($D$4-$F$4)/($E$4-$F$4))))/49.8328865456397)^'Qn H'!K$9)*('Qn H'!K$10*$B23/1000)","v":0},{"$f":"(((($D$4-$E$4)/(LN(($D$4-$F$4)/($E$4-$F$4))))/49.8328865456397)^'Qn H'!L$9)*('Qn H'!L$10*$B23/1000)","v":0},{"$f":"(((($D$4-$E$4)/(LN(($D$4-$F$4)/($E$4-$F$4))))/49.8328865456397)^'Qn H'!M$9)*('Qn H'!M$10*$B23/1000)","v":1581.0000000000005},{"$f":"(((($D$4-$E$4)/(LN(($D$4-$F$4)/($E$4-$F$4))))/49.8328865456397)^'Qn H'!N$9)*('Qn H'!N$10*$B23/1000)","v":2544.0000000000005},{"$f":"(((($D$4-$E$4)/(LN(($D$4-$F$4)/($E$4-$F$4))))/49.8328865456397)^'Qn H'!O$9)*('Qn H'!O$10*$B23/1000)","v":2676.0000000000005},{"$f":"(((($D$4-$E$4)/(LN(($D$4-$F$4)/($E$4-$F$4))))/49.8328865456397)^'Qn H'!P$9)*('Qn H'!P$10*$B23/1000)","v":3384.0000000000009},{"$f":"(((($D$4-$E$4)/(LN(($D$4-$F$4)/($E$4-$F$4))))/49.8328865456397)^'Qn H'!Q$9)*('Qn H'!Q$10*$B23/1000)","v":4662.0000000000009},{"$f":"(((($D$4-$E$4)/(LN(($D$4-$F$4)/($E$4-$F$4))))/49.8328865456397)^'Qn H'!R$9)*('Qn H'!R$10*$B23/1000)","v":0},{"$f":"(((($D$4-$E$4)/(LN(($D$4-$F$4)/($E$4-$F$4))))/49.8328865456397)^'Qn H'!S$9)*('Qn H'!S$10*$B23/1000)","v":0},{"$f":"(((($D$4-$E$4)/(LN(($D$4-$F$4)/($E$4-$F$4))))/49.8328865456397)^'Qn H'!T$9)*('Qn H'!T$10*$B23/1000)","v":0},null,null,null,3000,null,{"$f":"Sortiment!A52","v":1},{"$f":"Sortiment!A172","v":1},{"$f":"Sortiment!A292","v":1},{"$f":"Sortiment!A412","v":1},{"$f":"Sortiment!A532","v":1},null,null,null,{"$f":"Sortiment!A67","v":1},{"$f":"Sortiment!A187","v":1},{"$f":"Sortiment!A307","v":1},{"$f":"Sortiment!A427","v":1},{"$f":"Sortiment!A547","v":0}]
[]
[]
[null,null,"Výška [mm]",null,null,{"$f":"'Qn H'!G11","v":588},null,null,null,null,null,null,null,{"$f":"'Qn H'!O11","v":662},null,null,null,null,null,null,null,null,null,"Výška [mm]",null,null,588,null,null,null,null,null,null,null,662]
[null,"Délka [mm]",null,{"$f":"'Qn H'!E12","v":"K10H"},{"$f":"'Qn H'!F12","v":"K11H"},{"$f":"'Qn H'!G12","v":"K20H"},{"$f":"'Qn H'!H12","v":"K21H"},{"$f":"'Qn H'!I12","v":"K22H"},{"$f":"'Qn H'!J12","v":0},{"$f":"'Qn H'!K12","v":0},{"$f":"'Qn H'!L12","v":0},{"$f":"'Qn H'!M12","v":"K10H"},{"$f":"'Qn H'!N12","v":"K11H"},{"$f":"'Qn H'!O12","v":"K20H"},{"$f":"'Qn H'!P12","v":"K21H"},{"$f":"'Qn H'!Q12","v":"K22H"},{"$f":"'Qn H'!R12","v":0},{"$f":"'Qn H'!S12","v":0},{"$f":"'Qn H'!T12","v":0},null,null,null,"Délka [mm]",null,{"$f":"D46","v":"K10H"},"K11H","K20H","K21H","K22H",0,0,0,"K10H","K11H","K20H","K21H","K22H",0,0,0]
[null,500,null,{"$f":"(((($D$4-$E$4)/(LN(($D$4-$F$4)/($E$4-$F$4))))/49.8328865456397)^'Qn H'!E$13)*('Qn H'!E$14*$B9/1000)","v":297.50000000000006},{"$f":"(((($D$4-$E$4)/(LN(($D$4-$F$4)/($E$4-$F$4))))/49.8328865456397)^'Qn H'!F$13)*('Qn H'!F$14*$B9/1000)","v":474.50000000000011},{"$f":"(((($D$4-$E$4)/(LN(($D$4-$F$4)/($E$4-$F$4))))/49.8328865456397)^'Qn H'!G$13)*('Qn H'!G$14*$B9/1000)","v":503.00000000000011},{"$f":"(((($D$4-$E$4)/(LN(($D$4-$F$4)/($E$4-$F$4))))/49.8328865456397)^'Qn H'!H$13)*('Qn H'!H$14*$B9/1000)","v":623.50000000000011},{"$f":"(((($D$4-$E$4)/(LN(($D$4-$F$4)/($E$4-$F$4))))/49.8328865456397)^'Qn H'!I$13)*('Qn H'!I$14*$B9/1000)","v":854.00000000000023},{"$f":"(((($D$4-$E$4)/(LN(($D$4-$F$4)/($E$4-$F$4))))/49.8328865456397)^'Qn H'!J$13)*('Qn H'!J$14*$B9/1000)","v":0},{"$f":"(((($D$4-$E$4)/(LN(($D$4-$F$4)/($E$4-$F$4))))/49.8328865456397)^'Qn H'!K$13)*('Qn H'!K$14*$B9/1000)","v":0},{"$f":"(((($D$4-$E$4)/(LN(($D$4-$F$4)/($E$4-$F$4))))/49.8328865456397)^'Qn H'!L$13)*('Qn H'!L$14*$B9/1000)","v":0},{"$f":"(((($D$4-$E$4)/(LN(($D$4-$F$4)/($E$4-$F$4))))/49.8328865456397)^'Qn H'!M$13)*('Qn H'!M$14*$B9/1000)","v":333.00000000000006},{"$f":"(((($D$4-$E$4)/(LN(($D$4-$F$4)/($E$4-$F$4))))/49.8328865456397)^'Qn H'!N$13)*('Qn H'!N$14*$B9/1000)","v":524.00000000000011},{"$f":"(((($D$4-$E$4)/(LN(($D$4-$F$4)/($E$4-$F$4))))/49.8328865456397)^'Qn H'!O$13)*('Qn H'!O$14*$B9/1000)","v":560.00000000000011},{"$f":"(((($D$4-$E$4)/(LN(($D$4-$F$4)/($E$4-$F$4))))/49.8328865456397)^'Qn H'!P$13)*('Qn H'!P$14*$B9/1000)","v":680.00000000000011},{"$f":"(((($D$4-$E$4)/(LN(($D$4-$F$4)/($E$4-$F$4))))/49.8328865456397)^'Qn H'!Q$13)*('Qn H'!Q$14*$B9/1000)","v":926.50000000000023},{"$f":"(((($D$4-$E$4)/(LN(($D$4-$F$4)/($E$4-$F$4))))/49.8328865456397)^'Qn H'!R$13)*('Qn H'!R$14*$B9/1000)","v":0},{"$f":"(((($D$4-$E$4)/(LN(($D$4-$F$4)/($E$4-$F$4))))/49.8328865456397)^'Qn H'!S$13)*('Qn H'!S$14*$B9/1000)","v":0},{"$f":"(((($D$4-$E$4)/(LN(($D$4-$F$4)/($E$4-$F$4))))/49.8328865456397)^'Qn H'!T$13)*('Qn H'!T$14*$B9/1000)","v":0},null,null,null,500,null,{"$f":"Sortiment!A68","v":1},{"$f":"Sortiment!A188","v":1},{"$f":"Sortiment!A308","v":1},{"$f":"Sortiment!A428","v":1},{"$f":"Sortiment!A548","v":1},null,null,null,{"$f":"Sortiment!A83","v":1},{"$f":"Sortiment!A203","v":1},{"$f":"Sortiment!A323","v":1},{"$f":"Sortiment!A443","v":1},{"$f":"Sortiment!A563","v":1}]
[null,600,null,{"$f":"(((($D$4-$E$4)/(LN(($D$4-$F$4)/($E$4-$F$4))))/49.8328865456397)^'Qn H'!E$13)*('Qn H'!E$14*$B10/1000)","v":357.00000000000006},{"$f":"(((($D$4-$E$4)/(LN(($D$4-$F$4)/($E$4-$F$4))))/49.8328865456397)^'Qn H'!F$13)*('Qn H'!F$14*$B10/1000)","v":569.40000000000009},{"$f":"(((($D$4-$E$4)/(LN(($D$4-$F$4)/($E$4-$F$4))))/49.8328865456397)^'Qn H'!G$13)*('Qn H'!G$14*$B10/1000)","v":603.60000000000014},{"$f":"(((($D$4-$E$4)/(LN(($D$4-$F$4)/($E$4-$F$4))))/49.8328865456397)^'Qn H'!H$13)*('Qn H'!H$14*$B10/1000)","v":748.20000000000016},{"$f":"(((($D$4-$E$4)/(LN(($D$4-$F$4)/($E$4-$F$4))))/49.8328865456397)^'Qn H'!I$13)*('Qn H'!I$14*$B10/1000)","v":1024.8000000000002},{"$f":"(((($D$4-$E$4)/(LN(($D$4-$F$4)/($E$4-$F$4))))/49.8328865456397)^'Qn H'!J$13)*('Qn H'!J$14*$B10/1000)","v":0},{"$f":"(((($D$4-$E$4)/(LN(($D$4-$F$4)/($E$4-$F$4))))/49.8328865456397)^'Qn H'!K$13)*('Qn H'!K$14*$B10/1000)","v":0},{"$f":"(((($D$4-$E$4)/(LN(($D$4-$F$4)/($E$4-$F$4))))/49.8328865456397)^'Qn H'!L$13)*('Qn H'!L$14*$B10/1000)","v":0},{"$f":"(((($D$4-$E$4)/(LN(($D$4-$F$4)/($E$4-$F$4))))/49.8328865456397)^'Qn H'!M$13)*('Qn H'!M$14*$B10/1000)","v":399.60000000000014},{"$f":"(((($D$4-$E$4)/(LN(($D$4-$F$4)/($E$4-$F$4))))/49.8328865456397)^'Qn H'!N$13)*('Qn H'!N$14*$B10/1000)","v":628.80000000000007},{"$f":"(((($D$4-$E$4)/(LN(($D$4-$F$4)/($E$4-$F$4))))/49.8328865456397)^'Qn H'!O$13)*('Qn H'!O$14*$B10/1000)","v":672.00000000000011},{"$f":"(((($D$4-$E$4)/(LN(($D$4-$F$4)/($E$4-$F$4))))/49.8328865456397)^'Qn H'!P$13)*('Qn H'!P$14*$B10/1000)","v":816.00000000000023},{"$f":"(((($D$4-$E$4)/(LN(($D$4-$F$4)/($E$4-$F$4))))/49.8328865456397)^'Qn H'!Q$13)*('Qn H'!Q$14*$B10/1000)","v":1111.8000000000002},{"$f":"(((($D$4-$E$4)/(LN(($D$4-$F$4)/($E$4-$F$4))))/49.8328865456397)^'Qn H'!R$13)*('Qn H'!R$14*$B10/1000)","v":0},{"$f":"(((($D$4-$E$4)/(LN(($D$4-$F$4)/($E$4-$F$4))))/49.8328865456397)^'Qn H'!S$13)*('Qn H'!S$14*$B10/1000)","v":0},{"$f":"(((($D$4-$E$4)/(LN(($D$4-$F$4)/($E$4-$F$4))))/49.8328865456397)^'Qn H'!T$13)*('Qn H'!T$14*$B10/1000)","v":0},null,null,null,600,null,{"$f":"Sortiment!A69","v":1},{"$f":"Sortiment!A189","v":1},{"$f":"Sortiment!A309","v":1},{"$f":"Sortiment!A429","v":1},{"$f":"Sortiment!A549","v":1},null,null,null,{"$f":"Sortiment!A84","v":1},{"$f":"Sortiment!A204","v":1},{"$f":"Sortiment!A324","v":1},{"$f":"Sortiment!A444","v":1},{"$f":"Sortiment!A564","v":1}]
[null,700,null,{"$f":"(((($D$4-$E$4)/(LN(($D$4-$F$4)/($E$4-$F$4))))/49.8328865456397)^'Qn H'!E$13)*('Qn H'!E$14*$B11/1000)","v":416.50000000000011},{"$f":"(((($D$4-$E$4)/(LN(($D$4-$F$4)/($E$4-$F$4))))/49.8328865456397)^'Qn H'!F$13)*('Qn H'!F$14*$B11/1000)","v":664.30000000000007},{"$f":"(((($D$4-$E$4)/(LN(($D$4-$F$4)/($E$4-$F$4))))/49.8328865456397)^'Qn H'!G$13)*('Qn H'!G$14*$B11/1000)","v":704.20000000000016},{"$f":"(((($D$4-$E$4)/(LN(($D$4-$F$4)/($E$4-$F$4))))/49.8328865456397)^'Qn H'!H$13)*('Qn H'!H$14*$B11/1000)","v":872.9000000000002},{"$f":"(((($D$4-$E$4)/(LN(($D$4-$F$4)/($E$4-$F$4))))/49.8328865456397)^'Qn H'!I$13)*('Qn H'!I$14*$B11/1000)","v":1195.6000000000001},{"$f":"(((($D$4-$E$4)/(LN(($D$4-$F$4)/($E$4-$F$4))))/49.8328865456397)^'Qn H'!J$13)*('Qn H'!J$14*$B11/1000)","v":0},{"$f":"(((($D$4-$E$4)/(LN(($D$4-$F$4)/($E$4-$F$4))))/49.8328865456397)^'Qn H'!K$13)*('Qn H'!K$14*$B11/1000)","v":0},{"$f":"(((($D$4-$E$4)/(LN(($D$4-$F$4)/($E$4-$F$4))))/49.8328865456397)^'Qn H'!L$13)*('Qn H'!L$14*$B11/1000)","v":0},{"$f":"(((($D$4-$E$4)/(LN(($D$4-$F$4)/($E$4-$F$4))))/49.8328865456397)^'Qn H'!M$13)*('Qn H'!M$14*$B11/1000)","v":466.2000000000001},{"$f":"(((($D$4-$E$4)/(LN(($D$4-$F$4)/($E$4-$F$4))))/49.8328865456397)^'Qn H'!N$13)*('Qn H'!N$14*$B11/1000)","v":733.60000000000014},{"$f":"(((($D$4-$E$4)/(LN(($D$4-$F$4)/($E$4-$F$4))))/49.8328865456397)^'Qn H'!O$13)*('Qn H'!O$14*$B11/1000)","v":784.00000000000023},{"$f":"(((($D$4-$E$4)/(LN(($D$4-$F$4)/($E$4-$F$4))))/49.8328865456397)^'Qn H'!P$13)*('Qn H'!P$14*$B11/1000)","v":952.00000000000023},{"$f":"(((($D$4-$E$4)/(LN(($D$4-$F$4)/($E$4-$F$4))))/49.8328865456397)^'Qn H'!Q$13)*('Qn H'!Q$14*$B11/1000)","v":1297.1000000000001},{"$f":"(((($D$4-$E$4)/(LN(($D$4-$F$4)/($E$4-$F$4))))/49.8328865456397)^'Qn H'!R$13)*('Qn H'!R$14*$B11/1000)","v":0},{"$f":"(((($D$4-$E$4)/(LN(($D$4-$F$4)/($E$4-$F$4))))/49.8328865456397)^'Qn H'!S$13)*('Qn H'!S$14*$B11/1000)","v":0},{"$f":"(((($D$4-$E$4)/(LN(($D$4-$F$4)/($E$4-$F$4))))/49.8328865456397)^'Qn H'!T$13)*('Qn H'!T$14*$B11/1000)","v":0},null,null,null,700,null,{"$f":"Sortiment!A70","v":1},{"$f":"Sortiment!A190","v":1},{"$f":"Sortiment!A310","v":1},{"$f":"Sortiment!A430","v":1},{"$f":"Sortiment!A550","v":1},null,null,null,{"$f":"Sortiment!A85","v":1},{"$f":"Sortiment!A205","v":1},{"$f":"Sortiment!A325","v":1},{"$f":"Sortiment!A445","v":1},{"$f":"Sortiment!A565","v":1}]
[null,800,null,{"$f":"(((($D$4-$E$4)/(LN(($D$4-$F$4)/($E$4-$F$4))))/49.8328865456397)^'Qn H'!E$13)*('Qn H'!E$14*$B12/1000)","v":476.00000000000011},{"$f":"(((($D$4-$E$4)/(LN(($D$4-$F$4)/($E$4-$F$4))))/49.8328865456397)^'Qn H'!F$13)*('Qn H'!F$14*$B12/1000)","v":759.20000000000016},{"$f":"(((($D$4-$E$4)/(LN(($D$4-$F$4)/($E$4-$F$4))))/49.8328865456397)^'Qn H'!G$13)*('Qn H'!G$14*$B12/1000)","v":804.80000000000018},{"$f":"(((($D$4-$E$4)/(LN(($D$4-$F$4)/($E$4-$F$4))))/49.8328865456397)^'Qn H'!H$13)*('Qn H'!H$14*$B12/1000)","v":997.60000000000025},{"$f":"(((($D$4-$E$4)/(LN(($D$4-$F$4)/($E$4-$F$4))))/49.8328865456397)^'Qn H'!I$13)*('Qn H'!I$14*$B12/1000)","v":1366.4000000000003},{"$f":"(((($D$4-$E$4)/(LN(($D$4-$F$4)/($E$4-$F$4))))/49.8328865456397)^'Qn H'!J$13)*('Qn H'!J$14*$B12/1000)","v":0},{"$f":"(((($D$4-$E$4)/(LN(($D$4-$F$4)/($E$4-$F$4))))/49.8328865456397)^'Qn H'!K$13)*('Qn H'!K$14*$B12/1000)","v":0},{"$f":"(((($D$4-$E$4)/(LN(($D$4-$F$4)/($E$4-$F$4))))/49.8328865456397)^'Qn H'!L$13)*('Qn H'!L$14*$B12/1000)","v":0},{"$f":"(((($D$4-$E$4)/(LN(($D$4-$F$4)/($E$4-$F$4))))/49.8328865456397)^'Qn H'!M$13)*('Qn H'!M$14*$B12/1000)","v":532.80000000000007},{"$f":"(((($D$4-$E$4)/(LN(($D$4-$F$4)/($E$4-$F$4))))/49.8328865456397)^'Qn H'!N$13)*('Qn H'!N$14*$B12/1000)","v":838.4000000000002},{"$f":"(((($D$4-$E$4)/(LN(($D$4-$F$4)/($E$4-$F$4))))/49.8328865456397)^'Qn H'!O$13)*('Qn H'!O$14*$B12/1000)","v":896.00000000000023},{"$f":"(((($D$4-$E$4)/(LN(($D$4-$F$4)/($E$4-$F$4))))/49.8328865456397)^'Qn H'!P$13)*('Qn H'!P$14*$B12/1000)","v":1088.0000000000002},{"$f":"(((($D$4-$E$4)/(LN(($D$4-$F$4)/($E$4-$F$4))))/49.8328865456397)^'Qn H'!Q$13)*('Qn H'!Q$14*$B12/1000)","v":1482.4000000000003},{"$f":"(((($D$4-$E$4)/(LN(($D$4-$F$4)/($E$4-$F$4))))/49.8328865456397)^'Qn H'!R$13)*('Qn H'!R$14*$B12/1000)","v":0},{"$f":"(((($D$4-$E$4)/(LN(($D$4-$F$4)/($E$4-$F$4))))/49.8328865456397)^'Qn H'!S$13)*('Qn H'!S$14*$B12/1000)","v":0},{"$f":"(((($D$4-$E$4)/(LN(($D$4-$F$4)/($E$4-$F$4))))/49.8328865456397)^'Qn H'!T$13)*('Qn H'!T$14*$B12/1000)","v":0},null,null,null,800,null,{"$f":"Sortiment!A71","v":1},{"$f":"Sortiment!A191","v":1},{"$f":"Sortiment!A311","v":1},{"$f":"Sortiment!A431","v":1},{"$f":"Sortiment!A551","v":1},null,null,null,{"$f":"Sortiment!A86","v":1},{"$f":"Sortiment!A206","v":1},{"$f":"Sortiment!A326","v":1},{"$f":"Sortiment!A446","v":1},{"$f":"Sortiment!A566","v":1}]
[null,900,null,{"$f":"(((($D$4-$E$4)/(LN(($D$4-$F$4)/($E$4-$F$4))))/49.8328865456397)^'Qn H'!E$13)*('Qn H'!E$14*$B13/1000)","v":535.50000000000011},{"$f":"(((($D$4-$E$4)/(LN(($D$4-$F$4)/($E$4-$F$4))))/49.8328865456397)^'Qn H'!F$13)*('Qn H'!F$14*$B13/1000)","v":854.10000000000025},{"$f":"(((($D$4-$E$4)/(LN(($D$4-$F$4)/($E$4-$F$4))))/49.8328865456397)^'Qn H'!G$13)*('Qn H'!G$14*$B13/1000)","v":905.4000000000002},{"$f":"(((($D$4-$E$4)/(LN(($D$4-$F$4)/($E$4-$F$4))))/49.8328865456397)^'Qn H'!H$13)*('Qn H'!H$14*$B13/1000)","v":1122.3000000000002},{"$f":"(((($D$4-$E$4)/(LN(($D$4-$F$4)/($E$4-$F$4))))/49.8328865456397)^'Qn H'!I$13)*('Qn H'!I$14*$B13/1000)","v":1537.2000000000005},{"$f":"(((($D$4-$E$4)/(LN(($D$4-$F$4)/($E$4-$F$4))))/49.8328865456397)^'Qn H'!J$13)*('Qn H'!J$14*$B13/1000)","v":0},{"$f":"(((($D$4-$E$4)/(LN(($D$4-$F$4)/($E$4-$F$4))))/49.8328865456397)^'Qn H'!K$13)*('Qn H'!K$14*$B13/1000)","v":0},{"$f":"(((($D$4-$E$4)/(LN(($D$4-$F$4)/($E$4-$F$4))))/49.8328865456397)^'Qn H'!L$13)*('Qn H'!L$14*$B13/1000)","v":0},{"$f":"(((($D$4-$E$4)/(LN(($D$4-$F$4)/($E$4-$F$4))))/49.8328865456397)^'Qn H'!M$13)*('Qn H'!M$14*$B13/1000)","v":599.40000000000009},{"$f":"(((($D$4-$E$4)/(LN(($D$4-$F$4)/($E$4-$F$4))))/49.8328865456397)^'Qn H'!N$13)*('Qn H'!N$14*$B13/1000)","v":943.20000000000027},{"$f":"(((($D$4-$E$4)/(LN(($D$4-$F$4)/($E$4-$F$4))))/49.8328865456397)^'Qn H'!O$13)*('Qn H'!O$14*$B13/1000)","v":1008.0000000000002},{"$f":"(((($D$4-$E$4)/(LN(($D$4-$F$4)/($E$4-$F$4))))/49.8328865456397)^'Qn H'!P$13)*('Qn H'!P$14*$B13/1000)","v":1224.0000000000002},{"$f":"(((($D$4-$E$4)/(LN(($D$4-$F$4)/($E$4-$F$4))))/49.8328865456397)^'Qn H'!Q$13)*('Qn H'!Q$14*$B13/1000)","v":1667.7000000000005},{"$f":"(((($D$4-$E$4)/(LN(($D$4-$F$4)/($E$4-$F$4))))/49.8328865456397)^'Qn H'!R$13)*('Qn H'!R$14*$B13/1000)","v":0},{"$f":"(((($D$4-$E$4)/(LN(($D$4-$F$4)/($E$4-$F$4))))/49.8328865456397)^'Qn H'!S$13)*('Qn H'!S$14*$B13/1000)","v":0},{"$f":"(((($D$4-$E$4)/(LN(($D$4-$F$4)/($E$4-$F$4))))/49.8328865456397)^'Qn H'!T$13)*('Qn H'!T$14*$B13/1000)","v":0},null,null,null,900,null,{"$f":"Sortiment!A72","v":1},{"$f":"Sortiment!A192","v":1},{"$f":"Sortiment!A312","v":1},{"$f":"Sortiment!A432","v":1},{"$f":"Sortiment!A552","v":1},null,null,null,{"$f":"Sortiment!A87","v":1},{"$f":"Sortiment!A207","v":1},{"$f":"Sortiment!A327","v":1},{"$f":"Sortiment!A447","v":1},{"$f":"Sortiment!A567","v":1}]
[null,1000,null,{"$f":"(((($D$4-$E$4)/(LN(($D$4-$F$4)/($E$4-$F$4))))/49.8328865456397)^'Qn H'!E$13)*('Qn H'!E$14*$B14/1000)","v":595.00000000000011},{"$f":"(((($D$4-$E$4)/(LN(($D$4-$F$4)/($E$4-$F$4))))/49.8328865456397)^'Qn H'!F$13)*('Qn H'!F$14*$B14/1000)","v":949.00000000000023},{"$f":"(((($D$4-$E$4)/(LN(($D$4-$F$4)/($E$4-$F$4))))/49.8328865456397)^'Qn H'!G$13)*('Qn H'!G$14*$B14/1000)","v":1006.0000000000002},{"$f":"(((($D$4-$E$4)/(LN(($D$4-$F$4)/($E$4-$F$4))))/49.8328865456397)^'Qn H'!H$13)*('Qn H'!H$14*$B14/1000)","v":1247.0000000000002},{"$f":"(((($D$4-$E$4)/(LN(($D$4-$F$4)/($E$4-$F$4))))/49.8328865456397)^'Qn H'!I$13)*('Qn H'!I$14*$B14/1000)","v":1708.0000000000005},{"$f":"(((($D$4-$E$4)/(LN(($D$4-$F$4)/($E$4-$F$4))))/49.8328865456397)^'Qn H'!J$13)*('Qn H'!J$14*$B14/1000)","v":0},{"$f":"(((($D$4-$E$4)/(LN(($D$4-$F$4)/($E$4-$F$4))))/49.8328865456397)^'Qn H'!K$13)*('Qn H'!K$14*$B14/1000)","v":0},{"$f":"(((($D$4-$E$4)/(LN(($D$4-$F$4)/($E$4-$F$4))))/49.8328865456397)^'Qn H'!L$13)*('Qn H'!L$14*$B14/1000)","v":0},{"$f":"(((($D$4-$E$4)/(LN(($D$4-$F$4)/($E$4-$F$4))))/49.8328865456397)^'Qn H'!M$13)*('Qn H'!M$14*$B14/1000)","v":666.00000000000011},{"$f":"(((($D$4-$E$4)/(LN(($D$4-$F$4)/($E$4-$F$4))))/49.8328865456397)^'Qn H'!N$13)*('Qn H'!N$14*$B14/1000)","v":1048.0000000000002},{"$f":"(((($D$4-$E$4)/(LN(($D$4-$F$4)/($E$4-$F$4))))/49.8328865456397)^'Qn H'!O$13)*('Qn H'!O$14*$B14/1000)","v":1120.0000000000002},{"$f":"(((($D$4-$E$4)/(LN(($D$4-$F$4)/($E$4-$F$4))))/49.8328865456397)^'Qn H'!P$13)*('Qn H'!P$14*$B14/1000)","v":1360.0000000000002},{"$f":"(((($D$4-$E$4)/(LN(($D$4-$F$4)/($E$4-$F$4))))/49.8328865456397)^'Qn H'!Q$13)*('Qn H'!Q$14*$B14/1000)","v":1853.0000000000005},{"$f":"(((($D$4-$E$4)/(LN(($D$4-$F$4)/($E$4-$F$4))))/49.8328865456397)^'Qn H'!R$13)*('Qn H'!R$14*$B14/1000)","v":0},{"$f":"(((($D$4-$E$4)/(LN(($D$4-$F$4)/($E$4-$F$4))))/49.8328865456397)^'Qn H'!S$13)*('Qn H'!S$14*$B14/1000)","v":0},{"$f":"(((($D$4-$E$4)/(LN(($D$4-$F$4)/($E$4-$F$4))))/49.8328865456397)^'Qn H'!T$13)*('Qn H'!T$14*$B14/1000)","v":0},null,null,null,1000,null,{"$f":"Sortiment!A73","v":1},{"$f":"Sortiment!A193","v":1},{"$f":"Sortiment!A313","v":1},{"$f":"Sortiment!A433","v":1},{"$f":"Sortiment!A553","v":1},null,null,null,{"$f":"Sortiment!A88","v":1},{"$f":"Sortiment!A208","v":1},{"$f":"Sortiment!A328","v":1},{"$f":"Sortiment!A448","v":1},{"$f":"Sortiment!A568","v":1}]
[null,1100,null,{"$f":"(((($D$4-$E$4)/(LN(($D$4-$F$4)/($E$4-$F$4))))/49.8328865456397)^'Qn H'!E$13)*('Qn H'!E$14*$B15/1000)","v":654.50000000000011},{"$f":"(((($D$4-$E$4)/(LN(($D$4-$F$4)/($E$4-$F$4))))/49.8328865456397)^'Qn H'!F$13)*('Qn H'!F$14*$B15/1000)","v":1043.9000000000003},{"$f":"(((($D$4-$E$4)/(LN(($D$4-$F$4)/($E$4-$F$4))))/49.8328865456397)^'Qn H'!G$13)*('Qn H'!G$14*$B15/1000)","v":1106.6000000000001},{"$f":"(((($D$4-$E$4)/(LN(($D$4-$F$4)/($E$4-$F$4))))/49.8328865456397)^'Qn H'!H$13)*('Qn H'!H$14*$B15/1000)","v":1371.7000000000003},{"$f":"(((($D$4-$E$4)/(LN(($D$4-$F$4)/($E$4-$F$4))))/49.8328865456397)^'Qn H'!I$13)*('Qn H'!I$14*$B15/1000)","v":1878.8000000000004},{"$f":"(((($D$4-$E$4)/(LN(($D$4-$F$4)/($E$4-$F$4))))/49.8328865456397)^'Qn H'!J$13)*('Qn H'!J$14*$B15/1000)","v":0},{"$f":"(((($D$4-$E$4)/(LN(($D$4-$F$4)/($E$4-$F$4))))/49.8328865456397)^'Qn H'!K$13)*('Qn H'!K$14*$B15/1000)","v":0},{"$f":"(((($D$4-$E$4)/(LN(($D$4-$F$4)/($E$4-$F$4))))/49.8328865456397)^'Qn H'!L$13)*('Qn H'!L$14*$B15/1000)","v":0},{"$f":"(((($D$4-$E$4)/(LN(($D$4-$F$4)/($E$4-$F$4))))/49.8328865456397)^'Qn H'!M$13)*('Qn H'!M$14*$B15/1000)","v":732.60000000000014},{"$f":"(((($D$4-$E$4)/(LN(($D$4-$F$4)/($E$4-$F$4))))/49.8328865456397)^'Qn H'!N$13)*('Qn H'!N$14*$B15/1000)","v":1152.8000000000002},{"$f":"(((($D$4-$E$4)/(LN(($D$4-$F$4)/($E$4-$F$4))))/49.8328865456397)^'Qn H'!O$13)*('Qn H'!O$14*$B15/1000)","v":1232.0000000000002},{"$f":"(((($D$4-$E$4)/(LN(($D$4-$F$4)/($E$4-$F$4))))/49.8328865456397)^'Qn H'!P$13)*('Qn H'!P$14*$B15/1000)","v":1496.0000000000002},{"$f":"(((($D$4-$E$4)/(LN(($D$4-$F$4)/($E$4-$F$4))))/49.8328865456397)^'Qn H'!Q$13)*('Qn H'!Q$14*$B15/1000)","v":2038.3000000000004},{"$f":"(((($D$4-$E$4)/(LN(($D$4-$F$4)/($E$4-$F$4))))/49.8328865456397)^'Qn H'!R$13)*('Qn H'!R$14*$B15/1000)","v":0},{"$f":"(((($D$4-$E$4)/(LN(($D$4-$F$4)/($E$4-$F$4))))/49.8328865456397)^'Qn H'!S$13)*('Qn H'!S$14*$B15/1000)","v":0},{"$f":"(((($D$4-$E$4)/(LN(($D$4-$F$4)/($E$4-$F$4))))/49.8328865456397)^'Qn H'!T$13)*('Qn H'!T$14*$B15/1000)","v":0},null,null,null,1100,null,{"$f":"Sortiment!A74","v":1},{"$f":"Sortiment!A194","v":1},{"$f":"Sortiment!A314","v":1},{"$f":"Sortiment!A434","v":1},{"$f":"Sortiment!A554","v":1},null,null,null,{"$f":"Sortiment!A89","v":1},{"$f":"Sortiment!A209","v":1},{"$f":"Sortiment!A329","v":1},{"$f":"Sortiment!A449","v":1},{"$f":"Sortiment!A569","v":1}]
[null,1200,null,{"$f":"(((($D$4-$E$4)/(LN(($D$4-$F$4)/($E$4-$F$4))))/49.8328865456397)^'Qn H'!E$13)*('Qn H'!E$14*$B16/1000)","v":714.00000000000011},{"$f":"(((($D$4-$E$4)/(LN(($D$4-$F$4)/($E$4-$F$4))))/49.8328865456397)^'Qn H'!F$13)*('Qn H'!F$14*$B16/1000)","v":1138.8000000000002},{"$f":"(((($D$4-$E$4)/(LN(($D$4-$F$4)/($E$4-$F$4))))/49.8328865456397)^'Qn H'!G$13)*('Qn H'!G$14*$B16/1000)","v":1207.2000000000003},{"$f":"(((($D$4-$E$4)/(LN(($D$4-$F$4)/($E$4-$F$4))))/49.8328865456397)^'Qn H'!H$13)*('Qn H'!H$14*$B16/1000)","v":1496.4000000000003},{"$f":"(((($D$4-$E$4)/(LN(($D$4-$F$4)/($E$4-$F$4))))/49.8328865456397)^'Qn H'!I$13)*('Qn H'!I$14*$B16/1000)","v":2049.6000000000004},{"$f":"(((($D$4-$E$4)/(LN(($D$4-$F$4)/($E$4-$F$4))))/49.8328865456397)^'Qn H'!J$13)*('Qn H'!J$14*$B16/1000)","v":0},{"$f":"(((($D$4-$E$4)/(LN(($D$4-$F$4)/($E$4-$F$4))))/49.8328865456397)^'Qn H'!K$13)*('Qn H'!K$14*$B16/1000)","v":0},{"$f":"(((($D$4-$E$4)/(LN(($D$4-$F$4)/($E$4-$F$4))))/49.8328865456397)^'Qn H'!L$13)*('Qn H'!L$14*$B16/1000)","v":0},{"$f":"(((($D$4-$E$4)/(LN(($D$4-$F$4)/($E$4-$F$4))))/49.8328865456397)^'Qn H'!M$13)*('Qn H'!M$14*$B16/1000)","v":799.20000000000027},{"$f":"(((($D$4-$E$4)/(LN(($D$4-$F$4)/($E$4-$F$4))))/49.8328865456397)^'Qn H'!N$13)*('Qn H'!N$14*$B16/1000)","v":1257.6000000000001},{"$f":"(((($D$4-$E$4)/(LN(($D$4-$F$4)/($E$4-$F$4))))/49.8328865456397)^'Qn H'!O$13)*('Qn H'!O$14*$B16/1000)","v":1344.0000000000002},{"$f":"(((($D$4-$E$4)/(LN(($D$4-$F$4)/($E$4-$F$4))))/49.8328865456397)^'Qn H'!P$13)*('Qn H'!P$14*$B16/1000)","v":1632.0000000000005},{"$f":"(((($D$4-$E$4)/(LN(($D$4-$F$4)/($E$4-$F$4))))/49.8328865456397)^'Qn H'!Q$13)*('Qn H'!Q$14*$B16/1000)","v":2223.6000000000004},{"$f":"(((($D$4-$E$4)/(LN(($D$4-$F$4)/($E$4-$F$4))))/49.8328865456397)^'Qn H'!R$13)*('Qn H'!R$14*$B16/1000)","v":0},{"$f":"(((($D$4-$E$4)/(LN(($D$4-$F$4)/($E$4-$F$4))))/49.8328865456397)^'Qn H'!S$13)*('Qn H'!S$14*$B16/1000)","v":0},{"$f":"(((($D$4-$E$4)/(LN(($D$4-$F$4)/($E$4-$F$4))))/49.8328865456397)^'Qn H'!T$13)*('Qn H'!T$14*$B16/1000)","v":0},null,null,null,1200,null,{"$f":"Sortiment!A75","v":1},{"$f":"Sortiment!A195","v":1},{"$f":"Sortiment!A315","v":1},{"$f":"Sortiment!A435","v":1},{"$f":"Sortiment!A555","v":1},null,null,null,{"$f":"Sortiment!A90","v":1},{"$f":"Sortiment!A210","v":1},{"$f":"Sortiment!A330","v":1},{"$f":"Sortiment!A450","v":1},{"$f":"Sortiment!A570","v":1}]
[null,1400,null,{"$f":"(((($D$4-$E$4)/(LN(($D$4-$F$4)/($E$4-$F$4))))/49.8328865456397)^'Qn H'!E$13)*('Qn H'!E$14*$B17/1000)","v":833.00000000000023},{"$f":"(((($D$4-$E$4)/(LN(($D$4-$F$4)/($E$4-$F$4))))/49.8328865456397)^'Qn H'!F$13)*('Qn H'!F$14*$B17/1000)","v":1328.6000000000001},{"$f":"(((($D$4-$E$4)/(LN(($D$4-$F$4)/($E$4-$F$4))))/49.8328865456397)^'Qn H'!G$13)*('Qn H'!G$14*$B17/1000)","v":1408.4000000000003},{"$f":"(((($D$4-$E$4)/(LN(($D$4-$F$4)/($E$4-$F$4))))/49.8328865456397)^'Qn H'!H$13)*('Qn H'!H$14*$B17/1000)","v":1745.8000000000004},{"$f":"(((($D$4-$E$4)/(LN(($D$4-$F$4)/($E$4-$F$4))))/49.8328865456397)^'Qn H'!I$13)*('Qn H'!I$14*$B17/1000)","v":2391.2000000000003},{"$f":"(((($D$4-$E$4)/(LN(($D$4-$F$4)/($E$4-$F$4))))/49.8328865456397)^'Qn H'!J$13)*('Qn H'!J$14*$B17/1000)","v":0},{"$f":"(((($D$4-$E$4)/(LN(($D$4-$F$4)/($E$4-$F$4))))/49.8328865456397)^'Qn H'!K$13)*('Qn H'!K$14*$B17/1000)","v":0},{"$f":"(((($D$4-$E$4)/(LN(($D$4-$F$4)/($E$4-$F$4))))/49.8328865456397)^'Qn H'!L$13)*('Qn H'!L$14*$B17/1000)","v":0},{"$f":"(((($D$4-$E$4)/(LN(($D$4-$F$4)/($E$4-$F$4))))/49.8328865456397)^'Qn H'!M$13)*('Qn H'!M$14*$B17/1000)","v":932.4000000000002},{"$f":"(((($D$4-$E$4)/(LN(($D$4-$F$4)/($E$4-$F$4))))/49.8328865456397)^'Qn H'!N$13)*('Qn H'!N$14*$B17/1000)","v":1467.2000000000003},{"$f":"(((($D$4-$E$4)/(LN(($D$4-$F$4)/($E$4-$F$4))))/49.8328865456397)^'Qn H'!O$13)*('Qn H'!O$14*$B17/1000)","v":1568.0000000000005},{"$f":"(((($D$4-$E$4)/(LN(($D$4-$F$4)/($E$4-$F$4))))/49.8328865456397)^'Qn H'!P$13)*('Qn H'!P$14*$B17/1000)","v":1904.0000000000005},{"$f":"(((($D$4-$E$4)/(LN(($D$4-$F$4)/($E$4-$F$4))))/49.8328865456397)^'Qn H'!Q$13)*('Qn H'!Q$14*$B17/1000)","v":2594.2000000000003},{"$f":"(((($D$4-$E$4)/(LN(($D$4-$F$4)/($E$4-$F$4))))/49.8328865456397)^'Qn H'!R$13)*('Qn H'!R$14*$B17/1000)","v":0},{"$f":"(((($D$4-$E$4)/(LN(($D$4-$F$4)/($E$4-$F$4))))/49.8328865456397)^'Qn H'!S$13)*('Qn H'!S$14*$B17/1000)","v":0},{"$f":"(((($D$4-$E$4)/(LN(($D$4-$F$4)/($E$4-$F$4))))/49.8328865456397)^'Qn H'!T$13)*('Qn H'!T$14*$B17/1000)","v":0},null,null,null,1400,null,{"$f":"Sortiment!A76","v":1},{"$f":"Sortiment!A196","v":1},{"$f":"Sortiment!A316","v":1},{"$f":"Sortiment!A436","v":1},{"$f":"Sortiment!A556","v":1},null,null,null,{"$f":"Sortiment!A91","v":1},{"$f":"Sortiment!A211","v":1},{"$f":"Sortiment!A331","v":1},{"$f":"Sortiment!A451","v":1},{"$f":"Sortiment!A571","v":1}]
[null,1600,null,{"$f":"(((($D$4-$E$4)/(LN(($D$4-$F$4)/($E$4-$F$4))))/49.8328865456397)^'Qn H'!E$13)*('Qn H'!E$14*$B18/1000)","v":952.00000000000023},{"$f":"(((($D$4-$E$4)/(LN(($D$4-$F$4)/($E$4-$F$4))))/49.8328865456397)^'Qn H'!F$13)*('Qn H'!F$14*$B18/1000)","v":1518.4000000000003},{"$f":"(((($D$4-$E$4)/(LN(($D$4-$F$4)/($E$4-$F$4))))/49.8328865456397)^'Qn H'!G$13)*('Qn H'!G$14*$B18/1000)","v":1609.6000000000004},{"$f":"(((($D$4-$E$4)/(LN(($D$4-$F$4)/($E$4-$F$4))))/49.8328865456397)^'Qn H'!H$13)*('Qn H'!H$14*$B18/1000)","v":1995.2000000000005},{"$f":"(((($D$4-$E$4)/(LN(($D$4-$F$4)/($E$4-$F$4))))/49.8328865456397)^'Qn H'!I$13)*('Qn H'!I$14*$B18/1000)","v":2732.8000000000006},{"$f":"(((($D$4-$E$4)/(LN(($D$4-$F$4)/($E$4-$F$4))))/49.8328865456397)^'Qn H'!J$13)*('Qn H'!J$14*$B18/1000)","v":0},{"$f":"(((($D$4-$E$4)/(LN(($D$4-$F$4)/($E$4-$F$4))))/49.8328865456397)^'Qn H'!K$13)*('Qn H'!K$14*$B18/1000)","v":0},{"$f":"(((($D$4-$E$4)/(LN(($D$4-$F$4)/($E$4-$F$4))))/49.8328865456397)^'Qn H'!L$13)*('Qn H'!L$14*$B18/1000)","v":0},{"$f":"(((($D$4-$E$4)/(LN(($D$4-$F$4)/($E$4-$F$4))))/49.8328865456397)^'Qn H'!M$13)*('Qn H'!M$14*$B18/1000)","v":1065.6000000000001},{"$f":"(((($D$4-$E$4)/(LN(($D$4-$F$4)/($E$4-$F$4))))/49.8328865456397)^'Qn H'!N$13)*('Qn H'!N$14*$B18/1000)","v":1676.8000000000004},{"$f":"(((($D$4-$E$4)/(LN(($D$4-$F$4)/($E$4-$F$4))))/49.8328865456397)^'Qn H'!O$13)*('Qn H'!O$14*$B18/1000)","v":1792.0000000000005},{"$f":"(((($D$4-$E$4)/(LN(($D$4-$F$4)/($E$4-$F$4))))/49.8328865456397)^'Qn H'!P$13)*('Qn H'!P$14*$B18/1000)","v":2176.0000000000005},{"$f":"(((($D$4-$E$4)/(LN(($D$4-$F$4)/($E$4-$F$4))))/49.8328865456397)^'Qn H'!Q$13)*('Qn H'!Q$14*$B18/1000)","v":2964.8000000000006},{"$f":"(((($D$4-$E$4)/(LN(($D$4-$F$4)/($E$4-$F$4))))/49.8328865456397)^'Qn H'!R$13)*('Qn H'!R$14*$B18/1000)","v":0},{"$f":"(((($D$4-$E$4)/(LN(($D$4-$F$4)/($E$4-$F$4))))/49.8328865456397)^'Qn H'!S$13)*('Qn H'!S$14*$B18/1000)","v":0},{"$f":"(((($D$4-$E$4)/(LN(($D$4-$F$4)/($E$4-$F$4))))/49.8328865456397)^'Qn H'!T$13)*('Qn H'!T$14*$B18/1000)","v":0},null,null,null,1600,null,{"$f":"Sortiment!A77","v":1},{"$f":"Sortiment!A197","v":1},{"$f":"Sortiment!A317","v":1},{"$f":"Sortiment!A437","v":1},{"$f":"Sortiment!A557","v":1},null,null,null,{"$f":"Sortiment!A92","v":1},{"$f":"Sortiment!A212","v":1},{"$f":"Sortiment!A332","v":1},{"$f":"Sortiment!A452","v":1},{"$f":"Sortiment!A572","v":1}]
[null,1800,null,{"$f":"(((($D$4-$E$4)/(LN(($D$4-$F$4)/($E$4-$F$4))))/49.8328865456397)^'Qn H'!E$13)*('Qn H'!E$14*$B19/1000)","v":1071.0000000000002},{"$f":"(((($D$4-$E$4)/(LN(($D$4-$F$4)/($E$4-$F$4))))/49.8328865456397)^'Qn H'!F$13)*('Qn H'!F$14*$B19/1000)","v":1708.2000000000005},{"$f":"(((($D$4-$E$4)/(LN(($D$4-$F$4)/($E$4-$F$4))))/49.8328865456397)^'Qn H'!G$13)*('Qn H'!G$14*$B19/1000)","v":1810.8000000000004},{"$f":"(((($D$4-$E$4)/(LN(($D$4-$F$4)/($E$4-$F$4))))/49.8328865456397)^'Qn H'!H$13)*('Qn H'!H$14*$B19/1000)","v":2244.6000000000004},{"$f":"(((($D$4-$E$4)/(LN(($D$4-$F$4)/($E$4-$F$4))))/49.8328865456397)^'Qn H'!I$13)*('Qn H'!I$14*$B19/1000)","v":3074.400000000001},{"$f":"(((($D$4-$E$4)/(LN(($D$4-$F$4)/($E$4-$F$4))))/49.8328865456397)^'Qn H'!J$13)*('Qn H'!J$14*$B19/1000)","v":0},{"$f":"(((($D$4-$E$4)/(LN(($D$4-$F$4)/($E$4-$F$4))))/49.8328865456397)^'Qn H'!K$13)*('Qn H'!K$14*$B19/1000)","v":0},{"$f":"(((($D$4-$E$4)/(LN(($D$4-$F$4)/($E$4-$F$4))))/49.8328865456397)^'Qn H'!L$13)*('Qn H'!L$14*$B19/1000)","v":0},{"$f":"(((($D$4-$E$4)/(LN(($D$4-$F$4)/($E$4-$F$4))))/49.8328865456397)^'Qn H'!M$13)*('Qn H'!M$14*$B19/1000)","v":1198.8000000000002},{"$f":"(((($D$4-$E$4)/(LN(($D$4-$F$4)/($E$4-$F$4))))/49.8328865456397)^'Qn H'!N$13)*('Qn H'!N$14*$B19/1000)","v":1886.4000000000005},{"$f":"(((($D$4-$E$4)/(LN(($D$4-$F$4)/($E$4-$F$4))))/49.8328865456397)^'Qn H'!O$13)*('Qn H'!O$14*$B19/1000)","v":2016.0000000000005},{"$f":"(((($D$4-$E$4)/(LN(($D$4-$F$4)/($E$4-$F$4))))/49.8328865456397)^'Qn H'!P$13)*('Qn H'!P$14*$B19/1000)","v":2448.0000000000005},{"$f":"(((($D$4-$E$4)/(LN(($D$4-$F$4)/($E$4-$F$4))))/49.8328865456397)^'Qn H'!Q$13)*('Qn H'!Q$14*$B19/1000)","v":3335.400000000001},{"$f":"(((($D$4-$E$4)/(LN(($D$4-$F$4)/($E$4-$F$4))))/49.8328865456397)^'Qn H'!R$13)*('Qn H'!R$14*$B19/1000)","v":0},{"$f":"(((($D$4-$E$4)/(LN(($D$4-$F$4)/($E$4-$F$4))))/49.8328865456397)^'Qn H'!S$13)*('Qn H'!S$14*$B19/1000)","v":0},{"$f":"(((($D$4-$E$4)/(LN(($D$4-$F$4)/($E$4-$F$4))))/49.8328865456397)^'Qn H'!T$13)*('Qn H'!T$14*$B19/1000)","v":0},null,null,null,1800,null,{"$f":"Sortiment!A78","v":1},{"$f":"Sortiment!A198","v":1},{"$f":"Sortiment!A318","v":1},{"$f":"Sortiment!A438","v":1},{"$f":"Sortiment!A558","v":1},null,null,null,{"$f":"Sortiment!A93","v":1},{"$f":"Sortiment!A213","v":1},{"$f":"Sortiment!A333","v":1},{"$f":"Sortiment!A453","v":1},{"$f":"Sortiment!A573","v":1}]
[null,2000,null,{"$f":"(((($D$4-$E$4)/(LN(($D$4-$F$4)/($E$4-$F$4))))/49.8328865456397)^'Qn H'!E$13)*('Qn H'!E$14*$B20/1000)","v":1190.0000000000002},{"$f":"(((($D$4-$E$4)/(LN(($D$4-$F$4)/($E$4-$F$4))))/49.8328865456397)^'Qn H'!F$13)*('Qn H'!F$14*$B20/1000)","v":1898.0000000000005},{"$f":"(((($D$4-$E$4)/(LN(($D$4-$F$4)/($E$4-$F$4))))/49.8328865456397)^'Qn H'!G$13)*('Qn H'!G$14*$B20/1000)","v":2012.0000000000005},{"$f":"(((($D$4-$E$4)/(LN(($D$4-$F$4)/($E$4-$F$4))))/49.8328865456397)^'Qn H'!H$13)*('Qn H'!H$14*$B20/1000)","v":2494.0000000000005},{"$f":"(((($D$4-$E$4)/(LN(($D$4-$F$4)/($E$4-$F$4))))/49.8328865456397)^'Qn H'!I$13)*('Qn H'!I$14*$B20/1000)","v":3416.0000000000009},{"$f":"(((($D$4-$E$4)/(LN(($D$4-$F$4)/($E$4-$F$4))))/49.8328865456397)^'Qn H'!J$13)*('Qn H'!J$14*$B20/1000)","v":0},{"$f":"(((($D$4-$E$4)/(LN(($D$4-$F$4)/($E$4-$F$4))))/49.8328865456397)^'Qn H'!K$13)*('Qn H'!K$14*$B20/1000)","v":0},{"$f":"(((($D$4-$E$4)/(LN(($D$4-$F$4)/($E$4-$F$4))))/49.8328865456397)^'Qn H'!L$13)*('Qn H'!L$14*$B20/1000)","v":0},{"$f":"(((($D$4-$E$4)/(LN(($D$4-$F$4)/($E$4-$F$4))))/49.8328865456397)^'Qn H'!M$13)*('Qn H'!M$14*$B20/1000)","v":1332.0000000000002},{"$f":"(((($D$4-$E$4)/(LN(($D$4-$F$4)/($E$4-$F$4))))/49.8328865456397)^'Qn H'!N$13)*('Qn H'!N$14*$B20/1000)","v":2096.0000000000005},{"$f":"(((($D$4-$E$4)/(LN(($D$4-$F$4)/($E$4-$F$4))))/49.8328865456397)^'Qn H'!O$13)*('Qn H'!O$14*$B20/1000)","v":2240.0000000000005},{"$f":"(((($D$4-$E$4)/(LN(($D$4-$F$4)/($E$4-$F$4))))/49.8328865456397)^'Qn H'!P$13)*('Qn H'!P$14*$B20/1000)","v":2720.0000000000005},{"$f":"(((($D$4-$E$4)/(LN(($D$4-$F$4)/($E$4-$F$4))))/49.8328865456397)^'Qn H'!Q$13)*('Qn H'!Q$14*$B20/1000)","v":3706.0000000000009},{"$f":"(((($D$4-$E$4)/(LN(($D$4-$F$4)/($E$4-$F$4))))/49.8328865456397)^'Qn H'!R$13)*('Qn H'!R$14*$B20/1000)","v":0},{"$f":"(((($D$4-$E$4)/(LN(($D$4-$F$4)/($E$4-$F$4))))/49.8328865456397)^'Qn H'!S$13)*('Qn H'!S$14*$B20/1000)","v":0},{"$f":"(((($D$4-$E$4)/(LN(($D$4-$F$4)/($E$4-$F$4))))/49.8328865456397)^'Qn H'!T$13)*('Qn H'!T$14*$B20/1000)","v":0},null,null,null,2000,null,{"$f":"Sortiment!A79","v":1},{"$f":"Sortiment!A199","v":1},{"$f":"Sortiment!A319","v":1},{"$f":"Sortiment!A439","v":1},{"$f":"Sortiment!A559","v":1},null,null,null,{"$f":"Sortiment!A94","v":1},{"$f":"Sortiment!A214","v":1},{"$f":"Sortiment!A334","v":1},{"$f":"Sortiment!A454","v":1},{"$f":"Sortiment!A574","v":1}]
[null,2300,null,{"$f":"(((($D$4-$E$4)/(LN(($D$4-$F$4)/($E$4-$F$4))))/49.8328865456397)^'Qn H'!E$13)*('Qn H'!E$14*$B21/1000)","v":1368.5000000000002},{"$f":"(((($D$4-$E$4)/(LN(($D$4-$F$4)/($E$4-$F$4))))/49.8328865456397)^'Qn H'!F$13)*('Qn H'!F$14*$B21/1000)","v":2182.7000000000003},{"$f":"(((($D$4-$E$4)/(LN(($D$4-$F$4)/($E$4-$F$4))))/49.8328865456397)^'Qn H'!G$13)*('Qn H'!G$14*$B21/1000)","v":2313.8000000000006},{"$f":"(((($D$4-$E$4)/(LN(($D$4-$F$4)/($E$4-$F$4))))/49.8328865456397)^'Qn H'!H$13)*('Qn H'!H$14*$B21/1000)","v":2868.1000000000004},{"$f":"(((($D$4-$E$4)/(LN(($D$4-$F$4)/($E$4-$F$4))))/49.8328865456397)^'Qn H'!I$13)*('Qn H'!I$14*$B21/1000)","v":3928.400000000001},{"$f":"(((($D$4-$E$4)/(LN(($D$4-$F$4)/($E$4-$F$4))))/49.8328865456397)^'Qn H'!J$13)*('Qn H'!J$14*$B21/1000)","v":0},{"$f":"(((($D$4-$E$4)/(LN(($D$4-$F$4)/($E$4-$F$4))))/49.8328865456397)^'Qn H'!K$13)*('Qn H'!K$14*$B21/1000)","v":0},{"$f":"(((($D$4-$E$4)/(LN(($D$4-$F$4)/($E$4-$F$4))))/49.8328865456397)^'Qn H'!L$13)*('Qn H'!L$14*$B21/1000)","v":0},{"$f":"(((($D$4-$E$4)/(LN(($D$4-$F$4)/($E$4-$F$4))))/49.8328865456397)^'Qn H'!M$13)*('Qn H'!M$14*$B21/1000)","v":1531.8000000000002},{"$f":"(((($D$4-$E$4)/(LN(($D$4-$F$4)/($E$4-$F$4))))/49.8328865456397)^'Qn H'!N$13)*('Qn H'!N$14*$B21/1000)","v":2410.4000000000005},{"$f":"(((($D$4-$E$4)/(LN(($D$4-$F$4)/($E$4-$F$4))))/49.8328865456397)^'Qn H'!O$13)*('Qn H'!O$14*$B21/1000)","v":2576.0000000000005},{"$f":"(((($D$4-$E$4)/(LN(($D$4-$F$4)/($E$4-$F$4))))/49.8328865456397)^'Qn H'!P$13)*('Qn H'!P$14*$B21/1000)","v":3128.0000000000009},{"$f":"(((($D$4-$E$4)/(LN(($D$4-$F$4)/($E$4-$F$4))))/49.8328865456397)^'Qn H'!Q$13)*('Qn H'!Q$14*$B21/1000)","v":4261.9000000000005},{"$f":"(((($D$4-$E$4)/(LN(($D$4-$F$4)/($E$4-$F$4))))/49.8328865456397)^'Qn H'!R$13)*('Qn H'!R$14*$B21/1000)","v":0},{"$f":"(((($D$4-$E$4)/(LN(($D$4-$F$4)/($E$4-$F$4))))/49.8328865456397)^'Qn H'!S$13)*('Qn H'!S$14*$B21/1000)","v":0},{"$f":"(((($D$4-$E$4)/(LN(($D$4-$F$4)/($E$4-$F$4))))/49.8328865456397)^'Qn H'!T$13)*('Qn H'!T$14*$B21/1000)","v":0},null,null,null,2300,null,{"$f":"Sortiment!A80","v":1},{"$f":"Sortiment!A200","v":1},{"$f":"Sortiment!A320","v":1},{"$f":"Sortiment!A440","v":1},{"$f":"Sortiment!A560","v":1},null,null,null,{"$f":"Sortiment!A95","v":1},{"$f":"Sortiment!A215","v":1},{"$f":"Sortiment!A335","v":1},{"$f":"Sortiment!A455","v":1},{"$f":"Sortiment!A575","v":0}]
[null,2600,null,{"$f":"(((($D$4-$E$4)/(LN(($D$4-$F$4)/($E$4-$F$4))))/49.8328865456397)^'Qn H'!E$13)*('Qn H'!E$14*$B22/1000)","v":1547.0000000000005},{"$f":"(((($D$4-$E$4)/(LN(($D$4-$F$4)/($E$4-$F$4))))/49.8328865456397)^'Qn H'!F$13)*('Qn H'!F$14*$B22/1000)","v":2467.4000000000005},{"$f":"(((($D$4-$E$4)/(LN(($D$4-$F$4)/($E$4-$F$4))))/49.8328865456397)^'Qn H'!G$13)*('Qn H'!G$14*$B22/1000)","v":2615.6000000000004},{"$f":"(((($D$4-$E$4)/(LN(($D$4-$F$4)/($E$4-$F$4))))/49.8328865456397)^'Qn H'!H$13)*('Qn H'!H$14*$B22/1000)","v":3242.2000000000007},{"$f":"(((($D$4-$E$4)/(LN(($D$4-$F$4)/($E$4-$F$4))))/49.8328865456397)^'Qn H'!I$13)*('Qn H'!I$14*$B22/1000)","v":4440.8000000000011},{"$f":"(((($D$4-$E$4)/(LN(($D$4-$F$4)/($E$4-$F$4))))/49.8328865456397)^'Qn H'!J$13)*('Qn H'!J$14*$B22/1000)","v":0},{"$f":"(((($D$4-$E$4)/(LN(($D$4-$F$4)/($E$4-$F$4))))/49.8328865456397)^'Qn H'!K$13)*('Qn H'!K$14*$B22/1000)","v":0},{"$f":"(((($D$4-$E$4)/(LN(($D$4-$F$4)/($E$4-$F$4))))/49.8328865456397)^'Qn H'!L$13)*('Qn H'!L$14*$B22/1000)","v":0},{"$f":"(((($D$4-$E$4)/(LN(($D$4-$F$4)/($E$4-$F$4))))/49.8328865456397)^'Qn H'!M$13)*('Qn H'!M$14*$B22/1000)","v":1731.6000000000004},{"$f":"(((($D$4-$E$4)/(LN(($D$4-$F$4)/($E$4-$F$4))))/49.8328865456397)^'Qn H'!N$13)*('Qn H'!N$14*$B22/1000)","v":2724.8000000000006},{"$f":"(((($D$4-$E$4)/(LN(($D$4-$F$4)/($E$4-$F$4))))/49.8328865456397)^'Qn H'!O$13)*('Qn H'!O$14*$B22/1000)","v":2912.0000000000005},{"$f":"(((($D$4-$E$4)/(LN(($D$4-$F$4)/($E$4-$F$4))))/49.8328865456397)^'Qn H'!P$13)*('Qn H'!P$14*$B22/1000)","v":3536.0000000000009},{"$f":"(((($D$4-$E$4)/(LN(($D$4-$F$4)/($E$4-$F$4))))/49.8328865456397)^'Qn H'!Q$13)*('Qn H'!Q$14*$B22/1000)","v":4817.8000000000011},{"$f":"(((($D$4-$E$4)/(LN(($D$4-$F$4)/($E$4-$F$4))))/49.8328865456397)^'Qn H'!R$13)*('Qn H'!R$14*$B22/1000)","v":0},{"$f":"(((($D$4-$E$4)/(LN(($D$4-$F$4)/($E$4-$F$4))))/49.8328865456397)^'Qn H'!S$13)*('Qn H'!S$14*$B22/1000)","v":0},{"$f":"(((($D$4-$E$4)/(LN(($D$4-$F$4)/($E$4-$F$4))))/49.8328865456397)^'Qn H'!T$13)*('Qn H'!T$14*$B22/1000)","v":0},null,null,null,2600,null,{"$f":"Sortiment!A81","v":1},{"$f":"Sortiment!A201","v":1},{"$f":"Sortiment!A321","v":1},{"$f":"Sortiment!A441","v":1},{"$f":"Sortiment!A561","v":0},null,null,null,{"$f":"Sortiment!A96","v":1},{"$f":"Sortiment!A216","v":1},{"$f":"Sortiment!A336","v":1},{"$f":"Sortiment!A456","v":0},{"$f":"Sortiment!A576","v":0}]
[null,3000,null,{"$f":"(((($D$4-$E$4)/(LN(($D$4-$F$4)/($E$4-$F$4))))/49.8328865456397)^'Qn H'!E$13)*('Qn H'!E$14*$B23/1000)","v":1785.0000000000005},{"$f":"(((($D$4-$E$4)/(LN(($D$4-$F$4)/($E$4-$F$4))))/49.8328865456397)^'Qn H'!F$13)*('Qn H'!F$14*$B23/1000)","v":2847.0000000000005},{"$f":"(((($D$4-$E$4)/(LN(($D$4-$F$4)/($E$4-$F$4))))/49.8328865456397)^'Qn H'!G$13)*('Qn H'!G$14*$B23/1000)","v":3018.0000000000005},{"$f":"(((($D$4-$E$4)/(LN(($D$4-$F$4)/($E$4-$F$4))))/49.8328865456397)^'Qn H'!H$13)*('Qn H'!H$14*$B23/1000)","v":3741.0000000000009},{"$f":"(((($D$4-$E$4)/(LN(($D$4-$F$4)/($E$4-$F$4))))/49.8328865456397)^'Qn H'!I$13)*('Qn H'!I$14*$B23/1000)","v":5124.0000000000009},{"$f":"(((($D$4-$E$4)/(LN(($D$4-$F$4)/($E$4-$F$4))))/49.8328865456397)^'Qn H'!J$13)*('Qn H'!J$14*$B23/1000)","v":0},{"$f":"(((($D$4-$E$4)/(LN(($D$4-$F$4)/($E$4-$F$4))))/49.8328865456397)^'Qn H'!K$13)*('Qn H'!K$14*$B23/1000)","v":0},{"$f":"(((($D$4-$E$4)/(LN(($D$4-$F$4)/($E$4-$F$4))))/49.8328865456397)^'Qn H'!L$13)*('Qn H'!L$14*$B23/1000)","v":0},{"$f":"(((($D$4-$E$4)/(LN(($D$4-$F$4)/($E$4-$F$4))))/49.8328865456397)^'Qn H'!M$13)*('Qn H'!M$14*$B23/1000)","v":1998.0000000000005},{"$f":"(((($D$4-$E$4)/(LN(($D$4-$F$4)/($E$4-$F$4))))/49.8328865456397)^'Qn H'!N$13)*('Qn H'!N$14*$B23/1000)","v":3144.0000000000009},{"$f":"(((($D$4-$E$4)/(LN(($D$4-$F$4)/($E$4-$F$4))))/49.8328865456397)^'Qn H'!O$13)*('Qn H'!O$14*$B23/1000)","v":3360.0000000000009},{"$f":"(((($D$4-$E$4)/(LN(($D$4-$F$4)/($E$4-$F$4))))/49.8328865456397)^'Qn H'!P$13)*('Qn H'!P$14*$B23/1000)","v":4080.0000000000009},{"$f":"(((($D$4-$E$4)/(LN(($D$4-$F$4)/($E$4-$F$4))))/49.8328865456397)^'Qn H'!Q$13)*('Qn H'!Q$14*$B23/1000)","v":5559.0000000000009},{"$f":"(((($D$4-$E$4)/(LN(($D$4-$F$4)/($E$4-$F$4))))/49.8328865456397)^'Qn H'!R$13)*('Qn H'!R$14*$B23/1000)","v":0},{"$f":"(((($D$4-$E$4)/(LN(($D$4-$F$4)/($E$4-$F$4))))/49.8328865456397)^'Qn H'!S$13)*('Qn H'!S$14*$B23/1000)","v":0},{"$f":"(((($D$4-$E$4)/(LN(($D$4-$F$4)/($E$4-$F$4))))/49.8328865456397)^'Qn H'!T$13)*('Qn H'!T$14*$B23/1000)","v":0},null,null,null,3000,null,{"$f":"Sortiment!A82","v":1},{"$f":"Sortiment!A202","v":1},{"$f":"Sortiment!A322","v":1},{"$f":"Sortiment!A442","v":0},{"$f":"Sortiment!A562","v":0},null,null,null,{"$f":"Sortiment!A97","v":1},{"$f":"Sortiment!A217","v":1},{"$f":"Sortiment!A337","v":0},{"$f":"Sortiment!A457","v":0},{"$f":"Sortiment!A577","v":0}]
[]
[]
[null,null,"Výška [mm]",null,null,{"$f":"'Qn H'!G15","v":884},null,null,null,null,null,null,null,{"$f":"'Qn H'!O15","v":958},null,null,null,null,null,null,null,null,null,"Výška [mm]",null,null,884,null,null,null,null,null,null,null,958]
[null,"Délka [mm]",null,{"$f":"'Qn H'!E16","v":"K10H"},{"$f":"'Qn H'!F16","v":"K11H"},{"$f":"'Qn H'!G16","v":"K20H"},{"$f":"'Qn H'!H16","v":"K21H"},{"$f":"'Qn H'!I16","v":"K22H"},{"$f":"'Qn H'!J16","v":0},{"$f":"'Qn H'!K16","v":0},{"$f":"'Qn H'!L16","v":0},{"$f":"'Qn H'!M16","v":"K10H"},{"$f":"'Qn H'!N16","v":"K11H"},{"$f":"'Qn H'!O16","v":"K20H"},{"$f":"'Qn H'!P16","v":"K21H"},{"$f":"'Qn H'!Q16","v":"K22H"},{"$f":"'Qn H'!R16","v":0},{"$f":"'Qn H'!S16","v":0},{"$f":"'Qn H'!T16","v":0},null,null,null,"Délka [mm]",null,{"$f":"D65","v":"K10H"},"K11H","K20H","K21H","K22H",0,0,0,"K10H","K11H","K20H","K21H","K22H",0,0,0]
[null,500,null,{"$f":"(((($D$4-$E$4)/(LN(($D$4-$F$4)/($E$4-$F$4))))/49.8328865456397)^'Qn H'!E$17)*('Qn H'!E$18*$B9/1000)","v":449.00000000000011},{"$f":"(((($D$4-$E$4)/(LN(($D$4-$F$4)/($E$4-$F$4))))/49.8328865456397)^'Qn H'!F$17)*('Qn H'!F$18*$B9/1000)","v":666.00000000000011},{"$f":"(((($D$4-$E$4)/(LN(($D$4-$F$4)/($E$4-$F$4))))/49.8328865456397)^'Qn H'!G$17)*('Qn H'!G$18*$B9/1000)","v":738.00000000000011},{"$f":"(((($D$4-$E$4)/(LN(($D$4-$F$4)/($E$4-$F$4))))/49.8328865456397)^'Qn H'!H$17)*('Qn H'!H$18*$B9/1000)","v":837.00000000000023},{"$f":"(((($D$4-$E$4)/(LN(($D$4-$F$4)/($E$4-$F$4))))/49.8328865456397)^'Qn H'!I$17)*('Qn H'!I$18*$B9/1000)","v":1119.0000000000002},{"$f":"(((($D$4-$E$4)/(LN(($D$4-$F$4)/($E$4-$F$4))))/49.8328865456397)^'Qn H'!J$17)*('Qn H'!J$18*$B9/1000)","v":0},{"$f":"(((($D$4-$E$4)/(LN(($D$4-$F$4)/($E$4-$F$4))))/49.8328865456397)^'Qn H'!K$17)*('Qn H'!K$18*$B9/1000)","v":0},{"$f":"(((($D$4-$E$4)/(LN(($D$4-$F$4)/($E$4-$F$4))))/49.8328865456397)^'Qn H'!L$17)*('Qn H'!L$18*$B9/1000)","v":0},{"$f":"(((($D$4-$E$4)/(LN(($D$4-$F$4)/($E$4-$F$4))))/49.8328865456397)^'Qn H'!M$17)*('Qn H'!M$18*$B9/1000)","v":491.00000000000011},{"$f":"(((($D$4-$E$4)/(LN(($D$4-$F$4)/($E$4-$F$4))))/49.8328865456397)^'Qn H'!N$17)*('Qn H'!N$18*$B9/1000)","v":711.50000000000011},{"$f":"(((($D$4-$E$4)/(LN(($D$4-$F$4)/($E$4-$F$4))))/49.8328865456397)^'Qn H'!O$17)*('Qn H'!O$18*$B9/1000)","v":799.50000000000023},{"$f":"(((($D$4-$E$4)/(LN(($D$4-$F$4)/($E$4-$F$4))))/49.8328865456397)^'Qn H'!P$17)*('Qn H'!P$18*$B9/1000)","v":885.50000000000023},{"$f":"(((($D$4-$E$4)/(LN(($D$4-$F$4)/($E$4-$F$4))))/49.8328865456397)^'Qn H'!Q$17)*('Qn H'!Q$18*$B9/1000)","v":1175.5000000000002},{"$f":"(((($D$4-$E$4)/(LN(($D$4-$F$4)/($E$4-$F$4))))/49.8328865456397)^'Qn H'!R$17)*('Qn H'!R$18*$B9/1000)","v":0},{"$f":"(((($D$4-$E$4)/(LN(($D$4-$F$4)/($E$4-$F$4))))/49.8328865456397)^'Qn H'!S$17)*('Qn H'!S$18*$B9/1000)","v":0},{"$f":"(((($D$4-$E$4)/(LN(($D$4-$F$4)/($E$4-$F$4))))/49.8328865456397)^'Qn H'!T$17)*('Qn H'!T$18*$B9/1000)","v":0},null,null,null,500,null,{"$f":"Sortiment!A98","v":1},{"$f":"Sortiment!A218","v":1},{"$f":"Sortiment!A338","v":1},{"$f":"Sortiment!A458","v":1},{"$f":"Sortiment!A578","v":1},null,null,null,{"$f":"Sortiment!A113","v":1},{"$f":"Sortiment!A233","v":1},{"$f":"Sortiment!A353","v":1},{"$f":"Sortiment!A473","v":1},{"$f":"Sortiment!A593","v":1}]
[null,600,null,{"$f":"(((($D$4-$E$4)/(LN(($D$4-$F$4)/($E$4-$F$4))))/49.8328865456397)^'Qn H'!E$17)*('Qn H'!E$18*$B10/1000)","v":538.80000000000007},{"$f":"(((($D$4-$E$4)/(LN(($D$4-$F$4)/($E$4-$F$4))))/49.8328865456397)^'Qn H'!F$17)*('Qn H'!F$18*$B10/1000)","v":799.20000000000027},{"$f":"(((($D$4-$E$4)/(LN(($D$4-$F$4)/($E$4-$F$4))))/49.8328865456397)^'Qn H'!G$17)*('Qn H'!G$18*$B10/1000)","v":885.60000000000025},{"$f":"(((($D$4-$E$4)/(LN(($D$4-$F$4)/($E$4-$F$4))))/49.8328865456397)^'Qn H'!H$17)*('Qn H'!H$18*$B10/1000)","v":1004.4000000000002},{"$f":"(((($D$4-$E$4)/(LN(($D$4-$F$4)/($E$4-$F$4))))/49.8328865456397)^'Qn H'!I$17)*('Qn H'!I$18*$B10/1000)","v":1342.8000000000002},{"$f":"(((($D$4-$E$4)/(LN(($D$4-$F$4)/($E$4-$F$4))))/49.8328865456397)^'Qn H'!J$17)*('Qn H'!J$18*$B10/1000)","v":0},{"$f":"(((($D$4-$E$4)/(LN(($D$4-$F$4)/($E$4-$F$4))))/49.8328865456397)^'Qn H'!K$17)*('Qn H'!K$18*$B10/1000)","v":0},{"$f":"(((($D$4-$E$4)/(LN(($D$4-$F$4)/($E$4-$F$4))))/49.8328865456397)^'Qn H'!L$17)*('Qn H'!L$18*$B10/1000)","v":0},{"$f":"(((($D$4-$E$4)/(LN(($D$4-$F$4)/($E$4-$F$4))))/49.8328865456397)^'Qn H'!M$17)*('Qn H'!M$18*$B10/1000)","v":589.20000000000016},{"$f":"(((($D$4-$E$4)/(LN(($D$4-$F$4)/($E$4-$F$4))))/49.8328865456397)^'Qn H'!N$17)*('Qn H'!N$18*$B10/1000)","v":853.80000000000018},{"$f":"(((($D$4-$E$4)/(LN(($D$4-$F$4)/($E$4-$F$4))))/49.8328865456397)^'Qn H'!O$17)*('Qn H'!O$18*$B10/1000)","v":959.4000000000002},{"$f":"(((($D$4-$E$4)/(LN(($D$4-$F$4)/($E$4-$F$4))))/49.8328865456397)^'Qn H'!P$17)*('Qn H'!P$18*$B10/1000)","v":1062.6000000000001},{"$f":"(((($D$4-$E$4)/(LN(($D$4-$F$4)/($E$4-$F$4))))/49.8328865456397)^'Qn H'!Q$17)*('Qn H'!Q$18*$B10/1000)","v":1410.6000000000001},{"$f":"(((($D$4-$E$4)/(LN(($D$4-$F$4)/($E$4-$F$4))))/49.8328865456397)^'Qn H'!R$17)*('Qn H'!R$18*$B10/1000)","v":0},{"$f":"(((($D$4-$E$4)/(LN(($D$4-$F$4)/($E$4-$F$4))))/49.8328865456397)^'Qn H'!S$17)*('Qn H'!S$18*$B10/1000)","v":0},{"$f":"(((($D$4-$E$4)/(LN(($D$4-$F$4)/($E$4-$F$4))))/49.8328865456397)^'Qn H'!T$17)*('Qn H'!T$18*$B10/1000)","v":0},null,null,null,600,null,{"$f":"Sortiment!A99","v":1},{"$f":"Sortiment!A219","v":1},{"$f":"Sortiment!A339","v":1},{"$f":"Sortiment!A459","v":1},{"$f":"Sortiment!A579","v":1},null,null,null,{"$f":"Sortiment!A114","v":1},{"$f":"Sortiment!A234","v":1},{"$f":"Sortiment!A354","v":1},{"$f":"Sortiment!A474","v":1},{"$f":"Sortiment!A594","v":1}]
[null,700,null,{"$f":"(((($D$4-$E$4)/(LN(($D$4-$F$4)/($E$4-$F$4))))/49.8328865456397)^'Qn H'!E$17)*('Qn H'!E$18*$B11/1000)","v":628.60000000000014},{"$f":"(((($D$4-$E$4)/(LN(($D$4-$F$4)/($E$4-$F$4))))/49.8328865456397)^'Qn H'!F$17)*('Qn H'!F$18*$B11/1000)","v":932.4000000000002},{"$f":"(((($D$4-$E$4)/(LN(($D$4-$F$4)/($E$4-$F$4))))/49.8328865456397)^'Qn H'!G$17)*('Qn H'!G$18*$B11/1000)","v":1033.2000000000003},{"$f":"(((($D$4-$E$4)/(LN(($D$4-$F$4)/($E$4-$F$4))))/49.8328865456397)^'Qn H'!H$17)*('Qn H'!H$18*$B11/1000)","v":1171.8000000000002},{"$f":"(((($D$4-$E$4)/(LN(($D$4-$F$4)/($E$4-$F$4))))/49.8328865456397)^'Qn H'!I$17)*('Qn H'!I$18*$B11/1000)","v":1566.6000000000004},{"$f":"(((($D$4-$E$4)/(LN(($D$4-$F$4)/($E$4-$F$4))))/49.8328865456397)^'Qn H'!J$17)*('Qn H'!J$18*$B11/1000)","v":0},{"$f":"(((($D$4-$E$4)/(LN(($D$4-$F$4)/($E$4-$F$4))))/49.8328865456397)^'Qn H'!K$17)*('Qn H'!K$18*$B11/1000)","v":0},{"$f":"(((($D$4-$E$4)/(LN(($D$4-$F$4)/($E$4-$F$4))))/49.8328865456397)^'Qn H'!L$17)*('Qn H'!L$18*$B11/1000)","v":0},{"$f":"(((($D$4-$E$4)/(LN(($D$4-$F$4)/($E$4-$F$4))))/49.8328865456397)^'Qn H'!M$17)*('Qn H'!M$18*$B11/1000)","v":687.40000000000009},{"$f":"(((($D$4-$E$4)/(LN(($D$4-$F$4)/($E$4-$F$4))))/49.8328865456397)^'Qn H'!N$17)*('Qn H'!N$18*$B11/1000)","v":996.10000000000025},{"$f":"(((($D$4-$E$4)/(LN(($D$4-$F$4)/($E$4-$F$4))))/49.8328865456397)^'Qn H'!O$17)*('Qn H'!O$18*$B11/1000)","v":1119.3000000000002},{"$f":"(((($D$4-$E$4)/(LN(($D$4-$F$4)/($E$4-$F$4))))/49.8328865456397)^'Qn H'!P$17)*('Qn H'!P$18*$B11/1000)","v":1239.7000000000003},{"$f":"(((($D$4-$E$4)/(LN(($D$4-$F$4)/($E$4-$F$4))))/49.8328865456397)^'Qn H'!Q$17)*('Qn H'!Q$18*$B11/1000)","v":1645.7000000000005},{"$f":"(((($D$4-$E$4)/(LN(($D$4-$F$4)/($E$4-$F$4))))/49.8328865456397)^'Qn H'!R$17)*('Qn H'!R$18*$B11/1000)","v":0},{"$f":"(((($D$4-$E$4)/(LN(($D$4-$F$4)/($E$4-$F$4))))/49.8328865456397)^'Qn H'!S$17)*('Qn H'!S$18*$B11/1000)","v":0},{"$f":"(((($D$4-$E$4)/(LN(($D$4-$F$4)/($E$4-$F$4))))/49.8328865456397)^'Qn H'!T$17)*('Qn H'!T$18*$B11/1000)","v":0},null,null,null,700,null,{"$f":"Sortiment!A100","v":1},{"$f":"Sortiment!A220","v":1},{"$f":"Sortiment!A340","v":1},{"$f":"Sortiment!A460","v":1},{"$f":"Sortiment!A580","v":1},null,null,null,{"$f":"Sortiment!A115","v":1},{"$f":"Sortiment!A235","v":1},{"$f":"Sortiment!A355","v":1},{"$f":"Sortiment!A475","v":1},{"$f":"Sortiment!A595","v":1}]
[null,800,null,{"$f":"(((($D$4-$E$4)/(LN(($D$4-$F$4)/($E$4-$F$4))))/49.8328865456397)^'Qn H'!E$17)*('Qn H'!E$18*$B12/1000)","v":718.40000000000009},{"$f":"(((($D$4-$E$4)/(LN(($D$4-$F$4)/($E$4-$F$4))))/49.8328865456397)^'Qn H'!F$17)*('Qn H'!F$18*$B12/1000)","v":1065.6000000000001},{"$f":"(((($D$4-$E$4)/(LN(($D$4-$F$4)/($E$4-$F$4))))/49.8328865456397)^'Qn H'!G$17)*('Qn H'!G$18*$B12/1000)","v":1180.8000000000002},{"$f":"(((($D$4-$E$4)/(LN(($D$4-$F$4)/($E$4-$F$4))))/49.8328865456397)^'Qn H'!H$17)*('Qn H'!H$18*$B12/1000)","v":1339.2000000000003},{"$f":"(((($D$4-$E$4)/(LN(($D$4-$F$4)/($E$4-$F$4))))/49.8328865456397)^'Qn H'!I$17)*('Qn H'!I$18*$B12/1000)","v":1790.4000000000005},{"$f":"(((($D$4-$E$4)/(LN(($D$4-$F$4)/($E$4-$F$4))))/49.8328865456397)^'Qn H'!J$17)*('Qn H'!J$18*$B12/1000)","v":0},{"$f":"(((($D$4-$E$4)/(LN(($D$4-$F$4)/($E$4-$F$4))))/49.8328865456397)^'Qn H'!K$17)*('Qn H'!K$18*$B12/1000)","v":0},{"$f":"(((($D$4-$E$4)/(LN(($D$4-$F$4)/($E$4-$F$4))))/49.8328865456397)^'Qn H'!L$17)*('Qn H'!L$18*$B12/1000)","v":0},{"$f":"(((($D$4-$E$4)/(LN(($D$4-$F$4)/($E$4-$F$4))))/49.8328865456397)^'Qn H'!M$17)*('Qn H'!M$18*$B12/1000)","v":785.60000000000025},{"$f":"(((($D$4-$E$4)/(LN(($D$4-$F$4)/($E$4-$F$4))))/49.8328865456397)^'Qn H'!N$17)*('Qn H'!N$18*$B12/1000)","v":1138.4000000000003},{"$f":"(((($D$4-$E$4)/(LN(($D$4-$F$4)/($E$4-$F$4))))/49.8328865456397)^'Qn H'!O$17)*('Qn H'!O$18*$B12/1000)","v":1279.2000000000003},{"$f":"(((($D$4-$E$4)/(LN(($D$4-$F$4)/($E$4-$F$4))))/49.8328865456397)^'Qn H'!P$17)*('Qn H'!P$18*$B12/1000)","v":1416.8000000000002},{"$f":"(((($D$4-$E$4)/(LN(($D$4-$F$4)/($E$4-$F$4))))/49.8328865456397)^'Qn H'!Q$17)*('Qn H'!Q$18*$B12/1000)","v":1880.8000000000004},{"$f":"(((($D$4-$E$4)/(LN(($D$4-$F$4)/($E$4-$F$4))))/49.8328865456397)^'Qn H'!R$17)*('Qn H'!R$18*$B12/1000)","v":0},{"$f":"(((($D$4-$E$4)/(LN(($D$4-$F$4)/($E$4-$F$4))))/49.8328865456397)^'Qn H'!S$17)*('Qn H'!S$18*$B12/1000)","v":0},{"$f":"(((($D$4-$E$4)/(LN(($D$4-$F$4)/($E$4-$F$4))))/49.8328865456397)^'Qn H'!T$17)*('Qn H'!T$18*$B12/1000)","v":0},null,null,null,800,null,{"$f":"Sortiment!A101","v":1},{"$f":"Sortiment!A221","v":1},{"$f":"Sortiment!A341","v":1},{"$f":"Sortiment!A461","v":1},{"$f":"Sortiment!A581","v":1},null,null,null,{"$f":"Sortiment!A116","v":1},{"$f":"Sortiment!A236","v":1},{"$f":"Sortiment!A356","v":1},{"$f":"Sortiment!A476","v":1},{"$f":"Sortiment!A596","v":1}]
[null,900,null,{"$f":"(((($D$4-$E$4)/(LN(($D$4-$F$4)/($E$4-$F$4))))/49.8328865456397)^'Qn H'!E$17)*('Qn H'!E$18*$B13/1000)","v":808.20000000000027},{"$f":"(((($D$4-$E$4)/(LN(($D$4-$F$4)/($E$4-$F$4))))/49.8328865456397)^'Qn H'!F$17)*('Qn H'!F$18*$B13/1000)","v":1198.8000000000002},{"$f":"(((($D$4-$E$4)/(LN(($D$4-$F$4)/($E$4-$F$4))))/49.8328865456397)^'Qn H'!G$17)*('Qn H'!G$18*$B13/1000)","v":1328.4000000000003},{"$f":"(((($D$4-$E$4)/(LN(($D$4-$F$4)/($E$4-$F$4))))/49.8328865456397)^'Qn H'!H$17)*('Qn H'!H$18*$B13/1000)","v":1506.6000000000001},{"$f":"(((($D$4-$E$4)/(LN(($D$4-$F$4)/($E$4-$F$4))))/49.8328865456397)^'Qn H'!I$17)*('Qn H'!I$18*$B13/1000)","v":2014.2000000000005},{"$f":"(((($D$4-$E$4)/(LN(($D$4-$F$4)/($E$4-$F$4))))/49.8328865456397)^'Qn H'!J$17)*('Qn H'!J$18*$B13/1000)","v":0},{"$f":"(((($D$4-$E$4)/(LN(($D$4-$F$4)/($E$4-$F$4))))/49.8328865456397)^'Qn H'!K$17)*('Qn H'!K$18*$B13/1000)","v":0},{"$f":"(((($D$4-$E$4)/(LN(($D$4-$F$4)/($E$4-$F$4))))/49.8328865456397)^'Qn H'!L$17)*('Qn H'!L$18*$B13/1000)","v":0},{"$f":"(((($D$4-$E$4)/(LN(($D$4-$F$4)/($E$4-$F$4))))/49.8328865456397)^'Qn H'!M$17)*('Qn H'!M$18*$B13/1000)","v":883.80000000000018},{"$f":"(((($D$4-$E$4)/(LN(($D$4-$F$4)/($E$4-$F$4))))/49.8328865456397)^'Qn H'!N$17)*('Qn H'!N$18*$B13/1000)","v":1280.7000000000003},{"$f":"(((($D$4-$E$4)/(LN(($D$4-$F$4)/($E$4-$F$4))))/49.8328865456397)^'Qn H'!O$17)*('Qn H'!O$18*$B13/1000)","v":1439.1000000000001},{"$f":"(((($D$4-$E$4)/(LN(($D$4-$F$4)/($E$4-$F$4))))/49.8328865456397)^'Qn H'!P$17)*('Qn H'!P$18*$B13/1000)","v":1593.9000000000005},{"$f":"(((($D$4-$E$4)/(LN(($D$4-$F$4)/($E$4-$F$4))))/49.8328865456397)^'Qn H'!Q$17)*('Qn H'!Q$18*$B13/1000)","v":2115.9000000000005},{"$f":"(((($D$4-$E$4)/(LN(($D$4-$F$4)/($E$4-$F$4))))/49.8328865456397)^'Qn H'!R$17)*('Qn H'!R$18*$B13/1000)","v":0},{"$f":"(((($D$4-$E$4)/(LN(($D$4-$F$4)/($E$4-$F$4))))/49.8328865456397)^'Qn H'!S$17)*('Qn H'!S$18*$B13/1000)","v":0},{"$f":"(((($D$4-$E$4)/(LN(($D$4-$F$4)/($E$4-$F$4))))/49.8328865456397)^'Qn H'!T$17)*('Qn H'!T$18*$B13/1000)","v":0},null,null,null,900,null,{"$f":"Sortiment!A102","v":1},{"$f":"Sortiment!A222","v":1},{"$f":"Sortiment!A342","v":1},{"$f":"Sortiment!A462","v":1},{"$f":"Sortiment!A582","v":1},null,null,null,{"$f":"Sortiment!A117","v":1},{"$f":"Sortiment!A237","v":1},{"$f":"Sortiment!A357","v":1},{"$f":"Sortiment!A477","v":1},{"$f":"Sortiment!A597","v":1}]
[null,1000,null,{"$f":"(((($D$4-$E$4)/(LN(($D$4-$F$4)/($E$4-$F$4))))/49.8328865456397)^'Qn H'!E$17)*('Qn H'!E$18*$B14/1000)","v":898.00000000000023},{"$f":"(((($D$4-$E$4)/(LN(($D$4-$F$4)/($E$4-$F$4))))/49.8328865456397)^'Qn H'!F$17)*('Qn H'!F$18*$B14/1000)","v":1332.0000000000002},{"$f":"(((($D$4-$E$4)/(LN(($D$4-$F$4)/($E$4-$F$4))))/49.8328865456397)^'Qn H'!G$17)*('Qn H'!G$18*$B14/1000)","v":1476.0000000000002},{"$f":"(((($D$4-$E$4)/(LN(($D$4-$F$4)/($E$4-$F$4))))/49.8328865456397)^'Qn H'!H$17)*('Qn H'!H$18*$B14/1000)","v":1674.0000000000005},{"$f":"(((($D$4-$E$4)/(LN(($D$4-$F$4)/($E$4-$F$4))))/49.8328865456397)^'Qn H'!I$17)*('Qn H'!I$18*$B14/1000)","v":2238.0000000000005},{"$f":"(((($D$4-$E$4)/(LN(($D$4-$F$4)/($E$4-$F$4))))/49.8328865456397)^'Qn H'!J$17)*('Qn H'!J$18*$B14/1000)","v":0},{"$f":"(((($D$4-$E$4)/(LN(($D$4-$F$4)/($E$4-$F$4))))/49.8328865456397)^'Qn H'!K$17)*('Qn H'!K$18*$B14/1000)","v":0},{"$f":"(((($D$4-$E$4)/(LN(($D$4-$F$4)/($E$4-$F$4))))/49.8328865456397)^'Qn H'!L$17)*('Qn H'!L$18*$B14/1000)","v":0},{"$f":"(((($D$4-$E$4)/(LN(($D$4-$F$4)/($E$4-$F$4))))/49.8328865456397)^'Qn H'!M$17)*('Qn H'!M$18*$B14/1000)","v":982.00000000000023},{"$f":"(((($D$4-$E$4)/(LN(($D$4-$F$4)/($E$4-$F$4))))/49.8328865456397)^'Qn H'!N$17)*('Qn H'!N$18*$B14/1000)","v":1423.0000000000002},{"$f":"(((($D$4-$E$4)/(LN(($D$4-$F$4)/($E$4-$F$4))))/49.8328865456397)^'Qn H'!O$17)*('Qn H'!O$18*$B14/1000)","v":1599.0000000000005},{"$f":"(((($D$4-$E$4)/(LN(($D$4-$F$4)/($E$4-$F$4))))/49.8328865456397)^'Qn H'!P$17)*('Qn H'!P$18*$B14/1000)","v":1771.0000000000005},{"$f":"(((($D$4-$E$4)/(LN(($D$4-$F$4)/($E$4-$F$4))))/49.8328865456397)^'Qn H'!Q$17)*('Qn H'!Q$18*$B14/1000)","v":2351.0000000000005},{"$f":"(((($D$4-$E$4)/(LN(($D$4-$F$4)/($E$4-$F$4))))/49.8328865456397)^'Qn H'!R$17)*('Qn H'!R$18*$B14/1000)","v":0},{"$f":"(((($D$4-$E$4)/(LN(($D$4-$F$4)/($E$4-$F$4))))/49.8328865456397)^'Qn H'!S$17)*('Qn H'!S$18*$B14/1000)","v":0},{"$f":"(((($D$4-$E$4)/(LN(($D$4-$F$4)/($E$4-$F$4))))/49.8328865456397)^'Qn H'!T$17)*('Qn H'!T$18*$B14/1000)","v":0},null,null,null,1000,null,{"$f":"Sortiment!A103","v":1},{"$f":"Sortiment!A223","v":1},{"$f":"Sortiment!A343","v":1},{"$f":"Sortiment!A463","v":1},{"$f":"Sortiment!A583","v":1},null,null,null,{"$f":"Sortiment!A118","v":1},{"$f":"Sortiment!A238","v":1},{"$f":"Sortiment!A358","v":1},{"$f":"Sortiment!A478","v":1},{"$f":"Sortiment!A598","v":1}]
[null,1100,null,{"$f":"(((($D$4-$E$4)/(LN(($D$4-$F$4)/($E$4-$F$4))))/49.8328865456397)^'Qn H'!E$17)*('Qn H'!E$18*$B15/1000)","v":987.80000000000018},{"$f":"(((($D$4-$E$4)/(LN(($D$4-$F$4)/($E$4-$F$4))))/49.8328865456397)^'Qn H'!F$17)*('Qn H'!F$18*$B15/1000)","v":1465.2000000000003},{"$f":"(((($D$4-$E$4)/(LN(($D$4-$F$4)/($E$4-$F$4))))/49.8328865456397)^'Qn H'!G$17)*('Qn H'!G$18*$B15/1000)","v":1623.6000000000004},{"$f":"(((($D$4-$E$4)/(LN(($D$4-$F$4)/($E$4-$F$4))))/49.8328865456397)^'Qn H'!H$17)*('Qn H'!H$18*$B15/1000)","v":1841.4000000000005},{"$f":"(((($D$4-$E$4)/(LN(($D$4-$F$4)/($E$4-$F$4))))/49.8328865456397)^'Qn H'!I$17)*('Qn H'!I$18*$B15/1000)","v":2461.8000000000006},{"$f":"(((($D$4-$E$4)/(LN(($D$4-$F$4)/($E$4-$F$4))))/49.8328865456397)^'Qn H'!J$17)*('Qn H'!J$18*$B15/1000)","v":0},{"$f":"(((($D$4-$E$4)/(LN(($D$4-$F$4)/($E$4-$F$4))))/49.8328865456397)^'Qn H'!K$17)*('Qn H'!K$18*$B15/1000)","v":0},{"$f":"(((($D$4-$E$4)/(LN(($D$4-$F$4)/($E$4-$F$4))))/49.8328865456397)^'Qn H'!L$17)*('Qn H'!L$18*$B15/1000)","v":0},{"$f":"(((($D$4-$E$4)/(LN(($D$4-$F$4)/($E$4-$F$4))))/49.8328865456397)^'Qn H'!M$17)*('Qn H'!M$18*$B15/1000)","v":1080.2000000000003},{"$f":"(((($D$4-$E$4)/(LN(($D$4-$F$4)/($E$4-$F$4))))/49.8328865456397)^'Qn H'!N$17)*('Qn H'!N$18*$B15/1000)","v":1565.3000000000004},{"$f":"(((($D$4-$E$4)/(LN(($D$4-$F$4)/($E$4-$F$4))))/49.8328865456397)^'Qn H'!O$17)*('Qn H'!O$18*$B15/1000)","v":1758.9000000000005},{"$f":"(((($D$4-$E$4)/(LN(($D$4-$F$4)/($E$4-$F$4))))/49.8328865456397)^'Qn H'!P$17)*('Qn H'!P$18*$B15/1000)","v":1948.1000000000004},{"$f":"(((($D$4-$E$4)/(LN(($D$4-$F$4)/($E$4-$F$4))))/49.8328865456397)^'Qn H'!Q$17)*('Qn H'!Q$18*$B15/1000)","v":2586.1000000000004},{"$f":"(((($D$4-$E$4)/(LN(($D$4-$F$4)/($E$4-$F$4))))/49.8328865456397)^'Qn H'!R$17)*('Qn H'!R$18*$B15/1000)","v":0},{"$f":"(((($D$4-$E$4)/(LN(($D$4-$F$4)/($E$4-$F$4))))/49.8328865456397)^'Qn H'!S$17)*('Qn H'!S$18*$B15/1000)","v":0},{"$f":"(((($D$4-$E$4)/(LN(($D$4-$F$4)/($E$4-$F$4))))/49.8328865456397)^'Qn H'!T$17)*('Qn H'!T$18*$B15/1000)","v":0},null,null,null,1100,null,{"$f":"Sortiment!A104","v":1},{"$f":"Sortiment!A224","v":1},{"$f":"Sortiment!A344","v":1},{"$f":"Sortiment!A464","v":1},{"$f":"Sortiment!A584","v":1},null,null,null,{"$f":"Sortiment!A119","v":1},{"$f":"Sortiment!A239","v":1},{"$f":"Sortiment!A359","v":1},{"$f":"Sortiment!A479","v":1},{"$f":"Sortiment!A599","v":1}]
[null,1200,null,{"$f":"(((($D$4-$E$4)/(LN(($D$4-$F$4)/($E$4-$F$4))))/49.8328865456397)^'Qn H'!E$17)*('Qn H'!E$18*$B16/1000)","v":1077.6000000000001},{"$f":"(((($D$4-$E$4)/(LN(($D$4-$F$4)/($E$4-$F$4))))/49.8328865456397)^'Qn H'!F$17)*('Qn H'!F$18*$B16/1000)","v":1598.4000000000005},{"$f":"(((($D$4-$E$4)/(LN(($D$4-$F$4)/($E$4-$F$4))))/49.8328865456397)^'Qn H'!G$17)*('Qn H'!G$18*$B16/1000)","v":1771.2000000000005},{"$f":"(((($D$4-$E$4)/(LN(($D$4-$F$4)/($E$4-$F$4))))/49.8328865456397)^'Qn H'!H$17)*('Qn H'!H$18*$B16/1000)","v":2008.8000000000004},{"$f":"(((($D$4-$E$4)/(LN(($D$4-$F$4)/($E$4-$F$4))))/49.8328865456397)^'Qn H'!I$17)*('Qn H'!I$18*$B16/1000)","v":2685.6000000000004},{"$f":"(((($D$4-$E$4)/(LN(($D$4-$F$4)/($E$4-$F$4))))/49.8328865456397)^'Qn H'!J$17)*('Qn H'!J$18*$B16/1000)","v":0},{"$f":"(((($D$4-$E$4)/(LN(($D$4-$F$4)/($E$4-$F$4))))/49.8328865456397)^'Qn H'!K$17)*('Qn H'!K$18*$B16/1000)","v":0},{"$f":"(((($D$4-$E$4)/(LN(($D$4-$F$4)/($E$4-$F$4))))/49.8328865456397)^'Qn H'!L$17)*('Qn H'!L$18*$B16/1000)","v":0},{"$f":"(((($D$4-$E$4)/(LN(($D$4-$F$4)/($E$4-$F$4))))/49.8328865456397)^'Qn H'!M$17)*('Qn H'!M$18*$B16/1000)","v":1178.4000000000003},{"$f":"(((($D$4-$E$4)/(LN(($D$4-$F$4)/($E$4-$F$4))))/49.8328865456397)^'Qn H'!N$17)*('Qn H'!N$18*$B16/1000)","v":1707.6000000000004},{"$f":"(((($D$4-$E$4)/(LN(($D$4-$F$4)/($E$4-$F$4))))/49.8328865456397)^'Qn H'!O$17)*('Qn H'!O$18*$B16/1000)","v":1918.8000000000004},{"$f":"(((($D$4-$E$4)/(LN(($D$4-$F$4)/($E$4-$F$4))))/49.8328865456397)^'Qn H'!P$17)*('Qn H'!P$18*$B16/1000)","v":2125.2000000000003},{"$f":"(((($D$4-$E$4)/(LN(($D$4-$F$4)/($E$4-$F$4))))/49.8328865456397)^'Qn H'!Q$17)*('Qn H'!Q$18*$B16/1000)","v":2821.2000000000003},{"$f":"(((($D$4-$E$4)/(LN(($D$4-$F$4)/($E$4-$F$4))))/49.8328865456397)^'Qn H'!R$17)*('Qn H'!R$18*$B16/1000)","v":0},{"$f":"(((($D$4-$E$4)/(LN(($D$4-$F$4)/($E$4-$F$4))))/49.8328865456397)^'Qn H'!S$17)*('Qn H'!S$18*$B16/1000)","v":0},{"$f":"(((($D$4-$E$4)/(LN(($D$4-$F$4)/($E$4-$F$4))))/49.8328865456397)^'Qn H'!T$17)*('Qn H'!T$18*$B16/1000)","v":0},null,null,null,1200,null,{"$f":"Sortiment!A105","v":1},{"$f":"Sortiment!A225","v":1},{"$f":"Sortiment!A345","v":1},{"$f":"Sortiment!A465","v":1},{"$f":"Sortiment!A585","v":1},null,null,null,{"$f":"Sortiment!A120","v":1},{"$f":"Sortiment!A240","v":1},{"$f":"Sortiment!A360","v":1},{"$f":"Sortiment!A480","v":1},{"$f":"Sortiment!A600","v":1}]
[null,1400,null,{"$f":"(((($D$4-$E$4)/(LN(($D$4-$F$4)/($E$4-$F$4))))/49.8328865456397)^'Qn H'!E$17)*('Qn H'!E$18*$B17/1000)","v":1257.2000000000003},{"$f":"(((($D$4-$E$4)/(LN(($D$4-$F$4)/($E$4-$F$4))))/49.8328865456397)^'Qn H'!F$17)*('Qn H'!F$18*$B17/1000)","v":1864.8000000000004},{"$f":"(((($D$4-$E$4)/(LN(($D$4-$F$4)/($E$4-$F$4))))/49.8328865456397)^'Qn H'!G$17)*('Qn H'!G$18*$B17/1000)","v":2066.4000000000005},{"$f":"(((($D$4-$E$4)/(LN(($D$4-$F$4)/($E$4-$F$4))))/49.8328865456397)^'Qn H'!H$17)*('Qn H'!H$18*$B17/1000)","v":2343.6000000000004},{"$f":"(((($D$4-$E$4)/(LN(($D$4-$F$4)/($E$4-$F$4))))/49.8328865456397)^'Qn H'!I$17)*('Qn H'!I$18*$B17/1000)","v":3133.2000000000007},{"$f":"(((($D$4-$E$4)/(LN(($D$4-$F$4)/($E$4-$F$4))))/49.8328865456397)^'Qn H'!J$17)*('Qn H'!J$18*$B17/1000)","v":0},{"$f":"(((($D$4-$E$4)/(LN(($D$4-$F$4)/($E$4-$F$4))))/49.8328865456397)^'Qn H'!K$17)*('Qn H'!K$18*$B17/1000)","v":0},{"$f":"(((($D$4-$E$4)/(LN(($D$4-$F$4)/($E$4-$F$4))))/49.8328865456397)^'Qn H'!L$17)*('Qn H'!L$18*$B17/1000)","v":0},{"$f":"(((($D$4-$E$4)/(LN(($D$4-$F$4)/($E$4-$F$4))))/49.8328865456397)^'Qn H'!M$17)*('Qn H'!M$18*$B17/1000)","v":1374.8000000000002},{"$f":"(((($D$4-$E$4)/(LN(($D$4-$F$4)/($E$4-$F$4))))/49.8328865456397)^'Qn H'!N$17)*('Qn H'!N$18*$B17/1000)","v":1992.2000000000005},{"$f":"(((($D$4-$E$4)/(LN(($D$4-$F$4)/($E$4-$F$4))))/49.8328865456397)^'Qn H'!O$17)*('Qn H'!O$18*$B17/1000)","v":2238.6000000000004},{"$f":"(((($D$4-$E$4)/(LN(($D$4-$F$4)/($E$4-$F$4))))/49.8328865456397)^'Qn H'!P$17)*('Qn H'!P$18*$B17/1000)","v":2479.4000000000005},{"$f":"(((($D$4-$E$4)/(LN(($D$4-$F$4)/($E$4-$F$4))))/49.8328865456397)^'Qn H'!Q$17)*('Qn H'!Q$18*$B17/1000)","v":3291.400000000001},{"$f":"(((($D$4-$E$4)/(LN(($D$4-$F$4)/($E$4-$F$4))))/49.8328865456397)^'Qn H'!R$17)*('Qn H'!R$18*$B17/1000)","v":0},{"$f":"(((($D$4-$E$4)/(LN(($D$4-$F$4)/($E$4-$F$4))))/49.8328865456397)^'Qn H'!S$17)*('Qn H'!S$18*$B17/1000)","v":0},{"$f":"(((($D$4-$E$4)/(LN(($D$4-$F$4)/($E$4-$F$4))))/49.8328865456397)^'Qn H'!T$17)*('Qn H'!T$18*$B17/1000)","v":0},null,null,null,1400,null,{"$f":"Sortiment!A106","v":1},{"$f":"Sortiment!A226","v":1},{"$f":"Sortiment!A346","v":1},{"$f":"Sortiment!A466","v":1},{"$f":"Sortiment!A586","v":1},null,null,null,{"$f":"Sortiment!A121","v":1},{"$f":"Sortiment!A241","v":1},{"$f":"Sortiment!A361","v":1},{"$f":"Sortiment!A481","v":1},{"$f":"Sortiment!A601","v":1}]
[null,1600,null,{"$f":"(((($D$4-$E$4)/(LN(($D$4-$F$4)/($E$4-$F$4))))/49.8328865456397)^'Qn H'!E$17)*('Qn H'!E$18*$B18/1000)","v":1436.8000000000002},{"$f":"(((($D$4-$E$4)/(LN(($D$4-$F$4)/($E$4-$F$4))))/49.8328865456397)^'Qn H'!F$17)*('Qn H'!F$18*$B18/1000)","v":2131.2000000000003},{"$f":"(((($D$4-$E$4)/(LN(($D$4-$F$4)/($E$4-$F$4))))/49.8328865456397)^'Qn H'!G$17)*('Qn H'!G$18*$B18/1000)","v":2361.6000000000004},{"$f":"(((($D$4-$E$4)/(LN(($D$4-$F$4)/($E$4-$F$4))))/49.8328865456397)^'Qn H'!H$17)*('Qn H'!H$18*$B18/1000)","v":2678.4000000000005},{"$f":"(((($D$4-$E$4)/(LN(($D$4-$F$4)/($E$4-$F$4))))/49.8328865456397)^'Qn H'!I$17)*('Qn H'!I$18*$B18/1000)","v":3580.8000000000011},{"$f":"(((($D$4-$E$4)/(LN(($D$4-$F$4)/($E$4-$F$4))))/49.8328865456397)^'Qn H'!J$17)*('Qn H'!J$18*$B18/1000)","v":0},{"$f":"(((($D$4-$E$4)/(LN(($D$4-$F$4)/($E$4-$F$4))))/49.8328865456397)^'Qn H'!K$17)*('Qn H'!K$18*$B18/1000)","v":0},{"$f":"(((($D$4-$E$4)/(LN(($D$4-$F$4)/($E$4-$F$4))))/49.8328865456397)^'Qn H'!L$17)*('Qn H'!L$18*$B18/1000)","v":0},{"$f":"(((($D$4-$E$4)/(LN(($D$4-$F$4)/($E$4-$F$4))))/49.8328865456397)^'Qn H'!M$17)*('Qn H'!M$18*$B18/1000)","v":1571.2000000000005},{"$f":"(((($D$4-$E$4)/(LN(($D$4-$F$4)/($E$4-$F$4))))/49.8328865456397)^'Qn H'!N$17)*('Qn H'!N$18*$B18/1000)","v":2276.8000000000006},{"$f":"(((($D$4-$E$4)/(LN(($D$4-$F$4)/($E$4-$F$4))))/49.8328865456397)^'Qn H'!O$17)*('Qn H'!O$18*$B18/1000)","v":2558.4000000000005},{"$f":"(((($D$4-$E$4)/(LN(($D$4-$F$4)/($E$4-$F$4))))/49.8328865456397)^'Qn H'!P$17)*('Qn H'!P$18*$B18/1000)","v":2833.6000000000004},{"$f":"(((($D$4-$E$4)/(LN(($D$4-$F$4)/($E$4-$F$4))))/49.8328865456397)^'Qn H'!Q$17)*('Qn H'!Q$18*$B18/1000)","v":3761.6000000000008},{"$f":"(((($D$4-$E$4)/(LN(($D$4-$F$4)/($E$4-$F$4))))/49.8328865456397)^'Qn H'!R$17)*('Qn H'!R$18*$B18/1000)","v":0},{"$f":"(((($D$4-$E$4)/(LN(($D$4-$F$4)/($E$4-$F$4))))/49.8328865456397)^'Qn H'!S$17)*('Qn H'!S$18*$B18/1000)","v":0},{"$f":"(((($D$4-$E$4)/(LN(($D$4-$F$4)/($E$4-$F$4))))/49.8328865456397)^'Qn H'!T$17)*('Qn H'!T$18*$B18/1000)","v":0},null,null,null,1600,null,{"$f":"Sortiment!A107","v":1},{"$f":"Sortiment!A227","v":1},{"$f":"Sortiment!A347","v":1},{"$f":"Sortiment!A467","v":1},{"$f":"Sortiment!A587","v":0},null,null,null,{"$f":"Sortiment!A122","v":1},{"$f":"Sortiment!A242","v":1},{"$f":"Sortiment!A362","v":1},{"$f":"Sortiment!A482","v":1},{"$f":"Sortiment!A602","v":0}]
[null,1800,null,{"$f":"(((($D$4-$E$4)/(LN(($D$4-$F$4)/($E$4-$F$4))))/49.8328865456397)^'Qn H'!E$17)*('Qn H'!E$18*$B19/1000)","v":1616.4000000000005},{"$f":"(((($D$4-$E$4)/(LN(($D$4-$F$4)/($E$4-$F$4))))/49.8328865456397)^'Qn H'!F$17)*('Qn H'!F$18*$B19/1000)","v":2397.6000000000004},{"$f":"(((($D$4-$E$4)/(LN(($D$4-$F$4)/($E$4-$F$4))))/49.8328865456397)^'Qn H'!G$17)*('Qn H'!G$18*$B19/1000)","v":2656.8000000000006},{"$f":"(((($D$4-$E$4)/(LN(($D$4-$F$4)/($E$4-$F$4))))/49.8328865456397)^'Qn H'!H$17)*('Qn H'!H$18*$B19/1000)","v":3013.2000000000003},{"$f":"(((($D$4-$E$4)/(LN(($D$4-$F$4)/($E$4-$F$4))))/49.8328865456397)^'Qn H'!I$17)*('Qn H'!I$18*$B19/1000)","v":4028.400000000001},{"$f":"(((($D$4-$E$4)/(LN(($D$4-$F$4)/($E$4-$F$4))))/49.8328865456397)^'Qn H'!J$17)*('Qn H'!J$18*$B19/1000)","v":0},{"$f":"(((($D$4-$E$4)/(LN(($D$4-$F$4)/($E$4-$F$4))))/49.8328865456397)^'Qn H'!K$17)*('Qn H'!K$18*$B19/1000)","v":0},{"$f":"(((($D$4-$E$4)/(LN(($D$4-$F$4)/($E$4-$F$4))))/49.8328865456397)^'Qn H'!L$17)*('Qn H'!L$18*$B19/1000)","v":0},{"$f":"(((($D$4-$E$4)/(LN(($D$4-$F$4)/($E$4-$F$4))))/49.8328865456397)^'Qn H'!M$17)*('Qn H'!M$18*$B19/1000)","v":1767.6000000000004},{"$f":"(((($D$4-$E$4)/(LN(($D$4-$F$4)/($E$4-$F$4))))/49.8328865456397)^'Qn H'!N$17)*('Qn H'!N$18*$B19/1000)","v":2561.4000000000005},{"$f":"(((($D$4-$E$4)/(LN(($D$4-$F$4)/($E$4-$F$4))))/49.8328865456397)^'Qn H'!O$17)*('Qn H'!O$18*$B19/1000)","v":2878.2000000000003},{"$f":"(((($D$4-$E$4)/(LN(($D$4-$F$4)/($E$4-$F$4))))/49.8328865456397)^'Qn H'!P$17)*('Qn H'!P$18*$B19/1000)","v":3187.8000000000011},{"$f":"(((($D$4-$E$4)/(LN(($D$4-$F$4)/($E$4-$F$4))))/49.8328865456397)^'Qn H'!Q$17)*('Qn H'!Q$18*$B19/1000)","v":4231.8000000000011},{"$f":"(((($D$4-$E$4)/(LN(($D$4-$F$4)/($E$4-$F$4))))/49.8328865456397)^'Qn H'!R$17)*('Qn H'!R$18*$B19/1000)","v":0},{"$f":"(((($D$4-$E$4)/(LN(($D$4-$F$4)/($E$4-$F$4))))/49.8328865456397)^'Qn H'!S$17)*('Qn H'!S$18*$B19/1000)","v":0},{"$f":"(((($D$4-$E$4)/(LN(($D$4-$F$4)/($E$4-$F$4))))/49.8328865456397)^'Qn H'!T$17)*('Qn H'!T$18*$B19/1000)","v":0},null,null,null,1800,null,{"$f":"Sortiment!A108","v":1},{"$f":"Sortiment!A228","v":1},{"$f":"Sortiment!A348","v":1},{"$f":"Sortiment!A468","v":1},{"$f":"Sortiment!A588","v":0},null,null,null,{"$f":"Sortiment!A123","v":1},{"$f":"Sortiment!A243","v":1},{"$f":"Sortiment!A363","v":1},{"$f":"Sortiment!A483","v":0},{"$f":"Sortiment!A603","v":0}]
[null,2000,null,{"$f":"(((($D$4-$E$4)/(LN(($D$4-$F$4)/($E$4-$F$4))))/49.8328865456397)^'Qn H'!E$17)*('Qn H'!E$18*$B20/1000)","v":1796.0000000000005},{"$f":"(((($D$4-$E$4)/(LN(($D$4-$F$4)/($E$4-$F$4))))/49.8328865456397)^'Qn H'!F$17)*('Qn H'!F$18*$B20/1000)","v":2664.0000000000005},{"$f":"(((($D$4-$E$4)/(LN(($D$4-$F$4)/($E$4-$F$4))))/49.8328865456397)^'Qn H'!G$17)*('Qn H'!G$18*$B20/1000)","v":2952.0000000000005},{"$f":"(((($D$4-$E$4)/(LN(($D$4-$F$4)/($E$4-$F$4))))/49.8328865456397)^'Qn H'!H$17)*('Qn H'!H$18*$B20/1000)","v":3348.0000000000009},{"$f":"(((($D$4-$E$4)/(LN(($D$4-$F$4)/($E$4-$F$4))))/49.8328865456397)^'Qn H'!I$17)*('Qn H'!I$18*$B20/1000)","v":4476.0000000000009},{"$f":"(((($D$4-$E$4)/(LN(($D$4-$F$4)/($E$4-$F$4))))/49.8328865456397)^'Qn H'!J$17)*('Qn H'!J$18*$B20/1000)","v":0},{"$f":"(((($D$4-$E$4)/(LN(($D$4-$F$4)/($E$4-$F$4))))/49.8328865456397)^'Qn H'!K$17)*('Qn H'!K$18*$B20/1000)","v":0},{"$f":"(((($D$4-$E$4)/(LN(($D$4-$F$4)/($E$4-$F$4))))/49.8328865456397)^'Qn H'!L$17)*('Qn H'!L$18*$B20/1000)","v":0},{"$f":"(((($D$4-$E$4)/(LN(($D$4-$F$4)/($E$4-$F$4))))/49.8328865456397)^'Qn H'!M$17)*('Qn H'!M$18*$B20/1000)","v":1964.0000000000005},{"$f":"(((($D$4-$E$4)/(LN(($D$4-$F$4)/($E$4-$F$4))))/49.8328865456397)^'Qn H'!N$17)*('Qn H'!N$18*$B20/1000)","v":2846.0000000000005},{"$f":"(((($D$4-$E$4)/(LN(($D$4-$F$4)/($E$4-$F$4))))/49.8328865456397)^'Qn H'!O$17)*('Qn H'!O$18*$B20/1000)","v":3198.0000000000009},{"$f":"(((($D$4-$E$4)/(LN(($D$4-$F$4)/($E$4-$F$4))))/49.8328865456397)^'Qn H'!P$17)*('Qn H'!P$18*$B20/1000)","v":3542.0000000000009},{"$f":"(((($D$4-$E$4)/(LN(($D$4-$F$4)/($E$4-$F$4))))/49.8328865456397)^'Qn H'!Q$17)*('Qn H'!Q$18*$B20/1000)","v":4702.0000000000009},{"$f":"(((($D$4-$E$4)/(LN(($D$4-$F$4)/($E$4-$F$4))))/49.8328865456397)^'Qn H'!R$17)*('Qn H'!R$18*$B20/1000)","v":0},{"$f":"(((($D$4-$E$4)/(LN(($D$4-$F$4)/($E$4-$F$4))))/49.8328865456397)^'Qn H'!S$17)*('Qn H'!S$18*$B20/1000)","v":0},{"$f":"(((($D$4-$E$4)/(LN(($D$4-$F$4)/($E$4-$F$4))))/49.8328865456397)^'Qn H'!T$17)*('Qn H'!T$18*$B20/1000)","v":0},null,null,null,2000,null,{"$f":"Sortiment!A109","v":1},{"$f":"Sortiment!A229","v":1},{"$f":"Sortiment!A349","v":1},{"$f":"Sortiment!A469","v":0},{"$f":"Sortiment!A589","v":0},null,null,null,{"$f":"Sortiment!A124","v":1},{"$f":"Sortiment!A244","v":1},{"$f":"Sortiment!A364","v":0},{"$f":"Sortiment!A484","v":0},{"$f":"Sortiment!A604","v":0}]
[null,2300,null,{"$f":"(((($D$4-$E$4)/(LN(($D$4-$F$4)/($E$4-$F$4))))/49.8328865456397)^'Qn H'!E$17)*('Qn H'!E$18*$B21/1000)","v":2065.4000000000005},{"$f":"(((($D$4-$E$4)/(LN(($D$4-$F$4)/($E$4-$F$4))))/49.8328865456397)^'Qn H'!F$17)*('Qn H'!F$18*$B21/1000)","v":3063.6000000000004},{"$f":"(((($D$4-$E$4)/(LN(($D$4-$F$4)/($E$4-$F$4))))/49.8328865456397)^'Qn H'!G$17)*('Qn H'!G$18*$B21/1000)","v":3394.8000000000011},{"$f":"(((($D$4-$E$4)/(LN(($D$4-$F$4)/($E$4-$F$4))))/49.8328865456397)^'Qn H'!H$17)*('Qn H'!H$18*$B21/1000)","v":3850.2000000000007},{"$f":"(((($D$4-$E$4)/(LN(($D$4-$F$4)/($E$4-$F$4))))/49.8328865456397)^'Qn H'!I$17)*('Qn H'!I$18*$B21/1000)","v":5147.4000000000005},{"$f":"(((($D$4-$E$4)/(LN(($D$4-$F$4)/($E$4-$F$4))))/49.8328865456397)^'Qn H'!J$17)*('Qn H'!J$18*$B21/1000)","v":0},{"$f":"(((($D$4-$E$4)/(LN(($D$4-$F$4)/($E$4-$F$4))))/49.8328865456397)^'Qn H'!K$17)*('Qn H'!K$18*$B21/1000)","v":0},{"$f":"(((($D$4-$E$4)/(LN(($D$4-$F$4)/($E$4-$F$4))))/49.8328865456397)^'Qn H'!L$17)*('Qn H'!L$18*$B21/1000)","v":0},{"$f":"(((($D$4-$E$4)/(LN(($D$4-$F$4)/($E$4-$F$4))))/49.8328865456397)^'Qn H'!M$17)*('Qn H'!M$18*$B21/1000)","v":2258.6000000000004},{"$f":"(((($D$4-$E$4)/(LN(($D$4-$F$4)/($E$4-$F$4))))/49.8328865456397)^'Qn H'!N$17)*('Qn H'!N$18*$B21/1000)","v":3272.900000000001},{"$f":"(((($D$4-$E$4)/(LN(($D$4-$F$4)/($E$4-$F$4))))/49.8328865456397)^'Qn H'!O$17)*('Qn H'!O$18*$B21/1000)","v":3677.7000000000007},{"$f":"(((($D$4-$E$4)/(LN(($D$4-$F$4)/($E$4-$F$4))))/49.8328865456397)^'Qn H'!P$17)*('Qn H'!P$18*$B21/1000)","v":4073.3000000000011},{"$f":"(((($D$4-$E$4)/(LN(($D$4-$F$4)/($E$4-$F$4))))/49.8328865456397)^'Qn H'!Q$17)*('Qn H'!Q$18*$B21/1000)","v":5407.3000000000011},{"$f":"(((($D$4-$E$4)/(LN(($D$4-$F$4)/($E$4-$F$4))))/49.8328865456397)^'Qn H'!R$17)*('Qn H'!R$18*$B21/1000)","v":0},{"$f":"(((($D$4-$E$4)/(LN(($D$4-$F$4)/($E$4-$F$4))))/49.8328865456397)^'Qn H'!S$17)*('Qn H'!S$18*$B21/1000)","v":0},{"$f":"(((($D$4-$E$4)/(LN(($D$4-$F$4)/($E$4-$F$4))))/49.8328865456397)^'Qn H'!T$17)*('Qn H'!T$18*$B21/1000)","v":0},null,null,null,2300,null,{"$f":"Sortiment!A110","v":1},{"$f":"Sortiment!A230","v":1},{"$f":"Sortiment!A350","v":0},{"$f":"Sortiment!A470","v":0},{"$f":"Sortiment!A590","v":0},null,null,null,{"$f":"Sortiment!A125","v":1},{"$f":"Sortiment!A245","v":1},{"$f":"Sortiment!A365","v":0},{"$f":"Sortiment!A485","v":0},{"$f":"Sortiment!A605","v":0}]
[null,2600,null,{"$f":"(((($D$4-$E$4)/(LN(($D$4-$F$4)/($E$4-$F$4))))/49.8328865456397)^'Qn H'!E$17)*('Qn H'!E$18*$B22/1000)","v":2334.8000000000006},{"$f":"(((($D$4-$E$4)/(LN(($D$4-$F$4)/($E$4-$F$4))))/49.8328865456397)^'Qn H'!F$17)*('Qn H'!F$18*$B22/1000)","v":3463.2000000000007},{"$f":"(((($D$4-$E$4)/(LN(($D$4-$F$4)/($E$4-$F$4))))/49.8328865456397)^'Qn H'!G$17)*('Qn H'!G$18*$B22/1000)","v":3837.6000000000008},{"$f":"(((($D$4-$E$4)/(LN(($D$4-$F$4)/($E$4-$F$4))))/49.8328865456397)^'Qn H'!H$17)*('Qn H'!H$18*$B22/1000)","v":4352.4000000000005},{"$f":"(((($D$4-$E$4)/(LN(($D$4-$F$4)/($E$4-$F$4))))/49.8328865456397)^'Qn H'!I$17)*('Qn H'!I$18*$B22/1000)","v":5818.8000000000011},{"$f":"(((($D$4-$E$4)/(LN(($D$4-$F$4)/($E$4-$F$4))))/49.8328865456397)^'Qn H'!J$17)*('Qn H'!J$18*$B22/1000)","v":0},{"$f":"(((($D$4-$E$4)/(LN(($D$4-$F$4)/($E$4-$F$4))))/49.8328865456397)^'Qn H'!K$17)*('Qn H'!K$18*$B22/1000)","v":0},{"$f":"(((($D$4-$E$4)/(LN(($D$4-$F$4)/($E$4-$F$4))))/49.8328865456397)^'Qn H'!L$17)*('Qn H'!L$18*$B22/1000)","v":0},{"$f":"(((($D$4-$E$4)/(LN(($D$4-$F$4)/($E$4-$F$4))))/49.8328865456397)^'Qn H'!M$17)*('Qn H'!M$18*$B22/1000)","v":2553.2000000000003},{"$f":"(((($D$4-$E$4)/(LN(($D$4-$F$4)/($E$4-$F$4))))/49.8328865456397)^'Qn H'!N$17)*('Qn H'!N$18*$B22/1000)","v":3699.8000000000011},{"$f":"(((($D$4-$E$4)/(LN(($D$4-$F$4)/($E$4-$F$4))))/49.8328865456397)^'Qn H'!O$17)*('Qn H'!O$18*$B22/1000)","v":4157.4000000000005},{"$f":"(((($D$4-$E$4)/(LN(($D$4-$F$4)/($E$4-$F$4))))/49.8328865456397)^'Qn H'!P$17)*('Qn H'!P$18*$B22/1000)","v":4604.6000000000013},{"$f":"(((($D$4-$E$4)/(LN(($D$4-$F$4)/($E$4-$F$4))))/49.8328865456397)^'Qn H'!Q$17)*('Qn H'!Q$18*$B22/1000)","v":6112.6000000000013},{"$f":"(((($D$4-$E$4)/(LN(($D$4-$F$4)/($E$4-$F$4))))/49.8328865456397)^'Qn H'!R$17)*('Qn H'!R$18*$B22/1000)","v":0},{"$f":"(((($D$4-$E$4)/(LN(($D$4-$F$4)/($E$4-$F$4))))/49.8328865456397)^'Qn H'!S$17)*('Qn H'!S$18*$B22/1000)","v":0},{"$f":"(((($D$4-$E$4)/(LN(($D$4-$F$4)/($E$4-$F$4))))/49.8328865456397)^'Qn H'!T$17)*('Qn H'!T$18*$B22/1000)","v":0},null,null,null,2600,null,{"$f":"Sortiment!A111","v":1},{"$f":"Sortiment!A231","v":1},{"$f":"Sortiment!A351","v":0},{"$f":"Sortiment!A471","v":0},{"$f":"Sortiment!A591","v":0},null,null,null,{"$f":"Sortiment!A126","v":1},{"$f":"Sortiment!A246","v":1},{"$f":"Sortiment!A366","v":0},{"$f":"Sortiment!A486","v":0},{"$f":"Sortiment!A606","v":0}]
[null,3000,null,{"$f":"(((($D$4-$E$4)/(LN(($D$4-$F$4)/($E$4-$F$4))))/49.8328865456397)^'Qn H'!E$17)*('Qn H'!E$18*$B23/1000)","v":2694.0000000000005},{"$f":"(((($D$4-$E$4)/(LN(($D$4-$F$4)/($E$4-$F$4))))/49.8328865456397)^'Qn H'!F$17)*('Qn H'!F$18*$B23/1000)","v":3996.0000000000009},{"$f":"(((($D$4-$E$4)/(LN(($D$4-$F$4)/($E$4-$F$4))))/49.8328865456397)^'Qn H'!G$17)*('Qn H'!G$18*$B23/1000)","v":4428.0000000000009},{"$f":"(((($D$4-$E$4)/(LN(($D$4-$F$4)/($E$4-$F$4))))/49.8328865456397)^'Qn H'!H$17)*('Qn H'!H$18*$B23/1000)","v":5022.0000000000009},{"$f":"(((($D$4-$E$4)/(LN(($D$4-$F$4)/($E$4-$F$4))))/49.8328865456397)^'Qn H'!I$17)*('Qn H'!I$18*$B23/1000)","v":6714.0000000000018},{"$f":"(((($D$4-$E$4)/(LN(($D$4-$F$4)/($E$4-$F$4))))/49.8328865456397)^'Qn H'!J$17)*('Qn H'!J$18*$B23/1000)","v":0},{"$f":"(((($D$4-$E$4)/(LN(($D$4-$F$4)/($E$4-$F$4))))/49.8328865456397)^'Qn H'!K$17)*('Qn H'!K$18*$B23/1000)","v":0},{"$f":"(((($D$4-$E$4)/(LN(($D$4-$F$4)/($E$4-$F$4))))/49.8328865456397)^'Qn H'!L$17)*('Qn H'!L$18*$B23/1000)","v":0},{"$f":"(((($D$4-$E$4)/(LN(($D$4-$F$4)/($E$4-$F$4))))/49.8328865456397)^'Qn H'!M$17)*('Qn H'!M$18*$B23/1000)","v":2946.0000000000005},{"$f":"(((($D$4-$E$4)/(LN(($D$4-$F$4)/($E$4-$F$4))))/49.8328865456397)^'Qn H'!N$17)*('Qn H'!N$18*$B23/1000)","v":4269.0000000000009},{"$f":"(((($D$4-$E$4)/(LN(($D$4-$F$4)/($E$4-$F$4))))/49.8328865456397)^'Qn H'!O$17)*('Qn H'!O$18*$B23/1000)","v":4797.0000000000009},{"$f":"(((($D$4-$E$4)/(LN(($D$4-$F$4)/($E$4-$F$4))))/49.8328865456397)^'Qn H'!P$17)*('Qn H'!P$18*$B23/1000)","v":5313.0000000000009},{"$f":"(((($D$4-$E$4)/(LN(($D$4-$F$4)/($E$4-$F$4))))/49.8328865456397)^'Qn H'!Q$17)*('Qn H'!Q$18*$B23/1000)","v":7053.0000000000018},{"$f":"(((($D$4-$E$4)/(LN(($D$4-$F$4)/($E$4-$F$4))))/49.8328865456397)^'Qn H'!R$17)*('Qn H'!R$18*$B23/1000)","v":0},{"$f":"(((($D$4-$E$4)/(LN(($D$4-$F$4)/($E$4-$F$4))))/49.8328865456397)^'Qn H'!S$17)*('Qn H'!S$18*$B23/1000)","v":0},{"$f":"(((($D$4-$E$4)/(LN(($D$4-$F$4)/($E$4-$F$4))))/49.8328865456397)^'Qn H'!T$17)*('Qn H'!T$18*$B23/1000)","v":0},null,null,null,3000,null,{"$f":"Sortiment!A112","v":1},{"$f":"Sortiment!A232","v":1},{"$f":"Sortiment!A352","v":0},{"$f":"Sortiment!A472","v":0},{"$f":"Sortiment!A592","v":0},null,null,null,{"$f":"Sortiment!A127","v":1},{"$f":"Sortiment!A247","v":0},{"$f":"Sortiment!A367","v":0},{"$f":"Sortiment!A487","v":0},{"$f":"Sortiment!A607","v":0}]

{"sheet":"Predek KV","index":6,"n_rows":52,"n_cols":26,"rows_kept":52,"cut":false,"hidden":true,"merged":[]}
[]
[]
[null,null,null,"t 1","t 2","t i"," D T"]
[null,null,null,{"$f":"Vertikal!D8","v":75},{"$f":"Vertikal!E8","v":65},{"$f":"Vertikal!F8","v":20},{"$f":"(D4+E4)/2-F4","v":50}]
[null,null,null,"Tepelné výkony podle EN 442",null,null,null,null,null,null,null,null,null,null,null,"SORTIMENT VERTIKAL"]
[]
[null,null,"Výška [mm]",null,{"$f":"'Qn V'!E3","v":500},null,null,{"$f":"'Qn V'!H3","v":600},null,null,{"$f":"'Qn V'!K3","v":700},null,null,null,null,null,"Výška [mm]",null,500,null,null,600,null,null,700]
[null,"Délka [mm]",null,{"$f":"'Qn V'!D4","v":"K10VM"},{"$f":"'Qn V'!E4","v":"K11VM"},{"$f":"'Qn V'!F4","v":"K20VM"},{"$f":"'Qn V'!G4","v":"K10VM"},{"$f":"'Qn V'!H4","v":"K11VM"},{"$f":"'Qn V'!I4","v":"K20VM"},{"$f":"'Qn V'!J4","v":"K10VM"},{"$f":"'Qn V'!K4","v":"K11VM"},{"$f":"'Qn V'!L4","v":"K20VM"},null,null,null,"Délka [mm]",null,"K10V","K11V","K20V","K10V","K11V","K20V","K10V","K11V","K20V"]
[null,144,null,{"$f":"(((($D$4-$E$4)/(LN(($D$4-$F$4)/($E$4-$F$4))))/49.8328865456397)^'Qn V'!D$5)*('Qn V'!D$6*$B9/1000)","v":90.14400000000002},{"$f":"(((($D$4-$E$4)/(LN(($D$4-$F$4)/($E$4-$F$4))))/49.8328865456397)^'Qn V'!E$5)*('Qn V'!E$6*$B9/1000)","v":118.36800000000002},{"$f":"(((($D$4-$E$4)/(LN(($D$4-$F$4)/($E$4-$F$4))))/49.8328865456397)^'Qn V'!F$5)*('Qn V'!F$6*$B9/1000)","v":136.94400000000002},{"$f":"(((($D$4-$E$4)/(LN(($D$4-$F$4)/($E$4-$F$4))))/49.8328865456397)^'Qn V'!G$5)*('Qn V'!G$6*$B9/1000)","v":106.99200000000003},{"$f":"(((($D$4-$E$4)/(LN(($D$4-$F$4)/($E$4-$F$4))))/49.8328865456397)^'Qn V'!H$5)*('Qn V'!H$6*$B9/1000)","v":138.81600000000003},{"$f":"(((($D$4-$E$4)/(LN(($D$4-$F$4)/($E$4-$F$4))))/49.8328865456397)^'Qn V'!I$5)*('Qn V'!I$6*$B9/1000)","v":161.42400000000004},{"$f":"(((($D$4-$E$4)/(LN(($D$4-$F$4)/($E$4-$F$4))))/49.8328865456397)^'Qn V'!J$5)*('Qn V'!J$6*$B9/1000)","v":123.84000000000003},{"$f":"(((($D$4-$E$4)/(LN(($D$4-$F$4)/($E$4-$F$4))))/49.8328865456397)^'Qn V'!K$5)*('Qn V'!K$6*$B9/1000)","v":158.68800000000002},{"$f":"(((($D$4-$E$4)/(LN(($D$4-$F$4)/($E$4-$F$4))))/49.8328865456397)^'Qn V'!L$5)*('Qn V'!L$6*$B9/1000)","v":185.47200000000004},null,null,null,144,null,{"$f":"Sortiment!A698","v":1},{"$f":"Sortiment!A794","v":1},{"$f":"Sortiment!A890","v":1},{"$f":"Sortiment!A706","v":1},{"$f":"Sortiment!A802","v":1},{"$f":"Sortiment!A898","v":1},{"$f":"Sortiment!A714","v":1},{"$f":"Sortiment!A810","v":1},{"$f":"Sortiment!A906","v":1}]
[null,218,null,{"$f":"(((($D$4-$E$4)/(LN(($D$4-$F$4)/($E$4-$F$4))))/49.8328865456397)^'Qn V'!D$5)*('Qn V'!D$6*$B10/1000)","v":136.46800000000002},{"$f":"(((($D$4-$E$4)/(LN(($D$4-$F$4)/($E$4-$F$4))))/49.8328865456397)^'Qn V'!E$5)*('Qn V'!E$6*$B10/1000)","v":179.19600000000003},{"$f":"(((($D$4-$E$4)/(LN(($D$4-$F$4)/($E$4-$F$4))))/49.8328865456397)^'Qn V'!F$5)*('Qn V'!F$6*$B10/1000)","v":207.31800000000007},{"$f":"(((($D$4-$E$4)/(LN(($D$4-$F$4)/($E$4-$F$4))))/49.8328865456397)^'Qn V'!G$5)*('Qn V'!G$6*$B10/1000)","v":161.97400000000002},{"$f":"(((($D$4-$E$4)/(LN(($D$4-$F$4)/($E$4-$F$4))))/49.8328865456397)^'Qn V'!H$5)*('Qn V'!H$6*$B10/1000)","v":210.15200000000004},{"$f":"(((($D$4-$E$4)/(LN(($D$4-$F$4)/($E$4-$F$4))))/49.8328865456397)^'Qn V'!I$5)*('Qn V'!I$6*$B10/1000)","v":244.37800000000004},{"$f":"(((($D$4-$E$4)/(LN(($D$4-$F$4)/($E$4-$F$4))))/49.8328865456397)^'Qn V'!J$5)*('Qn V'!J$6*$B10/1000)","v":187.48000000000002},{"$f":"(((($D$4-$E$4)/(LN(($D$4-$F$4)/($E$4-$F$4))))/49.8328865456397)^'Qn V'!K$5)*('Qn V'!K$6*$B10/1000)","v":240.23600000000005},{"$f":"(((($D$4-$E$4)/(LN(($D$4-$F$4)/($E$4-$F$4))))/49.8328865456397)^'Qn V'!L$5)*('Qn V'!L$6*$B10/1000)","v":280.78400000000005},null,null,null,218,null,{"$f":"Sortiment!A699","v":1},{"$f":"Sortiment!A795","v":1},{"$f":"Sortiment!A891","v":1},{"$f":"Sortiment!A707","v":1},{"$f":"Sortiment!A803","v":1},{"$f":"Sortiment!A899","v":1},{"$f":"Sortiment!A715","v":1},{"$f":"Sortiment!A811","v":1},{"$f":"Sortiment!A907","v":1}]
[null,366,null,{"$f":"(((($D$4-$E$4)/(LN(($D$4-$F$4)/($E$4-$F$4))))/49.8328865456397)^'Qn V'!D$5)*('Qn V'!D$6*$B11/1000)","v":229.11600000000007},{"$f":"(((($D$4-$E$4)/(LN(($D$4-$F$4)/($E$4-$F$4))))/49.8328865456397)^'Qn V'!E$5)*('Qn V'!E$6*$B11/1000)","v":300.85200000000003},{"$f":"(((($D$4-$E$4)/(LN(($D$4-$F$4)/($E$4-$F$4))))/49.8328865456397)^'Qn V'!F$5)*('Qn V'!F$6*$B11/1000)","v":348.06600000000003},{"$f":"(((($D$4-$E$4)/(LN(($D$4-$F$4)/($E$4-$F$4))))/49.8328865456397)^'Qn V'!G$5)*('Qn V'!G$6*$B11/1000)","v":271.93800000000005},{"$f":"(((($D$4-$E$4)/(LN(($D$4-$F$4)/($E$4-$F$4))))/49.8328865456397)^'Qn V'!H$5)*('Qn V'!H$6*$B11/1000)","v":352.82400000000007},{"$f":"(((($D$4-$E$4)/(LN(($D$4-$F$4)/($E$4-$F$4))))/49.8328865456397)^'Qn V'!I$5)*('Qn V'!I$6*$B11/1000)","v":410.28600000000012},{"$f":"(((($D$4-$E$4)/(LN(($D$4-$F$4)/($E$4-$F$4))))/49.8328865456397)^'Qn V'!J$5)*('Qn V'!J$6*$B11/1000)","v":314.76000000000005},{"$f":"(((($D$4-$E$4)/(LN(($D$4-$F$4)/($E$4-$F$4))))/49.8328865456397)^'Qn V'!K$5)*('Qn V'!K$6*$B11/1000)","v":403.33200000000011},{"$f":"(((($D$4-$E$4)/(LN(($D$4-$F$4)/($E$4-$F$4))))/49.8328865456397)^'Qn V'!L$5)*('Qn V'!L$6*$B11/1000)","v":471.40800000000013},null,null,null,366,null,{"$f":"Sortiment!A700","v":1},{"$f":"Sortiment!A796","v":1},{"$f":"Sortiment!A892","v":1},{"$f":"Sortiment!A708","v":1},{"$f":"Sortiment!A804","v":1},{"$f":"Sortiment!A900","v":1},{"$f":"Sortiment!A716","v":1},{"$f":"Sortiment!A812","v":1},{"$f":"Sortiment!A908","v":1}]
[null,514,null,{"$f":"(((($D$4-$E$4)/(LN(($D$4-$F$4)/($E$4-$F$4))))/49.8328865456397)^'Qn V'!D$5)*('Qn V'!D$6*$B12/1000)","v":321.76400000000007},{"$f":"(((($D$4-$E$4)/(LN(($D$4-$F$4)/($E$4-$F$4))))/49.8328865456397)^'Qn V'!E$5)*('Qn V'!E$6*$B12/1000)","v":422.5080000000001},{"$f":"(((($D$4-$E$4)/(LN(($D$4-$F$4)/($E$4-$F$4))))/49.8328865456397)^'Qn V'!F$5)*('Qn V'!F$6*$B12/1000)","v":488.81400000000014},{"$f":"(((($D$4-$E$4)/(LN(($D$4-$F$4)/($E$4-$F$4))))/49.8328865456397)^'Qn V'!G$5)*('Qn V'!G$6*$B12/1000)","v":381.90200000000004},{"$f":"(((($D$4-$E$4)/(LN(($D$4-$F$4)/($E$4-$F$4))))/49.8328865456397)^'Qn V'!H$5)*('Qn V'!H$6*$B12/1000)","v":495.49600000000009},{"$f":"(((($D$4-$E$4)/(LN(($D$4-$F$4)/($E$4-$F$4))))/49.8328865456397)^'Qn V'!I$5)*('Qn V'!I$6*$B12/1000)","v":576.19400000000007},{"$f":"(((($D$4-$E$4)/(LN(($D$4-$F$4)/($E$4-$F$4))))/49.8328865456397)^'Qn V'!J$5)*('Qn V'!J$6*$B12/1000)","v":442.04000000000013},{"$f":"(((($D$4-$E$4)/(LN(($D$4-$F$4)/($E$4-$F$4))))/49.8328865456397)^'Qn V'!K$5)*('Qn V'!K$6*$B12/1000)","v":566.42800000000011},{"$f":"(((($D$4-$E$4)/(LN(($D$4-$F$4)/($E$4-$F$4))))/49.8328865456397)^'Qn V'!L$5)*('Qn V'!L$6*$B12/1000)","v":662.03200000000015},null,null,null,514,null,{"$f":"Sortiment!A701","v":1},{"$f":"Sortiment!A797","v":1},{"$f":"Sortiment!A893","v":1},{"$f":"Sortiment!A709","v":1},{"$f":"Sortiment!A805","v":1},{"$f":"Sortiment!A901","v":1},{"$f":"Sortiment!A717","v":1},{"$f":"Sortiment!A813","v":1},{"$f":"Sortiment!A909","v":1}]
[null,588,null,{"$f":"(((($D$4-$E$4)/(LN(($D$4-$F$4)/($E$4-$F$4))))/49.8328865456397)^'Qn V'!D$5)*('Qn V'!D$6*$B13/1000)","v":368.08800000000008},{"$f":"(((($D$4-$E$4)/(LN(($D$4-$F$4)/($E$4-$F$4))))/49.8328865456397)^'Qn V'!E$5)*('Qn V'!E$6*$B13/1000)","v":483.33600000000013},{"$f":"(((($D$4-$E$4)/(LN(($D$4-$F$4)/($E$4-$F$4))))/49.8328865456397)^'Qn V'!F$5)*('Qn V'!F$6*$B13/1000)","v":559.1880000000001},{"$f":"(((($D$4-$E$4)/(LN(($D$4-$F$4)/($E$4-$F$4))))/49.8328865456397)^'Qn V'!G$5)*('Qn V'!G$6*$B13/1000)","v":436.88400000000013},{"$f":"(((($D$4-$E$4)/(LN(($D$4-$F$4)/($E$4-$F$4))))/49.8328865456397)^'Qn V'!H$5)*('Qn V'!H$6*$B13/1000)","v":566.83200000000011},{"$f":"(((($D$4-$E$4)/(LN(($D$4-$F$4)/($E$4-$F$4))))/49.8328865456397)^'Qn V'!I$5)*('Qn V'!I$6*$B13/1000)","v":659.14800000000014},{"$f":"(((($D$4-$E$4)/(LN(($D$4-$F$4)/($E$4-$F$4))))/49.8328865456397)^'Qn V'!J$5)*('Qn V'!J$6*$B13/1000)","v":505.68000000000012},{"$f":"(((($D$4-$E$4)/(LN(($D$4-$F$4)/($E$4-$F$4))))/49.8328865456397)^'Qn V'!K$5)*('Qn V'!K$6*$B13/1000)","v":647.97600000000011},{"$f":"(((($D$4-$E$4)/(LN(($D$4-$F$4)/($E$4-$F$4))))/49.8328865456397)^'Qn V'!L$5)*('Qn V'!L$6*$B13/1000)","v":757.34400000000016},null,null,null,588,null,{"$f":"Sortiment!A702","v":1},{"$f":"Sortiment!A798","v":1},{"$f":"Sortiment!A894","v":1},{"$f":"Sortiment!A710","v":1},{"$f":"Sortiment!A806","v":1},{"$f":"Sortiment!A902","v":1},{"$f":"Sortiment!A718","v":1},{"$f":"Sortiment!A814","v":1},{"$f":"Sortiment!A910","v":1}]
[null,662,null,{"$f":"(((($D$4-$E$4)/(LN(($D$4-$F$4)/($E$4-$F$4))))/49.8328865456397)^'Qn V'!D$5)*('Qn V'!D$6*$B14/1000)","v":414.41200000000009},{"$f":"(((($D$4-$E$4)/(LN(($D$4-$F$4)/($E$4-$F$4))))/49.8328865456397)^'Qn V'!E$5)*('Qn V'!E$6*$B14/1000)","v":544.1640000000001},{"$f":"(((($D$4-$E$4)/(LN(($D$4-$F$4)/($E$4-$F$4))))/49.8328865456397)^'Qn V'!F$5)*('Qn V'!F$6*$B14/1000)","v":629.56200000000013},{"$f":"(((($D$4-$E$4)/(LN(($D$4-$F$4)/($E$4-$F$4))))/49.8328865456397)^'Qn V'!G$5)*('Qn V'!G$6*$B14/1000)","v":491.8660000000001},{"$f":"(((($D$4-$E$4)/(LN(($D$4-$F$4)/($E$4-$F$4))))/49.8328865456397)^'Qn V'!H$5)*('Qn V'!H$6*$B14/1000)","v":638.16800000000012},{"$f":"(((($D$4-$E$4)/(LN(($D$4-$F$4)/($E$4-$F$4))))/49.8328865456397)^'Qn V'!I$5)*('Qn V'!I$6*$B14/1000)","v":742.10200000000009},{"$f":"(((($D$4-$E$4)/(LN(($D$4-$F$4)/($E$4-$F$4))))/49.8328865456397)^'Qn V'!J$5)*('Qn V'!J$6*$B14/1000)","v":569.32000000000016},{"$f":"(((($D$4-$E$4)/(LN(($D$4-$F$4)/($E$4-$F$4))))/49.8328865456397)^'Qn V'!K$5)*('Qn V'!K$6*$B14/1000)","v":729.52400000000011},{"$f":"(((($D$4-$E$4)/(LN(($D$4-$F$4)/($E$4-$F$4))))/49.8328865456397)^'Qn V'!L$5)*('Qn V'!L$6*$B14/1000)","v":852.65600000000018},null,null,null,662,null,{"$f":"Sortiment!A703","v":1},{"$f":"Sortiment!A799","v":1},{"$f":"Sortiment!A895","v":1},{"$f":"Sortiment!A711","v":1},{"$f":"Sortiment!A807","v":1},{"$f":"Sortiment!A903","v":1},{"$f":"Sortiment!A719","v":1},{"$f":"Sortiment!A815","v":1},{"$f":"Sortiment!A911","v":1}]
[null,884,null,{"$f":"(((($D$4-$E$4)/(LN(($D$4-$F$4)/($E$4-$F$4))))/49.8328865456397)^'Qn V'!D$5)*('Qn V'!D$6*$B15/1000)","v":553.38400000000013},{"$f":"(((($D$4-$E$4)/(LN(($D$4-$F$4)/($E$4-$F$4))))/49.8328865456397)^'Qn V'!E$5)*('Qn V'!E$6*$B15/1000)","v":726.64800000000014},{"$f":"(((($D$4-$E$4)/(LN(($D$4-$F$4)/($E$4-$F$4))))/49.8328865456397)^'Qn V'!F$5)*('Qn V'!F$6*$B15/1000)","v":840.6840000000002},{"$f":"(((($D$4-$E$4)/(LN(($D$4-$F$4)/($E$4-$F$4))))/49.8328865456397)^'Qn V'!G$5)*('Qn V'!G$6*$B15/1000)","v":656.81200000000013},{"$f":"(((($D$4-$E$4)/(LN(($D$4-$F$4)/($E$4-$F$4))))/49.8328865456397)^'Qn V'!H$5)*('Qn V'!H$6*$B15/1000)","v":852.17600000000027},{"$f":"(((($D$4-$E$4)/(LN(($D$4-$F$4)/($E$4-$F$4))))/49.8328865456397)^'Qn V'!I$5)*('Qn V'!I$6*$B15/1000)","v":990.96400000000028},{"$f":"(((($D$4-$E$4)/(LN(($D$4-$F$4)/($E$4-$F$4))))/49.8328865456397)^'Qn V'!J$5)*('Qn V'!J$6*$B15/1000)","v":760.24000000000012},{"$f":"(((($D$4-$E$4)/(LN(($D$4-$F$4)/($E$4-$F$4))))/49.8328865456397)^'Qn V'!K$5)*('Qn V'!K$6*$B15/1000)","v":974.16800000000023},{"$f":"(((($D$4-$E$4)/(LN(($D$4-$F$4)/($E$4-$F$4))))/49.8328865456397)^'Qn V'!L$5)*('Qn V'!L$6*$B15/1000)","v":1138.5920000000003},null,null,null,884,null,{"$f":"Sortiment!A704","v":1},{"$f":"Sortiment!A800","v":1},{"$f":"Sortiment!A896","v":1},{"$f":"Sortiment!A712","v":1},{"$f":"Sortiment!A808","v":1},{"$f":"Sortiment!A904","v":1},{"$f":"Sortiment!A720","v":1},{"$f":"Sortiment!A816","v":1},{"$f":"Sortiment!A912","v":1}]
[null,958,null,{"$f":"(((($D$4-$E$4)/(LN(($D$4-$F$4)/($E$4-$F$4))))/49.8328865456397)^'Qn V'!D$5)*('Qn V'!D$6*$B16/1000)","v":599.70800000000008},{"$f":"(((($D$4-$E$4)/(LN(($D$4-$F$4)/($E$4-$F$4))))/49.8328865456397)^'Qn V'!E$5)*('Qn V'!E$6*$B16/1000)","v":787.47600000000023},{"$f":"(((($D$4-$E$4)/(LN(($D$4-$F$4)/($E$4-$F$4))))/49.8328865456397)^'Qn V'!F$5)*('Qn V'!F$6*$B16/1000)","v":911.05800000000022},{"$f":"(((($D$4-$E$4)/(LN(($D$4-$F$4)/($E$4-$F$4))))/49.8328865456397)^'Qn V'!G$5)*('Qn V'!G$6*$B16/1000)","v":711.7940000000001},{"$f":"(((($D$4-$E$4)/(LN(($D$4-$F$4)/($E$4-$F$4))))/49.8328865456397)^'Qn V'!H$5)*('Qn V'!H$6*$B16/1000)","v":923.51200000000017},{"$f":"(((($D$4-$E$4)/(LN(($D$4-$F$4)/($E$4-$F$4))))/49.8328865456397)^'Qn V'!I$5)*('Qn V'!I$6*$B16/1000)","v":1073.9180000000001},{"$f":"(((($D$4-$E$4)/(LN(($D$4-$F$4)/($E$4-$F$4))))/49.8328865456397)^'Qn V'!J$5)*('Qn V'!J$6*$B16/1000)","v":823.88000000000022},{"$f":"(((($D$4-$E$4)/(LN(($D$4-$F$4)/($E$4-$F$4))))/49.8328865456397)^'Qn V'!K$5)*('Qn V'!K$6*$B16/1000)","v":1055.7160000000001},{"$f":"(((($D$4-$E$4)/(LN(($D$4-$F$4)/($E$4-$F$4))))/49.8328865456397)^'Qn V'!L$5)*('Qn V'!L$6*$B16/1000)","v":1233.9040000000002},null,null,null,958,null,{"$f":"Sortiment!A705","v":1},{"$f":"Sortiment!A801","v":1},{"$f":"Sortiment!A897","v":1},{"$f":"Sortiment!A713","v":1},{"$f":"Sortiment!A809","v":1},{"$f":"Sortiment!A905","v":1},{"$f":"Sortiment!A721","v":1},{"$f":"Sortiment!A817","v":1},{"$f":"Sortiment!A913","v":1}]
[]
[]
[null,null,"Výška [mm]",null,{"$f":"'Qn V'!E7","v":800},null,null,{"$f":"'Qn V'!H7","v":900},null,null,{"$f":"'Qn V'!K7","v":1000},null,null,null,null,null,"Výška [mm]",null,800,null,null,900,null,null,1000]
[null,"Délka [mm]",null,{"$f":"'Qn V'!D8","v":"K10VM"},{"$f":"'Qn V'!E8","v":"K11VM"},{"$f":"'Qn V'!F8","v":"K20VM"},{"$f":"'Qn V'!G8","v":"K10VM"},{"$f":"'Qn V'!H8","v":"K11VM"},{"$f":"'Qn V'!I8","v":"K20VM"},{"$f":"'Qn V'!J8","v":"K10VM"},{"$f":"'Qn V'!K8","v":"K11VM"},{"$f":"'Qn V'!L8","v":"K20VM"},null,null,null,"Délka [mm]",null,"K10V","K11V","K20V","K10V","K11V","K20V","K10V","K11V","K20V"]
[null,{"$f":"B9","v":144},null,{"$f":"(((($D$4-$E$4)/(LN(($D$4-$F$4)/($E$4-$F$4))))/49.8328865456397)^'Qn V'!D$9)*('Qn V'!D$10*$B9/1000)","v":140.68800000000002},{"$f":"(((($D$4-$E$4)/(LN(($D$4-$F$4)/($E$4-$F$4))))/49.8328865456397)^'Qn V'!E$9)*('Qn V'!E$10*$B9/1000)","v":178.12800000000001},{"$f":"(((($D$4-$E$4)/(LN(($D$4-$F$4)/($E$4-$F$4))))/49.8328865456397)^'Qn V'!F$9)*('Qn V'!F$10*$B9/1000)","v":209.23200000000006},{"$f":"(((($D$4-$E$4)/(LN(($D$4-$F$4)/($E$4-$F$4))))/49.8328865456397)^'Qn V'!G$9)*('Qn V'!G$10*$B9/1000)","v":157.39200000000002},{"$f":"(((($D$4-$E$4)/(LN(($D$4-$F$4)/($E$4-$F$4))))/49.8328865456397)^'Qn V'!H$9)*('Qn V'!H$10*$B9/1000)","v":197.13600000000005},{"$f":"(((($D$4-$E$4)/(LN(($D$4-$F$4)/($E$4-$F$4))))/49.8328865456397)^'Qn V'!I$9)*('Qn V'!I$10*$B9/1000)","v":232.70400000000006},{"$f":"(((($D$4-$E$4)/(LN(($D$4-$F$4)/($E$4-$F$4))))/49.8328865456397)^'Qn V'!J$9)*('Qn V'!J$10*$B9/1000)","v":173.95200000000003},{"$f":"(((($D$4-$E$4)/(LN(($D$4-$F$4)/($E$4-$F$4))))/49.8328865456397)^'Qn V'!K$9)*('Qn V'!K$10*$B9/1000)","v":215.71200000000005},{"$f":"(((($D$4-$E$4)/(LN(($D$4-$F$4)/($E$4-$F$4))))/49.8328865456397)^'Qn V'!L$9)*('Qn V'!L$10*$B9/1000)","v":255.88800000000006},null,null,null,{"$f":"P9","v":144},null,{"$f":"Sortiment!A722","v":1},{"$f":"Sortiment!A722","v":1},{"$f":"Sortiment!A914","v":1},{"$f":"Sortiment!A730","v":1},{"$f":"Sortiment!A826","v":1},{"$f":"Sortiment!A922","v":1},{"$f":"Sortiment!A738","v":1},{"$f":"Sortiment!A834","v":1},{"$f":"Sortiment!A930","v":1}]
[null,218,null,{"$f":"(((($D$4-$E$4)/(LN(($D$4-$F$4)/($E$4-$F$4))))/49.8328865456397)^'Qn V'!D$9)*('Qn V'!D$10*$B10/1000)","v":212.98600000000005},{"$f":"(((($D$4-$E$4)/(LN(($D$4-$F$4)/($E$4-$F$4))))/49.8328865456397)^'Qn V'!E$9)*('Qn V'!E$10*$B10/1000)","v":269.66600000000005},{"$f":"(((($D$4-$E$4)/(LN(($D$4-$F$4)/($E$4-$F$4))))/49.8328865456397)^'Qn V'!F$9)*('Qn V'!F$10*$B10/1000)","v":316.75400000000008},{"$f":"(((($D$4-$E$4)/(LN(($D$4-$F$4)/($E$4-$F$4))))/49.8328865456397)^'Qn V'!G$9)*('Qn V'!G$10*$B10/1000)","v":238.27400000000006},{"$f":"(((($D$4-$E$4)/(LN(($D$4-$F$4)/($E$4-$F$4))))/49.8328865456397)^'Qn V'!H$9)*('Qn V'!H$10*$B10/1000)","v":298.44200000000006},{"$f":"(((($D$4-$E$4)/(LN(($D$4-$F$4)/($E$4-$F$4))))/49.8328865456397)^'Qn V'!I$9)*('Qn V'!I$10*$B10/1000)","v":352.28800000000007},{"$f":"(((($D$4-$E$4)/(LN(($D$4-$F$4)/($E$4-$F$4))))/49.8328865456397)^'Qn V'!J$9)*('Qn V'!J$10*$B10/1000)","v":263.34400000000005},{"$f":"(((($D$4-$E$4)/(LN(($D$4-$F$4)/($E$4-$F$4))))/49.8328865456397)^'Qn V'!K$9)*('Qn V'!K$10*$B10/1000)","v":326.56400000000008},{"$f":"(((($D$4-$E$4)/(LN(($D$4-$F$4)/($E$4-$F$4))))/49.8328865456397)^'Qn V'!L$9)*('Qn V'!L$10*$B10/1000)","v":387.38600000000014},null,null,null,218,null,{"$f":"Sortiment!A723","v":1},{"$f":"Sortiment!A723","v":1},{"$f":"Sortiment!A915","v":1},{"$f":"Sortiment!A731","v":1},{"$f":"Sortiment!A827","v":1},{"$f":"Sortiment!A923","v":1},{"$f":"Sortiment!A739","v":1},{"$f":"Sortiment!A835","v":1},{"$f":"Sortiment!A931","v":1}]
[null,366,null,{"$f":"(((($D$4-$E$4)/(LN(($D$4-$F$4)/($E$4-$F$4))))/49.8328865456397)^'Qn V'!D$9)*('Qn V'!D$10*$B11/1000)","v":357.58200000000005},{"$f":"(((($D$4-$E$4)/(LN(($D$4-$F$4)/($E$4-$F$4))))/49.8328865456397)^'Qn V'!E$9)*('Qn V'!E$10*$B11/1000)","v":452.74200000000013},{"$f":"(((($D$4-$E$4)/(LN(($D$4-$F$4)/($E$4-$F$4))))/49.8328865456397)^'Qn V'!F$9)*('Qn V'!F$10*$B11/1000)","v":531.79800000000012},{"$f":"(((($D$4-$E$4)/(LN(($D$4-$F$4)/($E$4-$F$4))))/49.8328865456397)^'Qn V'!G$9)*('Qn V'!G$10*$B11/1000)","v":400.03800000000012},{"$f":"(((($D$4-$E$4)/(LN(($D$4-$F$4)/($E$4-$F$4))))/49.8328865456397)^'Qn V'!H$9)*('Qn V'!H$10*$B11/1000)","v":501.05400000000009},{"$f":"(((($D$4-$E$4)/(LN(($D$4-$F$4)/($E$4-$F$4))))/49.8328865456397)^'Qn V'!I$9)*('Qn V'!I$10*$B11/1000)","v":591.45600000000013},{"$f":"(((($D$4-$E$4)/(LN(($D$4-$F$4)/($E$4-$F$4))))/49.8328865456397)^'Qn V'!J$9)*('Qn V'!J$10*$B11/1000)","v":442.1280000000001},{"$f":"(((($D$4-$E$4)/(LN(($D$4-$F$4)/($E$4-$F$4))))/49.8328865456397)^'Qn V'!K$9)*('Qn V'!K$10*$B11/1000)","v":548.26800000000014},{"$f":"(((($D$4-$E$4)/(LN(($D$4-$F$4)/($E$4-$F$4))))/49.8328865456397)^'Qn V'!L$9)*('Qn V'!L$10*$B11/1000)","v":650.38200000000006},null,null,null,366,null,{"$f":"Sortiment!A724","v":1},{"$f":"Sortiment!A724","v":1},{"$f":"Sortiment!A916","v":1},{"$f":"Sortiment!A732","v":1},{"$f":"Sortiment!A828","v":1},{"$f":"Sortiment!A924","v":1},{"$f":"Sortiment!A740","v":1},{"$f":"Sortiment!A836","v":1},{"$f":"Sortiment!A932","v":1}]
[null,514,null,{"$f":"(((($D$4-$E$4)/(LN(($D$4-$F$4)/($E$4-$F$4))))/49.8328865456397)^'Qn V'!D$9)*('Qn V'!D$10*$B12/1000)","v":502.17800000000011},{"$f":"(((($D$4-$E$4)/(LN(($D$4-$F$4)/($E$4-$F$4))))/49.8328865456397)^'Qn V'!E$9)*('Qn V'!E$10*$B12/1000)","v":635.8180000000001},{"$f":"(((($D$4-$E$4)/(LN(($D$4-$F$4)/($E$4-$F$4))))/49.8328865456397)^'Qn V'!F$9)*('Qn V'!F$10*$B12/1000)","v":746.8420000000001},{"$f":"(((($D$4-$E$4)/(LN(($D$4-$F$4)/($E$4-$F$4))))/49.8328865456397)^'Qn V'!G$9)*('Qn V'!G$10*$B12/1000)","v":561.80200000000013},{"$f":"(((($D$4-$E$4)/(LN(($D$4-$F$4)/($E$4-$F$4))))/49.8328865456397)^'Qn V'!H$9)*('Qn V'!H$10*$B12/1000)","v":703.66600000000017},{"$f":"(((($D$4-$E$4)/(LN(($D$4-$F$4)/($E$4-$F$4))))/49.8328865456397)^'Qn V'!I$9)*('Qn V'!I$10*$B12/1000)","v":830.62400000000025},{"$f":"(((($D$4-$E$4)/(LN(($D$4-$F$4)/($E$4-$F$4))))/49.8328865456397)^'Qn V'!J$9)*('Qn V'!J$10*$B12/1000)","v":620.91200000000015},{"$f":"(((($D$4-$E$4)/(LN(($D$4-$F$4)/($E$4-$F$4))))/49.8328865456397)^'Qn V'!K$9)*('Qn V'!K$10*$B12/1000)","v":769.97200000000021},{"$f":"(((($D$4-$E$4)/(LN(($D$4-$F$4)/($E$4-$F$4))))/49.8328865456397)^'Qn V'!L$9)*('Qn V'!L$10*$B12/1000)","v":913.37800000000027},null,null,null,514,null,{"$f":"Sortiment!A725","v":1},{"$f":"Sortiment!A725","v":1},{"$f":"Sortiment!A917","v":1},{"$f":"Sortiment!A733","v":1},{"$f":"Sortiment!A829","v":1},{"$f":"Sortiment!A925","v":1},{"$f":"Sortiment!A741","v":1},{"$f":"Sortiment!A837","v":1},{"$f":"Sortiment!A933","v":1}]
[null,588,null,{"$f":"(((($D$4-$E$4)/(LN(($D$4-$F$4)/($E$4-$F$4))))/49.8328865456397)^'Qn V'!D$9)*('Qn V'!D$10*$B13/1000)","v":574.47600000000011},{"$f":"(((($D$4-$E$4)/(LN(($D$4-$F$4)/($E$4-$F$4))))/49.8328865456397)^'Qn V'!E$9)*('Qn V'!E$10*$B13/1000)","v":727.35600000000011},{"$f":"(((($D$4-$E$4)/(LN(($D$4-$F$4)/($E$4-$F$4))))/49.8328865456397)^'Qn V'!F$9)*('Qn V'!F$10*$B13/1000)","v":854.36400000000026},{"$f":"(((($D$4-$E$4)/(LN(($D$4-$F$4)/($E$4-$F$4))))/49.8328865456397)^'Qn V'!G$9)*('Qn V'!G$10*$B13/1000)","v":642.68400000000008},{"$f":"(((($D$4-$E$4)/(LN(($D$4-$F$4)/($E$4-$F$4))))/49.8328865456397)^'Qn V'!H$9)*('Qn V'!H$10*$B13/1000)","v":804.97200000000021},{"$f":"(((($D$4-$E$4)/(LN(($D$4-$F$4)/($E$4-$F$4))))/49.8328865456397)^'Qn V'!I$9)*('Qn V'!I$10*$B13/1000)","v":950.2080000000002},{"$f":"(((($D$4-$E$4)/(LN(($D$4-$F$4)/($E$4-$F$4))))/49.8328865456397)^'Qn V'!J$9)*('Qn V'!J$10*$B13/1000)","v":710.30400000000009},{"$f":"(((($D$4-$E$4)/(LN(($D$4-$F$4)/($E$4-$F$4))))/49.8328865456397)^'Qn V'!K$9)*('Qn V'!K$10*$B13/1000)","v":880.82400000000018},{"$f":"(((($D$4-$E$4)/(LN(($D$4-$F$4)/($E$4-$F$4))))/49.8328865456397)^'Qn V'!L$9)*('Qn V'!L$10*$B13/1000)","v":1044.8760000000002},null,null,null,588,null,{"$f":"Sortiment!A726","v":1},{"$f":"Sortiment!A726","v":1},{"$f":"Sortiment!A918","v":1},{"$f":"Sortiment!A734","v":1},{"$f":"Sortiment!A830","v":1},{"$f":"Sortiment!A926","v":1},{"$f":"Sortiment!A742","v":1},{"$f":"Sortiment!A838","v":1},{"$f":"Sortiment!A934","v":1}]
[null,662,null,{"$f":"(((($D$4-$E$4)/(LN(($D$4-$F$4)/($E$4-$F$4))))/49.8328865456397)^'Qn V'!D$9)*('Qn V'!D$10*$B14/1000)","v":646.77400000000011},{"$f":"(((($D$4-$E$4)/(LN(($D$4-$F$4)/($E$4-$F$4))))/49.8328865456397)^'Qn V'!E$9)*('Qn V'!E$10*$B14/1000)","v":818.89400000000023},{"$f":"(((($D$4-$E$4)/(LN(($D$4-$F$4)/($E$4-$F$4))))/49.8328865456397)^'Qn V'!F$9)*('Qn V'!F$10*$B14/1000)","v":961.88600000000019},{"$f":"(((($D$4-$E$4)/(LN(($D$4-$F$4)/($E$4-$F$4))))/49.8328865456397)^'Qn V'!G$9)*('Qn V'!G$10*$B14/1000)","v":723.56600000000014},{"$f":"(((($D$4-$E$4)/(LN(($D$4-$F$4)/($E$4-$F$4))))/49.8328865456397)^'Qn V'!H$9)*('Qn V'!H$10*$B14/1000)","v":906.27800000000025},{"$f":"(((($D$4-$E$4)/(LN(($D$4-$F$4)/($E$4-$F$4))))/49.8328865456397)^'Qn V'!I$9)*('Qn V'!I$10*$B14/1000)","v":1069.7920000000001},{"$f":"(((($D$4-$E$4)/(LN(($D$4-$F$4)/($E$4-$F$4))))/49.8328865456397)^'Qn V'!J$9)*('Qn V'!J$10*$B14/1000)","v":799.69600000000025},{"$f":"(((($D$4-$E$4)/(LN(($D$4-$F$4)/($E$4-$F$4))))/49.8328865456397)^'Qn V'!K$9)*('Qn V'!K$10*$B14/1000)","v":991.67600000000027},{"$f":"(((($D$4-$E$4)/(LN(($D$4-$F$4)/($E$4-$F$4))))/49.8328865456397)^'Qn V'!L$9)*('Qn V'!L$10*$B14/1000)","v":1176.3740000000003},null,null,null,662,null,{"$f":"Sortiment!A727","v":1},{"$f":"Sortiment!A727","v":1},{"$f":"Sortiment!A919","v":1},{"$f":"Sortiment!A735","v":1},{"$f":"Sortiment!A831","v":1},{"$f":"Sortiment!A927","v":1},{"$f":"Sortiment!A743","v":1},{"$f":"Sortiment!A839","v":1},{"$f":"Sortiment!A935","v":1}]
[null,884,null,{"$f":"(((($D$4-$E$4)/(LN(($D$4-$F$4)/($E$4-$F$4))))/49.8328865456397)^'Qn V'!D$9)*('Qn V'!D$10*$B15/1000)","v":863.66800000000023},{"$f":"(((($D$4-$E$4)/(LN(($D$4-$F$4)/($E$4-$F$4))))/49.8328865456397)^'Qn V'!E$9)*('Qn V'!E$10*$B15/1000)","v":1093.5080000000003},{"$f":"(((($D$4-$E$4)/(LN(($D$4-$F$4)/($E$4-$F$4))))/49.8328865456397)^'Qn V'!F$9)*('Qn V'!F$10*$B15/1000)","v":1284.4520000000002},{"$f":"(((($D$4-$E$4)/(LN(($D$4-$F$4)/($E$4-$F$4))))/49.8328865456397)^'Qn V'!G$9)*('Qn V'!G$10*$B15/1000)","v":966.21200000000022},{"$f":"(((($D$4-$E$4)/(LN(($D$4-$F$4)/($E$4-$F$4))))/49.8328865456397)^'Qn V'!H$9)*('Qn V'!H$10*$B15/1000)","v":1210.1960000000001},{"$f":"(((($D$4-$E$4)/(LN(($D$4-$F$4)/($E$4-$F$4))))/49.8328865456397)^'Qn V'!I$9)*('Qn V'!I$10*$B15/1000)","v":1428.5440000000003},{"$f":"(((($D$4-$E$4)/(LN(($D$4-$F$4)/($E$4-$F$4))))/49.8328865456397)^'Qn V'!J$9)*('Qn V'!J$10*$B15/1000)","v":1067.8720000000003},{"$f":"(((($D$4-$E$4)/(LN(($D$4-$F$4)/($E$4-$F$4))))/49.8328865456397)^'Qn V'!K$9)*('Qn V'!K$10*$B15/1000)","v":1324.2320000000002},{"$f":"(((($D$4-$E$4)/(LN(($D$4-$F$4)/($E$4-$F$4))))/49.8328865456397)^'Qn V'!L$9)*('Qn V'!L$10*$B15/1000)","v":1570.8680000000004},null,null,null,884,null,{"$f":"Sortiment!A728","v":1},{"$f":"Sortiment!A728","v":1},{"$f":"Sortiment!A920","v":1},{"$f":"Sortiment!A736","v":1},{"$f":"Sortiment!A832","v":1},{"$f":"Sortiment!A928","v":1},{"$f":"Sortiment!A744","v":1},{"$f":"Sortiment!A840","v":1},{"$f":"Sortiment!A936","v":1}]
[null,958,null,{"$f":"(((($D$4-$E$4)/(LN(($D$4-$F$4)/($E$4-$F$4))))/49.8328865456397)^'Qn V'!D$9)*('Qn V'!D$10*$B16/1000)","v":935.96600000000024},{"$f":"(((($D$4-$E$4)/(LN(($D$4-$F$4)/($E$4-$F$4))))/49.8328865456397)^'Qn V'!E$9)*('Qn V'!E$10*$B16/1000)","v":1185.0460000000003},{"$f":"(((($D$4-$E$4)/(LN(($D$4-$F$4)/($E$4-$F$4))))/49.8328865456397)^'Qn V'!F$9)*('Qn V'!F$10*$B16/1000)","v":1391.9740000000002},{"$f":"(((($D$4-$E$4)/(LN(($D$4-$F$4)/($E$4-$F$4))))/49.8328865456397)^'Qn V'!G$9)*('Qn V'!G$10*$B16/1000)","v":1047.0940000000003},{"$f":"(((($D$4-$E$4)/(LN(($D$4-$F$4)/($E$4-$F$4))))/49.8328865456397)^'Qn V'!H$9)*('Qn V'!H$10*$B16/1000)","v":1311.5020000000002},{"$f":"(((($D$4-$E$4)/(LN(($D$4-$F$4)/($E$4-$F$4))))/49.8328865456397)^'Qn V'!I$9)*('Qn V'!I$10*$B16/1000)","v":1548.1280000000004},{"$f":"(((($D$4-$E$4)/(LN(($D$4-$F$4)/($E$4-$F$4))))/49.8328865456397)^'Qn V'!J$9)*('Qn V'!J$10*$B16/1000)","v":1157.2640000000001},{"$f":"(((($D$4-$E$4)/(LN(($D$4-$F$4)/($E$4-$F$4))))/49.8328865456397)^'Qn V'!K$9)*('Qn V'!K$10*$B16/1000)","v":1435.0840000000003},{"$f":"(((($D$4-$E$4)/(LN(($D$4-$F$4)/($E$4-$F$4))))/49.8328865456397)^'Qn V'!L$9)*('Qn V'!L$10*$B16/1000)","v":1702.3660000000004},null,null,null,958,null,{"$f":"Sortiment!A729","v":1},{"$f":"Sortiment!A729","v":1},{"$f":"Sortiment!A921","v":1},{"$f":"Sortiment!A737","v":1},{"$f":"Sortiment!A833","v":1},{"$f":"Sortiment!A929","v":1},{"$f":"Sortiment!A745","v":1},{"$f":"Sortiment!A841","v":0},{"$f":"Sortiment!A937","v":1}]
[]
[]
[null,null,"Výška [mm]",null,{"$f":"'Qn V'!E11","v":1100},null,null,{"$f":"'Qn V'!H11","v":1200},null,null,{"$f":"'Qn V'!K11","v":1400},null,null,null,null,null,"Výška [mm]",null,1100,null,null,1200,null,null,1400]
[null,"Délka [mm]",null,{"$f":"'Qn V'!D12","v":"K10VM"},{"$f":"'Qn V'!E12","v":"K11VM"},{"$f":"'Qn V'!F12","v":"K20VM"},{"$f":"'Qn V'!G12","v":"K10VM"},{"$f":"'Qn V'!H12","v":"K11VM"},{"$f":"'Qn V'!I12","v":"K20VM"},{"$f":"'Qn V'!J12","v":"K10VM"},{"$f":"'Qn V'!K12","v":"K11VM"},{"$f":"'Qn V'!L12","v":"K20VM"},null,null,null,"Délka [mm]",null,"K10V","K11V","K20V","K10V","K11V","K20V","K10V","K11V","K20V"]
[null,{"$f":"B9","v":144},null,{"$f":"(((($D$4-$E$4)/(LN(($D$4-$F$4)/($E$4-$F$4))))/49.8328865456397)^'Qn V'!D$13)*('Qn V'!D$14*$B21/1000)","v":190.65600000000003},{"$f":"(((($D$4-$E$4)/(LN(($D$4-$F$4)/($E$4-$F$4))))/49.8328865456397)^'Qn V'!E$13)*('Qn V'!E$14*$B21/1000)","v":234.14400000000006},{"$f":"(((($D$4-$E$4)/(LN(($D$4-$F$4)/($E$4-$F$4))))/49.8328865456397)^'Qn V'!F$13)*('Qn V'!F$14*$B21/1000)","v":278.92800000000005},{"$f":"(((($D$4-$E$4)/(LN(($D$4-$F$4)/($E$4-$F$4))))/49.8328865456397)^'Qn V'!G$13)*('Qn V'!G$14*$B21/1000)","v":207.21600000000007},{"$f":"(((($D$4-$E$4)/(LN(($D$4-$F$4)/($E$4-$F$4))))/49.8328865456397)^'Qn V'!H$13)*('Qn V'!H$14*$B21/1000)","v":252.14400000000006},{"$f":"(((($D$4-$E$4)/(LN(($D$4-$F$4)/($E$4-$F$4))))/49.8328865456397)^'Qn V'!I$13)*('Qn V'!I$14*$B21/1000)","v":301.68000000000006},{"$f":"(((($D$4-$E$4)/(LN(($D$4-$F$4)/($E$4-$F$4))))/49.8328865456397)^'Qn V'!J$13)*('Qn V'!J$14*$B21/1000)","v":240.48000000000005},{"$f":"(((($D$4-$E$4)/(LN(($D$4-$F$4)/($E$4-$F$4))))/49.8328865456397)^'Qn V'!K$13)*('Qn V'!K$14*$B21/1000)","v":287.42400000000004},{"$f":"(((($D$4-$E$4)/(LN(($D$4-$F$4)/($E$4-$F$4))))/49.8328865456397)^'Qn V'!L$13)*('Qn V'!L$14*$B21/1000)","v":346.60800000000006},null,null,null,{"$f":"P9","v":144},null,{"$f":"Sortiment!A746","v":1},{"$f":"Sortiment!A842","v":1},{"$f":"Sortiment!A938","v":1},{"$f":"Sortiment!A754","v":1},{"$f":"Sortiment!A850","v":1},{"$f":"Sortiment!A946","v":1},{"$f":"Sortiment!A762","v":1},{"$f":"Sortiment!A858","v":1},{"$f":"Sortiment!A954","v":1}]
[null,218,null,{"$f":"(((($D$4-$E$4)/(LN(($D$4-$F$4)/($E$4-$F$4))))/49.8328865456397)^'Qn V'!D$13)*('Qn V'!D$14*$B22/1000)","v":288.63200000000006},{"$f":"(((($D$4-$E$4)/(LN(($D$4-$F$4)/($E$4-$F$4))))/49.8328865456397)^'Qn V'!E$13)*('Qn V'!E$14*$B22/1000)","v":354.46800000000007},{"$f":"(((($D$4-$E$4)/(LN(($D$4-$F$4)/($E$4-$F$4))))/49.8328865456397)^'Qn V'!F$13)*('Qn V'!F$14*$B22/1000)","v":422.26600000000013},{"$f":"(((($D$4-$E$4)/(LN(($D$4-$F$4)/($E$4-$F$4))))/49.8328865456397)^'Qn V'!G$13)*('Qn V'!G$14*$B22/1000)","v":313.70200000000006},{"$f":"(((($D$4-$E$4)/(LN(($D$4-$F$4)/($E$4-$F$4))))/49.8328865456397)^'Qn V'!H$13)*('Qn V'!H$14*$B22/1000)","v":381.71800000000007},{"$f":"(((($D$4-$E$4)/(LN(($D$4-$F$4)/($E$4-$F$4))))/49.8328865456397)^'Qn V'!I$13)*('Qn V'!I$14*$B22/1000)","v":456.71000000000009},{"$f":"(((($D$4-$E$4)/(LN(($D$4-$F$4)/($E$4-$F$4))))/49.8328865456397)^'Qn V'!J$13)*('Qn V'!J$14*$B22/1000)","v":364.06000000000006},{"$f":"(((($D$4-$E$4)/(LN(($D$4-$F$4)/($E$4-$F$4))))/49.8328865456397)^'Qn V'!K$13)*('Qn V'!K$14*$B22/1000)","v":435.1280000000001},{"$f":"(((($D$4-$E$4)/(LN(($D$4-$F$4)/($E$4-$F$4))))/49.8328865456397)^'Qn V'!L$13)*('Qn V'!L$14*$B22/1000)","v":524.72600000000011},null,null,null,218,null,{"$f":"Sortiment!A747","v":1},{"$f":"Sortiment!A843","v":1},{"$f":"Sortiment!A939","v":1},{"$f":"Sortiment!A755","v":1},{"$f":"Sortiment!A851","v":1},{"$f":"Sortiment!A947","v":1},{"$f":"Sortiment!A763","v":1},{"$f":"Sortiment!A859","v":1},{"$f":"Sortiment!A955","v":1}]
[null,366,null,{"$f":"(((($D$4-$E$4)/(LN(($D$4-$F$4)/($E$4-$F$4))))/49.8328865456397)^'Qn V'!D$13)*('Qn V'!D$14*$B23/1000)","v":484.58400000000012},{"$f":"(((($D$4-$E$4)/(LN(($D$4-$F$4)/($E$4-$F$4))))/49.8328865456397)^'Qn V'!E$13)*('Qn V'!E$14*$B23/1000)","v":595.1160000000001},{"$f":"(((($D$4-$E$4)/(LN(($D$4-$F$4)/($E$4-$F$4))))/49.8328865456397)^'Qn V'!F$13)*('Qn V'!F$14*$B23/1000)","v":708.94200000000012},{"$f":"(((($D$4-$E$4)/(LN(($D$4-$F$4)/($E$4-$F$4))))/49.8328865456397)^'Qn V'!G$13)*('Qn V'!G$14*$B23/1000)","v":526.67400000000009},{"$f":"(((($D$4-$E$4)/(LN(($D$4-$F$4)/($E$4-$F$4))))/49.8328865456397)^'Qn V'!H$13)*('Qn V'!H$14*$B23/1000)","v":640.8660000000001},{"$f":"(((($D$4-$E$4)/(LN(($D$4-$F$4)/($E$4-$F$4))))/49.8328865456397)^'Qn V'!I$13)*('Qn V'!I$14*$B23/1000)","v":766.7700000000001},{"$f":"(((($D$4-$E$4)/(LN(($D$4-$F$4)/($E$4-$F$4))))/49.8328865456397)^'Qn V'!J$13)*('Qn V'!J$14*$B23/1000)","v":611.22000000000014},{"$f":"(((($D$4-$E$4)/(LN(($D$4-$F$4)/($E$4-$F$4))))/49.8328865456397)^'Qn V'!K$13)*('Qn V'!K$14*$B23/1000)","v":730.53600000000006},{"$f":"(((($D$4-$E$4)/(LN(($D$4-$F$4)/($E$4-$F$4))))/49.8328865456397)^'Qn V'!L$13)*('Qn V'!L$14*$B23/1000)","v":880.96200000000022},null,null,null,366,null,{"$f":"Sortiment!A748","v":1},{"$f":"Sortiment!A844","v":1},{"$f":"Sortiment!A940","v":1},{"$f":"Sortiment!A756","v":1},{"$f":"Sortiment!A852","v":1},{"$f":"Sortiment!A948","v":1},{"$f":"Sortiment!A764","v":1},{"$f":"Sortiment!A860","v":1},{"$f":"Sortiment!A956","v":1}]
[null,514,null,{"$f":"(((($D$4-$E$4)/(LN(($D$4-$F$4)/($E$4-$F$4))))/49.8328865456397)^'Qn V'!D$13)*('Qn V'!D$14*$B24/1000)","v":680.53600000000006},{"$f":"(((($D$4-$E$4)/(LN(($D$4-$F$4)/($E$4-$F$4))))/49.8328865456397)^'Qn V'!E$13)*('Qn V'!E$14*$B24/1000)","v":835.76400000000024},{"$f":"(((($D$4-$E$4)/(LN(($D$4-$F$4)/($E$4-$F$4))))/49.8328865456397)^'Qn V'!F$13)*('Qn V'!F$14*$B24/1000)","v":995.61800000000028},{"$f":"(((($D$4-$E$4)/(LN(($D$4-$F$4)/($E$4-$F$4))))/49.8328865456397)^'Qn V'!G$13)*('Qn V'!G$14*$B24/1000)","v":739.64600000000007},{"$f":"(((($D$4-$E$4)/(LN(($D$4-$F$4)/($E$4-$F$4))))/49.8328865456397)^'Qn V'!H$13)*('Qn V'!H$14*$B24/1000)","v":900.01400000000024},{"$f":"(((($D$4-$E$4)/(LN(($D$4-$F$4)/($E$4-$F$4))))/49.8328865456397)^'Qn V'!I$13)*('Qn V'!I$14*$B24/1000)","v":1076.8300000000002},{"$f":"(((($D$4-$E$4)/(LN(($D$4-$F$4)/($E$4-$F$4))))/49.8328865456397)^'Qn V'!J$13)*('Qn V'!J$14*$B24/1000)","v":858.38000000000022},{"$f":"(((($D$4-$E$4)/(LN(($D$4-$F$4)/($E$4-$F$4))))/49.8328865456397)^'Qn V'!K$13)*('Qn V'!K$14*$B24/1000)","v":1025.9440000000002},{"$f":"(((($D$4-$E$4)/(LN(($D$4-$F$4)/($E$4-$F$4))))/49.8328865456397)^'Qn V'!L$13)*('Qn V'!L$14*$B24/1000)","v":1237.1980000000003},null,null,null,514,null,{"$f":"Sortiment!A749","v":1},{"$f":"Sortiment!A845","v":1},{"$f":"Sortiment!A941","v":1},{"$f":"Sortiment!A757","v":1},{"$f":"Sortiment!A853","v":1},{"$f":"Sortiment!A949","v":1},{"$f":"Sortiment!A765","v":1},{"$f":"Sortiment!A861","v":1},{"$f":"Sortiment!A957","v":1}]
[null,588,null,{"$f":"(((($D$4-$E$4)/(LN(($D$4-$F$4)/($E$4-$F$4))))/49.8328865456397)^'Qn V'!D$13)*('Qn V'!D$14*$B25/1000)","v":778.51200000000017},{"$f":"(((($D$4-$E$4)/(LN(($D$4-$F$4)/($E$4-$F$4))))/49.8328865456397)^'Qn V'!E$13)*('Qn V'!E$14*$B25/1000)","v":956.08800000000019},{"$f":"(((($D$4-$E$4)/(LN(($D$4-$F$4)/($E$4-$F$4))))/49.8328865456397)^'Qn V'!F$13)*('Qn V'!F$14*$B25/1000)","v":1138.9560000000001},{"$f":"(((($D$4-$E$4)/(LN(($D$4-$F$4)/($E$4-$F$4))))/49.8328865456397)^'Qn V'!G$13)*('Qn V'!G$14*$B25/1000)","v":846.13200000000018},{"$f":"(((($D$4-$E$4)/(LN(($D$4-$F$4)/($E$4-$F$4))))/49.8328865456397)^'Qn V'!H$13)*('Qn V'!H$14*$B25/1000)","v":1029.5880000000002},{"$f":"(((($D$4-$E$4)/(LN(($D$4-$F$4)/($E$4-$F$4))))/49.8328865456397)^'Qn V'!I$13)*('Qn V'!I$14*$B25/1000)","v":1231.8600000000001},{"$f":"(((($D$4-$E$4)/(LN(($D$4-$F$4)/($E$4-$F$4))))/49.8328865456397)^'Qn V'!J$13)*('Qn V'!J$14*$B25/1000)","v":981.96000000000026},{"$f":"(((($D$4-$E$4)/(LN(($D$4-$F$4)/($E$4-$F$4))))/49.8328865456397)^'Qn V'!K$13)*('Qn V'!K$14*$B25/1000)","v":1173.6480000000001},{"$f":"(((($D$4-$E$4)/(LN(($D$4-$F$4)/($E$4-$F$4))))/49.8328865456397)^'Qn V'!L$13)*('Qn V'!L$14*$B25/1000)","v":1415.3160000000003},null,null,null,588,null,{"$f":"Sortiment!A750","v":1},{"$f":"Sortiment!A846","v":1},{"$f":"Sortiment!A942","v":1},{"$f":"Sortiment!A758","v":1},{"$f":"Sortiment!A854","v":1},{"$f":"Sortiment!A950","v":1},{"$f":"Sortiment!A766","v":1},{"$f":"Sortiment!A862","v":1},{"$f":"Sortiment!A958","v":1}]
[null,662,null,{"$f":"(((($D$4-$E$4)/(LN(($D$4-$F$4)/($E$4-$F$4))))/49.8328865456397)^'Qn V'!D$13)*('Qn V'!D$14*$B26/1000)","v":876.48800000000028},{"$f":"(((($D$4-$E$4)/(LN(($D$4-$F$4)/($E$4-$F$4))))/49.8328865456397)^'Qn V'!E$13)*('Qn V'!E$14*$B26/1000)","v":1076.4120000000003},{"$f":"(((($D$4-$E$4)/(LN(($D$4-$F$4)/($E$4-$F$4))))/49.8328865456397)^'Qn V'!F$13)*('Qn V'!F$14*$B26/1000)","v":1282.2940000000003},{"$f":"(((($D$4-$E$4)/(LN(($D$4-$F$4)/($E$4-$F$4))))/49.8328865456397)^'Qn V'!G$13)*('Qn V'!G$14*$B26/1000)","v":952.61800000000028},{"$f":"(((($D$4-$E$4)/(LN(($D$4-$F$4)/($E$4-$F$4))))/49.8328865456397)^'Qn V'!H$13)*('Qn V'!H$14*$B26/1000)","v":1159.1620000000003},{"$f":"(((($D$4-$E$4)/(LN(($D$4-$F$4)/($E$4-$F$4))))/49.8328865456397)^'Qn V'!I$13)*('Qn V'!I$14*$B26/1000)","v":1386.8900000000003},{"$f":"(((($D$4-$E$4)/(LN(($D$4-$F$4)/($E$4-$F$4))))/49.8328865456397)^'Qn V'!J$13)*('Qn V'!J$14*$B26/1000)","v":1105.5400000000002},{"$f":"(((($D$4-$E$4)/(LN(($D$4-$F$4)/($E$4-$F$4))))/49.8328865456397)^'Qn V'!K$13)*('Qn V'!K$14*$B26/1000)","v":1321.3520000000003},{"$f":"(((($D$4-$E$4)/(LN(($D$4-$F$4)/($E$4-$F$4))))/49.8328865456397)^'Qn V'!L$13)*('Qn V'!L$14*$B26/1000)","v":1593.4340000000004},null,null,null,662,null,{"$f":"Sortiment!A751","v":1},{"$f":"Sortiment!A847","v":1},{"$f":"Sortiment!A943","v":1},{"$f":"Sortiment!A759","v":1},{"$f":"Sortiment!A855","v":1},{"$f":"Sortiment!A951","v":1},{"$f":"Sortiment!A767","v":1},{"$f":"Sortiment!A863","v":1},{"$f":"Sortiment!A959","v":1}]
[null,884,null,{"$f":"(((($D$4-$E$4)/(LN(($D$4-$F$4)/($E$4-$F$4))))/49.8328865456397)^'Qn V'!D$13)*('Qn V'!D$14*$B27/1000)","v":1170.4160000000002},{"$f":"(((($D$4-$E$4)/(LN(($D$4-$F$4)/($E$4-$F$4))))/49.8328865456397)^'Qn V'!E$13)*('Qn V'!E$14*$B27/1000)","v":1437.3840000000002},{"$f":"(((($D$4-$E$4)/(LN(($D$4-$F$4)/($E$4-$F$4))))/49.8328865456397)^'Qn V'!F$13)*('Qn V'!F$14*$B27/1000)","v":1712.3080000000004},{"$f":"(((($D$4-$E$4)/(LN(($D$4-$F$4)/($E$4-$F$4))))/49.8328865456397)^'Qn V'!G$13)*('Qn V'!G$14*$B27/1000)","v":1272.0760000000002},{"$f":"(((($D$4-$E$4)/(LN(($D$4-$F$4)/($E$4-$F$4))))/49.8328865456397)^'Qn V'!H$13)*('Qn V'!H$14*$B27/1000)","v":1547.8840000000005},{"$f":"(((($D$4-$E$4)/(LN(($D$4-$F$4)/($E$4-$F$4))))/49.8328865456397)^'Qn V'!I$13)*('Qn V'!I$14*$B27/1000)","v":1851.9800000000005},{"$f":"(((($D$4-$E$4)/(LN(($D$4-$F$4)/($E$4-$F$4))))/49.8328865456397)^'Qn V'!J$13)*('Qn V'!J$14*$B27/1000)","v":1476.2800000000002},{"$f":"(((($D$4-$E$4)/(LN(($D$4-$F$4)/($E$4-$F$4))))/49.8328865456397)^'Qn V'!K$13)*('Qn V'!K$14*$B27/1000)","v":1764.4640000000004},{"$f":"(((($D$4-$E$4)/(LN(($D$4-$F$4)/($E$4-$F$4))))/49.8328865456397)^'Qn V'!L$13)*('Qn V'!L$14*$B27/1000)","v":2127.7880000000005},null,null,null,884,null,{"$f":"Sortiment!A752","v":1},{"$f":"Sortiment!A848","v":1},{"$f":"Sortiment!A944","v":1},{"$f":"Sortiment!A760","v":1},{"$f":"Sortiment!A856","v":1},{"$f":"Sortiment!A952","v":1},{"$f":"Sortiment!A768","v":1},{"$f":"Sortiment!A864","v":1},{"$f":"Sortiment!A960","v":1}]
[null,958,null,{"$f":"(((($D$4-$E$4)/(LN(($D$4-$F$4)/($E$4-$F$4))))/49.8328865456397)^'Qn V'!D$13)*('Qn V'!D$14*$B28/1000)","v":1268.3920000000003},{"$f":"(((($D$4-$E$4)/(LN(($D$4-$F$4)/($E$4-$F$4))))/49.8328865456397)^'Qn V'!E$13)*('Qn V'!E$14*$B28/1000)","v":1557.7080000000005},{"$f":"(((($D$4-$E$4)/(LN(($D$4-$F$4)/($E$4-$F$4))))/49.8328865456397)^'Qn V'!F$13)*('Qn V'!F$14*$B28/1000)","v":1855.6460000000004},{"$f":"(((($D$4-$E$4)/(LN(($D$4-$F$4)/($E$4-$F$4))))/49.8328865456397)^'Qn V'!G$13)*('Qn V'!G$14*$B28/1000)","v":1378.5620000000001},{"$f":"(((($D$4-$E$4)/(LN(($D$4-$F$4)/($E$4-$F$4))))/49.8328865456397)^'Qn V'!H$13)*('Qn V'!H$14*$B28/1000)","v":1677.4580000000005},{"$f":"(((($D$4-$E$4)/(LN(($D$4-$F$4)/($E$4-$F$4))))/49.8328865456397)^'Qn V'!I$13)*('Qn V'!I$14*$B28/1000)","v":2007.0100000000004},{"$f":"(((($D$4-$E$4)/(LN(($D$4-$F$4)/($E$4-$F$4))))/49.8328865456397)^'Qn V'!J$13)*('Qn V'!J$14*$B28/1000)","v":1599.8600000000004},{"$f":"(((($D$4-$E$4)/(LN(($D$4-$F$4)/($E$4-$F$4))))/49.8328865456397)^'Qn V'!K$13)*('Qn V'!K$14*$B28/1000)","v":1912.1680000000003},{"$f":"(((($D$4-$E$4)/(LN(($D$4-$F$4)/($E$4-$F$4))))/49.8328865456397)^'Qn V'!L$13)*('Qn V'!L$14*$B28/1000)","v":2305.9060000000004},null,null,null,958,null,{"$f":"Sortiment!A753","v":1},{"$f":"Sortiment!A849","v":0},{"$f":"Sortiment!A945","v":1},{"$f":"Sortiment!A761","v":1},{"$f":"Sortiment!A857","v":0},{"$f":"Sortiment!A953","v":1},{"$f":"Sortiment!A769","v":1},{"$f":"Sortiment!A865","v":0},{"$f":"Sortiment!A961","v":1}]
[]
[]
[null,null,"Výška [mm]",null,{"$f":"'Qn V'!E15","v":1600},null,null,{"$f":"'Qn V'!H15","v":1800},null,null,{"$f":"'Qn V'!K15","v":2000},null,null,null,null,null,"Výška [mm]",null,1600,null,null,1800,null,null,2000]
[null,"Délka [mm]",null,{"$f":"'Qn V'!D16","v":"K10VM"},{"$f":"'Qn V'!E16","v":"K11VM"},{"$f":"'Qn V'!F16","v":"K20VM"},{"$f":"'Qn V'!G16","v":"K10VM"},{"$f":"'Qn V'!H16","v":"K11VM"},{"$f":"'Qn V'!I16","v":"K20VM"},{"$f":"'Qn V'!J16","v":"K10VM"},{"$f":"'Qn V'!K16","v":"K11VM"},{"$f":"'Qn V'!L16","v":"K20VM"},null,null,null,"Délka [mm]",null,"K10V","K11V","K20V","K10V","K11V","K20V","K10V","K11V","K20V"]
[null,{"$f":"B21","v":144},null,{"$f":"(((($D$4-$E$4)/(LN(($D$4-$F$4)/($E$4-$F$4))))/49.8328865456397)^'Qn V'!D$17)*('Qn V'!D$18*$B9/1000)","v":273.60000000000008},{"$f":"(((($D$4-$E$4)/(LN(($D$4-$F$4)/($E$4-$F$4))))/49.8328865456397)^'Qn V'!E$17)*('Qn V'!E$18*$B9/1000)","v":321.69600000000008},{"$f":"(((($D$4-$E$4)/(LN(($D$4-$F$4)/($E$4-$F$4))))/49.8328865456397)^'Qn V'!F$17)*('Qn V'!F$18*$B9/1000)","v":390.96000000000009},{"$f":"(((($D$4-$E$4)/(LN(($D$4-$F$4)/($E$4-$F$4))))/49.8328865456397)^'Qn V'!G$17)*('Qn V'!G$18*$B9/1000)","v":306.86400000000003},{"$f":"(((($D$4-$E$4)/(LN(($D$4-$F$4)/($E$4-$F$4))))/49.8328865456397)^'Qn V'!H$17)*('Qn V'!H$18*$B9/1000)","v":355.10400000000004},{"$f":"(((($D$4-$E$4)/(LN(($D$4-$F$4)/($E$4-$F$4))))/49.8328865456397)^'Qn V'!I$17)*('Qn V'!I$18*$B9/1000)","v":434.7360000000001},{"$f":"(((($D$4-$E$4)/(LN(($D$4-$F$4)/($E$4-$F$4))))/49.8328865456397)^'Qn V'!J$17)*('Qn V'!J$18*$B9/1000)","v":340.27200000000005},{"$f":"(((($D$4-$E$4)/(LN(($D$4-$F$4)/($E$4-$F$4))))/49.8328865456397)^'Qn V'!K$17)*('Qn V'!K$18*$B9/1000)","v":387.64800000000014},{"$f":"(((($D$4-$E$4)/(LN(($D$4-$F$4)/($E$4-$F$4))))/49.8328865456397)^'Qn V'!L$17)*('Qn V'!L$18*$B9/1000)","v":478.0800000000001},null,null,null,{"$f":"P21","v":144},null,{"$f":"Sortiment!A770","v":1},{"$f":"Sortiment!A866","v":1},{"$f":"Sortiment!A962","v":1},{"$f":"Sortiment!A778","v":1},{"$f":"Sortiment!A874","v":1},{"$f":"Sortiment!A970","v":1},{"$f":"Sortiment!A786","v":1},{"$f":"Sortiment!A882","v":1},{"$f":"Sortiment!A978","v":1}]
[null,218,null,{"$f":"(((($D$4-$E$4)/(LN(($D$4-$F$4)/($E$4-$F$4))))/49.8328865456397)^'Qn V'!D$17)*('Qn V'!D$18*$B10/1000)","v":414.2000000000001},{"$f":"(((($D$4-$E$4)/(LN(($D$4-$F$4)/($E$4-$F$4))))/49.8328865456397)^'Qn V'!E$17)*('Qn V'!E$18*$B10/1000)","v":487.01200000000011},{"$f":"(((($D$4-$E$4)/(LN(($D$4-$F$4)/($E$4-$F$4))))/49.8328865456397)^'Qn V'!F$17)*('Qn V'!F$18*$B10/1000)","v":591.87000000000012},{"$f":"(((($D$4-$E$4)/(LN(($D$4-$F$4)/($E$4-$F$4))))/49.8328865456397)^'Qn V'!G$17)*('Qn V'!G$18*$B10/1000)","v":464.55800000000011},{"$f":"(((($D$4-$E$4)/(LN(($D$4-$F$4)/($E$4-$F$4))))/49.8328865456397)^'Qn V'!H$17)*('Qn V'!H$18*$B10/1000)","v":537.58800000000008},{"$f":"(((($D$4-$E$4)/(LN(($D$4-$F$4)/($E$4-$F$4))))/49.8328865456397)^'Qn V'!I$17)*('Qn V'!I$18*$B10/1000)","v":658.14200000000017},{"$f":"(((($D$4-$E$4)/(LN(($D$4-$F$4)/($E$4-$F$4))))/49.8328865456397)^'Qn V'!J$17)*('Qn V'!J$18*$B10/1000)","v":515.13400000000013},{"$f":"(((($D$4-$E$4)/(LN(($D$4-$F$4)/($E$4-$F$4))))/49.8328865456397)^'Qn V'!K$17)*('Qn V'!K$18*$B10/1000)","v":586.85600000000011},{"$f":"(((($D$4-$E$4)/(LN(($D$4-$F$4)/($E$4-$F$4))))/49.8328865456397)^'Qn V'!L$17)*('Qn V'!L$18*$B10/1000)","v":723.7600000000001},null,null,null,218,null,{"$f":"Sortiment!A771","v":1},{"$f":"Sortiment!A867","v":1},{"$f":"Sortiment!A963","v":1},{"$f":"Sortiment!A779","v":1},{"$f":"Sortiment!A875","v":1},{"$f":"Sortiment!A971","v":1},{"$f":"Sortiment!A787","v":1},{"$f":"Sortiment!A883","v":1},{"$f":"Sortiment!A979","v":1}]
[null,366,null,{"$f":"(((($D$4-$E$4)/(LN(($D$4-$F$4)/($E$4-$F$4))))/49.8328865456397)^'Qn V'!D$17)*('Qn V'!D$18*$B11/1000)","v":695.40000000000009},{"$f":"(((($D$4-$E$4)/(LN(($D$4-$F$4)/($E$4-$F$4))))/49.8328865456397)^'Qn V'!E$17)*('Qn V'!E$18*$B11/1000)","v":817.64400000000023},{"$f":"(((($D$4-$E$4)/(LN(($D$4-$F$4)/($E$4-$F$4))))/49.8328865456397)^'Qn V'!F$17)*('Qn V'!F$18*$B11/1000)","v":993.69000000000028},{"$f":"(((($D$4-$E$4)/(LN(($D$4-$F$4)/($E$4-$F$4))))/49.8328865456397)^'Qn V'!G$17)*('Qn V'!G$18*$B11/1000)","v":779.94600000000025},{"$f":"(((($D$4-$E$4)/(LN(($D$4-$F$4)/($E$4-$F$4))))/49.8328865456397)^'Qn V'!H$17)*('Qn V'!H$18*$B11/1000)","v":902.55600000000027},{"$f":"(((($D$4-$E$4)/(LN(($D$4-$F$4)/($E$4-$F$4))))/49.8328865456397)^'Qn V'!I$17)*('Qn V'!I$18*$B11/1000)","v":1104.9540000000002},{"$f":"(((($D$4-$E$4)/(LN(($D$4-$F$4)/($E$4-$F$4))))/49.8328865456397)^'Qn V'!J$17)*('Qn V'!J$18*$B11/1000)","v":864.85800000000017},{"$f":"(((($D$4-$E$4)/(LN(($D$4-$F$4)/($E$4-$F$4))))/49.8328865456397)^'Qn V'!K$17)*('Qn V'!K$18*$B11/1000)","v":985.27200000000028},{"$f":"(((($D$4-$E$4)/(LN(($D$4-$F$4)/($E$4-$F$4))))/49.8328865456397)^'Qn V'!L$17)*('Qn V'!L$18*$B11/1000)","v":1215.1200000000001},null,null,null,366,null,{"$f":"Sortiment!A772","v":1},{"$f":"Sortiment!A868","v":1},{"$f":"Sortiment!A964","v":1},{"$f":"Sortiment!A780","v":1},{"$f":"Sortiment!A876","v":1},{"$f":"Sortiment!A972","v":1},{"$f":"Sortiment!A788","v":1},{"$f":"Sortiment!A884","v":1},{"$f":"Sortiment!A980","v":1}]
[null,514,null,{"$f":"(((($D$4-$E$4)/(LN(($D$4-$F$4)/($E$4-$F$4))))/49.8328865456397)^'Qn V'!D$17)*('Qn V'!D$18*$B12/1000)","v":976.60000000000025},{"$f":"(((($D$4-$E$4)/(LN(($D$4-$F$4)/($E$4-$F$4))))/49.8328865456397)^'Qn V'!E$17)*('Qn V'!E$18*$B12/1000)","v":1148.2760000000003},{"$f":"(((($D$4-$E$4)/(LN(($D$4-$F$4)/($E$4-$F$4))))/49.8328865456397)^'Qn V'!F$17)*('Qn V'!F$18*$B12/1000)","v":1395.5100000000002},{"$f":"(((($D$4-$E$4)/(LN(($D$4-$F$4)/($E$4-$F$4))))/49.8328865456397)^'Qn V'!G$17)*('Qn V'!G$18*$B12/1000)","v":1095.3340000000003},{"$f":"(((($D$4-$E$4)/(LN(($D$4-$F$4)/($E$4-$F$4))))/49.8328865456397)^'Qn V'!H$17)*('Qn V'!H$18*$B12/1000)","v":1267.5240000000001},{"$f":"(((($D$4-$E$4)/(LN(($D$4-$F$4)/($E$4-$F$4))))/49.8328865456397)^'Qn V'!I$17)*('Qn V'!I$18*$B12/1000)","v":1551.7660000000005},{"$f":"(((($D$4-$E$4)/(LN(($D$4-$F$4)/($E$4-$F$4))))/49.8328865456397)^'Qn V'!J$17)*('Qn V'!J$18*$B12/1000)","v":1214.5820000000003},{"$f":"(((($D$4-$E$4)/(LN(($D$4-$F$4)/($E$4-$F$4))))/49.8328865456397)^'Qn V'!K$17)*('Qn V'!K$18*$B12/1000)","v":1383.6880000000003},{"$f":"(((($D$4-$E$4)/(LN(($D$4-$F$4)/($E$4-$F$4))))/49.8328865456397)^'Qn V'!L$17)*('Qn V'!L$18*$B12/1000)","v":1706.4800000000005},null,null,null,514,null,{"$f":"Sortiment!A773","v":1},{"$f":"Sortiment!A869","v":1},{"$f":"Sortiment!A965","v":1},{"$f":"Sortiment!A781","v":1},{"$f":"Sortiment!A877","v":1},{"$f":"Sortiment!A973","v":1},{"$f":"Sortiment!A789","v":1},{"$f":"Sortiment!A885","v":1},{"$f":"Sortiment!A981","v":1}]
[null,588,null,{"$f":"(((($D$4-$E$4)/(LN(($D$4-$F$4)/($E$4-$F$4))))/49.8328865456397)^'Qn V'!D$17)*('Qn V'!D$18*$B13/1000)","v":1117.2000000000003},{"$f":"(((($D$4-$E$4)/(LN(($D$4-$F$4)/($E$4-$F$4))))/49.8328865456397)^'Qn V'!E$17)*('Qn V'!E$18*$B13/1000)","v":1313.5920000000003},{"$f":"(((($D$4-$E$4)/(LN(($D$4-$F$4)/($E$4-$F$4))))/49.8328865456397)^'Qn V'!F$17)*('Qn V'!F$18*$B13/1000)","v":1596.4200000000005},{"$f":"(((($D$4-$E$4)/(LN(($D$4-$F$4)/($E$4-$F$4))))/49.8328865456397)^'Qn V'!G$17)*('Qn V'!G$18*$B13/1000)","v":1253.0280000000002},{"$f":"(((($D$4-$E$4)/(LN(($D$4-$F$4)/($E$4-$F$4))))/49.8328865456397)^'Qn V'!H$17)*('Qn V'!H$18*$B13/1000)","v":1450.0080000000003},{"$f":"(((($D$4-$E$4)/(LN(($D$4-$F$4)/($E$4-$F$4))))/49.8328865456397)^'Qn V'!I$17)*('Qn V'!I$18*$B13/1000)","v":1775.1720000000005},{"$f":"(((($D$4-$E$4)/(LN(($D$4-$F$4)/($E$4-$F$4))))/49.8328865456397)^'Qn V'!J$17)*('Qn V'!J$18*$B13/1000)","v":1389.4440000000002},{"$f":"(((($D$4-$E$4)/(LN(($D$4-$F$4)/($E$4-$F$4))))/49.8328865456397)^'Qn V'!K$17)*('Qn V'!K$18*$B13/1000)","v":1582.8960000000004},{"$f":"(((($D$4-$E$4)/(LN(($D$4-$F$4)/($E$4-$F$4))))/49.8328865456397)^'Qn V'!L$17)*('Qn V'!L$18*$B13/1000)","v":1952.1600000000005},null,null,null,588,null,{"$f":"Sortiment!A774","v":1},{"$f":"Sortiment!A870","v":1},{"$f":"Sortiment!A966","v":1},{"$f":"Sortiment!A782","v":1},{"$f":"Sortiment!A878","v":1},{"$f":"Sortiment!A974","v":1},{"$f":"Sortiment!A790","v":1},{"$f":"Sortiment!A886","v":1},{"$f":"Sortiment!A982","v":1}]
[null,662,null,{"$f":"(((($D$4-$E$4)/(LN(($D$4-$F$4)/($E$4-$F$4))))/49.8328865456397)^'Qn V'!D$17)*('Qn V'!D$18*$B14/1000)","v":1257.8000000000002},{"$f":"(((($D$4-$E$4)/(LN(($D$4-$F$4)/($E$4-$F$4))))/49.8328865456397)^'Qn V'!E$17)*('Qn V'!E$18*$B14/1000)","v":1478.9080000000001},{"$f":"(((($D$4-$E$4)/(LN(($D$4-$F$4)/($E$4-$F$4))))/49.8328865456397)^'Qn V'!F$17)*('Qn V'!F$18*$B14/1000)","v":1797.3300000000004},{"$f":"(((($D$4-$E$4)/(LN(($D$4-$F$4)/($E$4-$F$4))))/49.8328865456397)^'Qn V'!G$17)*('Qn V'!G$18*$B14/1000)","v":1410.7220000000002},{"$f":"(((($D$4-$E$4)/(LN(($D$4-$F$4)/($E$4-$F$4))))/49.8328865456397)^'Qn V'!H$17)*('Qn V'!H$18*$B14/1000)","v":1632.4920000000004},{"$f":"(((($D$4-$E$4)/(LN(($D$4-$F$4)/($E$4-$F$4))))/49.8328865456397)^'Qn V'!I$17)*('Qn V'!I$18*$B14/1000)","v":1998.5780000000004},{"$f":"(((($D$4-$E$4)/(LN(($D$4-$F$4)/($E$4-$F$4))))/49.8328865456397)^'Qn V'!J$17)*('Qn V'!J$18*$B14/1000)","v":1564.3060000000005},{"$f":"(((($D$4-$E$4)/(LN(($D$4-$F$4)/($E$4-$F$4))))/49.8328865456397)^'Qn V'!K$17)*('Qn V'!K$18*$B14/1000)","v":1782.1040000000005},{"$f":"(((($D$4-$E$4)/(LN(($D$4-$F$4)/($E$4-$F$4))))/49.8328865456397)^'Qn V'!L$17)*('Qn V'!L$18*$B14/1000)","v":2197.8400000000006},null,null,null,662,null,{"$f":"Sortiment!A775","v":1},{"$f":"Sortiment!A871","v":1},{"$f":"Sortiment!A967","v":1},{"$f":"Sortiment!A783","v":1},{"$f":"Sortiment!A879","v":1},{"$f":"Sortiment!A975","v":1},{"$f":"Sortiment!A791","v":1},{"$f":"Sortiment!A887","v":1},{"$f":"Sortiment!A983","v":1}]
[null,884,null,{"$f":"(((($D$4-$E$4)/(LN(($D$4-$F$4)/($E$4-$F$4))))/49.8328865456397)^'Qn V'!D$17)*('Qn V'!D$18*$B15/1000)","v":1679.6000000000004},{"$f":"(((($D$4-$E$4)/(LN(($D$4-$F$4)/($E$4-$F$4))))/49.8328865456397)^'Qn V'!E$17)*('Qn V'!E$18*$B15/1000)","v":1974.8560000000004},{"$f":"(((($D$4-$E$4)/(LN(($D$4-$F$4)/($E$4-$F$4))))/49.8328865456397)^'Qn V'!F$17)*('Qn V'!F$18*$B15/1000)","v":2400.0600000000004},{"$f":"(((($D$4-$E$4)/(LN(($D$4-$F$4)/($E$4-$F$4))))/49.8328865456397)^'Qn V'!G$17)*('Qn V'!G$18*$B15/1000)","v":1883.8040000000005},{"$f":"(((($D$4-$E$4)/(LN(($D$4-$F$4)/($E$4-$F$4))))/49.8328865456397)^'Qn V'!H$17)*('Qn V'!H$18*$B15/1000)","v":2179.9440000000004},{"$f":"(((($D$4-$E$4)/(LN(($D$4-$F$4)/($E$4-$F$4))))/49.8328865456397)^'Qn V'!I$17)*('Qn V'!I$18*$B15/1000)","v":2668.7960000000003},{"$f":"(((($D$4-$E$4)/(LN(($D$4-$F$4)/($E$4-$F$4))))/49.8328865456397)^'Qn V'!J$17)*('Qn V'!J$18*$B15/1000)","v":2088.8920000000003},{"$f":"(((($D$4-$E$4)/(LN(($D$4-$F$4)/($E$4-$F$4))))/49.8328865456397)^'Qn V'!K$17)*('Qn V'!K$18*$B15/1000)","v":2379.7280000000005},{"$f":"(((($D$4-$E$4)/(LN(($D$4-$F$4)/($E$4-$F$4))))/49.8328865456397)^'Qn V'!L$17)*('Qn V'!L$18*$B15/1000)","v":2934.8800000000006},null,null,null,884,null,{"$f":"Sortiment!A776","v":1},{"$f":"Sortiment!A872","v":1},{"$f":"Sortiment!A968","v":1},{"$f":"Sortiment!A784","v":1},{"$f":"Sortiment!A880","v":1},{"$f":"Sortiment!A976","v":1},{"$f":"Sortiment!A792","v":1},{"$f":"Sortiment!A888","v":1},{"$f":"Sortiment!A984","v":1}]
[null,958,null,{"$f":"(((($D$4-$E$4)/(LN(($D$4-$F$4)/($E$4-$F$4))))/49.8328865456397)^'Qn V'!D$17)*('Qn V'!D$18*$B16/1000)","v":1820.2000000000005},{"$f":"(((($D$4-$E$4)/(LN(($D$4-$F$4)/($E$4-$F$4))))/49.8328865456397)^'Qn V'!E$17)*('Qn V'!E$18*$B16/1000)","v":2140.1720000000005},{"$f":"(((($D$4-$E$4)/(LN(($D$4-$F$4)/($E$4-$F$4))))/49.8328865456397)^'Qn V'!F$17)*('Qn V'!F$18*$B16/1000)","v":2600.9700000000003},{"$f":"(((($D$4-$E$4)/(LN(($D$4-$F$4)/($E$4-$F$4))))/49.8328865456397)^'Qn V'!G$17)*('Qn V'!G$18*$B16/1000)","v":2041.4980000000005},{"$f":"(((($D$4-$E$4)/(LN(($D$4-$F$4)/($E$4-$F$4))))/49.8328865456397)^'Qn V'!H$17)*('Qn V'!H$18*$B16/1000)","v":2362.4280000000003},{"$f":"(((($D$4-$E$4)/(LN(($D$4-$F$4)/($E$4-$F$4))))/49.8328865456397)^'Qn V'!I$17)*('Qn V'!I$18*$B16/1000)","v":2892.2020000000007},{"$f":"(((($D$4-$E$4)/(LN(($D$4-$F$4)/($E$4-$F$4))))/49.8328865456397)^'Qn V'!J$17)*('Qn V'!J$18*$B16/1000)","v":2263.7540000000004},{"$f":"(((($D$4-$E$4)/(LN(($D$4-$F$4)/($E$4-$F$4))))/49.8328865456397)^'Qn V'!K$17)*('Qn V'!K$18*$B16/1000)","v":2578.9360000000006},{"$f":"(((($D$4-$E$4)/(LN(($D$4-$F$4)/($E$4-$F$4))))/49.8328865456397)^'Qn V'!L$17)*('Qn V'!L$18*$B16/1000)","v":3180.5600000000009},null,null,null,958,null,{"$f":"Sortiment!A777","v":1},{"$f":"Sortiment!A873","v":0},{"$f":"Sortiment!A969","v":1},{"$f":"Sortiment!A785","v":1},{"$f":"Sortiment!A881","v":0},{"$f":"Sortiment!A977","v":1},{"$f":"Sortiment!A793","v":1},{"$f":"Sortiment!A889","v":0},{"$f":"Sortiment!A985","v":0}]

{"sheet":"Predek KR","index":7,"n_rows":12,"n_cols":19,"rows_kept":12,"cut":false,"hidden":true,"merged":[]}
[]
[]
[null,null,null,"t 1","t 2","t i"," D T"]
[null,null,null,{"$f":"Reflex!D8","v":75},{"$f":"Reflex!E8","v":65},{"$f":"Reflex!F8","v":20},{"$f":"(D4+E4)/2-F4","v":50}]
[null,null,null,"Tepelné výkony podle EN 442",null,null,null,null,null,null,null,null,null,null,null,"SORTIMENT REFLEX"]
[]
[null,null,"Výška [mm]",{"$f":"'Qn R'!D3","v":1800},null,null,null,null,null,null,null,null,null,null,null,null,"Výška [mm]",1800]
[null,"Délka [mm]",null,{"$f":"'Qn R'!D4","v":"K10R"},{"$f":"'Qn R'!E4","v":"K20R"},null,null,null,null,null,null,null,null,null,null,"Délka [mm]",null,{"$f":"D8","v":"K10R"},{"$f":"E8","v":"K20R"}]
[null,514,null,{"$f":"(((($D$4-$E$4)/(LN(($D$4-$F$4)/($E$4-$F$4))))/49.8328865456397)^'Qn R'!D$5)*'Qn R'!D$6","v":791.00000000000023},{"$f":"(((($D$4-$E$4)/(LN(($D$4-$F$4)/($E$4-$F$4))))/49.8328865456397)^'Qn R'!E$5)*'Qn R'!E$6","v":1415.0000000000002},null,null,null,null,null,null,null,null,null,null,514,null,{"$f":"Sortiment!A986","v":1},{"$f":"Sortiment!A990","v":1}]
[null,662,null,{"$f":"(((($D$4-$E$4)/(LN(($D$4-$F$4)/($E$4-$F$4))))/49.8328865456397)^'Qn R'!D$7)*'Qn R'!D$8","v":1086.0000000000002},{"$f":"(((($D$4-$E$4)/(LN(($D$4-$F$4)/($E$4-$F$4))))/49.8328865456397)^'Qn R'!E$7)*'Qn R'!E$8","v":1877.0000000000005},null,null,null,null,null,null,null,null,null,null,662,null,{"$f":"Sortiment!A987","v":1},{"$f":"Sortiment!A991","v":1}]
[null,884,null,{"$f":"(((($D$4-$E$4)/(LN(($D$4-$F$4)/($E$4-$F$4))))/49.8328865456397)^'Qn R'!D$9)*'Qn R'!D$10","v":1381.0000000000002},{"$f":"(((($D$4-$E$4)/(LN(($D$4-$F$4)/($E$4-$F$4))))/49.8328865456397)^'Qn R'!E$9)*'Qn R'!E$10","v":2339.0000000000005},null,null,null,null,null,null,null,null,null,null,884,null,{"$f":"Sortiment!A988","v":1},{"$f":"Sortiment!A992","v":1}]
[null,958,null,{"$f":"(((($D$4-$E$4)/(LN(($D$4-$F$4)/($E$4-$F$4))))/49.8328865456397)^'Qn R'!D$11)*'Qn R'!D$12","v":1676.0000000000005},{"$f":"(((($D$4-$E$4)/(LN(($D$4-$F$4)/($E$4-$F$4))))/49.8328865456397)^'Qn R'!E$11)*'Qn R'!E$12","v":2801.0000000000005},null,null,null,null,null,null,null,null,null,null,958,null,{"$f":"Sortiment!A989","v":1},{"$f":"Sortiment!A993","v":1}]

{"sheet":"Qn H","index":8,"n_rows":75,"n_cols":38,"rows_kept":75,"cut":false,"hidden":true,"merged":[]}
[null,null,null,null,3,{"$f":"E1+1","v":4},{"$f":"F1+1","v":5},6,7,8,9,10,11,12,13,14,15,16,17,18]
[null,null,null,{"$f":"logic!$C$2","v":"KH"},{"$f":"logic!B2","v":"KORATHERM HORIZONTAL"}]
[null,null,{"$f":"$D$2&D3","v":"KH1typ"},"1typ",null,null,144,null,null,null,null,null,null,null,218]
[null,null,"KH1výška","1výška",{"$f":"IF(E5=0,0,VLOOKUP($C4,$C$23:E$75,E$1,FALSE))","v":"K10H"},{"$f":"IF(F5=0,0,VLOOKUP($C4,$C$23:F$75,F$1,FALSE))","v":"K11H"},{"$f":"IF(G5=0,0,VLOOKUP($C4,$C$23:G$75,G$1,FALSE))","v":"K20H"},{"$f":"IF(H5=0,0,VLOOKUP($C4,$C$23:H$75,H$1,FALSE))","v":"K21H"},{"$f":"IF(I5=0,0,VLOOKUP($C4,$C$23:I$75,I$1,FALSE))","v":"K22H"},{"$f":"IF(J5=0,0,VLOOKUP($C4,$C$23:J$75,J$1,FALSE))","v":"K23H"},{"$f":"IF(K5=0,0,VLOOKUP($C4,$C$23:K$75,K$1,FALSE))","v":"K44H"},{"$f":"IF(L5=0,0,VLOOKUP($C4,$C$23:L$75,L$1,FALSE))","v":"K46H"},{"$f":"IF(M5=0,0,VLOOKUP($C4,$C$23:M$75,M$1,FALSE))","v":"K10H"},{"$f":"IF(N5=0,0,VLOOKUP($C4,$C$23:N$75,N$1,FALSE))","v":"K11H"},{"$f":"IF(O5=0,0,VLOOKUP($C4,$C$23:O$75,O$1,FALSE))","v":"K20H"},{"$f":"IF(P5=0,0,VLOOKUP($C4,$C$23:P$75,P$1,FALSE))","v":"K21H"},{"$f":"IF(Q5=0,0,VLOOKUP($C4,$C$23:Q$75,Q$1,FALSE))","v":"K22H"},{"$f":"IF(R5=0,0,VLOOKUP($C4,$C$23:R$75,R$1,FALSE))","v":"K23H"},{"$f":"IF(S5=0,0,VLOOKUP($C4,$C$23:S$75,S$1,FALSE))","v":"K44H"},{"$f":"IF(T5=0,0,VLOOKUP($C4,$C$23:T$75,T$1,FALSE))","v":"K46H"}]
[null,null,"KH1n =","1n =",{"$f":"SUMIF($C$22:$C$75,$C5,E$22:E$75)","v":1.2020999999999999},1.2072000000000001,1.2061999999999999,1.2231000000000001,1.1926000000000001,1.1988000000000001,1.2009000000000001,1.1927000000000001,1.2049000000000001,1.2230000000000001,1.2042999999999999,1.2250000000000001,1.2114,1.2004999999999999,1.2228000000000001,1.2044999999999999]
[null,null,"KH1Qn =","1Qn =",199,289,318,417,534,579,992,1167,266,411,439,581,749,863,1409,1705]
[null,null,"KH2typ","2typ",null,null,366,null,null,null,null,null,null,null,514]
[null,null,"KH2výška","2výška",{"$f":"IF(E9=0,0,VLOOKUP($C8,$C$23:E$75,E$1,FALSE))","v":"K10H"},{"$f":"IF(F9=0,0,VLOOKUP($C8,$C$23:F$75,F$1,FALSE))","v":"K11H"},{"$f":"IF(G9=0,0,VLOOKUP($C8,$C$23:G$75,G$1,FALSE))","v":"K20H"},{"$f":"IF(H9=0,0,VLOOKUP($C8,$C$23:H$75,H$1,FALSE))","v":"K21H"},{"$f":"IF(I9=0,0,VLOOKUP($C8,$C$23:I$75,I$1,FALSE))","v":"K22H"},{"$f":"IF(J9=0,0,VLOOKUP($C8,$C$23:J$75,J$1,FALSE))","v":0},{"$f":"IF(K9=0,0,VLOOKUP($C8,$C$23:K$75,K$1,FALSE))","v":0},{"$f":"IF(L9=0,0,VLOOKUP($C8,$C$23:L$75,L$1,FALSE))","v":0},{"$f":"IF(M9=0,0,VLOOKUP($C8,$C$23:M$75,M$1,FALSE))","v":"K10H"},{"$f":"IF(N9=0,0,VLOOKUP($C8,$C$23:N$75,N$1,FALSE))","v":"K11H"},{"$f":"IF(O9=0,0,VLOOKUP($C8,$C$23:O$75,O$1,FALSE))","v":"K20H"},{"$f":"IF(P9=0,0,VLOOKUP($C8,$C$23:P$75,P$1,FALSE))","v":"K21H"},{"$f":"IF(Q9=0,0,VLOOKUP($C8,$C$23:Q$75,Q$1,FALSE))","v":"K22H"},{"$f":"IF(R9=0,0,VLOOKUP($C8,$C$23:R$75,R$1,FALSE))","v":0},{"$f":"IF(S9=0,0,VLOOKUP($C8,$C$23:S$75,S$1,FALSE))","v":0},{"$f":"IF(T9=0,0,VLOOKUP($C8,$C$23:T$75,T$1,FALSE))","v":0}]
[null,null,"KH2n =","2n =",{"$f":"SUMIF($C$22:$C$75,$C9,E$22:E$75)","v":1.2104999999999999},1.2545999999999999,1.2005999999999999,1.2287999999999999,1.2491000000000001,0,0,0,1.2277,1.2573000000000001,1.2101,1.2482,1.2370000000000001,0,0,0]
[null,null,"KH2Qn =","2Qn =",395,638,667,871,1207,0,0,0,527,848,892,1128,1554,0,0,0]
[null,null,"KH3typ","3typ",null,null,588,null,null,null,null,null,null,null,662]
[null,null,"KH3výška","3výška",{"$f":"IF(E13=0,0,VLOOKUP($C12,$C$23:E$75,E$1,FALSE))","v":"K10H"},{"$f":"IF(F13=0,0,VLOOKUP($C12,$C$23:F$75,F$1,FALSE))","v":"K11H"},{"$f":"IF(G13=0,0,VLOOKUP($C12,$C$23:G$75,G$1,FALSE))","v":"K20H"},{"$f":"IF(H13=0,0,VLOOKUP($C12,$C$23:H$75,H$1,FALSE))","v":"K21H"},{"$f":"IF(I13=0,0,VLOOKUP($C12,$C$23:I$75,I$1,FALSE))","v":"K22H"},{"$f":"IF(J13=0,0,VLOOKUP($C12,$C$23:J$75,J$1,FALSE))","v":0},{"$f":"IF(K13=0,0,VLOOKUP($C12,$C$23:K$75,K$1,FALSE))","v":0},{"$f":"IF(L13=0,0,VLOOKUP($C12,$C$23:L$75,L$1,FALSE))","v":0},{"$f":"IF(M13=0,0,VLOOKUP($C12,$C$23:M$75,M$1,FALSE))","v":"K10H"},{"$f":"IF(N13=0,0,VLOOKUP($C12,$C$23:N$75,N$1,FALSE))","v":"K11H"},{"$f":"IF(O13=0,0,VLOOKUP($C12,$C$23:O$75,O$1,FALSE))","v":"K20H"},{"$f":"IF(P13=0,0,VLOOKUP($C12,$C$23:P$75,P$1,FALSE))","v":"K21H"},{"$f":"IF(Q13=0,0,VLOOKUP($C12,$C$23:Q$75,Q$1,FALSE))","v":"K22H"},{"$f":"IF(R13=0,0,VLOOKUP($C12,$C$23:R$75,R$1,FALSE))","v":0},{"$f":"IF(S13=0,0,VLOOKUP($C12,$C$23:S$75,S$1,FALSE))","v":0},{"$f":"IF(T13=0,0,VLOOKUP($C12,$C$23:T$75,T$1,FALSE))","v":0}]
[null,null,"KH3n =","3n =",{"$f":"SUMIF($C$22:$C$75,$C13,E$22:E$75)","v":1.2363},1.2586999999999999,1.2148000000000001,1.2578,1.2309000000000001,0,0,0,1.2450000000000001,1.26,1.2195,1.2675000000000001,1.2248000000000001,0,0,0]
[null,null,"KH3Qn =","3Qn =",595,949,1006,1247,1708,0,0,0,666,1048,1120,1360,1853,0,0,0]
[null,null,"KH4typ","4typ",null,null,884,null,null,null,null,null,null,null,958]
[null,null,"KH4výška","4výška",{"$f":"IF(E17=0,0,VLOOKUP($C16,$C$23:E$75,E$1,FALSE))","v":"K10H"},{"$f":"IF(F17=0,0,VLOOKUP($C16,$C$23:F$75,F$1,FALSE))","v":"K11H"},{"$f":"IF(G17=0,0,VLOOKUP($C16,$C$23:G$75,G$1,FALSE))","v":"K20H"},{"$f":"IF(H17=0,0,VLOOKUP($C16,$C$23:H$75,H$1,FALSE))","v":"K21H"},{"$f":"IF(I17=0,0,VLOOKUP($C16,$C$23:I$75,I$1,FALSE))","v":"K22H"},{"$f":"IF(J17=0,0,VLOOKUP($C16,$C$23:J$75,J$1,FALSE))","v":0},{"$f":"IF(K17=0,0,VLOOKUP($C16,$C$23:K$75,K$1,FALSE))","v":0},{"$f":"IF(L17=0,0,VLOOKUP($C16,$C$23:L$75,L$1,FALSE))","v":0},{"$f":"IF(M17=0,0,VLOOKUP($C16,$C$23:M$75,M$1,FALSE))","v":"K10H"},{"$f":"IF(N17=0,0,VLOOKUP($C16,$C$23:N$75,N$1,FALSE))","v":"K11H"},{"$f":"IF(O17=0,0,VLOOKUP($C16,$C$23:O$75,O$1,FALSE))","v":"K20H"},{"$f":"IF(P17=0,0,VLOOKUP($C16,$C$23:P$75,P$1,FALSE))","v":"K21H"},{"$f":"IF(Q17=0,0,VLOOKUP($C16,$C$23:Q$75,Q$1,FALSE))","v":"K22H"},{"$f":"IF(R17=0,0,VLOOKUP($C16,$C$23:R$75,R$1,FALSE))","v":0},{"$f":"IF(S17=0,0,VLOOKUP($C16,$C$23:S$75,S$1,FALSE))","v":0},{"$f":"IF(T17=0,0,VLOOKUP($C16,$C$23:T$75,T$1,FALSE))","v":0}]
[null,null,"KH4n =","4n =",{"$f":"SUMIF($C$22:$C$75,$C17,E$22:E$75)","v":1.258},1.2905,1.2274,1.2783,1.2476,0,0,0,1.2624,1.3007,1.23,1.2819,1.2552000000000001,0,0,0]
[null,null,"KH4Qn =","4Qn =",898,1332,1476,1674,2238,0,0,0,982,1423,1599,1771,2351,0,0,0]
[]
[]
[null,null,null,"KH","KORATHERM HORIZONTAL",null,null,null,null,null,null,null,null,null,null,null,null,null,null,null,null,"KORATHERM HORIZONTAL"]
[null,null,{"$f":"$D$21&D22","v":"KH1typ"},"1typ",null,null,144,null,null,null,null,null,null,null,218,null,null,null,null,null,null,null,null,144,null,null,null,null,null,null,null,218]
[null,null,"KH1výška","1výška","K10H","K11H","K20H","K21H","K22H","K23H","K44H","K46H","K10H","K11H","K20H","K21H","K22H","K23H","K44H","K46H",null,"K10H","K11H","K20H","K21H","K22H","K23H","K44H","K46H","K10H","K11H","K20H","K21H","K22H","K23H","K44H","K46H"]
[null,null,"KH1n =","1n =",1.2020999999999999,1.2072000000000001,1.2061999999999999,1.2231000000000001,1.1926000000000001,1.1988000000000001,1.2009000000000001,1.1927000000000001,1.2049000000000001,1.2230000000000001,1.2042999999999999,1.2250000000000001,1.2114,1.2004999999999999,1.2228000000000001,1.2044999999999999,null,1.2020999999999999,1.2072000000000001,1.2061999999999999,1.2231000000000001,1.1926000000000001,1.1988000000000001,1.2009000000000001,1.1927000000000001,1.2049000000000001,1.2230000000000001,1.2042999999999999,1.2250000000000001,1.2114,1.2004999999999999,1.2228000000000001,1.2044999999999999]
[null,null,"KH1Qn =","1Qn =",199,289,318,417,534,579,992,1167,266,411,439,581,749,863,1409,1705,null,199,289,318,417,534,579,992,1167,266,411,439,581,749,863,1409,1705]
[null,null,"KH2typ","2typ",null,null,366,null,null,null,null,null,null,null,514]
[null,null,"KH2výška","2výška","K10H","K11H","K20H","K21H","K22H",null,null,null,"K10H","K11H","K20H","K21H","K22H"]
[null,null,{"$f":"$D$21&D28","v":"KH2n ="},"2n =",1.2104999999999999,1.2545999999999999,1.2005999999999999,1.2287999999999999,1.2491000000000001,null,null,null,1.2277,1.2573000000000001,1.2101,1.2482,1.2370000000000001]
[null,null,"KH2Qn =","2Qn =",395,638,667,871,1207,null,null,null,527,848,892,1128,1554]
[null,null,"KH3typ","3typ",null,null,588,null,null,null,null,null,null,null,662]
[null,null,"KH3výška","3výška","K10H","K11H","K20H","K21H","K22H",null,null,null,"K10H","K11H","K20H","K21H","K22H"]
[null,null,"KH3n =","3n =",1.2363,1.2586999999999999,1.2148000000000001,1.2578,1.2309000000000001,null,null,null,1.2450000000000001,1.26,1.2195,1.2675000000000001,1.2248000000000001]
[null,null,"KH3Qn =","3Qn =",595,949,1006,1247,1708,null,null,null,666,1048,1120,1360,1853]
[null,null,"KH4typ","4typ",null,null,884,null,null,null,null,null,null,null,958]
[null,null,"KH4výška","4výška","K10H","K11H","K20H","K21H","K22H",null,null,null,"K10H","K11H","K20H","K21H","K22H"]
[null,null,"KH4n =","4n =",1.258,1.2905,1.2274,1.2783,1.2476,null,null,null,1.2624,1.3007,1.23,1.2819,1.2552000000000001]
[null,null,"KH4Qn =","4Qn =",898,1332,1476,1674,2238,null,null,null,982,1423,1599,1771,2351]
[]
[]
[null,null,null,"KHM","KORATHERM HORIZONTAL - M",null,null,null,null,null,null,null,null,null,null,null,null,null,null,null,null,null,"KORATHERM HORIZONTAL - M"]
[null,null,{"$f":"$D$40&D41","v":"KHM1typ"},"1typ",null,null,144,null,null,null,null,null,null,null,218,null,null,null,null,null,null,null,null,null,144,null,null,null,null,null,null,null,218]
[null,null,"KHM1výška","1výška","K10HM","K11HM","K20HM","K21HM","K22HM","K23HM","K44HM","K46HM","K10HM","K11HM","K20HM","K21HM","K22HM","K23HM","K44HM","K46HM",null,null,"K10HM","K11HM","K20HM","K21HM","K22HM","K23HM","K44HM","K46HM","K10HM","K11HM","K20HM","K21HM","K22HM","K23HM","K44HM","K46HM"]
[null,null,"KHM1n =","1n =",null,null,null,null,null,1.1988000000000001,1.2009000000000001,1.1927000000000001,null,null,null,1.2250000000000001,1.2114,1.2004999999999999,1.2228000000000001,1.2044999999999999,null,null,null,null,null,null,null,1.1988000000000001,1.2009000000000001,1.1927000000000001,null,null,null,1.2250000000000001,1.2114,1.2004999999999999,1.2228000000000001,1.2044999999999999]
[null,null,"KHM1Qn =","1Qn =",null,null,null,null,null,579,992,1167,null,null,null,581,749,863,1409,1705,null,null,null,null,null,null,null,579,992,1167,null,null,null,581,749,863,1409,1705]
[null,null,"KHM2typ","2typ",null,null,366,null,null,null,null,null,null,null,514]
[null,null,"KHM2výška","2výška","K10HM","K11HM","K20HM","K21HM","K22HM",null,null,null,"K10HM","K11HM","K20HM","K21HM","K22HM"]
[null,null,"KHM2n =","2n =",null,1.2545999999999999,1.2318,1.2287999999999999,1.2491000000000001,null,null,null,null,1.2573000000000001,1.2399,1.2482,1.2370000000000001]
[null,null,"KHM2Qn =","2Qn =",null,638,742,871,1207,null,null,null,null,848,989,1128,1554]
[null,null,"KHM3typ","3typ",null,null,588,null,null,null,null,null,null,null,662]
[null,null,"KHM3výška","3výška","K10HM","K11HM","K20HM","K21HM","K22HM",null,null,null,"K10HM","K11HM","K20HM","K21HM","K22HM"]
[null,null,"KHM3n =","3n =",null,1.2586999999999999,1.2439,1.2578,1.2309000000000001,null,null,null,null,1.26,1.2479,1.2675000000000001,1.2248000000000001]
[null,null,"KHM3Qn =","3Qn =",null,949,1112,1247,1708,null,null,null,null,1048,1235,1360,1853]
[null,null,"KHM4typ","4typ",null,null,884,null,null,null,null,null,null,null,958]
[null,null,"KHM4výška","4výška","K10HM","K11HM","K20HM","K21HM","K22HM",null,null,null,"K10HM","K11HM","K20HM","K21HM","K22HM"]
[null,null,"KHM4n =","4n =",null,1.2905,1.2256,1.2783,1.2476]
[null,null,"KHM4Qn =","4Qn =",null,1332,1610,1674,2238]
[]
[]
[null,null,null,"KHVKM","KORATHERM HORIZONTAL VKM",null,null,null,null,null,null,null,null,null,null,null,null,null,null,null,null,null,"KORATHERM HORIZONTAL VKM"]
[null,null,{"$f":"$D$59&D60","v":"KHVKM1typ"},"1typ",null,null,144,null,null,null,null,null,null,null,218,null,null,null,null,null,null,null,null,null,144,null,null,null,null,null,null,null,218]
[null,null,{"$f":"$D$59&D61","v":"KHVKM1výška"},"1výška","K10HVKM","K11HVKM","K20HVKM","K21HVKM","K22HVKM","K23HVKM","K44HVKM","K46HVKM","K10HVKM","K11HVKM","K20HVKM","K21HVKM","K22HVKM",null,null,null,null,null,"K10HVKM","K11HVKM","K20HVKM","K21HVKM","K22HVKM","K23HVKM","K44HVKM","K46HVKM","K10HVKM","K11HVKM","K20HVKM","K21HVKM","K22HVKM"]
[null,null,"KHVKM1n =","1n =",null,null,null,null,null,null,null,null,null,null,null,1.2250000000000001,1.2114,null,null,null,null,null,null,null,null,null,null,null,null,null,null,null,null,1.2250000000000001,1.2114,1.2004999999999999,1.2228000000000001,1.2044999999999999]
[null,null,"KHVKM1Qn =","1Qn =",null,null,null,null,null,null,null,null,null,null,null,581,749,null,null,null,null,null,null,null,null,null,null,null,null,null,null,null,null,581,749,863,1409,1705]
[null,null,"KHVKM2typ","2typ",null,null,366,null,null,null,null,null,null,null,514]
[null,null,"KHVKM2výška","2výška","K10HVKM","K11HVKM","K20HVKM","K21HVKM","K22HVKM",null,null,null,"K10HVKM","K11HVKM","K20HVKM","K21HVKM","K22HVKM"]
[null,null,"KHVKM2n =","2n =",null,1.2545999999999999,1.2318,1.2287999999999999,1.2491000000000001,null,null,null,null,1.2573000000000001,1.2399,1.2482,1.2370000000000001]
[null,null,"KHVKM2Qn =","2Qn =",null,638,742,871,1207,null,null,null,null,848,989,1128,1554]
[null,null,"KHVKM3typ","3typ",null,null,588,null,null,null,null,null,null,null,662]
[null,null,"KHVKM3výška","3výška","K10HVKM","K11HVKM","K20HVKM","K21HVKM","K22HVKM",null,null,null,"K10HVKM","K11HVKM","K20HVKM","K21HVKM","K22HVKM"]
[null,null,"KHVKM3n =","3n =",null,1.2586999999999999,1.2439,1.2578,1.2309000000000001,null,null,null,null,1.26,1.2479,1.2675000000000001,1.2248000000000001]
[null,null,"KHVKM3Qn =","3Qn =",null,949,1112,1247,1708,null,null,null,null,1048,1235,1360,1853]
[null,null,"KHVKM4typ","4typ",null,null,884,null,null,null,null,null,null,null,958]
[null,null,"KHVKM4výška","4výška","K10HVKM","K11HVKM","K20HVKM","K21HVKM","K22HVKM",null,null,null,"K10HVKM","K11HVKM","K20HVKM","K21HVKM","K22HVKM"]
[null,null,"KHVKM4n =","4n =",null,1.2905,1.2256,1.2783,1.2476]
[null,null,"KHVKM4Qn =","4Qn =",null,1332,1610,1674,2238]

{"sheet":"Qn V","index":9,"n_rows":56,"n_cols":12,"rows_kept":56,"cut":false,"hidden":true,"merged":[]}
[null,null,null,3,{"$f":"D1+1","v":4},{"$f":"E1+1","v":5},6,7,8,9,10,11]
[null,null,{"$f":"logic!C7","v":"KVM"},{"$f":"logic!B7","v":"KORATHERM VERTIKAL - M"}]
[null,{"$f":"$C$2&C3","v":"KVM1typ"},"1typ",null,500,null,null,600,null,null,700]
[null,{"$f":"$C$2&C4","v":"KVM1výška"},"1výška",{"$f":"IF(D5=0,0,VLOOKUP($B4,$B$23:D$75,D$1,FALSE))","v":"K10VM"},{"$f":"IF(E5=0,0,VLOOKUP($B4,$B$23:E$75,E$1,FALSE))","v":"K11VM"},{"$f":"IF(F5=0,0,VLOOKUP($B4,$B$23:F$75,F$1,FALSE))","v":"K20VM"},{"$f":"IF(G5=0,0,VLOOKUP($B4,$B$23:G$75,G$1,FALSE))","v":"K10VM"},{"$f":"IF(H5=0,0,VLOOKUP($B4,$B$23:H$75,H$1,FALSE))","v":"K11VM"},{"$f":"IF(I5=0,0,VLOOKUP($B4,$B$23:I$75,I$1,FALSE))","v":"K20VM"},{"$f":"IF(J5=0,0,VLOOKUP($B4,$B$23:J$75,J$1,FALSE))","v":"K10VM"},{"$f":"IF(K5=0,0,VLOOKUP($B4,$B$23:K$75,K$1,FALSE))","v":"K11VM"},{"$f":"IF(L5=0,0,VLOOKUP($B4,$B$23:L$75,L$1,FALSE))","v":"K20VM"}]
[null,"KVM1n =","1n =",{"$f":"SUMIF($B$22:$B$56,$B5,D$22:D$56)","v":1.2638},{"$f":"SUMIF($B$22:$B$56,$B5,E$22:E$56)","v":1.2399},1.2994000000000001,1.2682,1.2459,1.3015000000000001,1.2725,1.2518,1.3037000000000001]
[null,"KVM1Qn =","1Qn =",{"$f":"SUMIF($B$22:$B$56,$B6,D$22:D$56)","v":626},822,951,743,964,1121,860,1102,1288]
[null,"KVM2typ","2typ",null,800,null,null,900,null,null,1000]
[null,"KVM2výška","2výška",{"$f":"IF(D9=0,0,VLOOKUP($B8,$B$23:D$75,D$1,FALSE))","v":"K10VM"},{"$f":"IF(E9=0,0,VLOOKUP($B8,$B$23:E$75,E$1,FALSE))","v":"K11VM"},{"$f":"IF(F9=0,0,VLOOKUP($B8,$B$23:F$75,F$1,FALSE))","v":"K20VM"},{"$f":"IF(G9=0,0,VLOOKUP($B8,$B$23:G$75,G$1,FALSE))","v":"K10VM"},{"$f":"IF(H9=0,0,VLOOKUP($B8,$B$23:H$75,H$1,FALSE))","v":"K11VM"},{"$f":"IF(I9=0,0,VLOOKUP($B8,$B$23:I$75,I$1,FALSE))","v":"K20VM"},{"$f":"IF(J9=0,0,VLOOKUP($B8,$B$23:J$75,J$1,FALSE))","v":"K10VM"},{"$f":"IF(K9=0,0,VLOOKUP($B8,$B$23:K$75,K$1,FALSE))","v":"K11VM"},{"$f":"IF(L9=0,0,VLOOKUP($B8,$B$23:L$75,L$1,FALSE))","v":"K20VM"}]
[null,"KVM2n =","2n =",{"$f":"SUMIF($B$22:$B$56,$B9,D$22:D$56)","v":1.2768999999999999},1.2578,1.3058000000000001,1.2813000000000001,1.2638,1.3079000000000001,1.2857000000000001,1.2698,1.3101]
[null,"KVM2Qn =","2Qn =",977,1237,1453,1093,1369,1616,1208,1498,1777]
[null,"KVM3typ","3typ",null,1100,null,null,1200,null,null,1400]
[null,"KVM3výška","3výška",{"$f":"IF(D13=0,0,VLOOKUP($B12,$B$23:D$75,D$1,FALSE))","v":"K10VM"},{"$f":"IF(E13=0,0,VLOOKUP($B12,$B$23:E$75,E$1,FALSE))","v":"K11VM"},{"$f":"IF(F13=0,0,VLOOKUP($B12,$B$23:F$75,F$1,FALSE))","v":"K20VM"},{"$f":"IF(G13=0,0,VLOOKUP($B12,$B$23:G$75,G$1,FALSE))","v":"K10VM"},{"$f":"IF(H13=0,0,VLOOKUP($B12,$B$23:H$75,H$1,FALSE))","v":"K11VM"},{"$f":"IF(I13=0,0,VLOOKUP($B12,$B$23:I$75,I$1,FALSE))","v":"K20VM"},{"$f":"IF(J13=0,0,VLOOKUP($B12,$B$23:J$75,J$1,FALSE))","v":"K10VM"},{"$f":"IF(K13=0,0,VLOOKUP($B12,$B$23:K$75,K$1,FALSE))","v":"K11VM"},{"$f":"IF(L13=0,0,VLOOKUP($B12,$B$23:L$75,L$1,FALSE))","v":"K20VM"}]
[null,"KVM3n =","3n =",{"$f":"SUMIF($B$22:$B$56,$B13,D$22:D$56)","v":1.2877000000000001},1.2754000000000001,1.3142,1.2898000000000001,1.2808999999999999,1.3184,1.2939000000000001,1.292,1.3266]
[null,"KVM3Qn =","3Qn =",1324,1626,1937,1439,1751,2095,1670,1996,2407]
[null,"KVM4typ","4typ",null,1600,null,null,1800,null,null,2000]
[null,"KVM4výška","4výška",{"$f":"IF(D17=0,0,VLOOKUP($B16,$B$23:D$75,D$1,FALSE))","v":"K10VM"},{"$f":"IF(E17=0,0,VLOOKUP($B16,$B$23:E$75,E$1,FALSE))","v":"K11VM"},{"$f":"IF(F17=0,0,VLOOKUP($B16,$B$23:F$75,F$1,FALSE))","v":"K20VM"},{"$f":"IF(G17=0,0,VLOOKUP($B16,$B$23:G$75,G$1,FALSE))","v":"K10VM"},{"$f":"IF(H17=0,0,VLOOKUP($B16,$B$23:H$75,H$1,FALSE))","v":"K11VM"},{"$f":"IF(I17=0,0,VLOOKUP($B16,$B$23:I$75,I$1,FALSE))","v":"K20VM"},{"$f":"IF(J17=0,0,VLOOKUP($B16,$B$23:J$75,J$1,FALSE))","v":"K10VM"},{"$f":"IF(K17=0,0,VLOOKUP($B16,$B$23:K$75,K$1,FALSE))","v":"K11VM"},{"$f":"IF(L17=0,0,VLOOKUP($B16,$B$23:L$75,L$1,FALSE))","v":"K20VM"}]
[null,"KVM4n =","4n =",{"$f":"SUMIF($B$22:$B$56,$B17,D$22:D$56)","v":1.2966},1.2937000000000001,1.3283,1.2992999999999999,1.2955000000000001,1.3299000000000001,1.302,1.2972999999999999,1.3315999999999999]
[null,"KVM4Qn =","4Qn =",1900,2234,2715,2131,2466,3019,2363,2692,3320]
[]
[]
[null,null,"KV","KORATHERM VERTIKAL"]
[null,{"$f":"$C$21&C22","v":"KV1typ"},"1typ",null,500,null,null,600,null,null,700]
[null,{"$f":"$C$21&C23","v":"KV1výška"},"1výška","K10V","K11V","K20V","K10V","K11V","K20V","K10V","K11V","K20V"]
[null,"KV1n =","1n =",1.2638,1.2399,1.2994000000000001,1.2682,1.2459,1.3015000000000001,1.2725,1.2518,1.3037000000000001]
[null,"KV1Qn =","1Qn =",626,822,951,743,964,1121,860,1102,1288]
[null,"KV2typ","2typ",null,800,null,null,900,null,null,1000]
[null,"KV2výška","2výška","K10V","K11V","K20V","K10V","K11V","K20V","K10V","K11V","K20V"]
[null,"KV2n =","2n =",1.2768999999999999,1.2578,1.3058000000000001,1.2813000000000001,1.2638,1.3079000000000001,1.2857000000000001,1.2698,1.3101]
[null,"KV2Qn =","2Qn =",977,1237,1453,1093,1369,1616,1208,1498,1777]
[null,"KV3typ","3typ",null,1100,null,null,1200,null,null,1400]
[null,"KV3výška","3výška","K10V","K11V","K20V","K10V","K11V","K20V","K10V","K11V","K20V"]
[null,"KV3n =","3n =",1.2877000000000001,1.2754000000000001,1.3142,1.2898000000000001,1.2808999999999999,1.3184,1.2939000000000001,1.292,1.3266]
[null,"KV3Qn =","3Qn =",1324,1626,1937,1439,1751,2095,1670,1996,2407]
[null,"KV4typ","4typ",null,1600,null,null,1800,null,null,2000]
[null,"KV4výška","4výška","K10V","K11V","K20V","K10V","K11V","K20V","K10V","K11V","K20V"]
[null,"KV4n =","4n =",1.2966,1.2937000000000001,1.3283,1.2992999999999999,1.2955000000000001,1.3299000000000001,1.302,1.2972999999999999,1.3315999999999999]
[null,"KV4Qn =","4Qn =",1900,2234,2715,2131,2466,3019,2363,2692,3320]
[]
[]
[null,null,"KVM","KORATHERM VERTIKAL M"]
[null,{"$f":"$C$40&C41","v":"KVM1typ"},"1typ",null,500,null,null,600,null,null,700]
[null,{"$f":"$C$40&C42","v":"KVM1výška"},"1výška","K10VM","K11VM","K20VM","K10VM","K11VM","K20VM","K10VM","K11VM","K20VM"]
[null,"KVM1n =","1n =",1.2638,1.2399,1.2994000000000001,1.2682,1.2459,1.3015000000000001,1.2725,1.2518,1.3037000000000001]
[null,"KVM1Qn =","1Qn =",626,822,951,743,964,1121,860,1102,1288]
[null,"KVM2typ","2typ",null,800,null,null,900,null,null,1000]
[null,"KVM2výška","2výška","K10VM","K11VM","K20VM","K10VM","K11VM","K20VM","K10VM","K11VM","K20VM"]
[null,"KVM2n =","2n =",1.2768999999999999,1.2578,1.3058000000000001,1.2813000000000001,1.2638,1.3079000000000001,1.2857000000000001,1.2698,1.3101]
[null,"KVM2Qn =","2Qn =",977,1237,1453,1093,1369,1616,1208,1498,1777]
[null,"KVM3typ","3typ",null,1100,null,null,1200,null,null,1400]
[null,"KVM3výška","3výška","K10VM","K11VM","K20VM","K10VM","K11VM","K20VM","K10VM","K11VM","K20VM"]
[null,"KVM3n =","3n =",1.2877000000000001,1.2754000000000001,1.3142,1.2898000000000001,1.2808999999999999,1.3184,1.2939000000000001,1.292,1.3266]
[null,"KVM3Qn =","3Qn =",1324,1626,1937,1439,1751,2095,1670,1996,2407]
[null,"KVM4typ","4typ",null,1600,null,null,1800,null,null,2000]
[null,"KVM4výška","4výška","K10VM","K11VM","K20VM","K10VM","K11VM","K20VM","K10VM","K11VM","K20VM"]
[null,"KVM4n =","4n =",1.2966,1.2937000000000001,1.3283,1.2992999999999999,1.2955000000000001,1.3299000000000001,1.302,1.2972999999999999,1.3315999999999999]
[null,"KVM4Qn =","4Qn =",1900,2234,2715,2131,2466,3019,2363,2692,3320]

{"sheet":"Qn R","index":10,"n_rows":39,"n_cols":5,"rows_kept":39,"cut":false,"hidden":true,"merged":[]}
[]
[null,null,{"$f":"logic!C12","v":"KR"},{"$f":"logic!B12","v":"KORATHERM REFLEX"}]
[null,{"$f":"$C$2&C3","v":"KR1typ"},"1typ",1800]
[null,{"$f":"$C$2&C4","v":"KR1výška"},"1výška","K10R","K20R"]
[null,{"$f":"$C$2&C5","v":"KR1n ="},"1n =",{"$f":"SUMIF($B$16:$B$39,$B5,D$16:D$39)","v":1.2724},{"$f":"SUMIF($B$16:$B$39,$B5,E$16:E$39)","v":1.3063}]
[null,{"$f":"$C$2&C6","v":"KR1Qn ="},"1Qn =",{"$f":"SUMIF($B$16:$B$39,$B6,D$16:D$39)","v":791},1415]
[null,{"$f":"$C$2&C7","v":"KR2n ="},"2n =",1.2790999999999999,1.3084]
[null,"KR2Qn =","2Qn =",1086,1877]
[null,"KR3n =","3n =",1.2859,1.3104]
[null,"KR3Qn =","3Qn =",1381,2339]
[null,"KR4n =","4n =",1.2926,1.3125]
[null,"KR4Qn =","4Qn =",1676,2801]
[]
[]
[null,null,"KR","KORATHERM REFLEX"]
[null,{"$f":"$C$15&C16","v":"KR1typ"},"1typ",1800]
[null,{"$f":"$C$15&C17","v":"KR1výška"},"1výška","K10R","K20R"]
[null,{"$f":"$C$15&C18","v":"KR1n ="},"1n =",1.2724,1.3063]
[null,{"$f":"$C$15&C19","v":"KR1Qn ="},"1Qn =",791,1415]
[null,{"$f":"$C$15&C20","v":"KR2n ="},"2n =",1.2790999999999999,1.3084]
[null,"KR2Qn =","2Qn =",1086,1877]
[null,"KR3n =","3n =",1.2859,1.3104]
[null,"KR3Qn =","3Qn =",1381,2339]
[null,"KR4n =","4n =",1.2926,1.3125]
[null,"KR4Qn =","4Qn =",1676,2801]
[]
[]
[]
[null,null,"KRM","KORATHERM REFLEX M"]
[null,{"$f":"$C$29&C30","v":"KRM1typ"},"1typ",1800]
[null,{"$f":"$C$29&C31","v":"KRM1výška"},"1výška","K10RM","K20RM"]
[null,{"$f":"$C$29&C32","v":"KRM1n ="},"1n ="]
[null,{"$f":"$C$29&C33","v":"KRM1Qn ="},"1Qn ="]
[null,{"$f":"$C$29&C34","v":"KRM2n ="},"2n ="]
[null,"KRM2Qn =","2Qn ="]
[null,"KRM3n =","3n ="]
[null,"KRM3Qn =","3Qn ="]
[null,"KRM4n =","4n ="]
[null,"KRM4Qn =","4Qn ="]

{"sheet":"Sortiment","index":11,"n_rows":993,"n_cols":4,"rows_kept":993,"cut":false,"hidden":true,"merged":[]}
[]
[]
[]
[]
[]
[{"$f":"SUMIF($C$7:$D$7,logic!$D$2,$C6:$D6)","v":"2010-01-01"},null,"2010-01-01","2012-03-15"]
[null,"Artikl","boční","středový"]
[{"$f":"SUMIF($C$7:$D$7,logic!$D$2,$C8:$D8)","v":1},"K10H01440500-10",1,0]
[{"$f":"SUMIF($C$7:$D$7,logic!$D$2,$C9:$D9)","v":1},"K10H01440600-10",1,0]
[{"$f":"SUMIF($C$7:$D$7,logic!$D$2,$C10:$D10)","v":1},"K10H01440700-10",1,0]
[{"$f":"SUMIF($C$7:$D$7,logic!$D$2,$C11:$D11)","v":1},"K10H01440800-10",1,0]
[{"$f":"SUMIF($C$7:$D$7,logic!$D$2,$C12:$D12)","v":1},"K10H01440900-10",1,0]
[{"$f":"SUMIF($C$7:$D$7,logic!$D$2,$C13:$D13)","v":1},"K10H01441000-10",1,0]
[{"$f":"SUMIF($C$7:$D$7,logic!$D$2,$C14:$D14)","v":1},"K10H01441100-10",1,0]
[{"$f":"SUMIF($C$7:$D$7,logic!$D$2,$C15:$D15)","v":1},"K10H01441200-10",1,0]
[{"$f":"SUMIF($C$7:$D$7,logic!$D$2,$C16:$D16)","v":1},"K10H01441400-10",1,0]
[{"$f":"SUMIF($C$7:$D$7,logic!$D$2,$C17:$D17)","v":1},"K10H01441600-10",1,0]
[{"$f":"SUMIF($C$7:$D$7,logic!$D$2,$C18:$D18)","v":1},"K10H01441800-10",1,0]
[{"$f":"SUMIF($C$7:$D$7,logic!$D$2,$C19:$D19)","v":1},"K10H01442000-10",1,0]
[{"$f":"SUMIF($C$7:$D$7,logic!$D$2,$C20:$D20)","v":1},"K10H01442300-10",1,0]
[{"$f":"SUMIF($C$7:$D$7,logic!$D$2,$C21:$D21)","v":1},"K10H01442600-10",1,0]
[{"$f":"SUMIF($C$7:$D$7,logic!$D$2,$C22:$D22)","v":1},"K10H01443000-10",1,0]
[{"$f":"SUMIF($C$7:$D$7,logic!$D$2,$C23:$D23)","v":1},"K10H02180500-10",1,0]
[{"$f":"SUMIF($C$7:$D$7,logic!$D$2,$C24:$D24)","v":1},"K10H02180600-10",1,0]
[{"$f":"SUMIF($C$7:$D$7,logic!$D$2,$C25:$D25)","v":1},"K10H02180700-10",1,0]
[{"$f":"SUMIF($C$7:$D$7,logic!$D$2,$C26:$D26)","v":1},"K10H02180800-10",1,0]
[{"$f":"SUMIF($C$7:$D$7,logic!$D$2,$C27:$D27)","v":1},"K10H02180900-10",1,0]
[{"$f":"SUMIF($C$7:$D$7,logic!$D$2,$C28:$D28)","v":1},"K10H02181000-10",1,0]
[{"$f":"SUMIF($C$7:$D$7,logic!$D$2,$C29:$D29)","v":1},"K10H02181100-10",1,0]
[{"$f":"SUMIF($C$7:$D$7,logic!$D$2,$C30:$D30)","v":1},"K10H02181200-10",1,0]
[{"$f":"SUMIF($C$7:$D$7,logic!$D$2,$C31:$D31)","v":1},"K10H02181400-10",1,0]
[{"$f":"SUMIF($C$7:$D$7,logic!$D$2,$C32:$D32)","v":1},"K10H02181600-10",1,0]
[{"$f":"SUMIF($C$7:$D$7,logic!$D$2,$C33:$D33)","v":1},"K10H02181800-10",1,0]
[{"$f":"SUMIF($C$7:$D$7,logic!$D$2,$C34:$D34)","v":1},"K10H02182000-10",1,0]
[{"$f":"SUMIF($C$7:$D$7,logic!$D$2,$C35:$D35)","v":1},"K10H02182300-10",1,0]
[{"$f":"SUMIF($C$7:$D$7,logic!$D$2,$C36:$D36)","v":1},"K10H02182600-10",1,0]
[{"$f":"SUMIF($C$7:$D$7,logic!$D$2,$C37:$D37)","v":1},"K10H02183000-10",1,0]
[{"$f":"SUMIF($C$7:$D$7,logic!$D$2,$C38:$D38)","v":1},"K10H03660500-10",1,0]
[{"$f":"SUMIF($C$7:$D$7,logic!$D$2,$C39:$D39)","v":1},"K10H03660600-10",1,0]
[{"$f":"SUMIF($C$7:$D$7,logic!$D$2,$C40:$D40)","v":1},"K10H03660700-10",1,0]
[{"$f":"SUMIF($C$7:$D$7,logic!$D$2,$C41:$D41)","v":1},"K10H03660800-10",1,0]
[{"$f":"SUMIF($C$7:$D$7,logic!$D$2,$C42:$D42)","v":1},"K10H03660900-10",1,0]
[{"$f":"SUMIF($C$7:$D$7,logic!$D$2,$C43:$D43)","v":1},"K10H03661000-10",1,0]
[{"$f":"SUMIF($C$7:$D$7,logic!$D$2,$C44:$D44)","v":1},"K10H03661100-10",1,0]
[{"$f":"SUMIF($C$7:$D$7,logic!$D$2,$C45:$D45)","v":1},"K10H03661200-10",1,0]
[{"$f":"SUMIF($C$7:$D$7,logic!$D$2,$C46:$D46)","v":1},"K10H03661400-10",1,0]
[{"$f":"SUMIF($C$7:$D$7,logic!$D$2,$C47:$D47)","v":1},"K10H03661600-10",1,0]
[{"$f":"SUMIF($C$7:$D$7,logic!$D$2,$C48:$D48)","v":1},"K10H03661800-10",1,0]
[{"$f":"SUMIF($C$7:$D$7,logic!$D$2,$C49:$D49)","v":1},"K10H03662000-10",1,0]
[{"$f":"SUMIF($C$7:$D$7,logic!$D$2,$C50:$D50)","v":1},"K10H03662300-10",1,0]
[{"$f":"SUMIF($C$7:$D$7,logic!$D$2,$C51:$D51)","v":1},"K10H03662600-10",1,0]
[{"$f":"SUMIF($C$7:$D$7,logic!$D$2,$C52:$D52)","v":1},"K10H03663000-10",1,0]
[{"$f":"SUMIF($C$7:$D$7,logic!$D$2,$C53:$D53)","v":1},"K10H05140500-10",1,0]
[{"$f":"SUMIF($C$7:$D$7,logic!$D$2,$C54:$D54)","v":1},"K10H05140600-10",1,0]
[{"$f":"SUMIF($C$7:$D$7,logic!$D$2,$C55:$D55)","v":1},"K10H05140700-10",1,0]
[{"$f":"SUMIF($C$7:$D$7,logic!$D$2,$C56:$D56)","v":1},"K10H05140800-10",1,0]
[{"$f":"SUMIF($C$7:$D$7,logic!$D$2,$C57:$D57)","v":1},"K10H05140900-10",1,0]
[{"$f":"SUMIF($C$7:$D$7,logic!$D$2,$C58:$D58)","v":1},"K10H05141000-10",1,0]
[{"$f":"SUMIF($C$7:$D$7,logic!$D$2,$C59:$D59)","v":1},"K10H05141100-10",1,0]
[{"$f":"SUMIF($C$7:$D$7,logic!$D$2,$C60:$D60)","v":1},"K10H05141200-10",1,0]
[{"$f":"SUMIF($C$7:$D$7,logic!$D$2,$C61:$D61)","v":1},"K10H05141400-10",1,0]
[{"$f":"SUMIF($C$7:$D$7,logic!$D$2,$C62:$D62)","v":1},"K10H05141600-10",1,0]
[{"$f":"SUMIF($C$7:$D$7,logic!$D$2,$C63:$D63)","v":1},"K10H05141800-10",1,0]
[{"$f":"SUMIF($C$7:$D$7,logic!$D$2,$C64:$D64)","v":1},"K10H05142000-10",1,0]
[{"$f":"SUMIF($C$7:$D$7,logic!$D$2,$C65:$D65)","v":1},"K10H05142300-10",1,0]
[{"$f":"SUMIF($C$7:$D$7,logic!$D$2,$C66:$D66)","v":1},"K10H05142600-10",1,0]
[{"$f":"SUMIF($C$7:$D$7,logic!$D$2,$C67:$D67)","v":1},"K10H05143000-10",1,0]
[{"$f":"SUMIF($C$7:$D$7,logic!$D$2,$C68:$D68)","v":1},"K10H05880500-10",1,0]
[{"$f":"SUMIF($C$7:$D$7,logic!$D$2,$C69:$D69)","v":1},"K10H05880600-10",1,0]
[{"$f":"SUMIF($C$7:$D$7,logic!$D$2,$C70:$D70)","v":1},"K10H05880700-10",1,0]
[{"$f":"SUMIF($C$7:$D$7,logic!$D$2,$C71:$D71)","v":1},"K10H05880800-10",1,0]
[{"$f":"SUMIF($C$7:$D$7,logic!$D$2,$C72:$D72)","v":1},"K10H05880900-10",1,0]
[{"$f":"SUMIF($C$7:$D$7,logic!$D$2,$C73:$D73)","v":1},"K10H05881000-10",1,0]
[{"$f":"SUMIF($C$7:$D$7,logic!$D$2,$C74:$D74)","v":1},"K10H05881100-10",1,0]
[{"$f":"SUMIF($C$7:$D$7,logic!$D$2,$C75:$D75)","v":1},"K10H05881200-10",1,0]
[{"$f":"SUMIF($C$7:$D$7,logic!$D$2,$C76:$D76)","v":1},"K10H05881400-10",1,0]
[{"$f":"SUMIF($C$7:$D$7,logic!$D$2,$C77:$D77)","v":1},"K10H05881600-10",1,0]
[{"$f":"SUMIF($C$7:$D$7,logic!$D$2,$C78:$D78)","v":1},"K10H05881800-10",1,0]
[{"$f":"SUMIF($C$7:$D$7,logic!$D$2,$C79:$D79)","v":1},"K10H05882000-10",1,0]
[{"$f":"SUMIF($C$7:$D$7,logic!$D$2,$C80:$D80)","v":1},"K10H05882300-10",1,0]
[{"$f":"SUMIF($C$7:$D$7,logic!$D$2,$C81:$D81)","v":1},"K10H05882600-10",1,0]
[{"$f":"SUMIF($C$7:$D$7,logic!$D$2,$C82:$D82)","v":1},"K10H05883000-10",1,0]
[{"$f":"SUMIF($C$7:$D$7,logic!$D$2,$C83:$D83)","v":1},"K10H06620500-10",1,0]
[{"$f":"SUMIF($C$7:$D$7,logic!$D$2,$C84:$D84)","v":1},"K10H06620600-10",1,0]
[{"$f":"SUMIF($C$7:$D$7,logic!$D$2,$C85:$D85)","v":1},"K10H06620700-10",1,0]
[{"$f":"SUMIF($C$7:$D$7,logic!$D$2,$C86:$D86)","v":1},"K10H06620800-10",1,0]
[{"$f":"SUMIF($C$7:$D$7,logic!$D$2,$C87:$D87)","v":1},"K10H06620900-10",1,0]
[{"$f":"SUMIF($C$7:$D$7,logic!$D$2,$C88:$D88)","v":1},"K10H06621000-10",1,0]
[{"$f":"SUMIF($C$7:$D$7,logic!$D$2,$C89:$D89)","v":1},"K10H06621100-10",1,0]
[{"$f":"SUMIF($C$7:$D$7,logic!$D$2,$C90:$D90)","v":1},"K10H06621200-10",1,0]
[{"$f":"SUMIF($C$7:$D$7,logic!$D$2,$C91:$D91)","v":1},"K10H06621400-10",1,0]
[{"$f":"SUMIF($C$7:$D$7,logic!$D$2,$C92:$D92)","v":1},"K10H06621600-10",1,0]
[{"$f":"SUMIF($C$7:$D$7,logic!$D$2,$C93:$D93)","v":1},"K10H06621800-10",1,0]
[{"$f":"SUMIF($C$7:$D$7,logic!$D$2,$C94:$D94)","v":1},"K10H06622000-10",1,0]
[{"$f":"SUMIF($C$7:$D$7,logic!$D$2,$C95:$D95)","v":1},"K10H06622300-10",1,0]
[{"$f":"SUMIF($C$7:$D$7,logic!$D$2,$C96:$D96)","v":1},"K10H06622600-10",1,0]
[{"$f":"SUMIF($C$7:$D$7,logic!$D$2,$C97:$D97)","v":1},"K10H06623000-10",1,0]
[{"$f":"SUMIF($C$7:$D$7,logic!$D$2,$C98:$D98)","v":1},"K10H08840500-10",1,0]
[{"$f":"SUMIF($C$7:$D$7,logic!$D$2,$C99:$D99)","v":1},"K10H08840600-10",1,0]
[{"$f":"SUMIF($C$7:$D$7,logic!$D$2,$C100:$D100)","v":1},"K10H08840700-10",1,0]
[{"$f":"SUMIF($C$7:$D$7,logic!$D$2,$C101:$D101)","v":1},"K10H08840800-10",1,0]
[{"$f":"SUMIF($C$7:$D$7,logic!$D$2,$C102:$D102)","v":1},"K10H08840900-10",1,0]
[{"$f":"SUMIF($C$7:$D$7,logic!$D$2,$C103:$D103)","v":1},"K10H08841000-10",1,0]
[{"$f":"SUMIF($C$7:$D$7,logic!$D$2,$C104:$D104)","v":1},"K10H08841100-10",1,0]
[{"$f":"SUMIF($C$7:$D$7,logic!$D$2,$C105:$D105)","v":1},"K10H08841200-10",1,0]
[{"$f":"SUMIF($C$7:$D$7,logic!$D$2,$C106:$D106)","v":1},"K10H08841400-10",1,0]
[{"$f":"SUMIF($C$7:$D$7,logic!$D$2,$C107:$D107)","v":1},"K10H08841600-10",1,0]
[{"$f":"SUMIF($C$7:$D$7,logic!$D$2,$C108:$D108)","v":1},"K10H08841800-10",1,0]
[{"$f":"SUMIF($C$7:$D$7,logic!$D$2,$C109:$D109)","v":1},"K10H08842000-10",1,0]
[{"$f":"SUMIF($C$7:$D$7,logic!$D$2,$C110:$D110)","v":1},"K10H08842300-10",1,0]
[{"$f":"SUMIF($C$7:$D$7,logic!$D$2,$C111:$D111)","v":1},"K10H08842600-10",1,0]
[{"$f":"SUMIF($C$7:$D$7,logic!$D$2,$C112:$D112)","v":1},"K10H08843000-10",1,0]
[{"$f":"SUMIF($C$7:$D$7,logic!$D$2,$C113:$D113)","v":1},"K10H09580500-10",1,0]
[{"$f":"SUMIF($C$7:$D$7,logic!$D$2,$C114:$D114)","v":1},"K10H09580600-10",1,0]
[{"$f":"SUMIF($C$7:$D$7,logic!$D$2,$C115:$D115)","v":1},"K10H09580700-10",1,0]
[{"$f":"SUMIF($C$7:$D$7,logic!$D$2,$C116:$D116)","v":1},"K10H09580800-10",1,0]
[{"$f":"SUMIF($C$7:$D$7,logic!$D$2,$C117:$D117)","v":1},"K10H09580900-10",1,0]
[{"$f":"SUMIF($C$7:$D$7,logic!$D$2,$C118:$D118)","v":1},"K10H09581000-10",1,0]
[{"$f":"SUMIF($C$7:$D$7,logic!$D$2,$C119:$D119)","v":1},"K10H09581100-10",1,0]
[{"$f":"SUMIF($C$7:$D$7,logic!$D$2,$C120:$D120)","v":1},"K10H09581200-10",1,0]
[{"$f":"SUMIF($C$7:$D$7,logic!$D$2,$C121:$D121)","v":1},"K10H09581400-10",1,0]
[{"$f":"SUMIF($C$7:$D$7,logic!$D$2,$C122:$D122)","v":1},"K10H09581600-10",1,0]
[{"$f":"SUMIF($C$7:$D$7,logic!$D$2,$C123:$D123)","v":1},"K10H09581800-10",1,0]
[{"$f":"SUMIF($C$7:$D$7,logic!$D$2,$C124:$D124)","v":1},"K10H09582000-10",1,0]
[{"$f":"SUMIF($C$7:$D$7,logic!$D$2,$C125:$D125)","v":1},"K10H09582300-10",1,0]
[{"$f":"SUMIF($C$7:$D$7,logic!$D$2,$C126:$D126)","v":1},"K10H09582600-10",1,0]
[{"$f":"SUMIF($C$7:$D$7,logic!$D$2,$C127:$D127)","v":1},"K10H09583000-10",1,0]
[{"$f":"SUMIF($C$7:$D$7,logic!$D$2,$C128:$D128)","v":1},"K11H01440500-10",1,0]
[{"$f":"SUMIF($C$7:$D$7,logic!$D$2,$C129:$D129)","v":1},"K11H01440600-10",1,0]
[{"$f":"SUMIF($C$7:$D$7,logic!$D$2,$C130:$D130)","v":1},"K11H01440700-10",1,0]
[{"$f":"SUMIF($C$7:$D$7,logic!$D$2,$C131:$D131)","v":1},"K11H01440800-10",1,0]
[{"$f":"SUMIF($C$7:$D$7,logic!$D$2,$C132:$D132)","v":1},"K11H01440900-10",1,0]
[{"$f":"SUMIF($C$7:$D$7,logic!$D$2,$C133:$D133)","v":1},"K11H01441000-10",1,0]
[{"$f":"SUMIF($C$7:$D$7,logic!$D$2,$C134:$D134)","v":1},"K11H01441100-10",1,0]
[{"$f":"SUMIF($C$7:$D$7,logic!$D$2,$C135:$D135)","v":1},"K11H01441200-10",1,0]
[{"$f":"SUMIF($C$7:$D$7,logic!$D$2,$C136:$D136)","v":1},"K11H01441400-10",1,0]
[{"$f":"SUMIF($C$7:$D$7,logic!$D$2,$C137:$D137)","v":1},"K11H01441600-10",1,0]
[{"$f":"SUMIF($C$7:$D$7,logic!$D$2,$C138:$D138)","v":1},"K11H01441800-10",1,0]
[{"$f":"SUMIF($C$7:$D$7,logic!$D$2,$C139:$D139)","v":1},"K11H01442000-10",1,0]
[{"$f":"SUMIF($C$7:$D$7,logic!$D$2,$C140:$D140)","v":1},"K11H01442300-10",1,0]
[{"$f":"SUMIF($C$7:$D$7,logic!$D$2,$C141:$D141)","v":1},"K11H01442600-10",1,0]
[{"$f":"SUMIF($C$7:$D$7,logic!$D$2,$C142:$D142)","v":1},"K11H01443000-10",1,0]
[{"$f":"SUMIF($C$7:$D$7,logic!$D$2,$C143:$D143)","v":1},"K11H02180500-10",1,0]
[{"$f":"SUMIF($C$7:$D$7,logic!$D$2,$C144:$D144)","v":1},"K11H02180600-10",1,0]
[{"$f":"SUMIF($C$7:$D$7,logic!$D$2,$C145:$D145)","v":1},"K11H02180700-10",1,0]
[{"$f":"SUMIF($C$7:$D$7,logic!$D$2,$C146:$D146)","v":1},"K11H02180800-10",1,0]
[{"$f":"SUMIF($C$7:$D$7,logic!$D$2,$C147:$D147)","v":1},"K11H02180900-10",1,0]
[{"$f":"SUMIF($C$7:$D$7,logic!$D$2,$C148:$D148)","v":1},"K11H02181000-10",1,0]
[{"$f":"SUMIF($C$7:$D$7,logic!$D$2,$C149:$D149)","v":1},"K11H02181100-10",1,0]
[{"$f":"SUMIF($C$7:$D$7,logic!$D$2,$C150:$D150)","v":1},"K11H02181200-10",1,0]
[{"$f":"SUMIF($C$7:$D$7,logic!$D$2,$C151:$D151)","v":1},"K11H02181400-10",1,0]
[{"$f":"SUMIF($C$7:$D$7,logic!$D$2,$C152:$D152)","v":1},"K11H02181600-10",1,0]
[{"$f":"SUMIF($C$7:$D$7,logic!$D$2,$C153:$D153)","v":1},"K11H02181800-10",1,0]
[{"$f":"SUMIF($C$7:$D$7,logic!$D$2,$C154:$D154)","v":1},"K11H02182000-10",1,0]
[{"$f":"SUMIF($C$7:$D$7,logic!$D$2,$C155:$D155)","v":1},"K11H02182300-10",1,0]
[{"$f":"SUMIF($C$7:$D$7,logic!$D$2,$C156:$D156)","v":1},"K11H02182600-10",1,0]
[{"$f":"SUMIF($C$7:$D$7,logic!$D$2,$C157:$D157)","v":1},"K11H02183000-10",1,0]
[{"$f":"SUMIF($C$7:$D$7,logic!$D$2,$C158:$D158)","v":1},"K11H03660500-10",1,0]
[{"$f":"SUMIF($C$7:$D$7,logic!$D$2,$C159:$D159)","v":1},"K11H03660600-10",1,1]
[{"$f":"SUMIF($C$7:$D$7,logic!$D$2,$C160:$D160)","v":1},"K11H03660700-10",1,1]
[{"$f":"SUMIF($C$7:$D$7,logic!$D$2,$C161:$D161)","v":1},"K11H03660800-10",1,1]
[{"$f":"SUMIF($C$7:$D$7,logic!$D$2,$C162:$D162)","v":1},"K11H03660900-10",1,1]
[{"$f":"SUMIF($C$7:$D$7,logic!$D$2,$C163:$D163)","v":1},"K11H03661000-10",1,1]
[{"$f":"SUMIF($C$7:$D$7,logic!$D$2,$C164:$D164)","v":1},"K11H03661100-10",1,1]
[{"$f":"SUMIF($C$7:$D$7,logic!$D$2,$C165:$D165)","v":1},"K11H03661200-10",1,1]
[{"$f":"SUMIF($C$7:$D$7,logic!$D$2,$C166:$D166)","v":1},"K11H03661400-10",1,1]
[{"$f":"SUMIF($C$7:$D$7,logic!$D$2,$C167:$D167)","v":1},"K11H03661600-10",1,1]
[{"$f":"SUMIF($C$7:$D$7,logic!$D$2,$C168:$D168)","v":1},"K11H03661800-10",1,1]
[{"$f":"SUMIF($C$7:$D$7,logic!$D$2,$C169:$D169)","v":1},"K11H03662000-10",1,1]
[{"$f":"SUMIF($C$7:$D$7,logic!$D$2,$C170:$D170)","v":1},"K11H03662300-10",1,0]
[{"$f":"SUMIF($C$7:$D$7,logic!$D$2,$C171:$D171)","v":1},"K11H03662600-10",1,0]
[{"$f":"SUMIF($C$7:$D$7,logic!$D$2,$C172:$D172)","v":1},"K11H03663000-10",1,0]
[{"$f":"SUMIF($C$7:$D$7,logic!$D$2,$C173:$D173)","v":1},"K11H05140500-10",1,0]
[{"$f":"SUMIF($C$7:$D$7,logic!$D$2,$C174:$D174)","v":1},"K11H05140600-10",1,1]
[{"$f":"SUMIF($C$7:$D$7,logic!$D$2,$C175:$D175)","v":1},"K11H05140700-10",1,1]
[{"$f":"SUMIF($C$7:$D$7,logic!$D$2,$C176:$D176)","v":1},"K11H05140800-10",1,1]
[{"$f":"SUMIF($C$7:$D$7,logic!$D$2,$C177:$D177)","v":1},"K11H05140900-10",1,1]
[{"$f":"SUMIF($C$7:$D$7,logic!$D$2,$C178:$D178)","v":1},"K11H05141000-10",1,1]
[{"$f":"SUMIF($C$7:$D$7,logic!$D$2,$C179:$D179)","v":1},"K11H05141100-10",1,1]
[{"$f":"SUMIF($C$7:$D$7,logic!$D$2,$C180:$D180)","v":1},"K11H05141200-10",1,1]
[{"$f":"SUMIF($C$7:$D$7,logic!$D$2,$C181:$D181)","v":1},"K11H05141400-10",1,1]
[{"$f":"SUMIF($C$7:$D$7,logic!$D$2,$C182:$D182)","v":1},"K11H05141600-10",1,1]
[{"$f":"SUMIF($C$7:$D$7,logic!$D$2,$C183:$D183)","v":1},"K11H05141800-10",1,1]
[{"$f":"SUMIF($C$7:$D$7,logic!$D$2,$C184:$D184)","v":1},"K11H05142000-10",1,1]
[{"$f":"SUMIF($C$7:$D$7,logic!$D$2,$C185:$D185)","v":1},"K11H05142300-10",1,0]
[{"$f":"SUMIF($C$7:$D$7,logic!$D$2,$C186:$D186)","v":1},"K11H05142600-10",1,0]
[{"$f":"SUMIF($C$7:$D$7,logic!$D$2,$C187:$D187)","v":1},"K11H05143000-10",1,0]
[{"$f":"SUMIF($C$7:$D$7,logic!$D$2,$C188:$D188)","v":1},"K11H05880500-10",1,0]
[{"$f":"SUMIF($C$7:$D$7,logic!$D$2,$C189:$D189)","v":1},"K11H05880600-10",1,1]
[{"$f":"SUMIF($C$7:$D$7,logic!$D$2,$C190:$D190)","v":1},"K11H05880700-10",1,1]
[{"$f":"SUMIF($C$7:$D$7,logic!$D$2,$C191:$D191)","v":1},"K11H05880800-10",1,1]
[{"$f":"SUMIF($C$7:$D$7,logic!$D$2,$C192:$D192)","v":1},"K11H05880900-10",1,1]
[{"$f":"SUMIF($C$7:$D$7,logic!$D$2,$C193:$D193)","v":1},"K11H05881000-10",1,1]
[{"$f":"SUMIF($C$7:$D$7,logic!$D$2,$C194:$D194)","v":1},"K11H05881100-10",1,1]
[{"$f":"SUMIF($C$7:$D$7,logic!$D$2,$C195:$D195)","v":1},"K11H05881200-10",1,1]
[{"$f":"SUMIF($C$7:$D$7,logic!$D$2,$C196:$D196)","v":1},"K11H05881400-10",1,1]
[{"$f":"SUMIF($C$7:$D$7,logic!$D$2,$C197:$D197)","v":1},"K11H05881600-10",1,1]
[{"$f":"SUMIF($C$7:$D$7,logic!$D$2,$C198:$D198)","v":1},"K11H05881800-10",1,1]
[{"$f":"SUMIF($C$7:$D$7,logic!$D$2,$C199:$D199)","v":1},"K11H05882000-10",1,1]
[{"$f":"SUMIF($C$7:$D$7,logic!$D$2,$C200:$D200)","v":1},"K11H05882300-10",1,0]
[{"$f":"SUMIF($C$7:$D$7,logic!$D$2,$C201:$D201)","v":1},"K11H05882600-10",1,0]
[{"$f":"SUMIF($C$7:$D$7,logic!$D$2,$C202:$D202)","v":1},"K11H05883000-10",1,0]
[{"$f":"SUMIF($C$7:$D$7,logic!$D$2,$C203:$D203)","v":1},"K11H06620500-10",1,0]
[{"$f":"SUMIF($C$7:$D$7,logic!$D$2,$C204:$D204)","v":1},"K11H06620600-10",1,1]
[{"$f":"SUMIF($C$7:$D$7,logic!$D$2,$C205:$D205)","v":1},"K11H06620700-10",1,1]
[{"$f":"SUMIF($C$7:$D$7,logic!$D$2,$C206:$D206)","v":1},"K11H06620800-10",1,1]
[{"$f":"SUMIF($C$7:$D$7,logic!$D$2,$C207:$D207)","v":1},"K11H06620900-10",1,1]
[{"$f":"SUMIF($C$7:$D$7,logic!$D$2,$C208:$D208)","v":1},"K11H06621000-10",1,1]
[{"$f":"SUMIF($C$7:$D$7,logic!$D$2,$C209:$D209)","v":1},"K11H06621100-10",1,1]
[{"$f":"SUMIF($C$7:$D$7,logic!$D$2,$C210:$D210)","v":1},"K11H06621200-10",1,1]
[{"$f":"SUMIF($C$7:$D$7,logic!$D$2,$C211:$D211)","v":1},"K11H06621400-10",1,1]
[{"$f":"SUMIF($C$7:$D$7,logic!$D$2,$C212:$D212)","v":1},"K11H06621600-10",1,1]
[{"$f":"SUMIF($C$7:$D$7,logic!$D$2,$C213:$D213)","v":1},"K11H06621800-10",1,1]
[{"$f":"SUMIF($C$7:$D$7,logic!$D$2,$C214:$D214)","v":1},"K11H06622000-10",1,1]
[{"$f":"SUMIF($C$7:$D$7,logic!$D$2,$C215:$D215)","v":1},"K11H06622300-10",1,0]
[{"$f":"SUMIF($C$7:$D$7,logic!$D$2,$C216:$D216)","v":1},"K11H06622600-10",1,0]
[{"$f":"SUMIF($C$7:$D$7,logic!$D$2,$C217:$D217)","v":1},"K11H06623000-10",1,0]
[{"$f":"SUMIF($C$7:$D$7,logic!$D$2,$C218:$D218)","v":1},"K11H08840500-10",1,0]
[{"$f":"SUMIF($C$7:$D$7,logic!$D$2,$C219:$D219)","v":1},"K11H08840600-10",1,1]
[{"$f":"SUMIF($C$7:$D$7,logic!$D$2,$C220:$D220)","v":1},"K11H08840700-10",1,1]
[{"$f":"SUMIF($C$7:$D$7,logic!$D$2,$C221:$D221)","v":1},"K11H08840800-10",1,1]
[{"$f":"SUMIF($C$7:$D$7,logic!$D$2,$C222:$D222)","v":1},"K11H08840900-10",1,1]
[{"$f":"SUMIF($C$7:$D$7,logic!$D$2,$C223:$D223)","v":1},"K11H08841000-10",1,1]
[{"$f":"SUMIF($C$7:$D$7,logic!$D$2,$C224:$D224)","v":1},"K11H08841100-10",1,1]
[{"$f":"SUMIF($C$7:$D$7,logic!$D$2,$C225:$D225)","v":1},"K11H08841200-10",1,1]
[{"$f":"SUMIF($C$7:$D$7,logic!$D$2,$C226:$D226)","v":1},"K11H08841400-10",1,1]
[{"$f":"SUMIF($C$7:$D$7,logic!$D$2,$C227:$D227)","v":1},"K11H08841600-10",1,1]
[{"$f":"SUMIF($C$7:$D$7,logic!$D$2,$C228:$D228)","v":1},"K11H08841800-10",1,1]
[{"$f":"SUMIF($C$7:$D$7,logic!$D$2,$C229:$D229)","v":1},"K11H08842000-10",1,1]
[{"$f":"SUMIF($C$7:$D$7,logic!$D$2,$C230:$D230)","v":1},"K11H08842300-10",1,0]
[{"$f":"SUMIF($C$7:$D$7,logic!$D$2,$C231:$D231)","v":1},"K11H08842600-10",1,0]
[{"$f":"SUMIF($C$7:$D$7,logic!$D$2,$C232:$D232)","v":1},"K11H08843000-10",1,0]
[{"$f":"SUMIF($C$7:$D$7,logic!$D$2,$C233:$D233)","v":1},"K11H09580500-10",1,0]
[{"$f":"SUMIF($C$7:$D$7,logic!$D$2,$C234:$D234)","v":1},"K11H09580600-10",1,0]
[{"$f":"SUMIF($C$7:$D$7,logic!$D$2,$C235:$D235)","v":1},"K11H09580700-10",1,0]
[{"$f":"SUMIF($C$7:$D$7,logic!$D$2,$C236:$D236)","v":1},"K11H09580800-10",1,0]
[{"$f":"SUMIF($C$7:$D$7,logic!$D$2,$C237:$D237)","v":1},"K11H09580900-10",1,0]
[{"$f":"SUMIF($C$7:$D$7,logic!$D$2,$C238:$D238)","v":1},"K11H09581000-10",1,0]
[{"$f":"SUMIF($C$7:$D$7,logic!$D$2,$C239:$D239)","v":1},"K11H09581100-10",1,0]
[{"$f":"SUMIF($C$7:$D$7,logic!$D$2,$C240:$D240)","v":1},"K11H09581200-10",1,0]
[{"$f":"SUMIF($C$7:$D$7,logic!$D$2,$C241:$D241)","v":1},"K11H09581400-10",1,0]
[{"$f":"SUMIF($C$7:$D$7,logic!$D$2,$C242:$D242)","v":1},"K11H09581600-10",1,0]
[{"$f":"SUMIF($C$7:$D$7,logic!$D$2,$C243:$D243)","v":1},"K11H09581800-10",1,0]
[{"$f":"SUMIF($C$7:$D$7,logic!$D$2,$C244:$D244)","v":1},"K11H09582000-10",1,0]
[{"$f":"SUMIF($C$7:$D$7,logic!$D$2,$C245:$D245)","v":1},"K11H09582300-10",1,0]
[{"$f":"SUMIF($C$7:$D$7,logic!$D$2,$C246:$D246)","v":1},"K11H09582600-10",1,0]
[{"$f":"SUMIF($C$7:$D$7,logic!$D$2,$C247:$D247)","v":0},"K11H09583000-10",0,0]
[{"$f":"SUMIF($C$7:$D$7,logic!$D$2,$C248:$D248)","v":1},"K20H01440500-10",1,0]
[{"$f":"SUMIF($C$7:$D$7,logic!$D$2,$C249:$D249)","v":1},"K20H01440600-10",1,0]
[{"$f":"SUMIF($C$7:$D$7,logic!$D$2,$C250:$D250)","v":1},"K20H01440700-10",1,0]
[{"$f":"SUMIF($C$7:$D$7,logic!$D$2,$C251:$D251)","v":1},"K20H01440800-10",1,0]
[{"$f":"SUMIF($C$7:$D$7,logic!$D$2,$C252:$D252)","v":1},"K20H01440900-10",1,0]
[{"$f":"SUMIF($C$7:$D$7,logic!$D$2,$C253:$D253)","v":1},"K20H01441000-10",1,0]
[{"$f":"SUMIF($C$7:$D$7,logic!$D$2,$C254:$D254)","v":1},"K20H01441100-10",1,0]
[{"$f":"SUMIF($C$7:$D$7,logic!$D$2,$C255:$D255)","v":1},"K20H01441200-10",1,0]
[{"$f":"SUMIF($C$7:$D$7,logic!$D$2,$C256:$D256)","v":1},"K20H01441400-10",1,0]
[{"$f":"SUMIF($C$7:$D$7,logic!$D$2,$C257:$D257)","v":1},"K20H01441600-10",1,0]
[{"$f":"SUMIF($C$7:$D$7,logic!$D$2,$C258:$D258)","v":1},"K20H01441800-10",1,0]
[{"$f":"SUMIF($C$7:$D$7,logic!$D$2,$C259:$D259)","v":1},"K20H01442000-10",1,0]
[{"$f":"SUMIF($C$7:$D$7,logic!$D$2,$C260:$D260)","v":1},"K20H01442300-10",1,0]
[{"$f":"SUMIF($C$7:$D$7,logic!$D$2,$C261:$D261)","v":1},"K20H01442600-10",1,0]
[{"$f":"SUMIF($C$7:$D$7,logic!$D$2,$C262:$D262)","v":1},"K20H01443000-10",1,0]
[{"$f":"SUMIF($C$7:$D$7,logic!$D$2,$C263:$D263)","v":1},"K20H02180500-10",1,0]
[{"$f":"SUMIF($C$7:$D$7,logic!$D$2,$C264:$D264)","v":1},"K20H02180600-10",1,0]
[{"$f":"SUMIF($C$7:$D$7,logic!$D$2,$C265:$D265)","v":1},"K20H02180700-10",1,0]
[{"$f":"SUMIF($C$7:$D$7,logic!$D$2,$C266:$D266)","v":1},"K20H02180800-10",1,0]
[{"$f":"SUMIF($C$7:$D$7,logic!$D$2,$C267:$D267)","v":1},"K20H02180900-10",1,0]
[{"$f":"SUMIF($C$7:$D$7,logic!$D$2,$C268:$D268)","v":1},"K20H02181000-10",1,0]
[{"$f":"SUMIF($C$7:$D$7,logic!$D$2,$C269:$D269)","v":1},"K20H02181100-10",1,0]
[{"$f":"SUMIF($C$7:$D$7,logic!$D$2,$C270:$D270)","v":1},"K20H02181200-10",1,0]
[{"$f":"SUMIF($C$7:$D$7,logic!$D$2,$C271:$D271)","v":1},"K20H02181400-10",1,0]
[{"$f":"SUMIF($C$7:$D$7,logic!$D$2,$C272:$D272)","v":1},"K20H02181600-10",1,0]
[{"$f":"SUMIF($C$7:$D$7,logic!$D$2,$C273:$D273)","v":1},"K20H02181800-10",1,0]
[{"$f":"SUMIF($C$7:$D$7,logic!$D$2,$C274:$D274)","v":1},"K20H02182000-10",1,0]
[{"$f":"SUMIF($C$7:$D$7,logic!$D$2,$C275:$D275)","v":1},"K20H02182300-10",1,0]
[{"$f":"SUMIF($C$7:$D$7,logic!$D$2,$C276:$D276)","v":1},"K20H02182600-10",1,0]
[{"$f":"SUMIF($C$7:$D$7,logic!$D$2,$C277:$D277)","v":1},"K20H02183000-10",1,0]
[{"$f":"SUMIF($C$7:$D$7,logic!$D$2,$C278:$D278)","v":1},"K20H03660500-10",1,1]
[{"$f":"SUMIF($C$7:$D$7,logic!$D$2,$C279:$D279)","v":1},"K20H03660600-10",1,1]
[{"$f":"SUMIF($C$7:$D$7,logic!$D$2,$C280:$D280)","v":1},"K20H03660700-10",1,1]
[{"$f":"SUMIF($C$7:$D$7,logic!$D$2,$C281:$D281)","v":1},"K20H03660800-10",1,1]
[{"$f":"SUMIF($C$7:$D$7,logic!$D$2,$C282:$D282)","v":1},"K20H03660900-10",1,1]
[{"$f":"SUMIF($C$7:$D$7,logic!$D$2,$C283:$D283)","v":1},"K20H03661000-10",1,1]
[{"$f":"SUMIF($C$7:$D$7,logic!$D$2,$C284:$D284)","v":1},"K20H03661100-10",1,1]
[{"$f":"SUMIF($C$7:$D$7,logic!$D$2,$C285:$D285)","v":1},"K20H03661200-10",1,1]
[{"$f":"SUMIF($C$7:$D$7,logic!$D$2,$C286:$D286)","v":1},"K20H03661400-10",1,1]
[{"$f":"SUMIF($C$7:$D$7,logic!$D$2,$C287:$D287)","v":1},"K20H03661600-10",1,1]
[{"$f":"SUMIF($C$7:$D$7,logic!$D$2,$C288:$D288)","v":1},"K20H03661800-10",1,1]
[{"$f":"SUMIF($C$7:$D$7,logic!$D$2,$C289:$D289)","v":1},"K20H03662000-10",1,1]
[{"$f":"SUMIF($C$7:$D$7,logic!$D$2,$C290:$D290)","v":1},"K20H03662300-10",1,0]
[{"$f":"SUMIF($C$7:$D$7,logic!$D$2,$C291:$D291)","v":1},"K20H03662600-10",1,0]
[{"$f":"SUMIF($C$7:$D$7,logic!$D$2,$C292:$D292)","v":1},"K20H03663000-10",1,0]
[{"$f":"SUMIF($C$7:$D$7,logic!$D$2,$C293:$D293)","v":1},"K20H05140500-10",1,1]
[{"$f":"SUMIF($C$7:$D$7,logic!$D$2,$C294:$D294)","v":1},"K20H05140600-10",1,1]
[{"$f":"SUMIF($C$7:$D$7,logic!$D$2,$C295:$D295)","v":1},"K20H05140700-10",1,1]
[{"$f":"SUMIF($C$7:$D$7,logic!$D$2,$C296:$D296)","v":1},"K20H05140800-10",1,1]
[{"$f":"SUMIF($C$7:$D$7,logic!$D$2,$C297:$D297)","v":1},"K20H05140900-10",1,1]
[{"$f":"SUMIF($C$7:$D$7,logic!$D$2,$C298:$D298)","v":1},"K20H05141000-10",1,1]
[{"$f":"SUMIF($C$7:$D$7,logic!$D$2,$C299:$D299)","v":1},"K20H05141100-10",1,1]
[{"$f":"SUMIF($C$7:$D$7,logic!$D$2,$C300:$D300)","v":1},"K20H05141200-10",1,1]
[{"$f":"SUMIF($C$7:$D$7,logic!$D$2,$C301:$D301)","v":1},"K20H05141400-10",1,1]
[{"$f":"SUMIF($C$7:$D$7,logic!$D$2,$C302:$D302)","v":1},"K20H05141600-10",1,1]
[{"$f":"SUMIF($C$7:$D$7,logic!$D$2,$C303:$D303)","v":1},"K20H05141800-10",1,1]
[{"$f":"SUMIF($C$7:$D$7,logic!$D$2,$C304:$D304)","v":1},"K20H05142000-10",1,1]
[{"$f":"SUMIF($C$7:$D$7,logic!$D$2,$C305:$D305)","v":1},"K20H05142300-10",1,0]
[{"$f":"SUMIF($C$7:$D$7,logic!$D$2,$C306:$D306)","v":1},"K20H05142600-10",1,0]
[{"$f":"SUMIF($C$7:$D$7,logic!$D$2,$C307:$D307)","v":1},"K20H05143000-10",1,0]
[{"$f":"SUMIF($C$7:$D$7,logic!$D$2,$C308:$D308)","v":1},"K20H05880500-10",1,1]
[{"$f":"SUMIF($C$7:$D$7,logic!$D$2,$C309:$D309)","v":1},"K20H05880600-10",1,1]
[{"$f":"SUMIF($C$7:$D$7,logic!$D$2,$C310:$D310)","v":1},"K20H05880700-10",1,1]
[{"$f":"SUMIF($C$7:$D$7,logic!$D$2,$C311:$D311)","v":1},"K20H05880800-10",1,1]
[{"$f":"SUMIF($C$7:$D$7,logic!$D$2,$C312:$D312)","v":1},"K20H05880900-10",1,1]
[{"$f":"SUMIF($C$7:$D$7,logic!$D$2,$C313:$D313)","v":1},"K20H05881000-10",1,1]
[{"$f":"SUMIF($C$7:$D$7,logic!$D$2,$C314:$D314)","v":1},"K20H05881100-10",1,1]
[{"$f":"SUMIF($C$7:$D$7,logic!$D$2,$C315:$D315)","v":1},"K20H05881200-10",1,1]
[{"$f":"SUMIF($C$7:$D$7,logic!$D$2,$C316:$D316)","v":1},"K20H05881400-10",1,1]
[{"$f":"SUMIF($C$7:$D$7,logic!$D$2,$C317:$D317)","v":1},"K20H05881600-10",1,1]
[{"$f":"SUMIF($C$7:$D$7,logic!$D$2,$C318:$D318)","v":1},"K20H05881800-10",1,1]
[{"$f":"SUMIF($C$7:$D$7,logic!$D$2,$C319:$D319)","v":1},"K20H05882000-10",1,1]
[{"$f":"SUMIF($C$7:$D$7,logic!$D$2,$C320:$D320)","v":1},"K20H05882300-10",1,0]
[{"$f":"SUMIF($C$7:$D$7,logic!$D$2,$C321:$D321)","v":1},"K20H05882600-10",1,0]
[{"$f":"SUMIF($C$7:$D$7,logic!$D$2,$C322:$D322)","v":1},"K20H05883000-10",1,0]
[{"$f":"SUMIF($C$7:$D$7,logic!$D$2,$C323:$D323)","v":1},"K20H06620500-10",1,1]
[{"$f":"SUMIF($C$7:$D$7,logic!$D$2,$C324:$D324)","v":1},"K20H06620600-10",1,1]
[{"$f":"SUMIF($C$7:$D$7,logic!$D$2,$C325:$D325)","v":1},"K20H06620700-10",1,1]
[{"$f":"SUMIF($C$7:$D$7,logic!$D$2,$C326:$D326)","v":1},"K20H06620800-10",1,1]
[{"$f":"SUMIF($C$7:$D$7,logic!$D$2,$C327:$D327)","v":1},"K20H06620900-10",1,1]
[{"$f":"SUMIF($C$7:$D$7,logic!$D$2,$C328:$D328)","v":1},"K20H06621000-10",1,1]
[{"$f":"SUMIF($C$7:$D$7,logic!$D$2,$C329:$D329)","v":1},"K20H06621100-10",1,1]
[{"$f":"SUMIF($C$7:$D$7,logic!$D$2,$C330:$D330)","v":1},"K20H06621200-10",1,1]
[{"$f":"SUMIF($C$7:$D$7,logic!$D$2,$C331:$D331)","v":1},"K20H06621400-10",1,1]
[{"$f":"SUMIF($C$7:$D$7,logic!$D$2,$C332:$D332)","v":1},"K20H06621600-10",1,1]
[{"$f":"SUMIF($C$7:$D$7,logic!$D$2,$C333:$D333)","v":1},"K20H06621800-10",1,1]
[{"$f":"SUMIF($C$7:$D$7,logic!$D$2,$C334:$D334)","v":1},"K20H06622000-10",1,1]
[{"$f":"SUMIF($C$7:$D$7,logic!$D$2,$C335:$D335)","v":1},"K20H06622300-10",1,0]
[{"$f":"SUMIF($C$7:$D$7,logic!$D$2,$C336:$D336)","v":1},"K20H06622600-10",1,0]
[{"$f":"SUMIF($C$7:$D$7,logic!$D$2,$C337:$D337)","v":0},"K20H06623000-10",0,0]
[{"$f":"SUMIF($C$7:$D$7,logic!$D$2,$C338:$D338)","v":1},"K20H08840500-10",1,1]
[{"$f":"SUMIF($C$7:$D$7,logic!$D$2,$C339:$D339)","v":1},"K20H08840600-10",1,1]
[{"$f":"SUMIF($C$7:$D$7,logic!$D$2,$C340:$D340)","v":1},"K20H08840700-10",1,1]
[{"$f":"SUMIF($C$7:$D$7,logic!$D$2,$C341:$D341)","v":1},"K20H08840800-10",1,1]
[{"$f":"SUMIF($C$7:$D$7,logic!$D$2,$C342:$D342)","v":1},"K20H08840900-10",1,1]
[{"$f":"SUMIF($C$7:$D$7,logic!$D$2,$C343:$D343)","v":1},"K20H08841000-10",1,1]
[{"$f":"SUMIF($C$7:$D$7,logic!$D$2,$C344:$D344)","v":1},"K20H08841100-10",1,1]
[{"$f":"SUMIF($C$7:$D$7,logic!$D$2,$C345:$D345)","v":1},"K20H08841200-10",1,1]
[{"$f":"SUMIF($C$7:$D$7,logic!$D$2,$C346:$D346)","v":1},"K20H08841400-10",1,1]
[{"$f":"SUMIF($C$7:$D$7,logic!$D$2,$C347:$D347)","v":1},"K20H08841600-10",1,1]
[{"$f":"SUMIF($C$7:$D$7,logic!$D$2,$C348:$D348)","v":1},"K20H08841800-10",1,1]
[{"$f":"SUMIF($C$7:$D$7,logic!$D$2,$C349:$D349)","v":1},"K20H08842000-10",1,1]
[{"$f":"SUMIF($C$7:$D$7,logic!$D$2,$C350:$D350)","v":0},"K20H08842300-10",0,0]
[{"$f":"SUMIF($C$7:$D$7,logic!$D$2,$C351:$D351)","v":0},"K20H08842600-10",0,0]
[{"$f":"SUMIF($C$7:$D$7,logic!$D$2,$C352:$D352)","v":0},"K20H08843000-10",0,0]
[{"$f":"SUMIF($C$7:$D$7,logic!$D$2,$C353:$D353)","v":1},"K20H09580500-10",1,0]
[{"$f":"SUMIF($C$7:$D$7,logic!$D$2,$C354:$D354)","v":1},"K20H09580600-10",1,0]
[{"$f":"SUMIF($C$7:$D$7,logic!$D$2,$C355:$D355)","v":1},"K20H09580700-10",1,0]
[{"$f":"SUMIF($C$7:$D$7,logic!$D$2,$C356:$D356)","v":1},"K20H09580800-10",1,0]
[{"$f":"SUMIF($C$7:$D$7,logic!$D$2,$C357:$D357)","v":1},"K20H09580900-10",1,0]
[{"$f":"SUMIF($C$7:$D$7,logic!$D$2,$C358:$D358)","v":1},"K20H09581000-10",1,0]
[{"$f":"SUMIF($C$7:$D$7,logic!$D$2,$C359:$D359)","v":1},"K20H09581100-10",1,0]
[{"$f":"SUMIF($C$7:$D$7,logic!$D$2,$C360:$D360)","v":1},"K20H09581200-10",1,0]
[{"$f":"SUMIF($C$7:$D$7,logic!$D$2,$C361:$D361)","v":1},"K20H09581400-10",1,0]
[{"$f":"SUMIF($C$7:$D$7,logic!$D$2,$C362:$D362)","v":1},"K20H09581600-10",1,0]
[{"$f":"SUMIF($C$7:$D$7,logic!$D$2,$C363:$D363)","v":1},"K20H09581800-10",1,0]
[{"$f":"SUMIF($C$7:$D$7,logic!$D$2,$C364:$D364)","v":0},"K20H09582000-10",0,0]
[{"$f":"SUMIF($C$7:$D$7,logic!$D$2,$C365:$D365)","v":0},"K20H09582300-10",0,0]
[{"$f":"SUMIF($C$7:$D$7,logic!$D$2,$C366:$D366)","v":0},"K20H09582600-10",0,0]
[{"$f":"SUMIF($C$7:$D$7,logic!$D$2,$C367:$D367)","v":0},"K20H09583000-10",0,0]
[{"$f":"SUMIF($C$7:$D$7,logic!$D$2,$C368:$D368)","v":1},"K21H01440500-10",1,0]
[{"$f":"SUMIF($C$7:$D$7,logic!$D$2,$C369:$D369)","v":1},"K21H01440600-10",1,0]
[{"$f":"SUMIF($C$7:$D$7,logic!$D$2,$C370:$D370)","v":1},"K21H01440700-10",1,0]
[{"$f":"SUMIF($C$7:$D$7,logic!$D$2,$C371:$D371)","v":1},"K21H01440800-10",1,0]
[{"$f":"SUMIF($C$7:$D$7,logic!$D$2,$C372:$D372)","v":1},"K21H01440900-10",1,0]
[{"$f":"SUMIF($C$7:$D$7,logic!$D$2,$C373:$D373)","v":1},"K21H01441000-10",1,0]
[{"$f":"SUMIF($C$7:$D$7,logic!$D$2,$C374:$D374)","v":1},"K21H01441100-10",1,0]
[{"$f":"SUMIF($C$7:$D$7,logic!$D$2,$C375:$D375)","v":1},"K21H01441200-10",1,0]
[{"$f":"SUMIF($C$7:$D$7,logic!$D$2,$C376:$D376)","v":1},"K21H01441400-10",1,0]
[{"$f":"SUMIF($C$7:$D$7,logic!$D$2,$C377:$D377)","v":1},"K21H01441600-10",1,0]
[{"$f":"SUMIF($C$7:$D$7,logic!$D$2,$C378:$D378)","v":1},"K21H01441800-10",1,0]
[{"$f":"SUMIF($C$7:$D$7,logic!$D$2,$C379:$D379)","v":1},"K21H01442000-10",1,0]
[{"$f":"SUMIF($C$7:$D$7,logic!$D$2,$C380:$D380)","v":1},"K21H01442300-10",1,0]
[{"$f":"SUMIF($C$7:$D$7,logic!$D$2,$C381:$D381)","v":1},"K21H01442600-10",1,0]
[{"$f":"SUMIF($C$7:$D$7,logic!$D$2,$C382:$D382)","v":1},"K21H01443000-10",1,0]
[{"$f":"SUMIF($C$7:$D$7,logic!$D$2,$C383:$D383)","v":1},"K21H02180500-10",1,1]
[{"$f":"SUMIF($C$7:$D$7,logic!$D$2,$C384:$D384)","v":1},"K21H02180600-10",1,1]
[{"$f":"SUMIF($C$7:$D$7,logic!$D$2,$C385:$D385)","v":1},"K21H02180700-10",1,1]
[{"$f":"SUMIF($C$7:$D$7,logic!$D$2,$C386:$D386)","v":1},"K21H02180800-10",1,1]
[{"$f":"SUMIF($C$7:$D$7,logic!$D$2,$C387:$D387)","v":1},"K21H02180900-10",1,1]
[{"$f":"SUMIF($C$7:$D$7,logic!$D$2,$C388:$D388)","v":1},"K21H02181000-10",1,1]
[{"$f":"SUMIF($C$7:$D$7,logic!$D$2,$C389:$D389)","v":1},"K21H02181100-10",1,1]
[{"$f":"SUMIF($C$7:$D$7,logic!$D$2,$C390:$D390)","v":1},"K21H02181200-10",1,1]
[{"$f":"SUMIF($C$7:$D$7,logic!$D$2,$C391:$D391)","v":1},"K21H02181400-10",1,1]
[{"$f":"SUMIF($C$7:$D$7,logic!$D$2,$C392:$D392)","v":1},"K21H02181600-10",1,1]
[{"$f":"SUMIF($C$7:$D$7,logic!$D$2,$C393:$D393)","v":1},"K21H02181800-10",1,1]
[{"$f":"SUMIF($C$7:$D$7,logic!$D$2,$C394:$D394)","v":1},"K21H02182000-10",1,1]
[{"$f":"SUMIF($C$7:$D$7,logic!$D$2,$C395:$D395)","v":1},"K21H02182300-10",1,0]
[{"$f":"SUMIF($C$7:$D$7,logic!$D$2,$C396:$D396)","v":1},"K21H02182600-10",1,0]
[{"$f":"SUMIF($C$7:$D$7,logic!$D$2,$C397:$D397)","v":1},"K21H02183000-10",1,0]
[{"$f":"SUMIF($C$7:$D$7,logic!$D$2,$C398:$D398)","v":1},"K21H03660500-10",1,1]
[{"$f":"SUMIF($C$7:$D$7,logic!$D$2,$C399:$D399)","v":1},"K21H03660600-10",1,1]
[{"$f":"SUMIF($C$7:$D$7,logic!$D$2,$C400:$D400)","v":1},"K21H03660700-10",1,1]
[{"$f":"SUMIF($C$7:$D$7,logic!$D$2,$C401:$D401)","v":1},"K21H03660800-10",1,1]
[{"$f":"SUMIF($C$7:$D$7,logic!$D$2,$C402:$D402)","v":1},"K21H03660900-10",1,1]
[{"$f":"SUMIF($C$7:$D$7,logic!$D$2,$C403:$D403)","v":1},"K21H03661000-10",1,1]
[{"$f":"SUMIF($C$7:$D$7,logic!$D$2,$C404:$D404)","v":1},"K21H03661100-10",1,1]
[{"$f":"SUMIF($C$7:$D$7,logic!$D$2,$C405:$D405)","v":1},"K21H03661200-10",1,1]
[{"$f":"SUMIF($C$7:$D$7,logic!$D$2,$C406:$D406)","v":1},"K21H03661400-10",1,1]
[{"$f":"SUMIF($C$7:$D$7,logic!$D$2,$C407:$D407)","v":1},"K21H03661600-10",1,1]
[{"$f":"SUMIF($C$7:$D$7,logic!$D$2,$C408:$D408)","v":1},"K21H03661800-10",1,1]
[{"$f":"SUMIF($C$7:$D$7,logic!$D$2,$C409:$D409)","v":1},"K21H03662000-10",1,1]
[{"$f":"SUMIF($C$7:$D$7,logic!$D$2,$C410:$D410)","v":1},"K21H03662300-10",1,0]
[{"$f":"SUMIF($C$7:$D$7,logic!$D$2,$C411:$D411)","v":1},"K21H03662600-10",1,0]
[{"$f":"SUMIF($C$7:$D$7,logic!$D$2,$C412:$D412)","v":1},"K21H03663000-10",1,0]
[{"$f":"SUMIF($C$7:$D$7,logic!$D$2,$C413:$D413)","v":1},"K21H05140500-10",1,1]
[{"$f":"SUMIF($C$7:$D$7,logic!$D$2,$C414:$D414)","v":1},"K21H05140600-10",1,1]
[{"$f":"SUMIF($C$7:$D$7,logic!$D$2,$C415:$D415)","v":1},"K21H05140700-10",1,1]
[{"$f":"SUMIF($C$7:$D$7,logic!$D$2,$C416:$D416)","v":1},"K21H05140800-10",1,1]
[{"$f":"SUMIF($C$7:$D$7,logic!$D$2,$C417:$D417)","v":1},"K21H05140900-10",1,1]
[{"$f":"SUMIF($C$7:$D$7,logic!$D$2,$C418:$D418)","v":1},"K21H05141000-10",1,1]
[{"$f":"SUMIF($C$7:$D$7,logic!$D$2,$C419:$D419)","v":1},"K21H05141100-10",1,1]
[{"$f":"SUMIF($C$7:$D$7,logic!$D$2,$C420:$D420)","v":1},"K21H05141200-10",1,1]
[{"$f":"SUMIF($C$7:$D$7,logic!$D$2,$C421:$D421)","v":1},"K21H05141400-10",1,1]
[{"$f":"SUMIF($C$7:$D$7,logic!$D$2,$C422:$D422)","v":1},"K21H05141600-10",1,1]
[{"$f":"SUMIF($C$7:$D$7,logic!$D$2,$C423:$D423)","v":1},"K21H05141800-10",1,1]
[{"$f":"SUMIF($C$7:$D$7,logic!$D$2,$C424:$D424)","v":1},"K21H05142000-10",1,1]
[{"$f":"SUMIF($C$7:$D$7,logic!$D$2,$C425:$D425)","v":1},"K21H05142300-10",1,0]
[{"$f":"SUMIF($C$7:$D$7,logic!$D$2,$C426:$D426)","v":1},"K21H05142600-10",1,0]
[{"$f":"SUMIF($C$7:$D$7,logic!$D$2,$C427:$D427)","v":1},"K21H05143000-10",1,0]
[{"$f":"SUMIF($C$7:$D$7,logic!$D$2,$C428:$D428)","v":1},"K21H05880500-10",1,1]
[{"$f":"SUMIF($C$7:$D$7,logic!$D$2,$C429:$D429)","v":1},"K21H05880600-10",1,1]
[{"$f":"SUMIF($C$7:$D$7,logic!$D$2,$C430:$D430)","v":1},"K21H05880700-10",1,1]
[{"$f":"SUMIF($C$7:$D$7,logic!$D$2,$C431:$D431)","v":1},"K21H05880800-10",1,1]
[{"$f":"SUMIF($C$7:$D$7,logic!$D$2,$C432:$D432)","v":1},"K21H05880900-10",1,1]
[{"$f":"SUMIF($C$7:$D$7,logic!$D$2,$C433:$D433)","v":1},"K21H05881000-10",1,1]
[{"$f":"SUMIF($C$7:$D$7,logic!$D$2,$C434:$D434)","v":1},"K21H05881100-10",1,1]
[{"$f":"SUMIF($C$7:$D$7,logic!$D$2,$C435:$D435)","v":1},"K21H05881200-10",1,1]
[{"$f":"SUMIF($C$7:$D$7,logic!$D$2,$C436:$D436)","v":1},"K21H05881400-10",1,1]
[{"$f":"SUMIF($C$7:$D$7,logic!$D$2,$C437:$D437)","v":1},"K21H05881600-10",1,1]
[{"$f":"SUMIF($C$7:$D$7,logic!$D$2,$C438:$D438)","v":1},"K21H05881800-10",1,1]
[{"$f":"SUMIF($C$7:$D$7,logic!$D$2,$C439:$D439)","v":1},"K21H05882000-10",1,1]
[{"$f":"SUMIF($C$7:$D$7,logic!$D$2,$C440:$D440)","v":1},"K21H05882300-10",1,0]
[{"$f":"SUMIF($C$7:$D$7,logic!$D$2,$C441:$D441)","v":1},"K21H05882600-10",1,0]
[{"$f":"SUMIF($C$7:$D$7,logic!$D$2,$C442:$D442)","v":0},"K21H05883000-10",0,0]
[{"$f":"SUMIF($C$7:$D$7,logic!$D$2,$C443:$D443)","v":1},"K21H06620500-10",1,1]
[{"$f":"SUMIF($C$7:$D$7,logic!$D$2,$C444:$D444)","v":1},"K21H06620600-10",1,1]
[{"$f":"SUMIF($C$7:$D$7,logic!$D$2,$C445:$D445)","v":1},"K21H06620700-10",1,1]
[{"$f":"SUMIF($C$7:$D$7,logic!$D$2,$C446:$D446)","v":1},"K21H06620800-10",1,1]
[{"$f":"SUMIF($C$7:$D$7,logic!$D$2,$C447:$D447)","v":1},"K21H06620900-10",1,1]
[{"$f":"SUMIF($C$7:$D$7,logic!$D$2,$C448:$D448)","v":1},"K21H06621000-10",1,1]
[{"$f":"SUMIF($C$7:$D$7,logic!$D$2,$C449:$D449)","v":1},"K21H06621100-10",1,1]
[{"$f":"SUMIF($C$7:$D$7,logic!$D$2,$C450:$D450)","v":1},"K21H06621200-10",1,1]
[{"$f":"SUMIF($C$7:$D$7,logic!$D$2,$C451:$D451)","v":1},"K21H06621400-10",1,1]
[{"$f":"SUMIF($C$7:$D$7,logic!$D$2,$C452:$D452)","v":1},"K21H06621600-10",1,1]
[{"$f":"SUMIF($C$7:$D$7,logic!$D$2,$C453:$D453)","v":1},"K21H06621800-10",1,1]
[{"$f":"SUMIF($C$7:$D$7,logic!$D$2,$C454:$D454)","v":1},"K21H06622000-10",1,1]
[{"$f":"SUMIF($C$7:$D$7,logic!$D$2,$C455:$D455)","v":1},"K21H06622300-10",1,0]
[{"$f":"SUMIF($C$7:$D$7,logic!$D$2,$C456:$D456)","v":0},"K21H06622600-10",0,0]
[{"$f":"SUMIF($C$7:$D$7,logic!$D$2,$C457:$D457)","v":0},"K21H06623000-10",0,0]
[{"$f":"SUMIF($C$7:$D$7,logic!$D$2,$C458:$D458)","v":1},"K21H08840500-10",1,1]
[{"$f":"SUMIF($C$7:$D$7,logic!$D$2,$C459:$D459)","v":1},"K21H08840600-10",1,1]
[{"$f":"SUMIF($C$7:$D$7,logic!$D$2,$C460:$D460)","v":1},"K21H08840700-10",1,1]
[{"$f":"SUMIF($C$7:$D$7,logic!$D$2,$C461:$D461)","v":1},"K21H08840800-10",1,1]
[{"$f":"SUMIF($C$7:$D$7,logic!$D$2,$C462:$D462)","v":1},"K21H08840900-10",1,1]
[{"$f":"SUMIF($C$7:$D$7,logic!$D$2,$C463:$D463)","v":1},"K21H08841000-10",1,1]
[{"$f":"SUMIF($C$7:$D$7,logic!$D$2,$C464:$D464)","v":1},"K21H08841100-10",1,1]
[{"$f":"SUMIF($C$7:$D$7,logic!$D$2,$C465:$D465)","v":1},"K21H08841200-10",1,1]
[{"$f":"SUMIF($C$7:$D$7,logic!$D$2,$C466:$D466)","v":1},"K21H08841400-10",1,1]
[{"$f":"SUMIF($C$7:$D$7,logic!$D$2,$C467:$D467)","v":1},"K21H08841600-10",1,1]
[{"$f":"SUMIF($C$7:$D$7,logic!$D$2,$C468:$D468)","v":1},"K21H08841800-10",1,1]
[{"$f":"SUMIF($C$7:$D$7,logic!$D$2,$C469:$D469)","v":0},"K21H08842000-10",0,0]
[{"$f":"SUMIF($C$7:$D$7,logic!$D$2,$C470:$D470)","v":0},"K21H08842300-10",0,0]
[{"$f":"SUMIF($C$7:$D$7,logic!$D$2,$C471:$D471)","v":0},"K21H08842600-10",0,0]
[{"$f":"SUMIF($C$7:$D$7,logic!$D$2,$C472:$D472)","v":0},"K21H08843000-10",0,0]
[{"$f":"SUMIF($C$7:$D$7,logic!$D$2,$C473:$D473)","v":1},"K21H09580500-10",1,0]
[{"$f":"SUMIF($C$7:$D$7,logic!$D$2,$C474:$D474)","v":1},"K21H09580600-10",1,0]
[{"$f":"SUMIF($C$7:$D$7,logic!$D$2,$C475:$D475)","v":1},"K21H09580700-10",1,0]
[{"$f":"SUMIF($C$7:$D$7,logic!$D$2,$C476:$D476)","v":1},"K21H09580800-10",1,0]
[{"$f":"SUMIF($C$7:$D$7,logic!$D$2,$C477:$D477)","v":1},"K21H09580900-10",1,0]
[{"$f":"SUMIF($C$7:$D$7,logic!$D$2,$C478:$D478)","v":1},"K21H09581000-10",1,0]
[{"$f":"SUMIF($C$7:$D$7,logic!$D$2,$C479:$D479)","v":1},"K21H09581100-10",1,0]
[{"$f":"SUMIF($C$7:$D$7,logic!$D$2,$C480:$D480)","v":1},"K21H09581200-10",1,0]
[{"$f":"SUMIF($C$7:$D$7,logic!$D$2,$C481:$D481)","v":1},"K21H09581400-10",1,0]
[{"$f":"SUMIF($C$7:$D$7,logic!$D$2,$C482:$D482)","v":1},"K21H09581600-10",1,0]
[{"$f":"SUMIF($C$7:$D$7,logic!$D$2,$C483:$D483)","v":0},"K21H09581800-10",0,0]
[{"$f":"SUMIF($C$7:$D$7,logic!$D$2,$C484:$D484)","v":0},"K21H09582000-10",0,0]
[{"$f":"SUMIF($C$7:$D$7,logic!$D$2,$C485:$D485)","v":0},"K21H09582300-10",0,0]
[{"$f":"SUMIF($C$7:$D$7,logic!$D$2,$C486:$D486)","v":0},"K21H09582600-10",0,0]
[{"$f":"SUMIF($C$7:$D$7,logic!$D$2,$C487:$D487)","v":0},"K21H09583000-10",0,0]
[{"$f":"SUMIF($C$7:$D$7,logic!$D$2,$C488:$D488)","v":1},"K22H01440500-10",1,0]
[{"$f":"SUMIF($C$7:$D$7,logic!$D$2,$C489:$D489)","v":1},"K22H01440600-10",1,0]
[{"$f":"SUMIF($C$7:$D$7,logic!$D$2,$C490:$D490)","v":1},"K22H01440700-10",1,0]
[{"$f":"SUMIF($C$7:$D$7,logic!$D$2,$C491:$D491)","v":1},"K22H01440800-10",1,0]
[{"$f":"SUMIF($C$7:$D$7,logic!$D$2,$C492:$D492)","v":1},"K22H01440900-10",1,0]
[{"$f":"SUMIF($C$7:$D$7,logic!$D$2,$C493:$D493)","v":1},"K22H01441000-10",1,0]
[{"$f":"SUMIF($C$7:$D$7,logic!$D$2,$C494:$D494)","v":1},"K22H01441100-10",1,0]
[{"$f":"SUMIF($C$7:$D$7,logic!$D$2,$C495:$D495)","v":1},"K22H01441200-10",1,0]
[{"$f":"SUMIF($C$7:$D$7,logic!$D$2,$C496:$D496)","v":1},"K22H01441400-10",1,0]
[{"$f":"SUMIF($C$7:$D$7,logic!$D$2,$C497:$D497)","v":1},"K22H01441600-10",1,0]
[{"$f":"SUMIF($C$7:$D$7,logic!$D$2,$C498:$D498)","v":1},"K22H01441800-10",1,0]
[{"$f":"SUMIF($C$7:$D$7,logic!$D$2,$C499:$D499)","v":1},"K22H01442000-10",1,0]
[{"$f":"SUMIF($C$7:$D$7,logic!$D$2,$C500:$D500)","v":1},"K22H01442300-10",1,0]
[{"$f":"SUMIF($C$7:$D$7,logic!$D$2,$C501:$D501)","v":1},"K22H01442600-10",1,0]
[{"$f":"SUMIF($C$7:$D$7,logic!$D$2,$C502:$D502)","v":1},"K22H01443000-10",1,0]
[{"$f":"SUMIF($C$7:$D$7,logic!$D$2,$C503:$D503)","v":1},"K22H02180500-10",1,1]
[{"$f":"SUMIF($C$7:$D$7,logic!$D$2,$C504:$D504)","v":1},"K22H02180600-10",1,1]
[{"$f":"SUMIF($C$7:$D$7,logic!$D$2,$C505:$D505)","v":1},"K22H02180700-10",1,1]
[{"$f":"SUMIF($C$7:$D$7,logic!$D$2,$C506:$D506)","v":1},"K22H02180800-10",1,1]
[{"$f":"SUMIF($C$7:$D$7,logic!$D$2,$C507:$D507)","v":1},"K22H02180900-10",1,1]
[{"$f":"SUMIF($C$7:$D$7,logic!$D$2,$C508:$D508)","v":1},"K22H02181000-10",1,1]
[{"$f":"SUMIF($C$7:$D$7,logic!$D$2,$C509:$D509)","v":1},"K22H02181100-10",1,1]
[{"$f":"SUMIF($C$7:$D$7,logic!$D$2,$C510:$D510)","v":1},"K22H02181200-10",1,1]
[{"$f":"SUMIF($C$7:$D$7,logic!$D$2,$C511:$D511)","v":1},"K22H02181400-10",1,1]
[{"$f":"SUMIF($C$7:$D$7,logic!$D$2,$C512:$D512)","v":1},"K22H02181600-10",1,1]
[{"$f":"SUMIF($C$7:$D$7,logic!$D$2,$C513:$D513)","v":1},"K22H02181800-10",1,1]
[{"$f":"SUMIF($C$7:$D$7,logic!$D$2,$C514:$D514)","v":1},"K22H02182000-10",1,1]
[{"$f":"SUMIF($C$7:$D$7,logic!$D$2,$C515:$D515)","v":1},"K22H02182300-10",1,0]
[{"$f":"SUMIF($C$7:$D$7,logic!$D$2,$C516:$D516)","v":1},"K22H02182600-10",1,0]
[{"$f":"SUMIF($C$7:$D$7,logic!$D$2,$C517:$D517)","v":1},"K22H02183000-10",1,0]
[{"$f":"SUMIF($C$7:$D$7,logic!$D$2,$C518:$D518)","v":1},"K22H03660500-10",1,1]
[{"$f":"SUMIF($C$7:$D$7,logic!$D$2,$C519:$D519)","v":1},"K22H03660600-10",1,1]
[{"$f":"SUMIF($C$7:$D$7,logic!$D$2,$C520:$D520)","v":1},"K22H03660700-10",1,1]
[{"$f":"SUMIF($C$7:$D$7,logic!$D$2,$C521:$D521)","v":1},"K22H03660800-10",1,1]
[{"$f":"SUMIF($C$7:$D$7,logic!$D$2,$C522:$D522)","v":1},"K22H03660900-10",1,1]
[{"$f":"SUMIF($C$7:$D$7,logic!$D$2,$C523:$D523)","v":1},"K22H03661000-10",1,1]
[{"$f":"SUMIF($C$7:$D$7,logic!$D$2,$C524:$D524)","v":1},"K22H03661100-10",1,1]
[{"$f":"SUMIF($C$7:$D$7,logic!$D$2,$C525:$D525)","v":1},"K22H03661200-10",1,1]
[{"$f":"SUMIF($C$7:$D$7,logic!$D$2,$C526:$D526)","v":1},"K22H03661400-10",1,1]
[{"$f":"SUMIF($C$7:$D$7,logic!$D$2,$C527:$D527)","v":1},"K22H03661600-10",1,1]
[{"$f":"SUMIF($C$7:$D$7,logic!$D$2,$C528:$D528)","v":1},"K22H03661800-10",1,1]
[{"$f":"SUMIF($C$7:$D$7,logic!$D$2,$C529:$D529)","v":1},"K22H03662000-10",1,1]
[{"$f":"SUMIF($C$7:$D$7,logic!$D$2,$C530:$D530)","v":1},"K22H03662300-10",1,0]
[{"$f":"SUMIF($C$7:$D$7,logic!$D$2,$C531:$D531)","v":1},"K22H03662600-10",1,0]
[{"$f":"SUMIF($C$7:$D$7,logic!$D$2,$C532:$D532)","v":1},"K22H03663000-10",1,0]
[{"$f":"SUMIF($C$7:$D$7,logic!$D$2,$C533:$D533)","v":1},"K22H05140500-10",1,1]
[{"$f":"SUMIF($C$7:$D$7,logic!$D$2,$C534:$D534)","v":1},"K22H05140600-10",1,1]
[{"$f":"SUMIF($C$7:$D$7,logic!$D$2,$C535:$D535)","v":1},"K22H05140700-10",1,1]
[{"$f":"SUMIF($C$7:$D$7,logic!$D$2,$C536:$D536)","v":1},"K22H05140800-10",1,1]
[{"$f":"SUMIF($C$7:$D$7,logic!$D$2,$C537:$D537)","v":1},"K22H05140900-10",1,1]
[{"$f":"SUMIF($C$7:$D$7,logic!$D$2,$C538:$D538)","v":1},"K22H05141000-10",1,1]
[{"$f":"SUMIF($C$7:$D$7,logic!$D$2,$C539:$D539)","v":1},"K22H05141100-10",1,1]
[{"$f":"SUMIF($C$7:$D$7,logic!$D$2,$C540:$D540)","v":1},"K22H05141200-10",1,1]
[{"$f":"SUMIF($C$7:$D$7,logic!$D$2,$C541:$D541)","v":1},"K22H05141400-10",1,1]
[{"$f":"SUMIF($C$7:$D$7,logic!$D$2,$C542:$D542)","v":1},"K22H05141600-10",1,1]
[{"$f":"SUMIF($C$7:$D$7,logic!$D$2,$C543:$D543)","v":1},"K22H05141800-10",1,1]
[{"$f":"SUMIF($C$7:$D$7,logic!$D$2,$C544:$D544)","v":1},"K22H05142000-10",1,1]
[{"$f":"SUMIF($C$7:$D$7,logic!$D$2,$C545:$D545)","v":1},"K22H05142300-10",1,0]
[{"$f":"SUMIF($C$7:$D$7,logic!$D$2,$C546:$D546)","v":1},"K22H05142600-10",1,0]
[{"$f":"SUMIF($C$7:$D$7,logic!$D$2,$C547:$D547)","v":0},"K22H05143000-10",0,0]
[{"$f":"SUMIF($C$7:$D$7,logic!$D$2,$C548:$D548)","v":1},"K22H05880500-10",1,1]
[{"$f":"SUMIF($C$7:$D$7,logic!$D$2,$C549:$D549)","v":1},"K22H05880600-10",1,1]
[{"$f":"SUMIF($C$7:$D$7,logic!$D$2,$C550:$D550)","v":1},"K22H05880700-10",1,1]
[{"$f":"SUMIF($C$7:$D$7,logic!$D$2,$C551:$D551)","v":1},"K22H05880800-10",1,1]
[{"$f":"SUMIF($C$7:$D$7,logic!$D$2,$C552:$D552)","v":1},"K22H05880900-10",1,1]
[{"$f":"SUMIF($C$7:$D$7,logic!$D$2,$C553:$D553)","v":1},"K22H05881000-10",1,1]
[{"$f":"SUMIF($C$7:$D$7,logic!$D$2,$C554:$D554)","v":1},"K22H05881100-10",1,1]
[{"$f":"SUMIF($C$7:$D$7,logic!$D$2,$C555:$D555)","v":1},"K22H05881200-10",1,1]
[{"$f":"SUMIF($C$7:$D$7,logic!$D$2,$C556:$D556)","v":1},"K22H05881400-10",1,1]
[{"$f":"SUMIF($C$7:$D$7,logic!$D$2,$C557:$D557)","v":1},"K22H05881600-10",1,1]
[{"$f":"SUMIF($C$7:$D$7,logic!$D$2,$C558:$D558)","v":1},"K22H05881800-10",1,1]
[{"$f":"SUMIF($C$7:$D$7,logic!$D$2,$C559:$D559)","v":1},"K22H05882000-10",1,1]
[{"$f":"SUMIF($C$7:$D$7,logic!$D$2,$C560:$D560)","v":1},"K22H05882300-10",1,0]
[{"$f":"SUMIF($C$7:$D$7,logic!$D$2,$C561:$D561)","v":0},"K22H05882600-10",0,0]
[{"$f":"SUMIF($C$7:$D$7,logic!$D$2,$C562:$D562)","v":0},"K22H05883000-10",0,0]
[{"$f":"SUMIF($C$7:$D$7,logic!$D$2,$C563:$D563)","v":1},"K22H06620500-10",1,1]
[{"$f":"SUMIF($C$7:$D$7,logic!$D$2,$C564:$D564)","v":1},"K22H06620600-10",1,1]
[{"$f":"SUMIF($C$7:$D$7,logic!$D$2,$C565:$D565)","v":1},"K22H06620700-10",1,1]
[{"$f":"SUMIF($C$7:$D$7,logic!$D$2,$C566:$D566)","v":1},"K22H06620800-10",1,1]
[{"$f":"SUMIF($C$7:$D$7,logic!$D$2,$C567:$D567)","v":1},"K22H06620900-10",1,1]
[{"$f":"SUMIF($C$7:$D$7,logic!$D$2,$C568:$D568)","v":1},"K22H06621000-10",1,1]
[{"$f":"SUMIF($C$7:$D$7,logic!$D$2,$C569:$D569)","v":1},"K22H06621100-10",1,1]
[{"$f":"SUMIF($C$7:$D$7,logic!$D$2,$C570:$D570)","v":1},"K22H06621200-10",1,1]
[{"$f":"SUMIF($C$7:$D$7,logic!$D$2,$C571:$D571)","v":1},"K22H06621400-10",1,1]
[{"$f":"SUMIF($C$7:$D$7,logic!$D$2,$C572:$D572)","v":1},"K22H06621600-10",1,1]
[{"$f":"SUMIF($C$7:$D$7,logic!$D$2,$C573:$D573)","v":1},"K22H06621800-10",1,1]
[{"$f":"SUMIF($C$7:$D$7,logic!$D$2,$C574:$D574)","v":1},"K22H06622000-10",1,1]
[{"$f":"SUMIF($C$7:$D$7,logic!$D$2,$C575:$D575)","v":0},"K22H06622300-10",0,0]
[{"$f":"SUMIF($C$7:$D$7,logic!$D$2,$C576:$D576)","v":0},"K22H06622600-10",0,0]
[{"$f":"SUMIF($C$7:$D$7,logic!$D$2,$C577:$D577)","v":0},"K22H06623000-10",0,0]
[{"$f":"SUMIF($C$7:$D$7,logic!$D$2,$C578:$D578)","v":1},"K22H08840500-10",1,1]
[{"$f":"SUMIF($C$7:$D$7,logic!$D$2,$C579:$D579)","v":1},"K22H08840600-10",1,1]
[{"$f":"SUMIF($C$7:$D$7,logic!$D$2,$C580:$D580)","v":1},"K22H08840700-10",1,1]
[{"$f":"SUMIF($C$7:$D$7,logic!$D$2,$C581:$D581)","v":1},"K22H08840800-10",1,1]
[{"$f":"SUMIF($C$7:$D$7,logic!$D$2,$C582:$D582)","v":1},"K22H08840900-10",1,1]
[{"$f":"SUMIF($C$7:$D$7,logic!$D$2,$C583:$D583)","v":1},"K22H08841000-10",1,1]
[{"$f":"SUMIF($C$7:$D$7,logic!$D$2,$C584:$D584)","v":1},"K22H08841100-10",1,1]
[{"$f":"SUMIF($C$7:$D$7,logic!$D$2,$C585:$D585)","v":1},"K22H08841200-10",1,1]
[{"$f":"SUMIF($C$7:$D$7,logic!$D$2,$C586:$D586)","v":1},"K22H08841400-10",1,1]
[{"$f":"SUMIF($C$7:$D$7,logic!$D$2,$C587:$D587)","v":0},"K22H08841600-10",0,0]
[{"$f":"SUMIF($C$7:$D$7,logic!$D$2,$C588:$D588)","v":0},"K22H08841800-10",0,0]
[{"$f":"SUMIF($C$7:$D$7,logic!$D$2,$C589:$D589)","v":0},"K22H08842000-10",0,0]
[{"$f":"SUMIF($C$7:$D$7,logic!$D$2,$C590:$D590)","v":0},"K22H08842300-10",0,0]
[{"$f":"SUMIF($C$7:$D$7,logic!$D$2,$C591:$D591)","v":0},"K22H08842600-10",0,0]
[{"$f":"SUMIF($C$7:$D$7,logic!$D$2,$C592:$D592)","v":0},"K22H08843000-10",0,0]
[{"$f":"SUMIF($C$7:$D$7,logic!$D$2,$C593:$D593)","v":1},"K22H09580500-10",1,0]
[{"$f":"SUMIF($C$7:$D$7,logic!$D$2,$C594:$D594)","v":1},"K22H09580600-10",1,0]
[{"$f":"SUMIF($C$7:$D$7,logic!$D$2,$C595:$D595)","v":1},"K22H09580700-10",1,0]
[{"$f":"SUMIF($C$7:$D$7,logic!$D$2,$C596:$D596)","v":1},"K22H09580800-10",1,0]
[{"$f":"SUMIF($C$7:$D$7,logic!$D$2,$C597:$D597)","v":1},"K22H09580900-10",1,0]
[{"$f":"SUMIF($C$7:$D$7,logic!$D$2,$C598:$D598)","v":1},"K22H09581000-10",1,0]
[{"$f":"SUMIF($C$7:$D$7,logic!$D$2,$C599:$D599)","v":1},"K22H09581100-10",1,0]
[{"$f":"SUMIF($C$7:$D$7,logic!$D$2,$C600:$D600)","v":1},"K22H09581200-10",1,0]
[{"$f":"SUMIF($C$7:$D$7,logic!$D$2,$C601:$D601)","v":1},"K22H09581400-10",1,0]
[{"$f":"SUMIF($C$7:$D$7,logic!$D$2,$C602:$D602)","v":0},"K22H09581600-10",0,0]
[{"$f":"SUMIF($C$7:$D$7,logic!$D$2,$C603:$D603)","v":0},"K22H09581800-10",0,0]
[{"$f":"SUMIF($C$7:$D$7,logic!$D$2,$C604:$D604)","v":0},"K22H09582000-10",0,0]
[{"$f":"SUMIF($C$7:$D$7,logic!$D$2,$C605:$D605)","v":0},"K22H09582300-10",0,0]
[{"$f":"SUMIF($C$7:$D$7,logic!$D$2,$C606:$D606)","v":0},"K22H09582600-10",0,0]
[{"$f":"SUMIF($C$7:$D$7,logic!$D$2,$C607:$D607)","v":0},"K22H09583000-10",0,0]
[{"$f":"SUMIF($C$7:$D$7,logic!$D$2,$C608:$D608)","v":1},"K23H01440500-10N",1,1]
[{"$f":"SUMIF($C$7:$D$7,logic!$D$2,$C609:$D609)","v":1},"K23H01440600-10N",1,1]
[{"$f":"SUMIF($C$7:$D$7,logic!$D$2,$C610:$D610)","v":1},"K23H01440700-10N",1,1]
[{"$f":"SUMIF($C$7:$D$7,logic!$D$2,$C611:$D611)","v":1},"K23H01440800-10N",1,1]
[{"$f":"SUMIF($C$7:$D$7,logic!$D$2,$C612:$D612)","v":1},"K23H01440900-10N",1,1]
[{"$f":"SUMIF($C$7:$D$7,logic!$D$2,$C613:$D613)","v":1},"K23H01441000-10N",1,1]
[{"$f":"SUMIF($C$7:$D$7,logic!$D$2,$C614:$D614)","v":1},"K23H01441100-10N",1,1]
[{"$f":"SUMIF($C$7:$D$7,logic!$D$2,$C615:$D615)","v":1},"K23H01441200-10N",1,1]
[{"$f":"SUMIF($C$7:$D$7,logic!$D$2,$C616:$D616)","v":1},"K23H01441400-10N",1,1]
[{"$f":"SUMIF($C$7:$D$7,logic!$D$2,$C617:$D617)","v":1},"K23H01441600-10N",1,1]
[{"$f":"SUMIF($C$7:$D$7,logic!$D$2,$C618:$D618)","v":1},"K23H01441800-10N",1,1]
[{"$f":"SUMIF($C$7:$D$7,logic!$D$2,$C619:$D619)","v":1},"K23H01442000-10N",1,1]
[{"$f":"SUMIF($C$7:$D$7,logic!$D$2,$C620:$D620)","v":1},"K23H01442300-10N",1,0]
[{"$f":"SUMIF($C$7:$D$7,logic!$D$2,$C621:$D621)","v":1},"K23H01442600-10N",1,0]
[{"$f":"SUMIF($C$7:$D$7,logic!$D$2,$C622:$D622)","v":1},"K23H01443000-10N",1,0]
[{"$f":"SUMIF($C$7:$D$7,logic!$D$2,$C623:$D623)","v":1},"K23H02180500-10N",1,1]
[{"$f":"SUMIF($C$7:$D$7,logic!$D$2,$C624:$D624)","v":1},"K23H02180600-10N",1,1]
[{"$f":"SUMIF($C$7:$D$7,logic!$D$2,$C625:$D625)","v":1},"K23H02180700-10N",1,1]
[{"$f":"SUMIF($C$7:$D$7,logic!$D$2,$C626:$D626)","v":1},"K23H02180800-10N",1,1]
[{"$f":"SUMIF($C$7:$D$7,logic!$D$2,$C627:$D627)","v":1},"K23H02180900-10N",1,1]
[{"$f":"SUMIF($C$7:$D$7,logic!$D$2,$C628:$D628)","v":1},"K23H02181000-10N",1,1]
[{"$f":"SUMIF($C$7:$D$7,logic!$D$2,$C629:$D629)","v":1},"K23H02181100-10N",1,1]
[{"$f":"SUMIF($C$7:$D$7,logic!$D$2,$C630:$D630)","v":1},"K23H02181200-10N",1,1]
[{"$f":"SUMIF($C$7:$D$7,logic!$D$2,$C631:$D631)","v":1},"K23H02181400-10N",1,1]
[{"$f":"SUMIF($C$7:$D$7,logic!$D$2,$C632:$D632)","v":1},"K23H02181600-10N",1,1]
[{"$f":"SUMIF($C$7:$D$7,logic!$D$2,$C633:$D633)","v":1},"K23H02181800-10N",1,1]
[{"$f":"SUMIF($C$7:$D$7,logic!$D$2,$C634:$D634)","v":1},"K23H02182000-10N",1,1]
[{"$f":"SUMIF($C$7:$D$7,logic!$D$2,$C635:$D635)","v":1},"K23H02182300-10N",1,0]
[{"$f":"SUMIF($C$7:$D$7,logic!$D$2,$C636:$D636)","v":1},"K23H02182600-10N",1,0]
[{"$f":"SUMIF($C$7:$D$7,logic!$D$2,$C637:$D637)","v":1},"K23H02183000-10N",1,0]
[{"$f":"SUMIF($C$7:$D$7,logic!$D$2,$C638:$D638)","v":1},"K44H01440500-10N",1,1]
[{"$f":"SUMIF($C$7:$D$7,logic!$D$2,$C639:$D639)","v":1},"K44H01440600-10N",1,1]
[{"$f":"SUMIF($C$7:$D$7,logic!$D$2,$C640:$D640)","v":1},"K44H01440700-10N",1,1]
[{"$f":"SUMIF($C$7:$D$7,logic!$D$2,$C641:$D641)","v":1},"K44H01440800-10N",1,1]
[{"$f":"SUMIF($C$7:$D$7,logic!$D$2,$C642:$D642)","v":1},"K44H01440900-10N",1,1]
[{"$f":"SUMIF($C$7:$D$7,logic!$D$2,$C643:$D643)","v":1},"K44H01441000-10N",1,1]
[{"$f":"SUMIF($C$7:$D$7,logic!$D$2,$C644:$D644)","v":1},"K44H01441100-10N",1,1]
[{"$f":"SUMIF($C$7:$D$7,logic!$D$2,$C645:$D645)","v":1},"K44H01441200-10N",1,1]
[{"$f":"SUMIF($C$7:$D$7,logic!$D$2,$C646:$D646)","v":1},"K44H01441400-10N",1,1]
[{"$f":"SUMIF($C$7:$D$7,logic!$D$2,$C647:$D647)","v":1},"K44H01441600-10N",1,1]
[{"$f":"SUMIF($C$7:$D$7,logic!$D$2,$C648:$D648)","v":1},"K44H01441800-10N",1,1]
[{"$f":"SUMIF($C$7:$D$7,logic!$D$2,$C649:$D649)","v":1},"K44H01442000-10N",1,1]
[{"$f":"SUMIF($C$7:$D$7,logic!$D$2,$C650:$D650)","v":1},"K44H01442300-10N",1,0]
[{"$f":"SUMIF($C$7:$D$7,logic!$D$2,$C651:$D651)","v":1},"K44H01442600-10N",1,0]
[{"$f":"SUMIF($C$7:$D$7,logic!$D$2,$C652:$D652)","v":1},"K44H01443000-10N",1,0]
[{"$f":"SUMIF($C$7:$D$7,logic!$D$2,$C653:$D653)","v":1},"K44H02180500-10N",1,1]
[{"$f":"SUMIF($C$7:$D$7,logic!$D$2,$C654:$D654)","v":1},"K44H02180600-10N",1,1]
[{"$f":"SUMIF($C$7:$D$7,logic!$D$2,$C655:$D655)","v":1},"K44H02180700-10N",1,1]
[{"$f":"SUMIF($C$7:$D$7,logic!$D$2,$C656:$D656)","v":1},"K44H02180800-10N",1,1]
[{"$f":"SUMIF($C$7:$D$7,logic!$D$2,$C657:$D657)","v":1},"K44H02180900-10N",1,1]
[{"$f":"SUMIF($C$7:$D$7,logic!$D$2,$C658:$D658)","v":1},"K44H02181000-10N",1,1]
[{"$f":"SUMIF($C$7:$D$7,logic!$D$2,$C659:$D659)","v":1},"K44H02181100-10N",1,1]
[{"$f":"SUMIF($C$7:$D$7,logic!$D$2,$C660:$D660)","v":1},"K44H02181200-10N",1,1]
[{"$f":"SUMIF($C$7:$D$7,logic!$D$2,$C661:$D661)","v":1},"K44H02181400-10N",1,1]
[{"$f":"SUMIF($C$7:$D$7,logic!$D$2,$C662:$D662)","v":1},"K44H02181600-10N",1,1]
[{"$f":"SUMIF($C$7:$D$7,logic!$D$2,$C663:$D663)","v":1},"K44H02181800-10N",1,1]
[{"$f":"SUMIF($C$7:$D$7,logic!$D$2,$C664:$D664)","v":1},"K44H02182000-10N",1,1]
[{"$f":"SUMIF($C$7:$D$7,logic!$D$2,$C665:$D665)","v":1},"K44H02182300-10N",1,0]
[{"$f":"SUMIF($C$7:$D$7,logic!$D$2,$C666:$D666)","v":1},"K44H02182600-10N",1,0]
[{"$f":"SUMIF($C$7:$D$7,logic!$D$2,$C667:$D667)","v":1},"K44H02183000-10N",1,0]
[{"$f":"SUMIF($C$7:$D$7,logic!$D$2,$C668:$D668)","v":1},"K46H01440500-10N",1,1]
[{"$f":"SUMIF($C$7:$D$7,logic!$D$2,$C669:$D669)","v":1},"K46H01440600-10N",1,1]
[{"$f":"SUMIF($C$7:$D$7,logic!$D$2,$C670:$D670)","v":1},"K46H01440700-10N",1,1]
[{"$f":"SUMIF($C$7:$D$7,logic!$D$2,$C671:$D671)","v":1},"K46H01440800-10N",1,1]
[{"$f":"SUMIF($C$7:$D$7,logic!$D$2,$C672:$D672)","v":1},"K46H01440900-10N",1,1]
[{"$f":"SUMIF($C$7:$D$7,logic!$D$2,$C673:$D673)","v":1},"K46H01441000-10N",1,1]
[{"$f":"SUMIF($C$7:$D$7,logic!$D$2,$C674:$D674)","v":1},"K46H01441100-10N",1,1]
[{"$f":"SUMIF($C$7:$D$7,logic!$D$2,$C675:$D675)","v":1},"K46H01441200-10N",1,1]
[{"$f":"SUMIF($C$7:$D$7,logic!$D$2,$C676:$D676)","v":1},"K46H01441400-10N",1,1]
[{"$f":"SUMIF($C$7:$D$7,logic!$D$2,$C677:$D677)","v":1},"K46H01441600-10N",1,1]
[{"$f":"SUMIF($C$7:$D$7,logic!$D$2,$C678:$D678)","v":1},"K46H01441800-10N",1,1]
[{"$f":"SUMIF($C$7:$D$7,logic!$D$2,$C679:$D679)","v":1},"K46H01442000-10N",1,1]
[{"$f":"SUMIF($C$7:$D$7,logic!$D$2,$C680:$D680)","v":1},"K46H01442300-10N",1,0]
[{"$f":"SUMIF($C$7:$D$7,logic!$D$2,$C681:$D681)","v":1},"K46H01442600-10N",1,0]
[{"$f":"SUMIF($C$7:$D$7,logic!$D$2,$C682:$D682)","v":1},"K46H01443000-10N",1,0]
[{"$f":"SUMIF($C$7:$D$7,logic!$D$2,$C683:$D683)","v":1},"K46H02180500-10N",1,1]
[{"$f":"SUMIF($C$7:$D$7,logic!$D$2,$C684:$D684)","v":1},"K46H02180600-10N",1,1]
[{"$f":"SUMIF($C$7:$D$7,logic!$D$2,$C685:$D685)","v":1},"K46H02180700-10N",1,1]
[{"$f":"SUMIF($C$7:$D$7,logic!$D$2,$C686:$D686)","v":1},"K46H02180800-10N",1,1]
[{"$f":"SUMIF($C$7:$D$7,logic!$D$2,$C687:$D687)","v":1},"K46H02180900-10N",1,1]
[{"$f":"SUMIF($C$7:$D$7,logic!$D$2,$C688:$D688)","v":1},"K46H02181000-10N",1,1]
[{"$f":"SUMIF($C$7:$D$7,logic!$D$2,$C689:$D689)","v":1},"K46H02181100-10N",1,1]
[{"$f":"SUMIF($C$7:$D$7,logic!$D$2,$C690:$D690)","v":1},"K46H02181200-10N",1,1]
[{"$f":"SUMIF($C$7:$D$7,logic!$D$2,$C691:$D691)","v":1},"K46H02181400-10N",1,1]
[{"$f":"SUMIF($C$7:$D$7,logic!$D$2,$C692:$D692)","v":1},"K46H02181600-10N",1,1]
[{"$f":"SUMIF($C$7:$D$7,logic!$D$2,$C693:$D693)","v":1},"K46H02181800-10N",1,1]
[{"$f":"SUMIF($C$7:$D$7,logic!$D$2,$C694:$D694)","v":1},"K46H02182000-10N",1,1]
[{"$f":"SUMIF($C$7:$D$7,logic!$D$2,$C695:$D695)","v":1},"K46H02182300-10N",1,0]
[{"$f":"SUMIF($C$7:$D$7,logic!$D$2,$C696:$D696)","v":1},"K46H02182600-10N",1,0]
[{"$f":"SUMIF($C$7:$D$7,logic!$D$2,$C697:$D697)","v":1},"K46H02183000-10N",1,0]
[{"$f":"SUMIF($C$7:$D$7,logic!$D$2,$C698:$D698)","v":1},"K10V05000144-10",1,1]
[{"$f":"SUMIF($C$7:$D$7,logic!$D$2,$C699:$D699)","v":1},"K10V05000218-10",1,1]
[{"$f":"SUMIF($C$7:$D$7,logic!$D$2,$C700:$D700)","v":1},"K10V05000366-10",1,1]
[{"$f":"SUMIF($C$7:$D$7,logic!$D$2,$C701:$D701)","v":1},"K10V05000514-10",1,1]
[{"$f":"SUMIF($C$7:$D$7,logic!$D$2,$C702:$D702)","v":1},"K10V05000588-10",1,1]
[{"$f":"SUMIF($C$7:$D$7,logic!$D$2,$C703:$D703)","v":1},"K10V05000662-10",1,1]
[{"$f":"SUMIF($C$7:$D$7,logic!$D$2,$C704:$D704)","v":1},"K10V05000884-10",1,1]
[{"$f":"SUMIF($C$7:$D$7,logic!$D$2,$C705:$D705)","v":1},"K10V05000958-10",1,1]
[{"$f":"SUMIF($C$7:$D$7,logic!$D$2,$C706:$D706)","v":1},"K10V06000144-10",1,1]
[{"$f":"SUMIF($C$7:$D$7,logic!$D$2,$C707:$D707)","v":1},"K10V06000218-10",1,1]
[{"$f":"SUMIF($C$7:$D$7,logic!$D$2,$C708:$D708)","v":1},"K10V06000366-10",1,1]
[{"$f":"SUMIF($C$7:$D$7,logic!$D$2,$C709:$D709)","v":1},"K10V06000514-10",1,1]
[{"$f":"SUMIF($C$7:$D$7,logic!$D$2,$C710:$D710)","v":1},"K10V06000588-10",1,1]
[{"$f":"SUMIF($C$7:$D$7,logic!$D$2,$C711:$D711)","v":1},"K10V06000662-10",1,1]
[{"$f":"SUMIF($C$7:$D$7,logic!$D$2,$C712:$D712)","v":1},"K10V06000884-10",1,1]
[{"$f":"SUMIF($C$7:$D$7,logic!$D$2,$C713:$D713)","v":1},"K10V06000958-10",1,1]
[{"$f":"SUMIF($C$7:$D$7,logic!$D$2,$C714:$D714)","v":1},"K10V07000144-10",1,1]
[{"$f":"SUMIF($C$7:$D$7,logic!$D$2,$C715:$D715)","v":1},"K10V07000218-10",1,1]
[{"$f":"SUMIF($C$7:$D$7,logic!$D$2,$C716:$D716)","v":1},"K10V07000366-10",1,1]
[{"$f":"SUMIF($C$7:$D$7,logic!$D$2,$C717:$D717)","v":1},"K10V07000514-10",1,1]
[{"$f":"SUMIF($C$7:$D$7,logic!$D$2,$C718:$D718)","v":1},"K10V07000588-10",1,1]
[{"$f":"SUMIF($C$7:$D$7,logic!$D$2,$C719:$D719)","v":1},"K10V07000662-10",1,1]
[{"$f":"SUMIF($C$7:$D$7,logic!$D$2,$C720:$D720)","v":1},"K10V07000884-10",1,1]
[{"$f":"SUMIF($C$7:$D$7,logic!$D$2,$C721:$D721)","v":1},"K10V07000958-10",1,1]
[{"$f":"SUMIF($C$7:$D$7,logic!$D$2,$C722:$D722)","v":1},"K10V08000144-10",1,1]
[{"$f":"SUMIF($C$7:$D$7,logic!$D$2,$C723:$D723)","v":1},"K10V08000218-10",1,1]
[{"$f":"SUMIF($C$7:$D$7,logic!$D$2,$C724:$D724)","v":1},"K10V08000366-10",1,1]
[{"$f":"SUMIF($C$7:$D$7,logic!$D$2,$C725:$D725)","v":1},"K10V08000514-10",1,1]
[{"$f":"SUMIF($C$7:$D$7,logic!$D$2,$C726:$D726)","v":1},"K10V08000588-10",1,1]
[{"$f":"SUMIF($C$7:$D$7,logic!$D$2,$C727:$D727)","v":1},"K10V08000662-10",1,1]
[{"$f":"SUMIF($C$7:$D$7,logic!$D$2,$C728:$D728)","v":1},"K10V08000884-10",1,1]
[{"$f":"SUMIF($C$7:$D$7,logic!$D$2,$C729:$D729)","v":1},"K10V08000958-10",1,1]
[{"$f":"SUMIF($C$7:$D$7,logic!$D$2,$C730:$D730)","v":1},"K10V09000144-10",1,1]
[{"$f":"SUMIF($C$7:$D$7,logic!$D$2,$C731:$D731)","v":1},"K10V09000218-10",1,1]
[{"$f":"SUMIF($C$7:$D$7,logic!$D$2,$C732:$D732)","v":1},"K10V09000366-10",1,1]
[{"$f":"SUMIF($C$7:$D$7,logic!$D$2,$C733:$D733)","v":1},"K10V09000514-10",1,1]
[{"$f":"SUMIF($C$7:$D$7,logic!$D$2,$C734:$D734)","v":1},"K10V09000588-10",1,1]
[{"$f":"SUMIF($C$7:$D$7,logic!$D$2,$C735:$D735)","v":1},"K10V09000662-10",1,1]
[{"$f":"SUMIF($C$7:$D$7,logic!$D$2,$C736:$D736)","v":1},"K10V09000884-10",1,1]
[{"$f":"SUMIF($C$7:$D$7,logic!$D$2,$C737:$D737)","v":1},"K10V09000958-10",1,1]
[{"$f":"SUMIF($C$7:$D$7,logic!$D$2,$C738:$D738)","v":1},"K10V10000144-10",1,1]
[{"$f":"SUMIF($C$7:$D$7,logic!$D$2,$C739:$D739)","v":1},"K10V10000218-10",1,1]
[{"$f":"SUMIF($C$7:$D$7,logic!$D$2,$C740:$D740)","v":1},"K10V10000366-10",1,1]
[{"$f":"SUMIF($C$7:$D$7,logic!$D$2,$C741:$D741)","v":1},"K10V10000514-10",1,1]
[{"$f":"SUMIF($C$7:$D$7,logic!$D$2,$C742:$D742)","v":1},"K10V10000588-10",1,1]
[{"$f":"SUMIF($C$7:$D$7,logic!$D$2,$C743:$D743)","v":1},"K10V10000662-10",1,1]
[{"$f":"SUMIF($C$7:$D$7,logic!$D$2,$C744:$D744)","v":1},"K10V10000884-10",1,1]
[{"$f":"SUMIF($C$7:$D$7,logic!$D$2,$C745:$D745)","v":1},"K10V10000958-10",1,1]
[{"$f":"SUMIF($C$7:$D$7,logic!$D$2,$C746:$D746)","v":1},"K10V11000144-10",1,1]
[{"$f":"SUMIF($C$7:$D$7,logic!$D$2,$C747:$D747)","v":1},"K10V11000218-10",1,1]
[{"$f":"SUMIF($C$7:$D$7,logic!$D$2,$C748:$D748)","v":1},"K10V11000366-10",1,1]
[{"$f":"SUMIF($C$7:$D$7,logic!$D$2,$C749:$D749)","v":1},"K10V11000514-10",1,1]
[{"$f":"SUMIF($C$7:$D$7,logic!$D$2,$C750:$D750)","v":1},"K10V11000588-10",1,1]
[{"$f":"SUMIF($C$7:$D$7,logic!$D$2,$C751:$D751)","v":1},"K10V11000662-10",1,1]
[{"$f":"SUMIF($C$7:$D$7,logic!$D$2,$C752:$D752)","v":1},"K10V11000884-10",1,1]
[{"$f":"SUMIF($C$7:$D$7,logic!$D$2,$C753:$D753)","v":1},"K10V11000958-10",1,1]
[{"$f":"SUMIF($C$7:$D$7,logic!$D$2,$C754:$D754)","v":1},"K10V12000144-10",1,1]
[{"$f":"SUMIF($C$7:$D$7,logic!$D$2,$C755:$D755)","v":1},"K10V12000218-10",1,1]
[{"$f":"SUMIF($C$7:$D$7,logic!$D$2,$C756:$D756)","v":1},"K10V12000366-10",1,1]
[{"$f":"SUMIF($C$7:$D$7,logic!$D$2,$C757:$D757)","v":1},"K10V12000514-10",1,1]
[{"$f":"SUMIF($C$7:$D$7,logic!$D$2,$C758:$D758)","v":1},"K10V12000588-10",1,1]
[{"$f":"SUMIF($C$7:$D$7,logic!$D$2,$C759:$D759)","v":1},"K10V12000662-10",1,1]
[{"$f":"SUMIF($C$7:$D$7,logic!$D$2,$C760:$D760)","v":1},"K10V12000884-10",1,1]
[{"$f":"SUMIF($C$7:$D$7,logic!$D$2,$C761:$D761)","v":1},"K10V12000958-10",1,1]
[{"$f":"SUMIF($C$7:$D$7,logic!$D$2,$C762:$D762)","v":1},"K10V14000144-10",1,1]
[{"$f":"SUMIF($C$7:$D$7,logic!$D$2,$C763:$D763)","v":1},"K10V14000218-10",1,1]
[{"$f":"SUMIF($C$7:$D$7,logic!$D$2,$C764:$D764)","v":1},"K10V14000366-10",1,1]
[{"$f":"SUMIF($C$7:$D$7,logic!$D$2,$C765:$D765)","v":1},"K10V14000514-10",1,1]
[{"$f":"SUMIF($C$7:$D$7,logic!$D$2,$C766:$D766)","v":1},"K10V14000588-10",1,1]
[{"$f":"SUMIF($C$7:$D$7,logic!$D$2,$C767:$D767)","v":1},"K10V14000662-10",1,1]
[{"$f":"SUMIF($C$7:$D$7,logic!$D$2,$C768:$D768)","v":1},"K10V14000884-10",1,1]
[{"$f":"SUMIF($C$7:$D$7,logic!$D$2,$C769:$D769)","v":1},"K10V14000958-10",1,1]
[{"$f":"SUMIF($C$7:$D$7,logic!$D$2,$C770:$D770)","v":1},"K10V16000144-10",1,1]
[{"$f":"SUMIF($C$7:$D$7,logic!$D$2,$C771:$D771)","v":1},"K10V16000218-10",1,1]
[{"$f":"SUMIF($C$7:$D$7,logic!$D$2,$C772:$D772)","v":1},"K10V16000366-10",1,1]
[{"$f":"SUMIF($C$7:$D$7,logic!$D$2,$C773:$D773)","v":1},"K10V16000514-10",1,1]
[{"$f":"SUMIF($C$7:$D$7,logic!$D$2,$C774:$D774)","v":1},"K10V16000588-10",1,1]
[{"$f":"SUMIF($C$7:$D$7,logic!$D$2,$C775:$D775)","v":1},"K10V16000662-10",1,1]
[{"$f":"SUMIF($C$7:$D$7,logic!$D$2,$C776:$D776)","v":1},"K10V16000884-10",1,1]
[{"$f":"SUMIF($C$7:$D$7,logic!$D$2,$C777:$D777)","v":1},"K10V16000958-10",1,1]
[{"$f":"SUMIF($C$7:$D$7,logic!$D$2,$C778:$D778)","v":1},"K10V18000144-10",1,1]
[{"$f":"SUMIF($C$7:$D$7,logic!$D$2,$C779:$D779)","v":1},"K10V18000218-10",1,1]
[{"$f":"SUMIF($C$7:$D$7,logic!$D$2,$C780:$D780)","v":1},"K10V18000366-10",1,1]
[{"$f":"SUMIF($C$7:$D$7,logic!$D$2,$C781:$D781)","v":1},"K10V18000514-10",1,1]
[{"$f":"SUMIF($C$7:$D$7,logic!$D$2,$C782:$D782)","v":1},"K10V18000588-10",1,1]
[{"$f":"SUMIF($C$7:$D$7,logic!$D$2,$C783:$D783)","v":1},"K10V18000662-10",1,1]
[{"$f":"SUMIF($C$7:$D$7,logic!$D$2,$C784:$D784)","v":1},"K10V18000884-10",1,1]
[{"$f":"SUMIF($C$7:$D$7,logic!$D$2,$C785:$D785)","v":1},"K10V18000958-10",1,1]
[{"$f":"SUMIF($C$7:$D$7,logic!$D$2,$C786:$D786)","v":1},"K10V20000144-10",1,1]
[{"$f":"SUMIF($C$7:$D$7,logic!$D$2,$C787:$D787)","v":1},"K10V20000218-10",1,1]
[{"$f":"SUMIF($C$7:$D$7,logic!$D$2,$C788:$D788)","v":1},"K10V20000366-10",1,1]
[{"$f":"SUMIF($C$7:$D$7,logic!$D$2,$C789:$D789)","v":1},"K10V20000514-10",1,1]
[{"$f":"SUMIF($C$7:$D$7,logic!$D$2,$C790:$D790)","v":1},"K10V20000588-10",1,1]
[{"$f":"SUMIF($C$7:$D$7,logic!$D$2,$C791:$D791)","v":1},"K10V20000662-10",1,1]
[{"$f":"SUMIF($C$7:$D$7,logic!$D$2,$C792:$D792)","v":1},"K10V20000884-10",1,1]
[{"$f":"SUMIF($C$7:$D$7,logic!$D$2,$C793:$D793)","v":1},"K10V20000958-10",1,1]
[{"$f":"SUMIF($C$7:$D$7,logic!$D$2,$C794:$D794)","v":1},"K11V05000144-10",1,1]
[{"$f":"SUMIF($C$7:$D$7,logic!$D$2,$C795:$D795)","v":1},"K11V05000218-10",1,1]
[{"$f":"SUMIF($C$7:$D$7,logic!$D$2,$C796:$D796)","v":1},"K11V05000366-10",1,1]
[{"$f":"SUMIF($C$7:$D$7,logic!$D$2,$C797:$D797)","v":1},"K11V05000514-10",1,1]
[{"$f":"SUMIF($C$7:$D$7,logic!$D$2,$C798:$D798)","v":1},"K11V05000588-10",1,1]
[{"$f":"SUMIF($C$7:$D$7,logic!$D$2,$C799:$D799)","v":1},"K11V05000662-10",1,1]
[{"$f":"SUMIF($C$7:$D$7,logic!$D$2,$C800:$D800)","v":1},"K11V05000884-10",1,1]
[{"$f":"SUMIF($C$7:$D$7,logic!$D$2,$C801:$D801)","v":1},"K11V05000958-10",1,1]
[{"$f":"SUMIF($C$7:$D$7,logic!$D$2,$C802:$D802)","v":1},"K11V06000144-10",1,1]
[{"$f":"SUMIF($C$7:$D$7,logic!$D$2,$C803:$D803)","v":1},"K11V06000218-10",1,1]
[{"$f":"SUMIF($C$7:$D$7,logic!$D$2,$C804:$D804)","v":1},"K11V06000366-10",1,1]
[{"$f":"SUMIF($C$7:$D$7,logic!$D$2,$C805:$D805)","v":1},"K11V06000514-10",1,1]
[{"$f":"SUMIF($C$7:$D$7,logic!$D$2,$C806:$D806)","v":1},"K11V06000588-10",1,1]
[{"$f":"SUMIF($C$7:$D$7,logic!$D$2,$C807:$D807)","v":1},"K11V06000662-10",1,1]
[{"$f":"SUMIF($C$7:$D$7,logic!$D$2,$C808:$D808)","v":1},"K11V06000884-10",1,1]
[{"$f":"SUMIF($C$7:$D$7,logic!$D$2,$C809:$D809)","v":1},"K11V06000958-10",1,1]
[{"$f":"SUMIF($C$7:$D$7,logic!$D$2,$C810:$D810)","v":1},"K11V07000144-10",1,1]
[{"$f":"SUMIF($C$7:$D$7,logic!$D$2,$C811:$D811)","v":1},"K11V07000218-10",1,1]
[{"$f":"SUMIF($C$7:$D$7,logic!$D$2,$C812:$D812)","v":1},"K11V07000366-10",1,1]
[{"$f":"SUMIF($C$7:$D$7,logic!$D$2,$C813:$D813)","v":1},"K11V07000514-10",1,1]
[{"$f":"SUMIF($C$7:$D$7,logic!$D$2,$C814:$D814)","v":1},"K11V07000588-10",1,1]
[{"$f":"SUMIF($C$7:$D$7,logic!$D$2,$C815:$D815)","v":1},"K11V07000662-10",1,1]
[{"$f":"SUMIF($C$7:$D$7,logic!$D$2,$C816:$D816)","v":1},"K11V07000884-10",1,1]
[{"$f":"SUMIF($C$7:$D$7,logic!$D$2,$C817:$D817)","v":1},"K11V07000958-10",1,1]
[{"$f":"SUMIF($C$7:$D$7,logic!$D$2,$C818:$D818)","v":1},"K11V08000144-10",1,1]
[{"$f":"SUMIF($C$7:$D$7,logic!$D$2,$C819:$D819)","v":1},"K11V08000218-10",1,1]
[{"$f":"SUMIF($C$7:$D$7,logic!$D$2,$C820:$D820)","v":1},"K11V08000366-10",1,1]
[{"$f":"SUMIF($C$7:$D$7,logic!$D$2,$C821:$D821)","v":1},"K11V08000514-10",1,1]
[{"$f":"SUMIF($C$7:$D$7,logic!$D$2,$C822:$D822)","v":1},"K11V08000588-10",1,1]
[{"$f":"SUMIF($C$7:$D$7,logic!$D$2,$C823:$D823)","v":1},"K11V08000662-10",1,1]
[{"$f":"SUMIF($C$7:$D$7,logic!$D$2,$C824:$D824)","v":1},"K11V08000884-10",1,1]
[{"$f":"SUMIF($C$7:$D$7,logic!$D$2,$C825:$D825)","v":1},"K11V08000958-10",1,1]
[{"$f":"SUMIF($C$7:$D$7,logic!$D$2,$C826:$D826)","v":1},"K11V09000144-10",1,1]
[{"$f":"SUMIF($C$7:$D$7,logic!$D$2,$C827:$D827)","v":1},"K11V09000218-10",1,1]
[{"$f":"SUMIF($C$7:$D$7,logic!$D$2,$C828:$D828)","v":1},"K11V09000366-10",1,1]
[{"$f":"SUMIF($C$7:$D$7,logic!$D$2,$C829:$D829)","v":1},"K11V09000514-10",1,1]
[{"$f":"SUMIF($C$7:$D$7,logic!$D$2,$C830:$D830)","v":1},"K11V09000588-10",1,1]
[{"$f":"SUMIF($C$7:$D$7,logic!$D$2,$C831:$D831)","v":1},"K11V09000662-10",1,1]
[{"$f":"SUMIF($C$7:$D$7,logic!$D$2,$C832:$D832)","v":1},"K11V09000884-10",1,1]
[{"$f":"SUMIF($C$7:$D$7,logic!$D$2,$C833:$D833)","v":1},"K11V09000958-10",1,1]
[{"$f":"SUMIF($C$7:$D$7,logic!$D$2,$C834:$D834)","v":1},"K11V10000144-10",1,1]
[{"$f":"SUMIF($C$7:$D$7,logic!$D$2,$C835:$D835)","v":1},"K11V10000218-10",1,1]
[{"$f":"SUMIF($C$7:$D$7,logic!$D$2,$C836:$D836)","v":1},"K11V10000366-10",1,1]
[{"$f":"SUMIF($C$7:$D$7,logic!$D$2,$C837:$D837)","v":1},"K11V10000514-10",1,1]
[{"$f":"SUMIF($C$7:$D$7,logic!$D$2,$C838:$D838)","v":1},"K11V10000588-10",1,1]
[{"$f":"SUMIF($C$7:$D$7,logic!$D$2,$C839:$D839)","v":1},"K11V10000662-10",1,1]
[{"$f":"SUMIF($C$7:$D$7,logic!$D$2,$C840:$D840)","v":1},"K11V10000884-10",1,1]
[{"$f":"SUMIF($C$7:$D$7,logic!$D$2,$C841:$D841)","v":0},"K11V10000958-10",0,0]
[{"$f":"SUMIF($C$7:$D$7,logic!$D$2,$C842:$D842)","v":1},"K11V11000144-10",1,1]
[{"$f":"SUMIF($C$7:$D$7,logic!$D$2,$C843:$D843)","v":1},"K11V11000218-10",1,1]
[{"$f":"SUMIF($C$7:$D$7,logic!$D$2,$C844:$D844)","v":1},"K11V11000366-10",1,1]
[{"$f":"SUMIF($C$7:$D$7,logic!$D$2,$C845:$D845)","v":1},"K11V11000514-10",1,1]
[{"$f":"SUMIF($C$7:$D$7,logic!$D$2,$C846:$D846)","v":1},"K11V11000588-10",1,1]
[{"$f":"SUMIF($C$7:$D$7,logic!$D$2,$C847:$D847)","v":1},"K11V11000662-10",1,1]
[{"$f":"SUMIF($C$7:$D$7,logic!$D$2,$C848:$D848)","v":1},"K11V11000884-10",1,1]
[{"$f":"SUMIF($C$7:$D$7,logic!$D$2,$C849:$D849)","v":0},"K11V11000958-10",0,0]
[{"$f":"SUMIF($C$7:$D$7,logic!$D$2,$C850:$D850)","v":1},"K11V12000144-10",1,1]
[{"$f":"SUMIF($C$7:$D$7,logic!$D$2,$C851:$D851)","v":1},"K11V12000218-10",1,1]
[{"$f":"SUMIF($C$7:$D$7,logic!$D$2,$C852:$D852)","v":1},"K11V12000366-10",1,1]
[{"$f":"SUMIF($C$7:$D$7,logic!$D$2,$C853:$D853)","v":1},"K11V12000514-10",1,1]
[{"$f":"SUMIF($C$7:$D$7,logic!$D$2,$C854:$D854)","v":1},"K11V12000588-10",1,1]
[{"$f":"SUMIF($C$7:$D$7,logic!$D$2,$C855:$D855)","v":1},"K11V12000662-10",1,1]
[{"$f":"SUMIF($C$7:$D$7,logic!$D$2,$C856:$D856)","v":1},"K11V12000884-10",1,1]
[{"$f":"SUMIF($C$7:$D$7,logic!$D$2,$C857:$D857)","v":0},"K11V12000958-10",0,0]
[{"$f":"SUMIF($C$7:$D$7,logic!$D$2,$C858:$D858)","v":1},"K11V14000144-10",1,1]
[{"$f":"SUMIF($C$7:$D$7,logic!$D$2,$C859:$D859)","v":1},"K11V14000218-10",1,1]
[{"$f":"SUMIF($C$7:$D$7,logic!$D$2,$C860:$D860)","v":1},"K11V14000366-10",1,1]
[{"$f":"SUMIF($C$7:$D$7,logic!$D$2,$C861:$D861)","v":1},"K11V14000514-10",1,1]
[{"$f":"SUMIF($C$7:$D$7,logic!$D$2,$C862:$D862)","v":1},"K11V14000588-10",1,1]
[{"$f":"SUMIF($C$7:$D$7,logic!$D$2,$C863:$D863)","v":1},"K11V14000662-10",1,1]
[{"$f":"SUMIF($C$7:$D$7,logic!$D$2,$C864:$D864)","v":1},"K11V14000884-10",1,1]
[{"$f":"SUMIF($C$7:$D$7,logic!$D$2,$C865:$D865)","v":0},"K11V14000958-10",0,0]
[{"$f":"SUMIF($C$7:$D$7,logic!$D$2,$C866:$D866)","v":1},"K11V16000144-10",1,1]
[{"$f":"SUMIF($C$7:$D$7,logic!$D$2,$C867:$D867)","v":1},"K11V16000218-10",1,1]
[{"$f":"SUMIF($C$7:$D$7,logic!$D$2,$C868:$D868)","v":1},"K11V16000366-10",1,1]
[{"$f":"SUMIF($C$7:$D$7,logic!$D$2,$C869:$D869)","v":1},"K11V16000514-10",1,1]
[{"$f":"SUMIF($C$7:$D$7,logic!$D$2,$C870:$D870)","v":1},"K11V16000588-10",1,1]
[{"$f":"SUMIF($C$7:$D$7,logic!$D$2,$C871:$D871)","v":1},"K11V16000662-10",1,1]
[{"$f":"SUMIF($C$7:$D$7,logic!$D$2,$C872:$D872)","v":1},"K11V16000884-10",1,1]
[{"$f":"SUMIF($C$7:$D$7,logic!$D$2,$C873:$D873)","v":0},"K11V16000958-10",0,0]
[{"$f":"SUMIF($C$7:$D$7,logic!$D$2,$C874:$D874)","v":1},"K11V18000144-10",1,1]
[{"$f":"SUMIF($C$7:$D$7,logic!$D$2,$C875:$D875)","v":1},"K11V18000218-10",1,1]
[{"$f":"SUMIF($C$7:$D$7,logic!$D$2,$C876:$D876)","v":1},"K11V18000366-10",1,1]
[{"$f":"SUMIF($C$7:$D$7,logic!$D$2,$C877:$D877)","v":1},"K11V18000514-10",1,1]
[{"$f":"SUMIF($C$7:$D$7,logic!$D$2,$C878:$D878)","v":1},"K11V18000588-10",1,1]
[{"$f":"SUMIF($C$7:$D$7,logic!$D$2,$C879:$D879)","v":1},"K11V18000662-10",1,1]
[{"$f":"SUMIF($C$7:$D$7,logic!$D$2,$C880:$D880)","v":1},"K11V18000884-10",1,1]
[{"$f":"SUMIF($C$7:$D$7,logic!$D$2,$C881:$D881)","v":0},"K11V18000958-10",0,0]
[{"$f":"SUMIF($C$7:$D$7,logic!$D$2,$C882:$D882)","v":1},"K11V20000144-10",1,1]
[{"$f":"SUMIF($C$7:$D$7,logic!$D$2,$C883:$D883)","v":1},"K11V20000218-10",1,1]
[{"$f":"SUMIF($C$7:$D$7,logic!$D$2,$C884:$D884)","v":1},"K11V20000366-10",1,1]
[{"$f":"SUMIF($C$7:$D$7,logic!$D$2,$C885:$D885)","v":1},"K11V20000514-10",1,1]
[{"$f":"SUMIF($C$7:$D$7,logic!$D$2,$C886:$D886)","v":1},"K11V20000588-10",1,1]
[{"$f":"SUMIF($C$7:$D$7,logic!$D$2,$C887:$D887)","v":1},"K11V20000662-10",1,1]
[{"$f":"SUMIF($C$7:$D$7,logic!$D$2,$C888:$D888)","v":1},"K11V20000884-10",1,1]
[{"$f":"SUMIF($C$7:$D$7,logic!$D$2,$C889:$D889)","v":0},"K11V20000958-10",0,0]
[{"$f":"SUMIF($C$7:$D$7,logic!$D$2,$C890:$D890)","v":1},"K20V05000144-10",1,1]
[{"$f":"SUMIF($C$7:$D$7,logic!$D$2,$C891:$D891)","v":1},"K20V05000218-10",1,1]
[{"$f":"SUMIF($C$7:$D$7,logic!$D$2,$C892:$D892)","v":1},"K20V05000366-10",1,1]
[{"$f":"SUMIF($C$7:$D$7,logic!$D$2,$C893:$D893)","v":1},"K20V05000514-10",1,1]
[{"$f":"SUMIF($C$7:$D$7,logic!$D$2,$C894:$D894)","v":1},"K20V05000588-10",1,1]
[{"$f":"SUMIF($C$7:$D$7,logic!$D$2,$C895:$D895)","v":1},"K20V05000662-10",1,1]
[{"$f":"SUMIF($C$7:$D$7,logic!$D$2,$C896:$D896)","v":1},"K20V05000884-10",1,1]
[{"$f":"SUMIF($C$7:$D$7,logic!$D$2,$C897:$D897)","v":1},"K20V05000958-10",1,1]
[{"$f":"SUMIF($C$7:$D$7,logic!$D$2,$C898:$D898)","v":1},"K20V06000144-10",1,1]
[{"$f":"SUMIF($C$7:$D$7,logic!$D$2,$C899:$D899)","v":1},"K20V06000218-10",1,1]
[{"$f":"SUMIF($C$7:$D$7,logic!$D$2,$C900:$D900)","v":1},"K20V06000366-10",1,1]
[{"$f":"SUMIF($C$7:$D$7,logic!$D$2,$C901:$D901)","v":1},"K20V06000514-10",1,1]
[{"$f":"SUMIF($C$7:$D$7,logic!$D$2,$C902:$D902)","v":1},"K20V06000588-10",1,1]
[{"$f":"SUMIF($C$7:$D$7,logic!$D$2,$C903:$D903)","v":1},"K20V06000662-10",1,1]
[{"$f":"SUMIF($C$7:$D$7,logic!$D$2,$C904:$D904)","v":1},"K20V06000884-10",1,1]
[{"$f":"SUMIF($C$7:$D$7,logic!$D$2,$C905:$D905)","v":1},"K20V06000958-10",1,1]
[{"$f":"SUMIF($C$7:$D$7,logic!$D$2,$C906:$D906)","v":1},"K20V07000144-10",1,1]
[{"$f":"SUMIF($C$7:$D$7,logic!$D$2,$C907:$D907)","v":1},"K20V07000218-10",1,1]
[{"$f":"SUMIF($C$7:$D$7,logic!$D$2,$C908:$D908)","v":1},"K20V07000366-10",1,1]
[{"$f":"SUMIF($C$7:$D$7,logic!$D$2,$C909:$D909)","v":1},"K20V07000514-10",1,1]
[{"$f":"SUMIF($C$7:$D$7,logic!$D$2,$C910:$D910)","v":1},"K20V07000588-10",1,1]
[{"$f":"SUMIF($C$7:$D$7,logic!$D$2,$C911:$D911)","v":1},"K20V07000662-10",1,1]
[{"$f":"SUMIF($C$7:$D$7,logic!$D$2,$C912:$D912)","v":1},"K20V07000884-10",1,1]
[{"$f":"SUMIF($C$7:$D$7,logic!$D$2,$C913:$D913)","v":1},"K20V07000958-10",1,1]
[{"$f":"SUMIF($C$7:$D$7,logic!$D$2,$C914:$D914)","v":1},"K20V08000144-10",1,1]
[{"$f":"SUMIF($C$7:$D$7,logic!$D$2,$C915:$D915)","v":1},"K20V08000218-10",1,1]
[{"$f":"SUMIF($C$7:$D$7,logic!$D$2,$C916:$D916)","v":1},"K20V08000366-10",1,1]
[{"$f":"SUMIF($C$7:$D$7,logic!$D$2,$C917:$D917)","v":1},"K20V08000514-10",1,1]
[{"$f":"SUMIF($C$7:$D$7,logic!$D$2,$C918:$D918)","v":1},"K20V08000588-10",1,1]
[{"$f":"SUMIF($C$7:$D$7,logic!$D$2,$C919:$D919)","v":1},"K20V08000662-10",1,1]
[{"$f":"SUMIF($C$7:$D$7,logic!$D$2,$C920:$D920)","v":1},"K20V08000884-10",1,1]
[{"$f":"SUMIF($C$7:$D$7,logic!$D$2,$C921:$D921)","v":1},"K20V08000958-10",1,1]
[{"$f":"SUMIF($C$7:$D$7,logic!$D$2,$C922:$D922)","v":1},"K20V09000144-10",1,1]
[{"$f":"SUMIF($C$7:$D$7,logic!$D$2,$C923:$D923)","v":1},"K20V09000218-10",1,1]
[{"$f":"SUMIF($C$7:$D$7,logic!$D$2,$C924:$D924)","v":1},"K20V09000366-10",1,1]
[{"$f":"SUMIF($C$7:$D$7,logic!$D$2,$C925:$D925)","v":1},"K20V09000514-10",1,1]
[{"$f":"SUMIF($C$7:$D$7,logic!$D$2,$C926:$D926)","v":1},"K20V09000588-10",1,1]
[{"$f":"SUMIF($C$7:$D$7,logic!$D$2,$C927:$D927)","v":1},"K20V09000662-10",1,1]
[{"$f":"SUMIF($C$7:$D$7,logic!$D$2,$C928:$D928)","v":1},"K20V09000884-10",1,1]
[{"$f":"SUMIF($C$7:$D$7,logic!$D$2,$C929:$D929)","v":1},"K20V09000958-10",1,1]
[{"$f":"SUMIF($C$7:$D$7,logic!$D$2,$C930:$D930)","v":1},"K20V10000144-10",1,1]
[{"$f":"SUMIF($C$7:$D$7,logic!$D$2,$C931:$D931)","v":1},"K20V10000218-10",1,1]
[{"$f":"SUMIF($C$7:$D$7,logic!$D$2,$C932:$D932)","v":1},"K20V10000366-10",1,1]
[{"$f":"SUMIF($C$7:$D$7,logic!$D$2,$C933:$D933)","v":1},"K20V10000514-10",1,1]
[{"$f":"SUMIF($C$7:$D$7,logic!$D$2,$C934:$D934)","v":1},"K20V10000588-10",1,1]
[{"$f":"SUMIF($C$7:$D$7,logic!$D$2,$C935:$D935)","v":1},"K20V10000662-10",1,1]
[{"$f":"SUMIF($C$7:$D$7,logic!$D$2,$C936:$D936)","v":1},"K20V10000884-10",1,1]
[{"$f":"SUMIF($C$7:$D$7,logic!$D$2,$C937:$D937)","v":1},"K20V10000958-10",1,1]
[{"$f":"SUMIF($C$7:$D$7,logic!$D$2,$C938:$D938)","v":1},"K20V11000144-10",1,1]
[{"$f":"SUMIF($C$7:$D$7,logic!$D$2,$C939:$D939)","v":1},"K20V11000218-10",1,1]
[{"$f":"SUMIF($C$7:$D$7,logic!$D$2,$C940:$D940)","v":1},"K20V11000366-10",1,1]
[{"$f":"SUMIF($C$7:$D$7,logic!$D$2,$C941:$D941)","v":1},"K20V11000514-10",1,1]
[{"$f":"SUMIF($C$7:$D$7,logic!$D$2,$C942:$D942)","v":1},"K20V11000588-10",1,1]
[{"$f":"SUMIF($C$7:$D$7,logic!$D$2,$C943:$D943)","v":1},"K20V11000662-10",1,1]
[{"$f":"SUMIF($C$7:$D$7,logic!$D$2,$C944:$D944)","v":1},"K20V11000884-10",1,1]
[{"$f":"SUMIF($C$7:$D$7,logic!$D$2,$C945:$D945)","v":1},"K20V11000958-10",1,1]
[{"$f":"SUMIF($C$7:$D$7,logic!$D$2,$C946:$D946)","v":1},"K20V12000144-10",1,1]
[{"$f":"SUMIF($C$7:$D$7,logic!$D$2,$C947:$D947)","v":1},"K20V12000218-10",1,1]
[{"$f":"SUMIF($C$7:$D$7,logic!$D$2,$C948:$D948)","v":1},"K20V12000366-10",1,1]
[{"$f":"SUMIF($C$7:$D$7,logic!$D$2,$C949:$D949)","v":1},"K20V12000514-10",1,1]
[{"$f":"SUMIF($C$7:$D$7,logic!$D$2,$C950:$D950)","v":1},"K20V12000588-10",1,1]
[{"$f":"SUMIF($C$7:$D$7,logic!$D$2,$C951:$D951)","v":1},"K20V12000662-10",1,1]
[{"$f":"SUMIF($C$7:$D$7,logic!$D$2,$C952:$D952)","v":1},"K20V12000884-10",1,1]
[{"$f":"SUMIF($C$7:$D$7,logic!$D$2,$C953:$D953)","v":1},"K20V12000958-10",1,1]
[{"$f":"SUMIF($C$7:$D$7,logic!$D$2,$C954:$D954)","v":1},"K20V14000144-10",1,1]
[{"$f":"SUMIF($C$7:$D$7,logic!$D$2,$C955:$D955)","v":1},"K20V14000218-10",1,1]
[{"$f":"SUMIF($C$7:$D$7,logic!$D$2,$C956:$D956)","v":1},"K20V14000366-10",1,1]
[{"$f":"SUMIF($C$7:$D$7,logic!$D$2,$C957:$D957)","v":1},"K20V14000514-10",1,1]
[{"$f":"SUMIF($C$7:$D$7,logic!$D$2,$C958:$D958)","v":1},"K20V14000588-10",1,1]
[{"$f":"SUMIF($C$7:$D$7,logic!$D$2,$C959:$D959)","v":1},"K20V14000662-10",1,1]
[{"$f":"SUMIF($C$7:$D$7,logic!$D$2,$C960:$D960)","v":1},"K20V14000884-10",1,1]
[{"$f":"SUMIF($C$7:$D$7,logic!$D$2,$C961:$D961)","v":1},"K20V14000958-10",1,1]
[{"$f":"SUMIF($C$7:$D$7,logic!$D$2,$C962:$D962)","v":1},"K20V16000144-10",1,1]
[{"$f":"SUMIF($C$7:$D$7,logic!$D$2,$C963:$D963)","v":1},"K20V16000218-10",1,1]
[{"$f":"SUMIF($C$7:$D$7,logic!$D$2,$C964:$D964)","v":1},"K20V16000366-10",1,1]
[{"$f":"SUMIF($C$7:$D$7,logic!$D$2,$C965:$D965)","v":1},"K20V16000514-10",1,1]
[{"$f":"SUMIF($C$7:$D$7,logic!$D$2,$C966:$D966)","v":1},"K20V16000588-10",1,1]
[{"$f":"SUMIF($C$7:$D$7,logic!$D$2,$C967:$D967)","v":1},"K20V16000662-10",1,1]
[{"$f":"SUMIF($C$7:$D$7,logic!$D$2,$C968:$D968)","v":1},"K20V16000884-10",1,1]
[{"$f":"SUMIF($C$7:$D$7,logic!$D$2,$C969:$D969)","v":1},"K20V16000958-10",1,1]
[{"$f":"SUMIF($C$7:$D$7,logic!$D$2,$C970:$D970)","v":1},"K20V18000144-10",1,1]
[{"$f":"SUMIF($C$7:$D$7,logic!$D$2,$C971:$D971)","v":1},"K20V18000218-10",1,1]
[{"$f":"SUMIF($C$7:$D$7,logic!$D$2,$C972:$D972)","v":1},"K20V18000366-10",1,1]
[{"$f":"SUMIF($C$7:$D$7,logic!$D$2,$C973:$D973)","v":1},"K20V18000514-10",1,1]
[{"$f":"SUMIF($C$7:$D$7,logic!$D$2,$C974:$D974)","v":1},"K20V18000588-10",1,1]
[{"$f":"SUMIF($C$7:$D$7,logic!$D$2,$C975:$D975)","v":1},"K20V18000662-10",1,1]
[{"$f":"SUMIF($C$7:$D$7,logic!$D$2,$C976:$D976)","v":1},"K20V18000884-10",1,1]
[{"$f":"SUMIF($C$7:$D$7,logic!$D$2,$C977:$D977)","v":1},"K20V18000958-10",1,1]
[{"$f":"SUMIF($C$7:$D$7,logic!$D$2,$C978:$D978)","v":1},"K20V20000144-10",1,1]
[{"$f":"SUMIF($C$7:$D$7,logic!$D$2,$C979:$D979)","v":1},"K20V20000218-10",1,1]
[{"$f":"SUMIF($C$7:$D$7,logic!$D$2,$C980:$D980)","v":1},"K20V20000366-10",1,1]
[{"$f":"SUMIF($C$7:$D$7,logic!$D$2,$C981:$D981)","v":1},"K20V20000514-10",1,1]
[{"$f":"SUMIF($C$7:$D$7,logic!$D$2,$C982:$D982)","v":1},"K20V20000588-10",1,1]
[{"$f":"SUMIF($C$7:$D$7,logic!$D$2,$C983:$D983)","v":1},"K20V20000662-10",1,1]
[{"$f":"SUMIF($C$7:$D$7,logic!$D$2,$C984:$D984)","v":1},"K20V20000884-10",1,1]
[{"$f":"SUMIF($C$7:$D$7,logic!$D$2,$C985:$D985)","v":0},"K20V20000958-10",0,0]
[{"$f":"SUMIF($C$7:$D$7,logic!$D$2,$C986:$D986)","v":1},"K10R18000514-10",1,1]
[{"$f":"SUMIF($C$7:$D$7,logic!$D$2,$C987:$D987)","v":1},"K10R18000662-10",1,1]
[{"$f":"SUMIF($C$7:$D$7,logic!$D$2,$C988:$D988)","v":1},"K10R18000810-10",1,1]
[{"$f":"SUMIF($C$7:$D$7,logic!$D$2,$C989:$D989)","v":1},"K10R18000958-10",1,1]
[{"$f":"SUMIF($C$7:$D$7,logic!$D$2,$C990:$D990)","v":1},"K20R18000514-10",1,1]
[{"$f":"SUMIF($C$7:$D$7,logic!$D$2,$C991:$D991)","v":1},"K20R18000662-10",1,1]
[{"$f":"SUMIF($C$7:$D$7,logic!$D$2,$C992:$D992)","v":1},"K20R18000810-10",1,1]
[{"$f":"SUMIF($C$7:$D$7,logic!$D$2,$C993:$D993)","v":1},"K20R18000958-10",1,1]

{"sheet":"logic","index":12,"n_rows":90,"n_cols":13,"rows_kept":90,"cut":false,"hidden":true,"merged":[[3,10,3,11],[20,0,20,1],[20,3,20,4],[20,6,20,7]]}
[null,null,null,null,null,null,null,"Vertikal"]
[1,{"$f":"VLOOKUP($A$2,$A$3:$C$5,2,FALSE)","v":"KORATHERM HORIZONTAL"},{"$f":"VLOOKUP($A$2,$A$3:$C$5,3,FALSE)","v":"KH"},{"$f":"VLOOKUP($A$2,$A$3:$D$5,4,FALSE)","v":"boční"},{"$f":"VLOOKUP($A$2,$A$3:$E$5,5,FALSE)","v":0}]
[1,"KORATHERM HORIZONTAL","KH","boční",null,null,null,null,null,"Číslování verzí"]
[2,"KORATHERM HORIZONTAL - M","KHM","středový","M",null,null,null,null,"kód země","číslo verze",null,"výsledný kód verze"]
[3,"KORATHERM HORIZONTAL VKM","KHVKM","středový","VKM",null,null,null,null,"CZ","3","02",{"$f":"J5&\" KRTH \"&K5&\".\"&L5&\"-\"&\"05/22\"","v":"CZ KRTH 3.02-05/22"}]
[]
[2,{"$f":"VLOOKUP($A$7,$A$8:$C$9,2,FALSE)","v":"KORATHERM VERTIKAL - M"},{"$f":"VLOOKUP($A$7,$A$8:$C$9,3,FALSE)","v":"KVM"},{"$f":"VLOOKUP($A$7,$A$8:$D$9,4,FALSE)","v":"středový"},{"$f":"VLOOKUP($A$7,$A$8:$E$9,5,FALSE)","v":"M"},null,null,null,null,"AT",1,"01"]
[1,"KORATHERM VERTIKAL","KV","boční",null,null,null,null,null,"CZ",2,"02"]
[2,"KORATHERM VERTIKAL - M","KVM","středový","M",null,null,null,null,"DE",3,"03"]
[null,null,null,null,null,null,null,null,null,"PL",4,"04"]
[null,null,null,null,null,null,null,null,null,"UA",5,"05"]
[1,{"$f":"VLOOKUP($A$12,$A$13:$C$14,2,FALSE)","v":"KORATHERM REFLEX"},{"$f":"VLOOKUP($A$12,$A$13:$C$14,3,FALSE)","v":"KR"},{"$f":"VLOOKUP($A$12,$A$13:$D$14,4,FALSE)","v":"boční"},{"$f":"VLOOKUP($A$12,$A$13:$E$14,5,FALSE)","v":0},null,null,null,null,"RU",null,"06"]
[1,"KORATHERM REFLEX","KR","boční",null,null,null,null,null,"HU",null,"07"]
[2,"KORATHERM REFLEX - M","KRM","středový","M",null,null,null,null,"SW",null,"08"]
[null,null,null,null,null,null,null,null,null,"RO",null,"09"]
[null,null,null,null,null,null,null,null,null,"BG",null,"10"]
[null,null,null,null,null,null,null,null,null,"EN"]
[]
[]
[]
["HORIZONTAL",null,null,"VERTIKAL",null,null,"REFLEX"]
[]
[1,{"$f":"VLOOKUP(A23,A24:B32,2,FALSE)","v":"всичко"},null,1,{"$f":"VLOOKUP(D23,D24:E32,2,FALSE)","v":"всичко"},null,1,{"$f":"VLOOKUP(G23,G24:H28,2,FALSE)","v":"всичко"}]
[1,{"$f":"Jazyk!$D$4","v":"всичко"},null,1,{"$f":"Jazyk!$D$4","v":"всичко"},null,1,{"$f":"Jazyk!$D$4","v":"всичко"}]
[2,144,null,2,144,null,2,514]
[3,218,null,3,218,null,3,662]
[4,366,null,4,366,null,4,884]
[5,514,null,5,514,null,5,958]
[6,588,null,6,588]
[7,662,null,7,662]
[8,884,null,8,884]
[9,958,null,9,958]
[]
[]
[1,{"$f":"VLOOKUP(A35,A36:B44,2,FALSE)","v":"всичко"},null,1,{"$f":"VLOOKUP(D35,D36:E44,2,FALSE)","v":"всичко"},null,1,{"$f":"VLOOKUP(G35,G36:H40,2,FALSE)","v":"всичко"}]
[1,{"$f":"Jazyk!$D$4","v":"всичко"},null,1,{"$f":"Jazyk!$D$4","v":"всичко"},null,1,{"$f":"Jazyk!$D$4","v":"всичко"}]
[2,144,null,2,144,null,2,514]
[3,218,null,3,218,null,3,662]
[4,366,null,4,366,null,4,884]
[5,514,null,5,514,null,5,958]
[6,588,null,6,588]
[7,662,null,7,662]
[8,884,null,8,884]
[9,958,null,9,958]
[]
[]
[1,{"$f":"VLOOKUP(A47,A48:B63,2,FALSE)","v":"всичко"},null,1,{"$f":"VLOOKUP(D47,D48:E63,2,FALSE)","v":"всичко"}]
[1,{"$f":"Jazyk!$D$4","v":"всичко"},null,1,{"$f":"Jazyk!$D$4","v":"всичко"}]
[2,500,null,2,500]
[3,600,null,3,600]
[4,700,null,4,700]
[5,800,null,5,800]
[6,900,null,6,900]
[7,1000,null,7,1000]
[8,1100,null,8,1100]
[9,1200,null,9,1200]
[10,1400,null,10,1400]
[11,1600,null,11,1600]
[12,1800,null,12,1800]
[13,2000,null,13,2000]
[14,2300,null,14,2300]
[15,2600,null,15,2600]
[16,3000,null,16,3000]
[]
[]
[1,{"$f":"VLOOKUP(A66,A67:B82,2,FALSE)","v":"всичко"},null,1,{"$f":"VLOOKUP(D66,D67:E82,2,FALSE)","v":"всичко"}]
[1,{"$f":"Jazyk!$D$4","v":"всичко"},null,1,{"$f":"Jazyk!$D$4","v":"всичко"}]
[2,500,null,2,500]
[3,600,null,3,600]
[4,700,null,4,700]
[5,800,null,5,800]
[6,900,null,6,900]
[7,1000,null,7,1000]
[8,1100,null,8,1100]
[9,1200,null,9,1200]
[10,1400,null,10,1400]
[11,1600,null,11,1600]
[12,1800,null,12,1800]
[13,2000,null,13,2000]
[14,2300,null,14,2300]
[15,2600,null,15,2600]
[16,3000,null,16,3000]
[]
[]
[]
[]
[null,"zobrazit výkony na listu:"]
[{"$f":"IF(OR(Horizontal!$D$8<2,Horizontal!$D$8>110,Horizontal!$E$8<1,Horizontal!$E$8>109,Horizontal!$F$8<0,Horizontal!$F$8>99,Horizontal!$E$8>=Horizontal!$D$8,Horizontal!$F$8>=Horizontal!$E$8,Horizontal!$F$8>=Horizontal!$D$8),0,1)","v":1},"horizontal"]
[{"$f":"IF(OR(Vertikal!$D$8<2,Vertikal!$D$8>110,Vertikal!$E$8<1,Vertikal!$E$8>109,Vertikal!$F$8<0,Vertikal!$F$8>99,Vertikal!$E$8>=Vertikal!$D$8,Vertikal!$F$8>=Vertikal!$E$8,Vertikal!$F$8>=Vertikal!$D$8),0,1)","v":1},"vertikal"]
[{"$f":"IF(OR(Reflex!$D$8<2,Reflex!$D$8>110,Reflex!$E$8<1,Reflex!$E$8>109,Reflex!$F$8<0,Reflex!$F$8>99,Reflex!$E$8>=Reflex!$D$8,Reflex!$F$8>=Reflex!$E$8,Reflex!$F$8>=Reflex!$D$8),0,1)","v":1},"reflex"]

{"sheet":"Jazyk","index":13,"n_rows":89,"n_cols":28,"rows_kept":89,"cut":false,"hidden":true,"merged":[[1,1,1,16],[23,3,23,18],[46,3,46,18],[70,3,70,18]]}
[]
[null,"Naplnění listu Horizontal"]
[null,null,2,{"$f":"C3+1","v":3},{"$f":"D3+1","v":4},{"$f":"E3+1","v":5},6,7,8,9,10,11,12,13,14,15,16,17,18,19,20,21,22,23,24,25,26,{"$f":"AA3+1","v":27}]
[null,10,{"$f":"VLOOKUP($B$4,$B5:C19,C$3)","v":"Bulharsky"},{"$f":"VLOOKUP($B$4,$B5:D19,D$3)","v":"всичко"},{"$f":"VLOOKUP($B$4,$B5:E19,E$3)","v":"Топлинни мощности според ЕН 442"},{"$f":"VLOOKUP($B$4,$B5:F19,F$3)","v":"Височина"},{"$f":"VLOOKUP($B$4,$B5:G19,G$3)","v":"Дължина"},{"$f":"VLOOKUP($B$4,$B5:H19,H$3)","v":"от"},{"$f":"VLOOKUP($B$4,$B5:I19,I$3)","v":"до"},{"$f":"VLOOKUP($B$4,$B5:J19,J$3)","v":"Избор на модел:"},{"$f":"VLOOKUP($B$4,$B5:K19,K$3)","v":"Топлинна мощност "},{"$f":"VLOOKUP($B$4,$B5:L19,L$3)","v":"Температура:"},{"$f":"VLOOKUP($B$4,$B5:M19,M$3)","v":"Тип"},{"$f":"VLOOKUP($B$4,$B5:N19,N$3)","v":"Избор на език"},{"$f":"VLOOKUP($B$4,$B5:O19,O$3)","v":"Грешно температурно спадане !!!"},{"$f":"VLOOKUP($B$4,$B5:P19,P$3)","v":"Детайлен избор"},{"$f":"VLOOKUP($B$4,$B5:Q19,Q$3)","v":"Въвеждане на стойности"},{"$f":"VLOOKUP($B$4,$B5:R19,R$3)","v":"Грешно въведени стойности !!!"},{"$f":"VLOOKUP($B$4,$B5:S19,S$3)","v":"версия"},{"$f":"VLOOKUP($B$4,$B5:T19,T$3)","v":"Избраната област не съдържа правилни данни!!!"},{"$f":"VLOOKUP($B$4,$B5:U19,U$3)","v":"Допълни в базата данни"},{"$f":"VLOOKUP($B$4,$B5:V19,V$3)","v":"Наистина ли да изтрия базата данни?"},{"$f":"VLOOKUP($B$4,$B5:W19,W$3)","v":"OK"},{"$f":"VLOOKUP($B$4,$B5:X19,X$3)","v":"Брой записвания в база данни:"},{"$f":"VLOOKUP($B$4,$B5:Y19,Y$3)","v":"Покажи база данни"},{"$f":"VLOOKUP($B$4,$B5:Z19,Z$3)","v":"Обратно към избор"},{"$f":"VLOOKUP($B$4,$B5:AA19,AA$3)","v":"Експорт на база данни"},{"$f":"VLOOKUP($B$4,$B5:AB19,AB$3)","v":"Право на технически промени."}]
[null,1,"Česky","vše","Tepelné výkony podle EN 442","Výška","Délka","od","do","Výběr modelu:","Tepelný výkon","Teplota:","Typ","Výběr jazyka","Chybný teplotní spád !!!","Detailní výběr","Zadání hodnot","Chybně zadané hodnoty !!!","verze","Vybraná oblast neobsahuje správná data!!!","Přidat do databáze","Mám opravdu smazat databázi?","OK","Počet záznamů v databázi:","Zobrazit databázi","Zpět na výběr","Export databáze","Technické změny vyhrazeny."]
[null,2,"Anglicky","all","Heat outputs according to EN 442","Height","Length","from","up to","Overview of models:","Heat output","Temperature:","Type","Language","Wrong temperature gradient !!!","Detailed selection","Select conditions","Wrong values input !!!","version","Selected area does not content right data !!!","Add into database","Shall the database really be deleted?","OK","No. of articles in database:","Display the database","Back to menu","Database export","Technical changes reserved."]
[null,3,"Německy","alles","Wärmeleistungen nach EN 442","Bauhöhe","Baulänge","von","bis","Modellauswahl:","Wärmeleistungen","Temperatur:","Typ","Sprache","Falscher Temperaturgradient","Detailauswahl","Auswahlkriterien","Falsche Dateneingabe !!!","version","Ausgewählter Bereich beinhaltet nicht die richtigen Daten !!!","In die Database hinzufügen","Soll die Database wirklich gelöscht werden?","OK","Anzahl der Aufnahmen in der Database:","Database abbilden","Zurück zur Auswahl","Database exportieren","Technische Änderungen vorbehalten."]
[null,4,"Rusky","всё","Тепловые мощности для EN 442","Высота","Длина","с","до","Подбор модели","Тепловая мощность","Температура","Тип","Подбор языка","Неправильный перепад температуры","Тип радиатора","Задание значений","Неправильно заданые значения!!!","Версия","В выбранной области имеется неправильная информация!!!","Добавить в базу данных","Хочете сбросить датабазию??","OK","Количество записей в базе данный:","Изобразить колонки из перечня","Вернуться на выбор","Перевод избранных типов","Призводитель оставляет за собой право на изменения."]
[null,5,"Polsky","wszystko","Wydajność cieplna wedlug EN 442","Wysokość","Długość","od","do","Wybór modela:","Wydajność cieplna ","Temperatura:","Typ","Wybór języku","Błędny spadek cieplny !!!","Wybór detaliczny","Zadanie wartości","Błędne zadanie wartości !!!","wersja","Wybrany zakres nie zawiera prawiedlowe dane!!!","Dołożyć do wykazu","Mam faktycznie stuszować wykaz??","OK","Liczba zapisów w wykazie:","Wyobrazić wykaz","Z powrotem na wybór","Eksport wykazu","Zmiany techniczne zastrzeżone."]
[null,6,"Francouzsky","tout","Puissances thermiques selon EN 442","Hauteur","Longueur","de","à","Choix du modèle:","Puissance thermique","Température:","Type","Choix de langue","Fausse cadence de température","Choix en détail","Introduction des valeurs","Valeurs mal introduites","Version","La zone marquée ne contient pas de données correctes!!!","Ajouter dans la base de données","Etes-vous sur d´annulation de la base de données?","OK","No. d´inscriptions dans la base de données:","Montrer la base de données","Retour au choix","Export de la base de données"]
[null,7,"Maďarsky","mind","Hőteljesítmény az EN 442 szerint","Magasság","Hossz"," ","-tól","Modell kiválasztása:","Hőteljesítmény","Hőmérséklet:","Típus","Nyelv kiválasztása","Hibás hőmérséklet csökkenés !!!","Részletes kiválasztás","Értékek megadása","Hibásan megadott értékek !!!","verzió","A kiválasztott terület nem tartalmaz valós adatokat !!!","Adatbázisba küldés","Valóban törölni az adatbázist?","OK","Azt adatbázis tételeinek száma:","Adatbázis megjelenítése","Vissza a kiválasztáshoz","Adatbázis exportja","Műszaki adatok megváltoztatásának joga fenntartva."]
[null,8,"Švédsky","alla","Värmeavgivning enligt EN 442","Höjd","Längd","från","till","Överblick av modellerna:","Värmeavgivning ","Temperatur:","Typ","Språk","Fel temperaturfall !!!","Detaljerat urval","välj temperaturfall","Fel värde inskrivet !!!","version","Vald ruta inehåller inte rätt data !!!","Lägg till i databasen","Ska du verkligen tömma databasen?","OK","Antal artiklar i databasen:","Visa databasen","Tillbaka till meny","Exportera värde","Med reservation för tekniska förändringar."]
[null,9,"Rumunsky","toate","Puteri termice conform EN442","Înălţime","Lungime","de la","până la","tipuri de radiator","Putere termică","Temperatură:","Tip:","Limba","Gradient de temperatură greşit !!!","Căutare avansată","Selectaţi condiţiile","Parametrii greşiţi de intrare","versiune","Câmpul selectat nu conţine date corecte !!","Adăugare la baza de date","Sigur doriţi să ştergeţi baza de date?","OK","Nr. articolelor din baza de date","Afişare bază de date","Înapoi la meniu","Exportare bază de date","Producătorul îşi rezervă dreptul de a efectua modificări tehnice"]
[null,10,"Bulharsky","всичко","Топлинни мощности според ЕН 442","Височина","Дължина","от","до","Избор на модел:","Топлинна мощност ","Температура:","Тип","Избор на език","Грешно температурно спадане !!!","Детайлен избор","Въвеждане на стойности","Грешно въведени стойности !!!","версия","Избраната област не съдържа правилни данни!!!","Допълни в базата данни","Наистина ли да изтрия базата данни?","OK","Брой записвания в база данни:","Покажи база данни","Обратно към избор","Експорт на база данни","Право на технически промени."]
[null,11,"Holandsky","alles","Warmteafgiftes volgens EN 442","Hoogte","Lengte","van","tot","Overzicht van de modellen:","Warmteafgifte","Temperatuur:","Type","Taalkeuze","Verkeerde temperatuur verhouding !!!","Gedetailleerde selectie","Ingeven van waarden","Waarden foutief ingegeven !!!","Versie","De selectie heeft geen correcte data !!!","Toevoegen in database","Bent u zeker om de database te verwijderen ?","OK","Aantal artikelen in de database:","Toon de database","Terug naar menu","Exporteer database","Het recht blijft behouden op technische wijzigingen."]
[null,12,"Norsky","alle","Effekt avgivelse iht EN442","Høyde","Lengde","fra","til","Oversikt modelltyper","Effekt avgivelse","Temperatur :","Type","Språk","Feil temperatur fall !!!","Detaljert valg","velg temperaturfall","Feil verdi innskrevet !!!","versjon","Valgt celle inneholder feil data  !!!","Legg til i databaseb ?","Ønsker virkelig du å tømme databasen ?","OK","Antal artikler i databasen","Vis databasen","Tilbake til menyen","Eksporterte verdier","Med reservasjon for tekniske endringer."]
[null,13]
[null,14]
[null,15]
[]
[]
[]
[]
[null,null,null,"Naplnění přidávacího a mazacího formuláře"]
[null,null,null,3,{"$f":"D25+1","v":4},5,6,7,8,9,10,11,12,13,14,15,16,17,18,{"$f":"S25+1","v":19}]
[null,null,null,"Přidání položky do databáze","Provedení","lblTypPopis","lblVýškaPopis","lblDélka Popis","lblVýkonPopis","lblKodArtikluPopis","lblPoznámka","cmdZrusit","cmdOK"]
[null,{"$f":"$B$4","v":10},null,{"$f":"VLOOKUP($B$27,$B$28:D$42,D25,FALSE)","v":"Допълване на позиции в базата данни"},{"$f":"VLOOKUP($B$27,$B$28:E$42,E25,FALSE)","v":"Модел"},{"$f":"VLOOKUP($B$27,$B$28:F$42,F25,FALSE)","v":"Тип"},{"$f":"VLOOKUP($B$27,$B$28:G$42,G25,FALSE)","v":"Височина [mm]"},{"$f":"VLOOKUP($B$27,$B$28:H$42,H25,FALSE)","v":"Дължина [mm]"},{"$f":"VLOOKUP($B$27,$B$28:I$42,I25,FALSE)","v":"Топлинна мощност [W]"},{"$f":"VLOOKUP($B$27,$B$28:J$42,J25,FALSE)","v":"Номер за поръчка"},{"$f":"VLOOKUP($B$27,$B$28:K$42,K25,FALSE)","v":"Забележка (максимално 20 знака):"},{"$f":"VLOOKUP($B$27,$B$28:L$42,L25,FALSE)","v":"Анулирай"},{"$f":"VLOOKUP($B$27,$B$28:M$42,M25,FALSE)","v":"Въведи"},{"$f":"VLOOKUP($B$27,$B$28:N$42,N25,FALSE)","v":"Формулярът не може да се затвори по този начин !!!"},{"$f":"VLOOKUP($B$27,$B$28:O$42,O25,FALSE)","v":"Успешно извършено записване"},{"$f":"VLOOKUP($B$27,$B$28:P$42,P25,FALSE)","v":"Изтрий"},{"$f":"VLOOKUP($B$27,$B$28:Q$42,Q25,FALSE)","v":"База данни"},{"$f":"VLOOKUP($B$27,$B$28:R$42,R25,FALSE)","v":"Изтрий позиции в база данни"},{"$f":"VLOOKUP($B$27,$B$28:S$42,S25,FALSE)","v":"Изтрий база данни"},{"$f":"VLOOKUP($B$27,$B$28:T$42,T25,FALSE)","v":"Стандартният цвят на тялото е бял RAL 9016. Цветово изпълнение според каталога на производителя."}]
[null,1,"Česky","Přidání položky do databáze","Model","Typ","Výška [mm]","Délka [mm]","Tepelný výkon [W]","Objednací číslo","Poznámka (maximum 20 znaků):","Zrušit","Vložit","Formulář nelze zavřít tímto způsobem !!!","Zápis úspěšně proveden","Vymazat","Databáze","Výmaz položky z databáze","Výmaz databáze","Standardní barva tělesa je bílá RAL 9016. Barevné provedení dle vzorníku výrobce."]
[null,2,"Anglicky","Add item into the database","Model","Type","Height [mm]","Length [mm]","Heat output [W]","Order No.","Note (up to 20 characters)","Cancel","Add","The form cannot be closed in this way !!!","Entry successfully processed ","Delete","Database","Delete an item from the database","Database erase","Standard colour of radiators is white RAL 9016. For other colours see please the colour card."]
[null,3,"Německy","Den Posten in die Database hinzufügen","Modell","Typ","Bauhöhe [mm]","Baulänge [mm]","Wärmeleistungen [W]","Bestellnummer","Bemerkung (max. 20 Zeichen)","Aufheben","Einfügen","Das Formular kann nicht auf diese Art geschlossen werden !!!","Eingabe erfolgreich durchgeführt","Löschen","Database","Den Posten aus der Database löschen","Database löschen","Standardfarbe ist weiß RAL 9016. Farbausführung nach der Farbpallete"]
[null,4,"Rusky","Добавить позицию в датабазию","Модель","Тип","Высота [мм]","Длина (мм)","Тепловая мощность [W]","Код изделия","Заметка (макс 20 знаков)","Отменить","Добавить","Блакет не возможно закрыть в таком формате!!!","Заявка успешно сделана","Смазать","Перечень","Исключение позиции из перечня","Сброс датабазии","Основным цветовым исполнением является белый RAL 9016. Цветовое исполнение согласно образцов производителя.  "]
[null,5,"Polsky","Dorzucanie pozycje do wykazu","Model","Typ","Wysokość [mm]","Długość [mm]","Wydajność cieplna [W]","Numer zamówienia","Notatka (maksymalnie 20 znaków)","Anulować","Włożyć","Formularz nie można w ten sposób zamknąć!!!","Zapis dokonan z powodzeniem","Wykreślać","Wykaz","Wykreślać pozycje z wykazu","Wykreślić z wykazu","Kolor standartowy biały RAL 9016. Kolorowe dokonanie wg Próbniku kolorów."]
[null,6,"Francouzsky","Adjonction d´un article dans la base de données","Modèle","Type","Hauteur [mm]","Longueur [mm]","Puissance thermique [W]","Indication de l´article","Note (20 caractères au maximum)","Annuler","Insérer","Il n´est pas possible de fermer le formulaire de cette façon !!!","Inscription réalisée avec succès","Effacer","Base de données","Effacement d´un article","Effacer la base de données","La couleur standarde du corps est la couleur blanche RAL 9016.  La réalisation de couleur conformément à la collection d´échantillons du fabricant."]
[null,7,"Maďarsky","Tétel hozzáadása az adatbázishoz","Modell","Típus","Magasság [mm]","Hosszúság [mm]","Hőteljesítmény [W]","Megrendelési szám","Megjegyzés (maximum 20 karakter):","Mégse","Beszúr","Így nem lehet bezárni a programot !!!","A beírás sikeres volt","Töröl","Adatbázis","Tétel törlése az adatbázisból","Adatbázis törlése","A lapradiátorok alapszíne RAL 9016 fehér. Más színárnyalatokat, megrendelésre, az érvényben lévő színskála szerint gyártunk le."]
[null,8,"Švédsky","Lägg objekt i databasen","Model","Typ","Höjd [mm]","Längd (mm)","Värmeavgivning (W)","Order Nr.","Notering (upp till 20 tecken)","Ångra","Lägg till","fel !!!","Invärde korrekta","Ta bort","Databas","Ta bort ett objekt från databas","Radera data","Standardfärg vit RAL 9016","För andra färger, se färgkarta"]
[null,9,"Rumunsky","Adăugare articol în baza de date","Model","Tip","Înălţime [mm]","Lungime [mm]","Putere termică [W]","Comanda nr.","Observaţii (până la 20 de caractere)","Anulare","Adăugare ","Fereastra nu poate fi închisă în acest mod !!!","Valorile de intrare au fost procesate cu succes","Şterge","Bază de date","Ştergerea unui articol din baza de date","Ştergere baza de date","Culoarea standard a radiatoarelor este RAL 9016. Pentru alte culori, va rugam sa consultati paletarul de culori."]
[null,10,"Bulharsky","Допълване на позиции в базата данни","Модел","Тип","Височина [mm]","Дължина [mm]","Топлинна мощност [W]","Номер за поръчка","Забележка (максимално 20 знака):","Анулирай","Въведи","Формулярът не може да се затвори по този начин !!!","Успешно извършено записване","Изтрий","База данни","Изтрий позиции в база данни","Изтрий база данни","Стандартният цвят на тялото е бял RAL 9016. Цветово изпълнение според каталога на производителя."]
[null,11,"Holandsky","Toevoegen van artikel in database","Model","Type","Hoogte [mm]","Lengte [mm]","Warmteafgifte [W]","Bestelnummer","Opmerking (maximum 20 karakters)","Annuleren","Toevoegen","Afsluiten van het document niet mogelijk !!!","Ingave succesvol beëindigd","Verwijder","Database","Verwijder een artikel uit de database","Verwijder de database","De afwerkingskleur is in overeenstemming met de collectie kleurstalen van de fabricant."]
[null,12,"Norsky","Legg produkt i databasen.","Modell","Type","Høyde (mm)","Lengde (mm)","Effekt avgivelse (W)","Ordre nr. ","Tekst (maks 20 tegn)","Angre","Legg til","Feil !!!","Inndata er korrekt","Ta bort","Database","Ta bort en enhet fra databasen","Slett inndata","Standard farge hvit RAL 9016.","For andre farger, se fargekart"]
[null,13]
[null,14]
[null,15]
[]
[]
[]
[]
[null,null,null,"Databáze"]
[null,null,null,3,{"$f":"D48+1","v":4},5,6,7,8,9,10,11,12,13,14,15,16,17,18]
[null,null,null,"Přidání položky do databáze","Provedení","lblTypPopis","lblVýškaPopis","lblDélka Popis","lblVýkonPopis","lblKodArtikluPopis","lblPoznámka","cmdZrusit","cmdOK"]
[null,{"$f":"$B$4","v":10},null,{"$f":"VLOOKUP($B$50,$B$51:D$65,D48,FALSE)","v":"Номер"},{"$f":"VLOOKUP($B$50,$B$51:E$65,E48,FALSE)","v":"Модел"},{"$f":"VLOOKUP($B$50,$B$51:F$65,F48,FALSE)","v":"Номер за поръчка"},{"$f":"VLOOKUP($B$50,$B$51:G$65,G48,FALSE)","v":"Тип"},{"$f":"VLOOKUP($B$50,$B$51:H$65,H48,FALSE)","v":"Височина [mm]"},{"$f":"VLOOKUP($B$50,$B$51:I$65,I48,FALSE)","v":"Дължина [mm]"},{"$f":"VLOOKUP($B$50,$B$51:J$65,J48,FALSE)","v":"t1"},{"$f":"VLOOKUP($B$50,$B$51:K$65,K48,FALSE)","v":"t2"},{"$f":"VLOOKUP($B$50,$B$51:L$65,L48,FALSE)","v":"ti"},{"$f":"VLOOKUP($B$50,$B$51:M$65,M48,FALSE)","v":"Топлинна мощност [W]"},{"$f":"VLOOKUP($B$50,$B$51:N$65,N48,FALSE)","v":"Забележка"},{"$f":"VLOOKUP($B$50,$B$51:O$65,O48,FALSE)","v":"Идентификация:"},{"$f":"VLOOKUP($B$50,$B$51:P$65,P48,FALSE)","v":0},{"$f":"VLOOKUP($B$50,$B$51:Q$65,Q48,FALSE)","v":0},{"$f":"VLOOKUP($B$50,$B$51:R$65,R48,FALSE)","v":0},{"$f":"VLOOKUP($B$50,$B$51:S$65,S48,FALSE)","v":0}]
[null,1,"Česky","Číslo","Model","Objednací číslo",{"$f":"F35","v":"Typ"},{"$f":"G28","v":"Výška [mm]"},{"$f":"H28","v":"Délka [mm]"},"t1","t2","ti",{"$f":"I28","v":"Tepelný výkon [W]"},"Poznámka","Identifikace:"]
[null,2,"Anglicky","No.","Model","Order No.","TYPE","Height [mm]","Length [mm]","t1","t2","ti","Heat output [W]","Note","Identification:"]
[null,3,"Německy","No.","Modell","Bestellnummer","TYP","Bauhöhe [mm]","Baulänge [mm]","t1","t2","ti","Wärmeleistung [W]","Bemerkung","Identifikation:"]
[null,4,"Rusky","Ном.","Модель","Код изделия","Тип","Высота (мм)","Длина (мм)","Т1","Т2","ti","Тепловая мощность [W]","Заметка","Идентификация:"]
[null,5,"Polsky","Num","Model","Numer zamówienia","Typ","Wysokość","Długość","t1","t2","ti","Wydajność cieplna [W]","Notatka","Identyfikacja:"]
[null,6,"Francouzsky","No.","Modèle","No. De commande","TYPE","Hauteur [mm]","Longueur [mm]","t1","t2","ti","Puissance thermique [W]","Nota","Identification:"]
[null,7,"Maďarsky","Sz.","Modell","Megrend. szám","Típus","Magasság [mm]","Hosszúság [mm]","t1","t2","ti","Hőteljesít-       mény [W]","Megjegyzés","Azonosító:"]
[null,8,"Švédsky","Nr.","Model","Order Nr.","TYP","Höjd (mm)","Längd (mm)","t1","t2","ti","Värmeavgivning (W)","Notering  ","Identifikation:"]
[null,9,"Rumunsky","Nr.","Model.","Comanda nr.","Tip","Înălţime [mm]","Lungime [mm]","t1","t2","ti ","Putere termică [W]","Notă","Identificare:"]
[null,10,"Bulharsky","Номер","Модел","Номер за поръчка","Тип","Височина [mm]","Дължина [mm]","t1","t2","ti","Топлинна мощност [W]","Забележка","Идентификация:"]
[null,11,"Holandsky","Nr.","Model","Bestelnummer","Type","Hoogte [mm]","Lengte [mm]","t1","t2","ti","Warmteafgifte [W]","Opmerking","Identificatie:"]
[null,12,"Norsky","Nr.","Modell","Ordre nr. ","Type","Høyde (mm)","Lengde (mm)","t1","t2","ti","Effekt avgivelse (W)","Tekst","Identifikasjon :"]
[null,13]
[null,14]
[null,15]
[]
[]
[]
[]
[]
[null,null,null,"Úvodní stránka"]
[null,null,null,3,{"$f":"D72+1","v":4},5,6,7,8,9,10,11,12,13,14,15,16,17,18]
[null,null,null,"Přidání položky do databáze","Provedení","lblTypPopis","lblVýškaPopis","lblDélka Popis","lblVýkonPopis","lblKodArtikluPopis","lblPoznámka","cmdZrusit","cmdOK"]
[null,{"$f":"$B$4","v":10},null,{"$f":"VLOOKUP($B$74,$B$75:D$89,D72,FALSE)","v":"ИЗЧИСЛЯВАНЕ НА ТОПЛИННАТА МОЩНОСТ НА КОРАТЕРМ"},{"$f":"VLOOKUP($B$74,$B$75:E$89,E72,FALSE)","v":"Избор на модел:"},{"$f":"VLOOKUP($B$74,$B$75:F$89,F72,FALSE)","v":0},{"$f":"VLOOKUP($B$74,$B$75:G$89,G72,FALSE)","v":0},{"$f":"VLOOKUP($B$74,$B$75:H$89,H72,FALSE)","v":0},{"$f":"VLOOKUP($B$74,$B$75:I$89,I72,FALSE)","v":0},{"$f":"VLOOKUP($B$74,$B$75:J$89,J72,FALSE)","v":0},{"$f":"VLOOKUP($B$74,$B$75:K$89,K72,FALSE)","v":0},{"$f":"VLOOKUP($B$74,$B$75:L$89,L72,FALSE)","v":0},{"$f":"VLOOKUP($B$74,$B$75:M$89,M72,FALSE)","v":0},{"$f":"VLOOKUP($B$74,$B$75:N$89,N72,FALSE)","v":0},{"$f":"VLOOKUP($B$74,$B$75:O$89,O72,FALSE)","v":0},{"$f":"VLOOKUP($B$74,$B$75:P$89,P72,FALSE)","v":0},{"$f":"VLOOKUP($B$74,$B$75:Q$89,Q72,FALSE)","v":0},{"$f":"VLOOKUP($B$74,$B$75:R$89,R72,FALSE)","v":0},{"$f":"VLOOKUP($B$74,$B$75:S$89,S72,FALSE)","v":0}]
[null,1,"Česky","VÝPOČET TEPELNÉHO VÝKONU KORATHERM","Výběr modelu:"]
[null,2,"Anglicky","CALCULATION OF HEAT OUTPUT KORATHERM","Overview of models:"]
[null,3,"Německy","BERECHNUNGSPROGRAM FÜR KORATHERM-WATTLEISTUNG","Modellauswahl:"]
[null,4,"Rusky","РАСЧЁТ ТЕПЛОВОЙ МОЩНОСТИ KORATHERМ","Подбор модели:"]
[null,5,"Polsky","OBLICZENIE MOCY KORATHERM","Wybór modela:"]
[null,6,"Francouzsky","CALCUL DU DÉBIT CALORIFÍQUE DE KORATHERM","Choix du modèle:"]
[null,7,"Maďarsky","KORATHERM RADIÁTOROK HŐTELJESÍTMÉNYÉNEK KISZÁMÍTÁSA","Modell kiválasztása:"]
[null,8,"Švédsky","Beräkning av värmeavgivning KORATHERM","Överblick av modellerna:"]
[null,9,"Rumunsky","CALCUL PUTERI RADIATOARE KORATHERM","Tipuri de radiator:"]
[null,10,"Bulharsky","ИЗЧИСЛЯВАНЕ НА ТОПЛИННАТА МОЩНОСТ НА КОРАТЕРМ","Избор на модел:"]
[null,11,"Holandsky","BEREKENING VAN DE WARMTEAFGIFTE KORATHERM","Overzicht van de modellen:"]
[null,12,"Norsky","Beregning av effektavgivelse KORATHERM ","Oversikt modelltyper"]
[null,13]
[null,14]
[null,15]